{"text_format":"1","workbook":"xlsx","n_sheets":6,"sheets":["Results","800 Regimes","Calc","Sunrise_set","Switch Regime Entry","Dropdowns"],"not_rendered":{"charts":0,"images":0,"macros":1,"external_links":0,"defined_names":5,"comments":0,"pivot_tables":0},"unopened":[],"bounds":{"document_bytes":16777216,"sheet_cells":100000,"rows_first":2000,"rows_last":500,"rows_between":2000,"halvings":0,"cell_chars":16384,"cell_head_chars":4096},"cells_cut":0,"cells_raw":0,"read":"whole","date_system":"1900"}

{"sheet":"Results","index":0,"n_rows":9,"n_cols":30,"rows_kept":9,"cut":false,"hidden":true,"merged":[[0,2,0,15]]}
[null,null,"GSP Group Name"]
["Regime","Period","Eastern","East Midlands","London","Merseyside & North Wales","Midlands","Northern","North Western","Southern","South Eastern","South Wales","South Western","Yorkshire","South Scotland","North Scotland","After Sunset","Before Sunrise","Lux On","Lux Off","Intermediate Off","Intermediate On","Switch On","Switch Off","Switch Class","Category","Status","Default Switch Regime","Effective From Date","Effective To Date"]
[null,null,null,null,null,null,null,null,null,null,null,null,null,null,null,null,null,null,null,null,null,null,null,null,"V","B","P"]
[null,null,null,null,null,null,null,null,null,null,null,null,null,null,null,null,null,null,null,null,null,null,null,null,"V","B","P"]
[null,null,{"$f":"VLOOKUP(#REF!,lookupPECU,4,FALSE)","v":{"$error":"#REF!"}},{"$f":"VLOOKUP(#REF!,lookupPECU,5,FALSE)","v":{"$error":"#REF!"}},{"$f":"VLOOKUP(#REF!,lookupPECU,6,FALSE)","v":{"$error":"#REF!"}},{"$f":"VLOOKUP(#REF!,lookupPECU,7,FALSE)","v":{"$error":"#REF!"}},{"$f":"VLOOKUP(#REF!,lookupPECU,8,FALSE)","v":{"$error":"#REF!"}},{"$f":"VLOOKUP(#REF!,lookupPECU,9,FALSE)","v":{"$error":"#REF!"}},{"$f":"VLOOKUP(#REF!,lookupPECU,10,FALSE)","v":{"$error":"#REF!"}},{"$f":"VLOOKUP(#REF!,lookupPECU,11,FALSE)","v":{"$error":"#REF!"}},{"$f":"VLOOKUP(#REF!,lookupPECU,12,FALSE)","v":{"$error":"#REF!"}},{"$f":"VLOOKUP(#REF!,lookupPECU,13,FALSE)","v":{"$error":"#REF!"}},{"$f":"VLOOKUP(#REF!,lookupPECU,14,FALSE)","v":{"$error":"#REF!"}},{"$f":"VLOOKUP(#REF!,lookupPECU,15,FALSE)","v":{"$error":"#REF!"}},{"$f":"VLOOKUP(#REF!,lookupPECU,16,FALSE)","v":{"$error":"#REF!"}},{"$f":"VLOOKUP(#REF!,lookupPECU,17,FALSE)","v":{"$error":"#REF!"}},null,null,null,null,null,null,null,null,"P","B","P"]
[]
[]
[]
[null," "]

{"sheet":"800 Regimes","index":1,"n_rows":26,"n_cols":30,"rows_kept":26,"cut":false,"hidden":true,"merged":[]}
[null,"Regime","Period","Eastern","East Midlands","London","Merseyside & North Wales","Midlands","Northern","North Western","Southern","South Eastern","South Wales","South Western","Yorkshire","South Scotland","North Scotland","After Sunset","Before Sunrise","Lux On","Lux Off","Intermediate Off","Intermediate On","Switch On","Switch Off","Switch Class","Category","Status","Default Switch Regime","Effective From Date"]
["20/20",806,"Electronic PEC  20/20",4092,4089,4094,4088,4091,4082,4087,4095,4095,4093,4096,4086,4078,4071,null,null,20,20,null,null,null,null,"P","B","P",205,"2011-04-05"]
["35/35",807,"Electronic PEC  35/35",4119,4117,4121,4115,4118,4109,4115,4122,4122,4120,4124,4113,4106,4098,null,null,35,35,null,null,null,null,"P","B","P",205,"2011-04-05"]
["35/18",808,"Electronic PEC  35/18",4103,4101,4106,4100,4103,4094,4099,4107,4107,4105,4108,4098,4090,4083,null,null,35,18,null,null,null,null,"P","B","P",205,"2011-04-05"]
["40/60",809,"Electronic PEC  40/60",4146,4144,4149,4143,4145,4137,4142,4150,4150,4148,4151,4141,4133,4126,null,null,40,60,null,null,null,null,"P","B","P",206,"2011-04-05"]
["40/20",810,"Electronic PEC  40/20",4110,4107,4112,4106,4109,4100,4106,4113,4113,4111,4114,4104,4097,4089,null,null,40,20,null,null,null,null,"P","B","P",205,"2011-04-05"]
["55/28",811,"Electronic PEC  55/28",4131,4128,4133,4127,4130,4121,4127,4134,4134,4132,4135,4125,4118,4110,null,null,55,28,null,null,null,null,"P","B","P",206,"2011-04-05"]
["55/55",812,"Electronic PEC  55/55",4155,4153,4158,4152,4155,4146,4151,4159,4159,4157,4160,4150,4142,4135,null,null,55,55,null,null,null,null,"P","B","P",206,"2011-04-05"]
["55/83",813,"Electronic PEC  55/83",4181,4179,4183,4177,4180,4171,4177,4184,4184,4182,4186,4175,4168,4160,null,null,55,83,null,null,null,null,"P","B","P",208,"2011-04-05"]
["70/35",821,"Electronic PEC  70/35",4151,4149,4153,4147,4150,4141,4147,4154,4154,4152,4156,4145,4138,4130,null,null,70,35,null,null,null,null,"P","B","P",206,"2011-04-05"]
["70/70",822,"Electronic PEC  70/70",4183,4180,4185,4179,4182,4173,4179,4186,4186,4184,4187,4177,4170,4162,null,null,70,70,null,null,null,null,"P","B","P",208,"2011-04-05"]
["70/135",823,"Electronic PEC  70/135",4242,4240,4244,4238,4241,4233,4238,4245,4246,4243,4247,4236,4229,4221,null,null,70,135,null,null,null,null,"P","B","P",207,"2011-04-05"]
["70/140",824,"Electronic PEC  70/140",4247,4244,4249,4243,4246,4237,4243,4250,4250,4248,4251,4241,4234,4226,null,null,70,140,null,null,null,null,"P","B","P",207,"2011-04-05"]
["70/50",825,"Electronic PEC  70/50",4165,4162,4167,4161,4164,4155,4160,4168,4168,4166,4169,4159,4151,4144,null,null,70,50,null,null,null,null,"P","B","P",208,"2011-04-05"]
["70/55",826,"Electronic PEC  70/55",4169,4167,4171,4165,4168,4160,4165,4172,4173,4170,4174,4163,4156,4148,null,null,70,55,null,null,null,null,"P","B","P",208,"2011-04-05"]
["80/20",835,"Electronic PEC  80/20",4146.3631950252457,4143.996528358578,4148.6631950252449,4142.6631950252449,4145.4131950252449,4136.7131950252451,4142.1631950252449,4149.5631950252446,4149.7965283585781,4147.5631950252446,4150.996528358578,4140.579861691911,4133.1298616919112,4125.6465283585785,null,null,80,20,null,null,null,null,"P","B","P",null,"2017-05-17"]
["100/50",831,"Electronic PEC  100/50",4192,4190,4194,4188,4191,4182,4188,4195,4195,4193,4197,4186,4179,4171,null,null,100,50,null,null,null,null,"P","B","P",208,"2011-04-05"]
["100/100",832,"Electronic PEC  100/100",4238,4235,4240,4234,4237,4228,4233,4241,4241,4239,4242,4232,4224,4217,null,null,100,100,null,null,null,null,"P","B","P",207,"2011-04-05"]
["100/150",833,"Electronic PEC  100/150",4283,4281,4286,4280,4282,4274,4279,4286,4287,4284,4288,4277,4270,4263,null,null,100,150,null,null,null,null,"P","B","P",210,"2011-04-05"]
["100/200",834,"Electronic PEC  100/200",4291,4288,4293,4287,4290,4281,4287,4294,4294,4292,4295,4285,4278,4270,null,null,100,200,null,null,null,null,"P","B","P",210,"2011-04-05"]
["120/120","n/a","Electronic PEC  120/120",4274.1131950252457,4271.746528358578,4276.4131950252449,4270.4131950252449,4273.1631950252449,4264.4631950252451,4269.9131950252449,4277.3131950252446,4277.5465283585781,4275.3131950252446,4278.746528358578,4268.329861691911,4260.8798616919112,4253.3965283585785]
["Sunset/sunrise",210,"Sunset to Sunrise",4282.6833333333298,4280.3166666666666,4284.9333333333334,4278.9833333333336,4281.7,4273.05,4278.4833333333336,4285.8833333333332,4286.1166666666668,4283.8500000000004,4287.3,4276.9333333333334,4269.45,4262.0166666666664]
["Dusk30/dawn30",200,"Dusk to Dawn  30 mins",3917.6833333333298,3915.3166666666666,3919.9333333333334,3913.9833333333336,3916.7,3908.05,3913.4833333333336,3920.8833333333332,3921.1166666666668,3918.8500000000004,3922.3,3911.9333333333334,3904.45,3897.0166666666664,30,30]
["Dusk15/dawn15",205,"Dusk to Dawn 15mins",4100.1833333333298,4097.8166666666666,4102.4333333333334,4096.4833333333336,4099.2,4090.55,4095.9833333333336,4103.3833333333332,4103.6166666666668,4101.3500000000004,4104.8,4094.4333333333334,4086.95,4079.5166666666664,15,15]
["Dusk30/dawn",380,null,3735.0583333333302,3732.6916666666666,3737.3083333333334,3731.3583333333336,3734.0749999999998,3725.4250000000002,3730.8583333333336,3738.2583333333332,3738.4916666666668,3736.2250000000004,3739.6750000000002,3729.3083333333334,3721.8249999999998,3714.3916666666664,30]
["55/36","n/a ","Electronic PEC 55/36 ",4138.150695025246,4135.7840283585783,4140.4506950252453,4134.4506950252453,4137.2006950252453,4128.5006950252455,4133.9506950252453,4141.3506950252449,4141.5840283585785,4139.3506950252449,4142.7840283585783,4132.3673616919114,4124.9173616919115,4117.4340283585789]

{"sheet":"Calc","index":2,"n_rows":367,"n_cols":27,"rows_kept":367,"cut":false,"hidden":true,"merged":[[4,28,4,29],[4,30,4,31],[4,32,4,33],[2,28,2,29],[2,30,2,31],[2,32,2,33],[3,28,3,29],[3,30,3,31],[3,32,3,33],[0,28,0,29],[0,30,0,31],[0,32,0,33],[1,28,1,29],[1,30,1,31],[1,32,1,33]]}
[null,null,null,"End mins","Start mins","GMT/CLK",null,null,"Dim end","Dim start",null,"Total Minutes (Unadjusted)",null,null,"Adjustment SR",null,"Adjustment SS",null,"Adjusted (total amount of off/dimmed time)",null,"Enter GMT or CLK",null,"GMT",null,null,1]
["2011-04-01",{"$f":"Sunrise_set!AE3","v":545},{"$f":"Sunrise_set!AF3","v":1858},{"$f":"LEFT(B2,1)*60+RIGHT(B2,2)+F2-$V$17","v":{"$error":"#REF!"}},{"$f":"LEFT(C2,2)*60+RIGHT(C2,2)+F2+$V$17","v":{"$error":"#REF!"}},{"$f":"IF($W$1=\"CLK\",60,0)","v":0},null,null,{"$f":"$W$6*60+$X$6","v":660},{"$f":"IF($W$7<12,($W$7+24)*60+$X$7,$W$7*60+$X$7)","v":1740},null,{"$f":"IF(AND($W$7>12,$W$6>12),I2-J2,(24*60)-J2+I2)","v":360},null,null,{"$f":"IF(AND($W$6>12,$W$7>12),0,IF(D2>I2,0,I2-D2))","v":{"$error":"#REF!"}},null,{"$f":"IF(E2>J2,E2-J2,0)","v":{"$error":"#REF!"}},null,{"$f":"MAX(L2-SUM(O2,Q2),0)","v":{"$error":"#REF!"}},{"$f":"S2/60","v":{"$error":"#REF!"}}]
["2011-04-02",{"$f":"Sunrise_set!AE4","v":542},{"$f":"Sunrise_set!AF4","v":1900},{"$f":"LEFT(B3,1)*60+RIGHT(B3,2)+F3-$V$17","v":{"$error":"#REF!"}},{"$f":"LEFT(C3,2)*60+RIGHT(C3,2)+F3+$V$17","v":{"$error":"#REF!"}},{"$f":"IF($W$1=\"CLK\",60,0)","v":0},null,null,{"$f":"$W$6*60+$X$6","v":660},{"$f":"IF($W$7<12,($W$7+24)*60+$X$7,$W$7*60+$X$7)","v":1740},null,{"$f":"IF(AND($W$7>12,$W$6>12),I3-J3,(24*60)-J3+I3)","v":360},null,null,{"$f":"IF(AND($W$6>12,$W$7>12),0,IF(D3>I3,0,I3-D3))","v":{"$error":"#REF!"}},null,{"$error":"#REF!"},null,{"$f":"MAX(L3-SUM(O3,Q3),0)","v":{"$error":"#REF!"}}]
["2011-04-03",{"$f":"Sunrise_set!AE5","v":539},{"$f":"Sunrise_set!AF5","v":1902},{"$f":"LEFT(B4,1)*60+RIGHT(B4,2)+F4-$V$17","v":{"$error":"#REF!"}},{"$f":"LEFT(C4,2)*60+RIGHT(C4,2)+F4+$V$17","v":{"$error":"#REF!"}},0,null,null,{"$f":"$W$6*60+$X$6","v":660},1740,null,360,null,null,{"$error":"#REF!"},null,{"$error":"#REF!"},null,{"$error":"#REF!"}]
["2011-04-04",{"$f":"Sunrise_set!AE6","v":537},{"$f":"Sunrise_set!AF6","v":1904},{"$error":"#REF!"},{"$f":"LEFT(C5,2)*60+RIGHT(C5,2)+F5+$V$17","v":{"$error":"#REF!"}},0,null,null,{"$f":"$W$6*60+$X$6","v":660},1740,null,{"$f":"IF(AND($W$7>12,$W$6>12),I5-J5,(24*60)-J5+I5)","v":360},null,null,{"$f":"IF(AND($W$6>12,$W$7>12),0,IF(D5>I5,0,I5-D5))","v":{"$error":"#REF!"}},null,{"$error":"#REF!"},null,{"$error":"#REF!"},null,null,null,"Hours","Minutes"]
["2011-04-05",{"$f":"Sunrise_set!AE7","v":534},{"$f":"Sunrise_set!AF7","v":1906},{"$error":"#REF!"},{"$error":"#REF!"},0,null,null,660,1740,null,360,null,null,{"$error":"#REF!"},null,{"$error":"#REF!"},null,{"$error":"#REF!"},null,"Enter Dim End",null,11,0]
["2011-04-06",{"$f":"Sunrise_set!AE8","v":531},{"$f":"Sunrise_set!AF8","v":1909},{"$error":"#REF!"},{"$error":"#REF!"},0,null,null,660,1740,null,360,null,null,{"$error":"#REF!"},null,{"$error":"#REF!"},null,{"$error":"#REF!"},null,"Enter Dim Start",null,5,0]
["2011-04-07",{"$f":"Sunrise_set!AE9","v":528},{"$f":"Sunrise_set!AF9","v":1911},{"$error":"#REF!"},{"$error":"#REF!"},0,null,null,660,1740,null,360,null,null,{"$error":"#REF!"},null,{"$error":"#REF!"},null,{"$error":"#REF!"},null,null,null,"_P",null,{"$f":"VLOOKUP(W8,look2,2)","v":27},{"$f":"Y8+1","v":28}]
["2011-04-08",{"$f":"Sunrise_set!AE10","v":526},{"$f":"Sunrise_set!AF10","v":1913},{"$error":"#REF!"},{"$error":"#REF!"},0,null,null,660,1740,null,360,null,null,{"$error":"#REF!"},null,{"$error":"#REF!"},null,{"$error":"#REF!"}]
["2011-04-09",{"$f":"Sunrise_set!AE11","v":523},{"$f":"Sunrise_set!AF11","v":1915},{"$error":"#REF!"},{"$error":"#REF!"},0,null,null,660,1740,null,360,null,null,{"$error":"#REF!"},null,{"$error":"#REF!"},null,{"$error":"#REF!"},null,"Dimmed Hours"]
["2011-04-10",{"$f":"Sunrise_set!AE12","v":520},{"$f":"Sunrise_set!AF12","v":1917},{"$error":"#REF!"},{"$error":"#REF!"},0,null,null,660,1740,null,360,null,null,{"$error":"#REF!"},null,{"$error":"#REF!"},null,{"$error":"#REF!"},null,{"$f":"SUM(S2:S367)/60","v":{"$error":"#REF!"}}]
["2011-04-11",{"$f":"Sunrise_set!AE13","v":518},{"$f":"Sunrise_set!AF13","v":1920},{"$error":"#REF!"},{"$error":"#REF!"},0,null,null,660,1740,null,360,null,null,{"$error":"#REF!"},null,{"$error":"#REF!"},null,{"$error":"#REF!"}]
["2011-04-12",{"$f":"Sunrise_set!AE14","v":515},{"$f":"Sunrise_set!AF14","v":1922},{"$error":"#REF!"},{"$error":"#REF!"},0,null,null,660,1740,null,360,null,null,{"$error":"#REF!"},null,{"$error":"#REF!"},null,{"$error":"#REF!"},null,"avg published",{"$f":"AVERAGE(Results!C5:P5)","v":{"$error":"#REF!"}},null,"lookup"]
["2011-04-13",{"$f":"Sunrise_set!AE15","v":512},{"$f":"Sunrise_set!AF15","v":1924},{"$error":"#REF!"},{"$error":"#REF!"},0,null,null,660,1740,null,360,null,null,{"$error":"#REF!"},null,{"$error":"#REF!"},null,{"$error":"#REF!"},null,"Avg SS to SR",4277.8571428571404,null,"_A",1]
["2011-04-14",{"$f":"Sunrise_set!AE16","v":510},{"$f":"Sunrise_set!AF16","v":1926},{"$error":"#REF!"},{"$error":"#REF!"},0,null,null,660,1740,null,360,null,null,{"$error":"#REF!"},null,{"$error":"#REF!"},null,{"$error":"#REF!"},null,"Diff hrs",{"$f":"V14-V13","v":{"$error":"#REF!"}},null,"_B",3]
["2011-04-15",{"$f":"Sunrise_set!AE17","v":507},{"$f":"Sunrise_set!AF17","v":1928},{"$error":"#REF!"},{"$error":"#REF!"},0,null,null,660,1740,null,360,null,null,{"$error":"#REF!"},null,{"$error":"#REF!"},null,{"$error":"#REF!"},null,"mins per day",{"$f":"V15*60/365","v":{"$error":"#REF!"}},null,"_C",5]
["2011-04-16",{"$f":"Sunrise_set!AE18","v":504},{"$f":"Sunrise_set!AF18","v":1930},{"$error":"#REF!"},{"$error":"#REF!"},0,null,null,660,1740,null,360,null,null,{"$error":"#REF!"},null,{"$error":"#REF!"},null,{"$error":"#REF!"},null,"each end",{"$f":"V16/2","v":{"$error":"#REF!"}},null,"_D",7]
["2011-04-17",{"$f":"Sunrise_set!AE19","v":502},{"$f":"Sunrise_set!AF19","v":1933},{"$error":"#REF!"},{"$error":"#REF!"},0,null,null,660,1740,null,360,null,null,{"$error":"#REF!"},null,{"$error":"#REF!"},null,{"$error":"#REF!"},null,null,null,null,"_E",9]
["2011-04-18",{"$f":"Sunrise_set!AE20","v":459},{"$f":"Sunrise_set!AF20","v":1935},{"$error":"#REF!"},{"$error":"#REF!"},0,null,null,660,1740,null,360,null,null,{"$error":"#REF!"},null,{"$error":"#REF!"},null,{"$error":"#REF!"},null,null,null,null,"_F",11]
["2011-04-19",{"$f":"Sunrise_set!AE21","v":456},{"$f":"Sunrise_set!AF21","v":1937},{"$error":"#REF!"},{"$error":"#REF!"},0,null,null,660,1740,null,360,null,null,{"$error":"#REF!"},null,{"$error":"#REF!"},null,{"$error":"#REF!"},null,null,null,null,"_G",13]
["2011-04-20",{"$f":"Sunrise_set!AE22","v":454},{"$f":"Sunrise_set!AF22","v":1939},{"$error":"#REF!"},{"$error":"#REF!"},0,null,null,660,1740,null,360,null,null,{"$error":"#REF!"},null,{"$error":"#REF!"},null,{"$error":"#REF!"},null,null,null,null,"_H",15]
["2011-04-21",{"$f":"Sunrise_set!AE23","v":451},{"$f":"Sunrise_set!AF23","v":1941},{"$error":"#REF!"},{"$error":"#REF!"},0,null,null,660,1740,null,360,null,null,{"$error":"#REF!"},null,{"$error":"#REF!"},null,{"$error":"#REF!"},null,null,null,null,"_J",17]
["2011-04-22",{"$f":"Sunrise_set!AE24","v":449},{"$f":"Sunrise_set!AF24","v":1944},{"$error":"#REF!"},{"$error":"#REF!"},0,null,null,660,1740,null,360,null,null,{"$error":"#REF!"},null,{"$error":"#REF!"},null,{"$error":"#REF!"},null,null,null,null,"_K",19]
["2011-04-23",{"$f":"Sunrise_set!AE25","v":446},{"$f":"Sunrise_set!AF25","v":1946},{"$error":"#REF!"},{"$error":"#REF!"},0,null,null,660,1740,null,360,null,null,{"$error":"#REF!"},null,{"$error":"#REF!"},null,{"$error":"#REF!"},null,null,null,null,"_L",21]
["2011-04-24",{"$f":"Sunrise_set!AE26","v":444},{"$f":"Sunrise_set!AF26","v":1948},{"$error":"#REF!"},{"$error":"#REF!"},0,null,null,660,1740,null,360,null,null,{"$error":"#REF!"},null,{"$error":"#REF!"},null,{"$error":"#REF!"},null,null,null,null,"_M",23]
["2011-04-25",{"$f":"Sunrise_set!AE27","v":441},{"$f":"Sunrise_set!AF27","v":1950},{"$error":"#REF!"},{"$error":"#REF!"},0,null,null,660,1740,null,360,null,null,{"$error":"#REF!"},null,{"$error":"#REF!"},null,{"$error":"#REF!"},null,null,null,null,"_N",25]
["2011-04-26",{"$f":"Sunrise_set!AE28","v":439},{"$f":"Sunrise_set!AF28","v":1952},{"$error":"#REF!"},{"$error":"#REF!"},0,null,null,660,1740,null,360,null,null,{"$error":"#REF!"},null,{"$error":"#REF!"},null,{"$error":"#REF!"},null,null,null,null,"_P",27]
["2011-04-27",{"$f":"Sunrise_set!AE29","v":436},{"$f":"Sunrise_set!AF29","v":1954},{"$error":"#REF!"},{"$error":"#REF!"},0,null,null,660,1740,null,360,null,null,{"$error":"#REF!"},null,{"$error":"#REF!"},null,{"$error":"#REF!"}]
["2011-04-28",{"$f":"Sunrise_set!AE30","v":434},{"$f":"Sunrise_set!AF30","v":1957},{"$error":"#REF!"},{"$error":"#REF!"},0,null,null,660,1740,null,360,null,null,{"$error":"#REF!"},null,{"$error":"#REF!"},null,{"$error":"#REF!"}]
["2011-04-29",{"$f":"Sunrise_set!AE31","v":431},{"$f":"Sunrise_set!AF31","v":1959},{"$error":"#REF!"},{"$error":"#REF!"},0,null,null,660,1740,null,360,null,null,{"$error":"#REF!"},null,{"$error":"#REF!"},null,{"$error":"#REF!"},null,null,null,4151,4131,{"$f":"W30-X30","v":20},{"$f":"Y30*60","v":1200},{"$f":"Z30/365","v":3.2876712328767121}]
["2011-04-30",{"$f":"Sunrise_set!AE32","v":429},{"$f":"Sunrise_set!AF32","v":2001},{"$error":"#REF!"},{"$error":"#REF!"},0,null,null,660,1740,null,360,null,null,{"$error":"#REF!"},null,{"$error":"#REF!"},null,{"$error":"#REF!"}]
["2011-05-01",{"$f":"Sunrise_set!AE33","v":426},{"$f":"Sunrise_set!AF33","v":2003},{"$error":"#REF!"},{"$error":"#REF!"},0,null,null,660,1740,null,360,null,null,{"$error":"#REF!"},null,{"$error":"#REF!"},null,{"$error":"#REF!"}]
["2011-05-02",{"$f":"Sunrise_set!AE34","v":424},{"$f":"Sunrise_set!AF34","v":2005},{"$error":"#REF!"},{"$error":"#REF!"},0,null,null,660,1740,null,360,null,null,{"$error":"#REF!"},null,{"$error":"#REF!"},null,{"$error":"#REF!"}]
["2011-05-03",{"$f":"Sunrise_set!AE35","v":422},{"$f":"Sunrise_set!AF35","v":2007},{"$error":"#REF!"},{"$error":"#REF!"},0,null,null,660,1740,null,360,null,null,{"$error":"#REF!"},null,{"$error":"#REF!"},null,{"$error":"#REF!"}]
["2011-05-04",{"$f":"Sunrise_set!AE36","v":419},{"$f":"Sunrise_set!AF36","v":2010},{"$error":"#REF!"},{"$error":"#REF!"},0,null,null,660,1740,null,360,null,null,{"$error":"#REF!"},null,{"$error":"#REF!"},null,{"$error":"#REF!"}]
["2011-05-05",{"$f":"Sunrise_set!AE37","v":417},{"$f":"Sunrise_set!AF37","v":2012},{"$error":"#REF!"},{"$error":"#REF!"},0,null,null,660,1740,null,360,null,null,{"$error":"#REF!"},null,{"$error":"#REF!"},null,{"$error":"#REF!"},null,null,{"$f":"150*365","v":54750}]
["2011-05-06",{"$f":"Sunrise_set!AE38","v":415},{"$f":"Sunrise_set!AF38","v":2014},{"$error":"#REF!"},{"$error":"#REF!"},0,null,null,660,1740,null,360,null,null,{"$error":"#REF!"},null,{"$error":"#REF!"},null,{"$error":"#REF!"}]
["2011-05-07",{"$f":"Sunrise_set!AE39","v":412},{"$f":"Sunrise_set!AF39","v":2016},{"$error":"#REF!"},{"$error":"#REF!"},0,null,null,660,1740,null,360,null,null,{"$error":"#REF!"},null,{"$error":"#REF!"},null,{"$error":"#REF!"}]
["2011-05-08",{"$f":"Sunrise_set!AE40","v":410},{"$f":"Sunrise_set!AF40","v":2018},{"$error":"#REF!"},{"$error":"#REF!"},0,null,null,660,1740,null,360,null,null,{"$error":"#REF!"},null,{"$error":"#REF!"},null,{"$error":"#REF!"}]
["2011-05-09",{"$f":"Sunrise_set!AE41","v":408},{"$f":"Sunrise_set!AF41","v":2020},{"$error":"#REF!"},{"$error":"#REF!"},0,null,null,660,1740,null,360,null,null,{"$error":"#REF!"},null,{"$error":"#REF!"},null,{"$error":"#REF!"}]
["2011-05-10",{"$f":"Sunrise_set!AE42","v":406},{"$f":"Sunrise_set!AF42","v":2022},{"$error":"#REF!"},{"$error":"#REF!"},0,null,null,660,1740,null,360,null,null,{"$error":"#REF!"},null,{"$error":"#REF!"},null,{"$error":"#REF!"}]
["2011-05-11",{"$f":"Sunrise_set!AE43","v":404},{"$f":"Sunrise_set!AF43","v":2024},{"$error":"#REF!"},{"$error":"#REF!"},0,null,null,660,1740,null,360,null,null,{"$error":"#REF!"},null,{"$error":"#REF!"},null,{"$error":"#REF!"}]
["2011-05-12",{"$f":"Sunrise_set!AE44","v":401},{"$f":"Sunrise_set!AF44","v":2026},{"$error":"#REF!"},{"$error":"#REF!"},0,null,null,660,1740,null,360,null,null,{"$error":"#REF!"},null,{"$error":"#REF!"},null,{"$error":"#REF!"}]
["2011-05-13",{"$f":"Sunrise_set!AE45","v":359},{"$f":"Sunrise_set!AF45","v":2029},{"$error":"#REF!"},{"$error":"#REF!"},0,null,null,660,1740,null,360,null,null,{"$error":"#REF!"},null,{"$error":"#REF!"},null,{"$error":"#REF!"}]
["2011-05-14",{"$f":"Sunrise_set!AE46","v":357},{"$f":"Sunrise_set!AF46","v":2031},{"$error":"#REF!"},{"$error":"#REF!"},0,null,null,660,1740,null,360,null,null,{"$error":"#REF!"},null,{"$error":"#REF!"},null,{"$error":"#REF!"}]
["2011-05-15",{"$f":"Sunrise_set!AE47","v":355},{"$f":"Sunrise_set!AF47","v":2033},{"$error":"#REF!"},{"$error":"#REF!"},0,null,null,660,1740,null,360,null,null,{"$error":"#REF!"},null,{"$error":"#REF!"},null,{"$error":"#REF!"}]
["2011-05-16",{"$f":"Sunrise_set!AE48","v":353},{"$f":"Sunrise_set!AF48","v":2035},{"$error":"#REF!"},{"$error":"#REF!"},0,null,null,660,1740,null,360,null,null,{"$error":"#REF!"},null,{"$error":"#REF!"},null,{"$error":"#REF!"}]
["2011-05-17",{"$f":"Sunrise_set!AE49","v":351},{"$f":"Sunrise_set!AF49","v":2037},{"$error":"#REF!"},{"$error":"#REF!"},0,null,null,660,1740,null,360,null,null,{"$error":"#REF!"},null,{"$error":"#REF!"},null,{"$error":"#REF!"}]
["2011-05-18",{"$f":"Sunrise_set!AE50","v":350},{"$f":"Sunrise_set!AF50","v":2039},{"$error":"#REF!"},{"$error":"#REF!"},0,null,null,660,1740,null,360,null,null,{"$error":"#REF!"},null,{"$error":"#REF!"},null,{"$error":"#REF!"}]
["2011-05-19",{"$f":"Sunrise_set!AE51","v":348},{"$f":"Sunrise_set!AF51","v":2040},{"$error":"#REF!"},{"$error":"#REF!"},0,null,null,660,1740,null,360,null,null,{"$error":"#REF!"},null,{"$error":"#REF!"},null,{"$error":"#REF!"}]
["2011-05-20",{"$f":"Sunrise_set!AE52","v":346},{"$f":"Sunrise_set!AF52","v":2042},{"$error":"#REF!"},{"$error":"#REF!"},0,null,null,660,1740,null,360,null,null,{"$error":"#REF!"},null,{"$error":"#REF!"},null,{"$error":"#REF!"}]
["2011-05-21",{"$f":"Sunrise_set!AE53","v":344},{"$f":"Sunrise_set!AF53","v":2044},{"$error":"#REF!"},{"$error":"#REF!"},0,null,null,660,1740,null,360,null,null,{"$error":"#REF!"},null,{"$error":"#REF!"},null,{"$error":"#REF!"}]
["2011-05-22",{"$f":"Sunrise_set!AE54","v":342},{"$f":"Sunrise_set!AF54","v":2046},{"$error":"#REF!"},{"$error":"#REF!"},0,null,null,660,1740,null,360,null,null,{"$error":"#REF!"},null,{"$error":"#REF!"},null,{"$error":"#REF!"}]
["2011-05-23",{"$f":"Sunrise_set!AE55","v":341},{"$f":"Sunrise_set!AF55","v":2048},{"$error":"#REF!"},{"$error":"#REF!"},0,null,null,660,1740,null,360,null,null,{"$error":"#REF!"},null,{"$error":"#REF!"},null,{"$error":"#REF!"}]
["2011-05-24",{"$f":"Sunrise_set!AE56","v":339},{"$f":"Sunrise_set!AF56","v":2050},{"$error":"#REF!"},{"$error":"#REF!"},0,null,null,660,1740,null,360,null,null,{"$error":"#REF!"},null,{"$error":"#REF!"},null,{"$error":"#REF!"}]
["2011-05-25",{"$f":"Sunrise_set!AE57","v":338},{"$f":"Sunrise_set!AF57","v":2051},{"$error":"#REF!"},{"$error":"#REF!"},0,null,null,660,1740,null,360,null,null,{"$error":"#REF!"},null,{"$error":"#REF!"},null,{"$error":"#REF!"}]
["2011-05-26",{"$f":"Sunrise_set!AE58","v":336},{"$f":"Sunrise_set!AF58","v":2053},{"$error":"#REF!"},{"$error":"#REF!"},0,null,null,660,1740,null,360,null,null,{"$error":"#REF!"},null,{"$error":"#REF!"},null,{"$error":"#REF!"}]
["2011-05-27",{"$f":"Sunrise_set!AE59","v":335},{"$f":"Sunrise_set!AF59","v":2055},{"$error":"#REF!"},{"$error":"#REF!"},0,null,null,660,1740,null,360,null,null,{"$error":"#REF!"},null,{"$error":"#REF!"},null,{"$error":"#REF!"}]
["2011-05-28",{"$f":"Sunrise_set!AE60","v":333},{"$f":"Sunrise_set!AF60","v":2056},{"$error":"#REF!"},{"$error":"#REF!"},0,null,null,660,1740,null,360,null,null,{"$error":"#REF!"},null,{"$error":"#REF!"},null,{"$error":"#REF!"}]
["2011-05-29",{"$f":"Sunrise_set!AE61","v":332},{"$f":"Sunrise_set!AF61","v":2058},{"$error":"#REF!"},{"$error":"#REF!"},0,null,null,660,1740,null,360,null,null,{"$error":"#REF!"},null,{"$error":"#REF!"},null,{"$error":"#REF!"}]
["2011-05-30",{"$f":"Sunrise_set!AE62","v":330},{"$f":"Sunrise_set!AF62","v":2100},{"$error":"#REF!"},{"$error":"#REF!"},0,null,null,660,1740,null,360,null,null,{"$error":"#REF!"},null,{"$error":"#REF!"},null,{"$error":"#REF!"}]
["2011-05-31",{"$f":"Sunrise_set!AE63","v":329},{"$f":"Sunrise_set!AF63","v":2101},{"$error":"#REF!"},{"$error":"#REF!"},0,null,null,660,1740,null,360,null,null,{"$error":"#REF!"},null,{"$error":"#REF!"},null,{"$error":"#REF!"}]
["2011-06-01",{"$f":"Sunrise_set!AE64","v":328},{"$f":"Sunrise_set!AF64","v":2103},{"$error":"#REF!"},{"$error":"#REF!"},0,null,null,660,1740,null,360,null,null,{"$error":"#REF!"},null,{"$error":"#REF!"},null,{"$error":"#REF!"}]
["2011-06-02",{"$f":"Sunrise_set!AE65","v":327},{"$f":"Sunrise_set!AF65","v":2104},{"$error":"#REF!"},{"$error":"#REF!"},0,null,null,660,1740,null,360,null,null,{"$error":"#REF!"},null,{"$error":"#REF!"},null,{"$error":"#REF!"}]
["2011-06-03",{"$f":"Sunrise_set!AE66","v":326},{"$f":"Sunrise_set!AF66","v":2105},{"$error":"#REF!"},{"$error":"#REF!"},0,null,null,660,1740,null,360,null,null,{"$error":"#REF!"},null,{"$error":"#REF!"},null,{"$error":"#REF!"}]
["2011-06-04",{"$f":"Sunrise_set!AE67","v":325},{"$f":"Sunrise_set!AF67","v":2107},{"$f":"LEFT(B66,1)*60+RIGHT(B66,2)+F66-$V$17","v":{"$error":"#REF!"}},{"$f":"LEFT(C66,2)*60+RIGHT(C66,2)+F66+$V$17","v":{"$error":"#REF!"}},0,null,null,{"$f":"$W$6*60+$X$6","v":660},1740,null,360,null,null,{"$error":"#REF!"},null,{"$f":"IF(E66>J66,E66-J66,0)","v":{"$error":"#REF!"}},null,{"$error":"#REF!"}]
["2011-06-05",{"$f":"Sunrise_set!AE68","v":324},{"$f":"Sunrise_set!AF68","v":2108},{"$error":"#REF!"},{"$error":"#REF!"},{"$f":"IF($W$1=\"CLK\",60,0)","v":0},null,null,660,{"$f":"IF($W$7<12,($W$7+24)*60+$X$7,$W$7*60+$X$7)","v":1740},null,{"$f":"IF(AND($W$7>12,$W$6>12),I67-J67,(24*60)-J67+I67)","v":360},null,null,{"$f":"IF(AND($W$6>12,$W$7>12),0,IF(D67>I67,0,I67-D67))","v":{"$error":"#REF!"}},null,{"$error":"#REF!"},null,{"$f":"MAX(L67-SUM(O67,Q67),0)","v":{"$error":"#REF!"}}]
["2011-06-06",{"$f":"Sunrise_set!AE69","v":323},{"$f":"Sunrise_set!AF69","v":2109},{"$error":"#REF!"},{"$error":"#REF!"},0,null,null,660,1740,null,360,null,null,{"$error":"#REF!"},null,{"$error":"#REF!"},null,{"$error":"#REF!"}]
["2011-06-07",{"$f":"Sunrise_set!AE70","v":322},{"$f":"Sunrise_set!AF70","v":2110},{"$error":"#REF!"},{"$error":"#REF!"},0,null,null,660,1740,null,360,null,null,{"$error":"#REF!"},null,{"$error":"#REF!"},null,{"$error":"#REF!"}]
["2011-06-08",{"$f":"Sunrise_set!AE71","v":321},{"$f":"Sunrise_set!AF71","v":2111},{"$error":"#REF!"},{"$error":"#REF!"},0,null,null,660,1740,null,360,null,null,{"$error":"#REF!"},null,{"$error":"#REF!"},null,{"$error":"#REF!"}]
["2011-06-09",{"$f":"Sunrise_set!AE72","v":321},{"$f":"Sunrise_set!AF72","v":2112},{"$error":"#REF!"},{"$error":"#REF!"},0,null,null,660,1740,null,360,null,null,{"$error":"#REF!"},null,{"$error":"#REF!"},null,{"$error":"#REF!"}]
["2011-06-10",{"$f":"Sunrise_set!AE73","v":320},{"$f":"Sunrise_set!AF73","v":2113},{"$error":"#REF!"},{"$error":"#REF!"},0,null,null,660,1740,null,360,null,null,{"$error":"#REF!"},null,{"$error":"#REF!"},null,{"$error":"#REF!"}]
["2011-06-11",{"$f":"Sunrise_set!AE74","v":320},{"$f":"Sunrise_set!AF74","v":2114},{"$error":"#REF!"},{"$error":"#REF!"},0,null,null,660,1740,null,360,null,null,{"$error":"#REF!"},null,{"$error":"#REF!"},null,{"$error":"#REF!"}]
["2011-06-12",{"$f":"Sunrise_set!AE75","v":319},{"$f":"Sunrise_set!AF75","v":2115},{"$error":"#REF!"},{"$error":"#REF!"},0,null,null,660,1740,null,360,null,null,{"$error":"#REF!"},null,{"$error":"#REF!"},null,{"$error":"#REF!"}]
["2011-06-13",{"$f":"Sunrise_set!AE76","v":319},{"$f":"Sunrise_set!AF76","v":2116},{"$error":"#REF!"},{"$error":"#REF!"},0,null,null,660,1740,null,360,null,null,{"$error":"#REF!"},null,{"$error":"#REF!"},null,{"$error":"#REF!"}]
["2011-06-14",{"$f":"Sunrise_set!AE77","v":318},{"$f":"Sunrise_set!AF77","v":2116},{"$error":"#REF!"},{"$error":"#REF!"},0,null,null,660,1740,null,360,null,null,{"$error":"#REF!"},null,{"$error":"#REF!"},null,{"$error":"#REF!"}]
["2011-06-15",{"$f":"Sunrise_set!AE78","v":318},{"$f":"Sunrise_set!AF78","v":2117},{"$error":"#REF!"},{"$error":"#REF!"},0,null,null,660,1740,null,360,null,null,{"$error":"#REF!"},null,{"$error":"#REF!"},null,{"$error":"#REF!"}]
["2011-06-16",{"$f":"Sunrise_set!AE79","v":318},{"$f":"Sunrise_set!AF79","v":2118},{"$error":"#REF!"},{"$error":"#REF!"},0,null,null,660,1740,null,360,null,null,{"$error":"#REF!"},null,{"$error":"#REF!"},null,{"$error":"#REF!"}]
["2011-06-17",{"$f":"Sunrise_set!AE80","v":318},{"$f":"Sunrise_set!AF80","v":2118},{"$error":"#REF!"},{"$error":"#REF!"},0,null,null,660,1740,null,360,null,null,{"$error":"#REF!"},null,{"$error":"#REF!"},null,{"$error":"#REF!"}]
["2011-06-18",{"$f":"Sunrise_set!AE81","v":318},{"$f":"Sunrise_set!AF81","v":2118},{"$error":"#REF!"},{"$error":"#REF!"},0,null,null,660,1740,null,360,null,null,{"$error":"#REF!"},null,{"$error":"#REF!"},null,{"$error":"#REF!"}]
["2011-06-19",{"$f":"Sunrise_set!AE82","v":318},{"$f":"Sunrise_set!AF82","v":2119},{"$error":"#REF!"},{"$error":"#REF!"},0,null,null,660,1740,null,360,null,null,{"$error":"#REF!"},null,{"$error":"#REF!"},null,{"$error":"#REF!"}]
["2011-06-20",{"$f":"Sunrise_set!AE83","v":318},{"$f":"Sunrise_set!AF83","v":2119},{"$error":"#REF!"},{"$error":"#REF!"},0,null,null,660,1740,null,360,null,null,{"$error":"#REF!"},null,{"$error":"#REF!"},null,{"$error":"#REF!"}]
["2011-06-21",{"$f":"Sunrise_set!AE84","v":318},{"$f":"Sunrise_set!AF84","v":2119},{"$error":"#REF!"},{"$error":"#REF!"},0,null,null,660,1740,null,360,null,null,{"$error":"#REF!"},null,{"$error":"#REF!"},null,{"$error":"#REF!"}]
["2011-06-22",{"$f":"Sunrise_set!AE85","v":318},{"$f":"Sunrise_set!AF85","v":2119},{"$error":"#REF!"},{"$error":"#REF!"},0,null,null,660,1740,null,360,null,null,{"$error":"#REF!"},null,{"$error":"#REF!"},null,{"$error":"#REF!"}]
["2011-06-23",{"$f":"Sunrise_set!AE86","v":319},{"$f":"Sunrise_set!AF86","v":2119},{"$error":"#REF!"},{"$error":"#REF!"},0,null,null,660,1740,null,360,null,null,{"$error":"#REF!"},null,{"$error":"#REF!"},null,{"$error":"#REF!"}]
["2011-06-24",{"$f":"Sunrise_set!AE87","v":319},{"$f":"Sunrise_set!AF87","v":2119},{"$error":"#REF!"},{"$error":"#REF!"},0,null,null,660,1740,null,360,null,null,{"$error":"#REF!"},null,{"$error":"#REF!"},null,{"$error":"#REF!"}]
["2011-06-25",{"$f":"Sunrise_set!AE88","v":320},{"$f":"Sunrise_set!AF88","v":2119},{"$error":"#REF!"},{"$error":"#REF!"},0,null,null,660,1740,null,360,null,null,{"$error":"#REF!"},null,{"$error":"#REF!"},null,{"$error":"#REF!"}]
["2011-06-26",{"$f":"Sunrise_set!AE89","v":320},{"$f":"Sunrise_set!AF89","v":2119},{"$error":"#REF!"},{"$error":"#REF!"},0,null,null,660,1740,null,360,null,null,{"$error":"#REF!"},null,{"$error":"#REF!"},null,{"$error":"#REF!"}]
["2011-06-27",{"$f":"Sunrise_set!AE90","v":321},{"$f":"Sunrise_set!AF90","v":2119},{"$error":"#REF!"},{"$error":"#REF!"},0,null,null,660,1740,null,360,null,null,{"$error":"#REF!"},null,{"$error":"#REF!"},null,{"$error":"#REF!"}]
["2011-06-28",{"$f":"Sunrise_set!AE91","v":322},{"$f":"Sunrise_set!AF91","v":2119},{"$error":"#REF!"},{"$error":"#REF!"},0,null,null,660,1740,null,360,null,null,{"$error":"#REF!"},null,{"$error":"#REF!"},null,{"$error":"#REF!"}]
["2011-06-29",{"$f":"Sunrise_set!AE92","v":322},{"$f":"Sunrise_set!AF92","v":2118},{"$error":"#REF!"},{"$error":"#REF!"},0,null,null,660,1740,null,360,null,null,{"$error":"#REF!"},null,{"$error":"#REF!"},null,{"$error":"#REF!"}]
["2011-06-30",{"$f":"Sunrise_set!AE93","v":323},{"$f":"Sunrise_set!AF93","v":2118},{"$error":"#REF!"},{"$error":"#REF!"},0,null,null,660,1740,null,360,null,null,{"$error":"#REF!"},null,{"$error":"#REF!"},null,{"$error":"#REF!"}]
["2011-07-01",{"$f":"Sunrise_set!AE94","v":324},{"$f":"Sunrise_set!AF94","v":2117},{"$error":"#REF!"},{"$error":"#REF!"},0,null,null,660,1740,null,360,null,null,{"$error":"#REF!"},null,{"$error":"#REF!"},null,{"$error":"#REF!"}]
["2011-07-02",{"$f":"Sunrise_set!AE95","v":325},{"$f":"Sunrise_set!AF95","v":2116},{"$error":"#REF!"},{"$error":"#REF!"},0,null,null,660,1740,null,360,null,null,{"$error":"#REF!"},null,{"$error":"#REF!"},null,{"$error":"#REF!"}]
["2011-07-03",{"$f":"Sunrise_set!AE96","v":326},{"$f":"Sunrise_set!AF96","v":2116},{"$error":"#REF!"},{"$error":"#REF!"},0,null,null,660,1740,null,360,null,null,{"$error":"#REF!"},null,{"$error":"#REF!"},null,{"$error":"#REF!"}]
["2011-07-04",{"$f":"Sunrise_set!AE97","v":327},{"$f":"Sunrise_set!AF97","v":2115},{"$error":"#REF!"},{"$error":"#REF!"},0,null,null,660,1740,null,360,null,null,{"$error":"#REF!"},null,{"$error":"#REF!"},null,{"$error":"#REF!"}]
["2011-07-05",{"$f":"Sunrise_set!AE98","v":328},{"$f":"Sunrise_set!AF98","v":2114},{"$error":"#REF!"},{"$error":"#REF!"},0,null,null,660,1740,null,360,null,null,{"$error":"#REF!"},null,{"$error":"#REF!"},null,{"$error":"#REF!"}]
["2011-07-06",{"$f":"Sunrise_set!AE99","v":329},{"$f":"Sunrise_set!AF99","v":2113},{"$error":"#REF!"},{"$error":"#REF!"},0,null,null,660,1740,null,360,null,null,{"$error":"#REF!"},null,{"$error":"#REF!"},null,{"$error":"#REF!"}]
["2011-07-07",{"$f":"Sunrise_set!AE100","v":331},{"$f":"Sunrise_set!AF100","v":2112},{"$error":"#REF!"},{"$error":"#REF!"},0,null,null,660,1740,null,360,null,null,{"$error":"#REF!"},null,{"$error":"#REF!"},null,{"$error":"#REF!"}]
["2011-07-08",{"$f":"Sunrise_set!AE101","v":332},{"$f":"Sunrise_set!AF101","v":2111},{"$error":"#REF!"},{"$error":"#REF!"},0,null,null,660,1740,null,360,null,null,{"$error":"#REF!"},null,{"$error":"#REF!"},null,{"$error":"#REF!"}]
["2011-07-09",{"$f":"Sunrise_set!AE102","v":333},{"$f":"Sunrise_set!AF102","v":2110},{"$error":"#REF!"},{"$error":"#REF!"},0,null,null,660,1740,null,360,null,null,{"$error":"#REF!"},null,{"$error":"#REF!"},null,{"$error":"#REF!"}]
["2011-07-10",{"$f":"Sunrise_set!AE103","v":335},{"$f":"Sunrise_set!AF103","v":2109},{"$error":"#REF!"},{"$error":"#REF!"},0,null,null,660,1740,null,360,null,null,{"$error":"#REF!"},null,{"$error":"#REF!"},null,{"$error":"#REF!"}]
["2011-07-11",{"$f":"Sunrise_set!AE104","v":336},{"$f":"Sunrise_set!AF104","v":2108},{"$error":"#REF!"},{"$error":"#REF!"},0,null,null,660,1740,null,360,null,null,{"$error":"#REF!"},null,{"$error":"#REF!"},null,{"$error":"#REF!"}]
["2011-07-12",{"$f":"Sunrise_set!AE105","v":338},{"$f":"Sunrise_set!AF105","v":2107},{"$error":"#REF!"},{"$error":"#REF!"},0,null,null,660,1740,null,360,null,null,{"$error":"#REF!"},null,{"$error":"#REF!"},null,{"$error":"#REF!"}]
["2011-07-13",{"$f":"Sunrise_set!AE106","v":339},{"$f":"Sunrise_set!AF106","v":2105},{"$error":"#REF!"},{"$error":"#REF!"},0,null,null,660,1740,null,360,null,null,{"$error":"#REF!"},null,{"$error":"#REF!"},null,{"$error":"#REF!"}]
["2011-07-14",{"$f":"Sunrise_set!AE107","v":341},{"$f":"Sunrise_set!AF107","v":2104},{"$error":"#REF!"},{"$error":"#REF!"},0,null,null,660,1740,null,360,null,null,{"$error":"#REF!"},null,{"$error":"#REF!"},null,{"$error":"#REF!"}]
["2011-07-15",{"$f":"Sunrise_set!AE108","v":342},{"$f":"Sunrise_set!AF108","v":2103},{"$error":"#REF!"},{"$error":"#REF!"},0,null,null,660,1740,null,360,null,null,{"$error":"#REF!"},null,{"$error":"#REF!"},null,{"$error":"#REF!"}]
["2011-07-16",{"$f":"Sunrise_set!AE109","v":344},{"$f":"Sunrise_set!AF109","v":2101},{"$error":"#REF!"},{"$error":"#REF!"},0,null,null,660,1740,null,360,null,null,{"$error":"#REF!"},null,{"$error":"#REF!"},null,{"$error":"#REF!"}]
["2011-07-17",{"$f":"Sunrise_set!AE110","v":346},{"$f":"Sunrise_set!AF110","v":2100},{"$error":"#REF!"},{"$error":"#REF!"},0,null,null,660,1740,null,360,null,null,{"$error":"#REF!"},null,{"$error":"#REF!"},null,{"$error":"#REF!"}]
["2011-07-18",{"$f":"Sunrise_set!AE111","v":347},{"$f":"Sunrise_set!AF111","v":2058},{"$error":"#REF!"},{"$error":"#REF!"},0,null,null,660,1740,null,360,null,null,{"$error":"#REF!"},null,{"$error":"#REF!"},null,{"$error":"#REF!"}]
["2011-07-19",{"$f":"Sunrise_set!AE112","v":349},{"$f":"Sunrise_set!AF112","v":2056},{"$error":"#REF!"},{"$error":"#REF!"},0,null,null,660,1740,null,360,null,null,{"$error":"#REF!"},null,{"$error":"#REF!"},null,{"$error":"#REF!"}]
["2011-07-20",{"$f":"Sunrise_set!AE113","v":351},{"$f":"Sunrise_set!AF113","v":2055},{"$error":"#REF!"},{"$error":"#REF!"},0,null,null,660,1740,null,360,null,null,{"$error":"#REF!"},null,{"$error":"#REF!"},null,{"$error":"#REF!"}]
["2011-07-21",{"$f":"Sunrise_set!AE114","v":353},{"$f":"Sunrise_set!AF114","v":2053},{"$error":"#REF!"},{"$error":"#REF!"},0,null,null,660,1740,null,360,null,null,{"$error":"#REF!"},null,{"$error":"#REF!"},null,{"$error":"#REF!"}]
["2011-07-22",{"$f":"Sunrise_set!AE115","v":354},{"$f":"Sunrise_set!AF115","v":2051},{"$error":"#REF!"},{"$error":"#REF!"},0,null,null,660,1740,null,360,null,null,{"$error":"#REF!"},null,{"$error":"#REF!"},null,{"$error":"#REF!"}]
["2011-07-23",{"$f":"Sunrise_set!AE116","v":356},{"$f":"Sunrise_set!AF116","v":2049},{"$error":"#REF!"},{"$error":"#REF!"},0,null,null,660,1740,null,360,null,null,{"$error":"#REF!"},null,{"$error":"#REF!"},null,{"$error":"#REF!"}]
["2011-07-24",{"$f":"Sunrise_set!AE117","v":358},{"$f":"Sunrise_set!AF117","v":2047},{"$error":"#REF!"},{"$error":"#REF!"},0,null,null,660,1740,null,360,null,null,{"$error":"#REF!"},null,{"$error":"#REF!"},null,{"$error":"#REF!"}]
["2011-07-25",{"$f":"Sunrise_set!AE118","v":400},{"$f":"Sunrise_set!AF118","v":2046},{"$error":"#REF!"},{"$error":"#REF!"},0,null,null,660,1740,null,360,null,null,{"$error":"#REF!"},null,{"$error":"#REF!"},null,{"$error":"#REF!"}]
["2011-07-26",{"$f":"Sunrise_set!AE119","v":402},{"$f":"Sunrise_set!AF119","v":2044},{"$error":"#REF!"},{"$error":"#REF!"},0,null,null,660,1740,null,360,null,null,{"$error":"#REF!"},null,{"$error":"#REF!"},null,{"$error":"#REF!"}]
["2011-07-27",{"$f":"Sunrise_set!AE120","v":404},{"$f":"Sunrise_set!AF120","v":2042},{"$error":"#REF!"},{"$error":"#REF!"},0,null,null,660,1740,null,360,null,null,{"$error":"#REF!"},null,{"$error":"#REF!"},null,{"$error":"#REF!"}]
["2011-07-28",{"$f":"Sunrise_set!AE121","v":406},{"$f":"Sunrise_set!AF121","v":2040},{"$error":"#REF!"},{"$error":"#REF!"},0,null,null,660,1740,null,360,null,null,{"$error":"#REF!"},null,{"$error":"#REF!"},null,{"$error":"#REF!"}]
["2011-07-29",{"$f":"Sunrise_set!AE122","v":408},{"$f":"Sunrise_set!AF122","v":2038},{"$error":"#REF!"},{"$error":"#REF!"},0,null,null,660,1740,null,360,null,null,{"$error":"#REF!"},null,{"$error":"#REF!"},null,{"$error":"#REF!"}]
["2011-07-30",{"$f":"Sunrise_set!AE123","v":410},{"$f":"Sunrise_set!AF123","v":2035},{"$error":"#REF!"},{"$error":"#REF!"},0,null,null,660,1740,null,360,null,null,{"$error":"#REF!"},null,{"$error":"#REF!"},null,{"$error":"#REF!"}]
["2011-07-31",{"$f":"Sunrise_set!AE124","v":412},{"$f":"Sunrise_set!AF124","v":2033},{"$error":"#REF!"},{"$error":"#REF!"},0,null,null,660,1740,null,360,null,null,{"$error":"#REF!"},null,{"$error":"#REF!"},null,{"$error":"#REF!"}]
["2011-08-01",{"$f":"Sunrise_set!AE125","v":414},{"$f":"Sunrise_set!AF125","v":2031},{"$error":"#REF!"},{"$error":"#REF!"},0,null,null,660,1740,null,360,null,null,{"$error":"#REF!"},null,{"$error":"#REF!"},null,{"$error":"#REF!"}]
["2011-08-02",{"$f":"Sunrise_set!AE126","v":416},{"$f":"Sunrise_set!AF126","v":2029},{"$error":"#REF!"},{"$error":"#REF!"},0,null,null,660,1740,null,360,null,null,{"$error":"#REF!"},null,{"$error":"#REF!"},null,{"$error":"#REF!"}]
["2011-08-03",{"$f":"Sunrise_set!AE127","v":418},{"$f":"Sunrise_set!AF127","v":2027},{"$error":"#REF!"},{"$error":"#REF!"},0,null,null,660,1740,null,360,null,null,{"$error":"#REF!"},null,{"$error":"#REF!"},null,{"$error":"#REF!"}]
["2011-08-04",{"$f":"Sunrise_set!AE128","v":420},{"$f":"Sunrise_set!AF128","v":2025},{"$error":"#REF!"},{"$error":"#REF!"},0,null,null,660,1740,null,360,null,null,{"$error":"#REF!"},null,{"$error":"#REF!"},null,{"$error":"#REF!"}]
["2011-08-05",{"$f":"Sunrise_set!AE129","v":422},{"$f":"Sunrise_set!AF129","v":2022},{"$error":"#REF!"},{"$error":"#REF!"},0,null,null,660,1740,null,360,null,null,{"$error":"#REF!"},null,{"$error":"#REF!"},null,{"$error":"#REF!"}]
["2011-08-06",{"$f":"Sunrise_set!AE130","v":424},{"$f":"Sunrise_set!AF130","v":2020},{"$error":"#REF!"},{"$error":"#REF!"},0,null,null,660,1740,null,360,null,null,{"$error":"#REF!"},null,{"$error":"#REF!"},null,{"$error":"#REF!"}]
["2011-08-07",{"$f":"Sunrise_set!AE131","v":426},{"$f":"Sunrise_set!AF131","v":2018},{"$f":"LEFT(B130,1)*60+RIGHT(B130,2)+F130-$V$17","v":{"$error":"#REF!"}},{"$f":"LEFT(C130,2)*60+RIGHT(C130,2)+F130+$V$17","v":{"$error":"#REF!"}},0,null,null,{"$f":"$W$6*60+$X$6","v":660},1740,null,360,null,null,{"$error":"#REF!"},null,{"$f":"IF(E130>J130,E130-J130,0)","v":{"$error":"#REF!"}},null,{"$error":"#REF!"}]
["2011-08-08",{"$f":"Sunrise_set!AE132","v":428},{"$f":"Sunrise_set!AF132","v":2015},{"$error":"#REF!"},{"$error":"#REF!"},{"$f":"IF($W$1=\"CLK\",60,0)","v":0},null,null,660,{"$f":"IF($W$7<12,($W$7+24)*60+$X$7,$W$7*60+$X$7)","v":1740},null,{"$f":"IF(AND($W$7>12,$W$6>12),I131-J131,(24*60)-J131+I131)","v":360},null,null,{"$f":"IF(AND($W$6>12,$W$7>12),0,IF(D131>I131,0,I131-D131))","v":{"$error":"#REF!"}},null,{"$error":"#REF!"},null,{"$f":"MAX(L131-SUM(O131,Q131),0)","v":{"$error":"#REF!"}}]
["2011-08-09",{"$f":"Sunrise_set!AE133","v":430},{"$f":"Sunrise_set!AF133","v":2013},{"$error":"#REF!"},{"$error":"#REF!"},0,null,null,660,1740,null,360,null,null,{"$error":"#REF!"},null,{"$error":"#REF!"},null,{"$error":"#REF!"}]
["2011-08-10",{"$f":"Sunrise_set!AE134","v":432},{"$f":"Sunrise_set!AF134","v":2011},{"$error":"#REF!"},{"$error":"#REF!"},0,null,null,660,1740,null,360,null,null,{"$error":"#REF!"},null,{"$error":"#REF!"},null,{"$error":"#REF!"}]
["2011-08-11",{"$f":"Sunrise_set!AE135","v":435},{"$f":"Sunrise_set!AF135","v":2008},{"$error":"#REF!"},{"$error":"#REF!"},0,null,null,660,1740,null,360,null,null,{"$error":"#REF!"},null,{"$error":"#REF!"},null,{"$error":"#REF!"}]
["2011-08-12",{"$f":"Sunrise_set!AE136","v":437},{"$f":"Sunrise_set!AF136","v":2006},{"$error":"#REF!"},{"$error":"#REF!"},0,null,null,660,1740,null,360,null,null,{"$error":"#REF!"},null,{"$error":"#REF!"},null,{"$error":"#REF!"}]
["2011-08-13",{"$f":"Sunrise_set!AE137","v":439},{"$f":"Sunrise_set!AF137","v":2003},{"$error":"#REF!"},{"$error":"#REF!"},0,null,null,660,1740,null,360,null,null,{"$error":"#REF!"},null,{"$error":"#REF!"},null,{"$error":"#REF!"}]
["2011-08-14",{"$f":"Sunrise_set!AE138","v":441},{"$f":"Sunrise_set!AF138","v":2001},{"$error":"#REF!"},{"$error":"#REF!"},0,null,null,660,1740,null,360,null,null,{"$error":"#REF!"},null,{"$error":"#REF!"},null,{"$error":"#REF!"}]
["2011-08-15",{"$f":"Sunrise_set!AE139","v":443},{"$f":"Sunrise_set!AF139","v":1958},{"$error":"#REF!"},{"$error":"#REF!"},0,null,null,660,1740,null,360,null,null,{"$error":"#REF!"},null,{"$error":"#REF!"},null,{"$error":"#REF!"}]
["2011-08-16",{"$f":"Sunrise_set!AE140","v":445},{"$f":"Sunrise_set!AF140","v":1956},{"$error":"#REF!"},{"$error":"#REF!"},0,null,null,660,1740,null,360,null,null,{"$error":"#REF!"},null,{"$error":"#REF!"},null,{"$error":"#REF!"}]
["2011-08-17",{"$f":"Sunrise_set!AE141","v":447},{"$f":"Sunrise_set!AF141","v":1953},{"$error":"#REF!"},{"$error":"#REF!"},0,null,null,660,1740,null,360,null,null,{"$error":"#REF!"},null,{"$error":"#REF!"},null,{"$error":"#REF!"}]
["2011-08-18",{"$f":"Sunrise_set!AE142","v":449},{"$f":"Sunrise_set!AF142","v":1951},{"$error":"#REF!"},{"$error":"#REF!"},0,null,null,660,1740,null,360,null,null,{"$error":"#REF!"},null,{"$error":"#REF!"},null,{"$error":"#REF!"}]
["2011-08-19",{"$f":"Sunrise_set!AE143","v":451},{"$f":"Sunrise_set!AF143","v":1948},{"$error":"#REF!"},{"$error":"#REF!"},0,null,null,660,1740,null,360,null,null,{"$error":"#REF!"},null,{"$error":"#REF!"},null,{"$error":"#REF!"}]
["2011-08-20",{"$f":"Sunrise_set!AE144","v":453},{"$f":"Sunrise_set!AF144","v":1945},{"$error":"#REF!"},{"$error":"#REF!"},0,null,null,660,1740,null,360,null,null,{"$error":"#REF!"},null,{"$error":"#REF!"},null,{"$error":"#REF!"}]
["2011-08-21",{"$f":"Sunrise_set!AE145","v":456},{"$f":"Sunrise_set!AF145","v":1943},{"$error":"#REF!"},{"$error":"#REF!"},0,null,null,660,1740,null,360,null,null,{"$error":"#REF!"},null,{"$error":"#REF!"},null,{"$error":"#REF!"}]
["2011-08-22",{"$f":"Sunrise_set!AE146","v":458},{"$f":"Sunrise_set!AF146","v":1940},{"$error":"#REF!"},{"$error":"#REF!"},0,null,null,660,1740,null,360,null,null,{"$error":"#REF!"},null,{"$error":"#REF!"},null,{"$error":"#REF!"}]
["2011-08-23",{"$f":"Sunrise_set!AE147","v":500},{"$f":"Sunrise_set!AF147","v":1938},{"$error":"#REF!"},{"$error":"#REF!"},0,null,null,660,1740,null,360,null,null,{"$error":"#REF!"},null,{"$error":"#REF!"},null,{"$error":"#REF!"}]
["2011-08-24",{"$f":"Sunrise_set!AE148","v":502},{"$f":"Sunrise_set!AF148","v":1935},{"$error":"#REF!"},{"$error":"#REF!"},0,null,null,660,1740,null,360,null,null,{"$error":"#REF!"},null,{"$error":"#REF!"},null,{"$error":"#REF!"}]
["2011-08-25",{"$f":"Sunrise_set!AE149","v":504},{"$f":"Sunrise_set!AF149","v":1932},{"$error":"#REF!"},{"$error":"#REF!"},0,null,null,660,1740,null,360,null,null,{"$error":"#REF!"},null,{"$error":"#REF!"},null,{"$error":"#REF!"}]
["2011-08-26",{"$f":"Sunrise_set!AE150","v":506},{"$f":"Sunrise_set!AF150","v":1930},{"$error":"#REF!"},{"$error":"#REF!"},0,null,null,660,1740,null,360,null,null,{"$error":"#REF!"},null,{"$error":"#REF!"},null,{"$error":"#REF!"}]
["2011-08-27",{"$f":"Sunrise_set!AE151","v":508},{"$f":"Sunrise_set!AF151","v":1927},{"$error":"#REF!"},{"$error":"#REF!"},0,null,null,660,1740,null,360,null,null,{"$error":"#REF!"},null,{"$error":"#REF!"},null,{"$error":"#REF!"}]
["2011-08-28",{"$f":"Sunrise_set!AE152","v":510},{"$f":"Sunrise_set!AF152","v":1924},{"$error":"#REF!"},{"$error":"#REF!"},0,null,null,660,1740,null,360,null,null,{"$error":"#REF!"},null,{"$error":"#REF!"},null,{"$error":"#REF!"}]
["2011-08-29",{"$f":"Sunrise_set!AE153","v":512},{"$f":"Sunrise_set!AF153","v":1922},{"$error":"#REF!"},{"$error":"#REF!"},0,null,null,660,1740,null,360,null,null,{"$error":"#REF!"},null,{"$error":"#REF!"},null,{"$error":"#REF!"}]
["2011-08-30",{"$f":"Sunrise_set!AE154","v":514},{"$f":"Sunrise_set!AF154","v":1919},{"$error":"#REF!"},{"$error":"#REF!"},0,null,null,660,1740,null,360,null,null,{"$error":"#REF!"},null,{"$error":"#REF!"},null,{"$error":"#REF!"}]
["2011-08-31",{"$f":"Sunrise_set!AE155","v":517},{"$f":"Sunrise_set!AF155","v":1916},{"$error":"#REF!"},{"$error":"#REF!"},0,null,null,660,1740,null,360,null,null,{"$error":"#REF!"},null,{"$error":"#REF!"},null,{"$error":"#REF!"}]
["2011-09-01",{"$f":"Sunrise_set!AE156","v":519},{"$f":"Sunrise_set!AF156","v":1913},{"$error":"#REF!"},{"$error":"#REF!"},0,null,null,660,1740,null,360,null,null,{"$error":"#REF!"},null,{"$error":"#REF!"},null,{"$error":"#REF!"}]
["2011-09-02",{"$f":"Sunrise_set!AE157","v":521},{"$f":"Sunrise_set!AF157","v":1911},{"$error":"#REF!"},{"$error":"#REF!"},0,null,null,660,1740,null,360,null,null,{"$error":"#REF!"},null,{"$error":"#REF!"},null,{"$error":"#REF!"}]
["2011-09-03",{"$f":"Sunrise_set!AE158","v":523},{"$f":"Sunrise_set!AF158","v":1908},{"$error":"#REF!"},{"$error":"#REF!"},0,null,null,660,1740,null,360,null,null,{"$error":"#REF!"},null,{"$error":"#REF!"},null,{"$error":"#REF!"}]
["2011-09-04",{"$f":"Sunrise_set!AE159","v":525},{"$f":"Sunrise_set!AF159","v":1905},{"$error":"#REF!"},{"$error":"#REF!"},0,null,null,660,1740,null,360,null,null,{"$error":"#REF!"},null,{"$error":"#REF!"},null,{"$error":"#REF!"}]
["2011-09-05",{"$f":"Sunrise_set!AE160","v":527},{"$f":"Sunrise_set!AF160","v":1903},{"$error":"#REF!"},{"$error":"#REF!"},0,null,null,660,1740,null,360,null,null,{"$error":"#REF!"},null,{"$error":"#REF!"},null,{"$error":"#REF!"}]
["2011-09-06",{"$f":"Sunrise_set!AE161","v":529},{"$f":"Sunrise_set!AF161","v":1900},{"$error":"#REF!"},{"$error":"#REF!"},0,null,null,660,1740,null,360,null,null,{"$error":"#REF!"},null,{"$error":"#REF!"},null,{"$error":"#REF!"}]
["2011-09-07",{"$f":"Sunrise_set!AE162","v":531},{"$f":"Sunrise_set!AF162","v":1857},{"$error":"#REF!"},{"$error":"#REF!"},0,null,null,660,1740,null,360,null,null,{"$error":"#REF!"},null,{"$error":"#REF!"},null,{"$error":"#REF!"}]
["2011-09-08",{"$f":"Sunrise_set!AE163","v":533},{"$f":"Sunrise_set!AF163","v":1854},{"$error":"#REF!"},{"$error":"#REF!"},0,null,null,660,1740,null,360,null,null,{"$error":"#REF!"},null,{"$error":"#REF!"},null,{"$error":"#REF!"}]
["2011-09-09",{"$f":"Sunrise_set!AE164","v":535},{"$f":"Sunrise_set!AF164","v":1852},{"$error":"#REF!"},{"$error":"#REF!"},0,null,null,660,1740,null,360,null,null,{"$error":"#REF!"},null,{"$error":"#REF!"},null,{"$error":"#REF!"}]
["2011-09-10",{"$f":"Sunrise_set!AE165","v":537},{"$f":"Sunrise_set!AF165","v":1849},{"$error":"#REF!"},{"$error":"#REF!"},0,null,null,660,1740,null,360,null,null,{"$error":"#REF!"},null,{"$error":"#REF!"},null,{"$error":"#REF!"}]
["2011-09-11",{"$f":"Sunrise_set!AE166","v":540},{"$f":"Sunrise_set!AF166","v":1846},{"$error":"#REF!"},{"$error":"#REF!"},0,null,null,660,1740,null,360,null,null,{"$error":"#REF!"},null,{"$error":"#REF!"},null,{"$error":"#REF!"}]
["2011-09-12",{"$f":"Sunrise_set!AE167","v":542},{"$f":"Sunrise_set!AF167","v":1843},{"$error":"#REF!"},{"$error":"#REF!"},0,null,null,660,1740,null,360,null,null,{"$error":"#REF!"},null,{"$error":"#REF!"},null,{"$error":"#REF!"}]
["2011-09-13",{"$f":"Sunrise_set!AE168","v":544},{"$f":"Sunrise_set!AF168","v":1840},{"$error":"#REF!"},{"$error":"#REF!"},0,null,null,660,1740,null,360,null,null,{"$error":"#REF!"},null,{"$error":"#REF!"},null,{"$error":"#REF!"}]
["2011-09-14",{"$f":"Sunrise_set!AE169","v":546},{"$f":"Sunrise_set!AF169","v":1838},{"$error":"#REF!"},{"$error":"#REF!"},0,null,null,660,1740,null,360,null,null,{"$error":"#REF!"},null,{"$error":"#REF!"},null,{"$error":"#REF!"}]
["2011-09-15",{"$f":"Sunrise_set!AE170","v":548},{"$f":"Sunrise_set!AF170","v":1835},{"$error":"#REF!"},{"$error":"#REF!"},0,null,null,660,1740,null,360,null,null,{"$error":"#REF!"},null,{"$error":"#REF!"},null,{"$error":"#REF!"}]
["2011-09-16",{"$f":"Sunrise_set!AE171","v":550},{"$f":"Sunrise_set!AF171","v":1832},{"$error":"#REF!"},{"$error":"#REF!"},0,null,null,660,1740,null,360,null,null,{"$error":"#REF!"},null,{"$error":"#REF!"},null,{"$error":"#REF!"}]
["2011-09-17",{"$f":"Sunrise_set!AE172","v":552},{"$f":"Sunrise_set!AF172","v":1829},{"$error":"#REF!"},{"$error":"#REF!"},0,null,null,660,1740,null,360,null,null,{"$error":"#REF!"},null,{"$error":"#REF!"},null,{"$error":"#REF!"}]
["2011-09-18",{"$f":"Sunrise_set!AE173","v":554},{"$f":"Sunrise_set!AF173","v":1826},{"$error":"#REF!"},{"$error":"#REF!"},0,null,null,660,1740,null,360,null,null,{"$error":"#REF!"},null,{"$error":"#REF!"},null,{"$error":"#REF!"}]
["2011-09-19",{"$f":"Sunrise_set!AE174","v":556},{"$f":"Sunrise_set!AF174","v":1824},{"$error":"#REF!"},{"$error":"#REF!"},0,null,null,660,1740,null,360,null,null,{"$error":"#REF!"},null,{"$error":"#REF!"},null,{"$error":"#REF!"}]
["2011-09-20",{"$f":"Sunrise_set!AE175","v":558},{"$f":"Sunrise_set!AF175","v":1821},{"$error":"#REF!"},{"$error":"#REF!"},0,null,null,660,1740,null,360,null,null,{"$error":"#REF!"},null,{"$error":"#REF!"},null,{"$error":"#REF!"}]
["2011-09-21",{"$f":"Sunrise_set!AE176","v":600},{"$f":"Sunrise_set!AF176","v":1818},{"$error":"#REF!"},{"$error":"#REF!"},0,null,null,660,1740,null,360,null,null,{"$error":"#REF!"},null,{"$error":"#REF!"},null,{"$error":"#REF!"}]
["2011-09-22",{"$f":"Sunrise_set!AE177","v":602},{"$f":"Sunrise_set!AF177","v":1815},{"$error":"#REF!"},{"$error":"#REF!"},0,null,null,660,1740,null,360,null,null,{"$error":"#REF!"},null,{"$error":"#REF!"},null,{"$error":"#REF!"}]
["2011-09-23",{"$f":"Sunrise_set!AE178","v":604},{"$f":"Sunrise_set!AF178","v":1812},{"$error":"#REF!"},{"$error":"#REF!"},0,null,null,660,1740,null,360,null,null,{"$error":"#REF!"},null,{"$error":"#REF!"},null,{"$error":"#REF!"}]
["2011-09-24",{"$f":"Sunrise_set!AE179","v":607},{"$f":"Sunrise_set!AF179","v":1810},{"$error":"#REF!"},{"$error":"#REF!"},0,null,null,660,1740,null,360,null,null,{"$error":"#REF!"},null,{"$error":"#REF!"},null,{"$error":"#REF!"}]
["2011-09-25",{"$f":"Sunrise_set!AE180","v":609},{"$f":"Sunrise_set!AF180","v":1807},{"$error":"#REF!"},{"$error":"#REF!"},0,null,null,660,1740,null,360,null,null,{"$error":"#REF!"},null,{"$error":"#REF!"},null,{"$error":"#REF!"}]
["2011-09-26",{"$f":"Sunrise_set!AE181","v":611},{"$f":"Sunrise_set!AF181","v":1804},{"$error":"#REF!"},{"$error":"#REF!"},0,null,null,660,1740,null,360,null,null,{"$error":"#REF!"},null,{"$error":"#REF!"},null,{"$error":"#REF!"}]
["2011-09-27",{"$f":"Sunrise_set!AE182","v":613},{"$f":"Sunrise_set!AF182","v":1801},{"$error":"#REF!"},{"$error":"#REF!"},0,null,null,660,1740,null,360,null,null,{"$error":"#REF!"},null,{"$error":"#REF!"},null,{"$error":"#REF!"}]
["2011-09-28",{"$f":"Sunrise_set!AE183","v":615},{"$f":"Sunrise_set!AF183","v":1759},{"$error":"#REF!"},{"$error":"#REF!"},0,null,null,660,1740,null,360,null,null,{"$error":"#REF!"},null,{"$error":"#REF!"},null,{"$error":"#REF!"}]
["2011-09-29",{"$f":"Sunrise_set!AE184","v":617},{"$f":"Sunrise_set!AF184","v":1756},{"$error":"#REF!"},{"$error":"#REF!"},0,null,null,660,1740,null,360,null,null,{"$error":"#REF!"},null,{"$error":"#REF!"},null,{"$error":"#REF!"}]
["2011-09-30",{"$f":"Sunrise_set!AE185","v":619},{"$f":"Sunrise_set!AF185","v":1753},{"$error":"#REF!"},{"$error":"#REF!"},0,null,null,660,1740,null,360,null,null,{"$error":"#REF!"},null,{"$error":"#REF!"},null,{"$error":"#REF!"}]
["2011-10-01",{"$f":"Sunrise_set!AE186","v":621},{"$f":"Sunrise_set!AF186","v":1750},{"$error":"#REF!"},{"$error":"#REF!"},0,null,null,660,1740,null,360,null,null,{"$error":"#REF!"},null,{"$error":"#REF!"},null,{"$error":"#REF!"}]
["2011-10-02",{"$f":"Sunrise_set!AE187","v":623},{"$f":"Sunrise_set!AF187","v":1748},{"$error":"#REF!"},{"$error":"#REF!"},0,null,null,660,1740,null,360,null,null,{"$error":"#REF!"},null,{"$error":"#REF!"},null,{"$error":"#REF!"}]
["2011-10-03",{"$f":"Sunrise_set!AE188","v":626},{"$f":"Sunrise_set!AF188","v":1745},{"$error":"#REF!"},{"$error":"#REF!"},0,null,null,660,1740,null,360,null,null,{"$error":"#REF!"},null,{"$error":"#REF!"},null,{"$error":"#REF!"}]
["2011-10-04",{"$f":"Sunrise_set!AE189","v":628},{"$f":"Sunrise_set!AF189","v":1742},{"$error":"#REF!"},{"$error":"#REF!"},0,null,null,660,1740,null,360,null,null,{"$error":"#REF!"},null,{"$error":"#REF!"},null,{"$error":"#REF!"}]
["2011-10-05",{"$f":"Sunrise_set!AE190","v":630},{"$f":"Sunrise_set!AF190","v":1739},{"$error":"#REF!"},{"$error":"#REF!"},0,null,null,660,1740,null,360,null,null,{"$error":"#REF!"},null,{"$error":"#REF!"},null,{"$error":"#REF!"}]
["2011-10-06",{"$f":"Sunrise_set!AE191","v":632},{"$f":"Sunrise_set!AF191","v":1737},{"$error":"#REF!"},{"$error":"#REF!"},0,null,null,660,1740,null,360,null,null,{"$error":"#REF!"},null,{"$error":"#REF!"},null,{"$error":"#REF!"}]
["2011-10-07",{"$f":"Sunrise_set!AE192","v":634},{"$f":"Sunrise_set!AF192","v":1734},{"$error":"#REF!"},{"$error":"#REF!"},0,null,null,660,1740,null,360,null,null,{"$error":"#REF!"},null,{"$error":"#REF!"},null,{"$error":"#REF!"}]
["2011-10-08",{"$f":"Sunrise_set!AE193","v":636},{"$f":"Sunrise_set!AF193","v":1731},{"$error":"#REF!"},{"$error":"#REF!"},0,null,null,660,1740,null,360,null,null,{"$error":"#REF!"},null,{"$error":"#REF!"},null,{"$error":"#REF!"}]
["2011-10-09",{"$f":"Sunrise_set!AE194","v":639},{"$f":"Sunrise_set!AF194","v":1729},{"$error":"#REF!"},{"$error":"#REF!"},0,null,null,660,1740,null,360,null,null,{"$error":"#REF!"},null,{"$error":"#REF!"},null,{"$error":"#REF!"}]
["2011-10-10",{"$f":"Sunrise_set!AE195","v":641},{"$f":"Sunrise_set!AF195","v":1726},{"$f":"LEFT(B194,1)*60+RIGHT(B194,2)+F194-$V$17","v":{"$error":"#REF!"}},{"$f":"LEFT(C194,2)*60+RIGHT(C194,2)+F194+$V$17","v":{"$error":"#REF!"}},0,null,null,{"$f":"$W$6*60+$X$6","v":660},1740,null,360,null,null,{"$error":"#REF!"},null,{"$f":"IF(E194>J194,E194-J194,0)","v":{"$error":"#REF!"}},null,{"$error":"#REF!"}]
["2011-10-11",{"$f":"Sunrise_set!AE196","v":643},{"$f":"Sunrise_set!AF196","v":1723},{"$error":"#REF!"},{"$error":"#REF!"},{"$f":"IF($W$1=\"CLK\",60,0)","v":0},null,null,660,{"$f":"IF($W$7<12,($W$7+24)*60+$X$7,$W$7*60+$X$7)","v":1740},null,{"$f":"IF(AND($W$7>12,$W$6>12),I195-J195,(24*60)-J195+I195)","v":360},null,null,{"$f":"IF(AND($W$6>12,$W$7>12),0,IF(D195>I195,0,I195-D195))","v":{"$error":"#REF!"}},null,{"$error":"#REF!"},null,{"$f":"MAX(L195-SUM(O195,Q195),0)","v":{"$error":"#REF!"}}]
["2011-10-12",{"$f":"Sunrise_set!AE197","v":645},{"$f":"Sunrise_set!AF197","v":1721},{"$error":"#REF!"},{"$error":"#REF!"},0,null,null,660,1740,null,360,null,null,{"$error":"#REF!"},null,{"$error":"#REF!"},null,{"$error":"#REF!"}]
["2011-10-13",{"$f":"Sunrise_set!AE198","v":647},{"$f":"Sunrise_set!AF198","v":1718},{"$error":"#REF!"},{"$error":"#REF!"},0,null,null,660,1740,null,360,null,null,{"$error":"#REF!"},null,{"$error":"#REF!"},null,{"$error":"#REF!"}]
["2011-10-14",{"$f":"Sunrise_set!AE199","v":649},{"$f":"Sunrise_set!AF199","v":1715},{"$error":"#REF!"},{"$error":"#REF!"},0,null,null,660,1740,null,360,null,null,{"$error":"#REF!"},null,{"$error":"#REF!"},null,{"$error":"#REF!"}]
["2011-10-15",{"$f":"Sunrise_set!AE200","v":652},{"$f":"Sunrise_set!AF200","v":1713},{"$error":"#REF!"},{"$error":"#REF!"},0,null,null,660,1740,null,360,null,null,{"$error":"#REF!"},null,{"$error":"#REF!"},null,{"$error":"#REF!"}]
["2011-10-16",{"$f":"Sunrise_set!AE201","v":654},{"$f":"Sunrise_set!AF201","v":1710},{"$error":"#REF!"},{"$error":"#REF!"},0,null,null,660,1740,null,360,null,null,{"$error":"#REF!"},null,{"$error":"#REF!"},null,{"$error":"#REF!"}]
["2011-10-17",{"$f":"Sunrise_set!AE202","v":656},{"$f":"Sunrise_set!AF202","v":1707},{"$error":"#REF!"},{"$error":"#REF!"},0,null,null,660,1740,null,360,null,null,{"$error":"#REF!"},null,{"$error":"#REF!"},null,{"$error":"#REF!"}]
["2011-10-18",{"$f":"Sunrise_set!AE203","v":658},{"$f":"Sunrise_set!AF203","v":1705},{"$error":"#REF!"},{"$error":"#REF!"},0,null,null,660,1740,null,360,null,null,{"$error":"#REF!"},null,{"$error":"#REF!"},null,{"$error":"#REF!"}]
["2011-10-19",{"$f":"Sunrise_set!AE204","v":700},{"$f":"Sunrise_set!AF204","v":1702},{"$error":"#REF!"},{"$error":"#REF!"},0,null,null,660,1740,null,360,null,null,{"$error":"#REF!"},null,{"$error":"#REF!"},null,{"$error":"#REF!"}]
["2011-10-20",{"$f":"Sunrise_set!AE205","v":703},{"$f":"Sunrise_set!AF205","v":1700},{"$error":"#REF!"},{"$error":"#REF!"},0,null,null,660,1740,null,360,null,null,{"$error":"#REF!"},null,{"$error":"#REF!"},null,{"$error":"#REF!"}]
["2011-10-21",{"$f":"Sunrise_set!AE206","v":705},{"$f":"Sunrise_set!AF206","v":1657},{"$error":"#REF!"},{"$error":"#REF!"},0,null,null,660,1740,null,360,null,null,{"$error":"#REF!"},null,{"$error":"#REF!"},null,{"$error":"#REF!"}]
["2011-10-22",{"$f":"Sunrise_set!AE207","v":707},{"$f":"Sunrise_set!AF207","v":1655},{"$error":"#REF!"},{"$error":"#REF!"},0,null,null,660,1740,null,360,null,null,{"$error":"#REF!"},null,{"$error":"#REF!"},null,{"$error":"#REF!"}]
["2011-10-23",{"$f":"Sunrise_set!AE208","v":709},{"$f":"Sunrise_set!AF208","v":1652},{"$error":"#REF!"},{"$error":"#REF!"},0,null,null,660,1740,null,360,null,null,{"$error":"#REF!"},null,{"$error":"#REF!"},null,{"$error":"#REF!"}]
["2011-10-24",{"$f":"Sunrise_set!AE209","v":712},{"$f":"Sunrise_set!AF209","v":1650},{"$error":"#REF!"},{"$error":"#REF!"},0,null,null,660,1740,null,360,null,null,{"$error":"#REF!"},null,{"$error":"#REF!"},null,{"$error":"#REF!"}]
["2011-10-25",{"$f":"Sunrise_set!AE210","v":714},{"$f":"Sunrise_set!AF210","v":1647},{"$error":"#REF!"},{"$error":"#REF!"},0,null,null,660,1740,null,360,null,null,{"$error":"#REF!"},null,{"$error":"#REF!"},null,{"$error":"#REF!"}]
["2011-10-26",{"$f":"Sunrise_set!AE211","v":716},{"$f":"Sunrise_set!AF211","v":1645},{"$error":"#REF!"},{"$error":"#REF!"},0,null,null,660,1740,null,360,null,null,{"$error":"#REF!"},null,{"$error":"#REF!"},null,{"$error":"#REF!"}]
["2011-10-27",{"$f":"Sunrise_set!AE212","v":718},{"$f":"Sunrise_set!AF212","v":1642},{"$error":"#REF!"},{"$error":"#REF!"},0,null,null,660,1740,null,360,null,null,{"$error":"#REF!"},null,{"$error":"#REF!"},null,{"$error":"#REF!"}]
["2011-10-28",{"$f":"Sunrise_set!AE213","v":721},{"$f":"Sunrise_set!AF213","v":1640},{"$error":"#REF!"},{"$error":"#REF!"},0,null,null,660,1740,null,360,null,null,{"$error":"#REF!"},null,{"$error":"#REF!"},null,{"$error":"#REF!"}]
["2011-10-29",{"$f":"Sunrise_set!AE214","v":723},{"$f":"Sunrise_set!AF214","v":1637},{"$error":"#REF!"},{"$error":"#REF!"},0,null,null,660,1740,null,360,null,null,{"$error":"#REF!"},null,{"$error":"#REF!"},null,{"$error":"#REF!"}]
["2011-10-30",{"$f":"Sunrise_set!AE215","v":725},{"$f":"Sunrise_set!AF215","v":1635},{"$error":"#REF!"},{"$error":"#REF!"},0,null,null,660,1740,null,360,null,null,{"$error":"#REF!"},null,{"$error":"#REF!"},null,{"$error":"#REF!"}]
["2011-10-31",{"$f":"Sunrise_set!AE216","v":727},{"$f":"Sunrise_set!AF216","v":1633},{"$error":"#REF!"},{"$error":"#REF!"},0,null,null,660,1740,null,360,null,null,{"$error":"#REF!"},null,{"$error":"#REF!"},null,{"$error":"#REF!"}]
["2011-11-01",{"$f":"Sunrise_set!AE217","v":730},{"$f":"Sunrise_set!AF217","v":1630},{"$error":"#REF!"},{"$error":"#REF!"},null,null,null,660,1740,null,360,null,null,{"$error":"#REF!"},null,{"$error":"#REF!"},null,{"$error":"#REF!"}]
["2011-11-02",{"$f":"Sunrise_set!AE218","v":732},{"$f":"Sunrise_set!AF218","v":1628},{"$error":"#REF!"},{"$error":"#REF!"},null,null,null,660,1740,null,360,null,null,{"$error":"#REF!"},null,{"$error":"#REF!"},null,{"$error":"#REF!"}]
["2011-11-03",{"$f":"Sunrise_set!AE219","v":734},{"$f":"Sunrise_set!AF219","v":1626},{"$error":"#REF!"},{"$error":"#REF!"},null,null,null,660,1740,null,360,null,null,{"$error":"#REF!"},null,{"$error":"#REF!"},null,{"$error":"#REF!"}]
["2011-11-04",{"$f":"Sunrise_set!AE220","v":737},{"$f":"Sunrise_set!AF220","v":1624},{"$error":"#REF!"},{"$error":"#REF!"},null,null,null,660,1740,null,360,null,null,{"$error":"#REF!"},null,{"$error":"#REF!"},null,{"$error":"#REF!"}]
["2011-11-05",{"$f":"Sunrise_set!AE221","v":739},{"$f":"Sunrise_set!AF221","v":1621},{"$error":"#REF!"},{"$error":"#REF!"},null,null,null,660,1740,null,360,null,null,{"$error":"#REF!"},null,{"$error":"#REF!"},null,{"$error":"#REF!"}]
["2011-11-06",{"$f":"Sunrise_set!AE222","v":741},{"$f":"Sunrise_set!AF222","v":1619},{"$error":"#REF!"},{"$error":"#REF!"},null,null,null,660,1740,null,360,null,null,{"$error":"#REF!"},null,{"$error":"#REF!"},null,{"$error":"#REF!"}]
["2011-11-07",{"$f":"Sunrise_set!AE223","v":743},{"$f":"Sunrise_set!AF223","v":1617},{"$error":"#REF!"},{"$error":"#REF!"},null,null,null,660,1740,null,360,null,null,{"$error":"#REF!"},null,{"$error":"#REF!"},null,{"$error":"#REF!"}]
["2011-11-08",{"$f":"Sunrise_set!AE224","v":746},{"$f":"Sunrise_set!AF224","v":1615},{"$error":"#REF!"},{"$error":"#REF!"},null,null,null,660,1740,null,360,null,null,{"$error":"#REF!"},null,{"$error":"#REF!"},null,{"$error":"#REF!"}]
["2011-11-09",{"$f":"Sunrise_set!AE225","v":748},{"$f":"Sunrise_set!AF225","v":1613},{"$error":"#REF!"},{"$error":"#REF!"},null,null,null,660,1740,null,360,null,null,{"$error":"#REF!"},null,{"$error":"#REF!"},null,{"$error":"#REF!"}]
["2011-11-10",{"$f":"Sunrise_set!AE226","v":750},{"$f":"Sunrise_set!AF226","v":1611},{"$error":"#REF!"},{"$error":"#REF!"},null,null,null,660,1740,null,360,null,null,{"$error":"#REF!"},null,{"$error":"#REF!"},null,{"$error":"#REF!"}]
["2011-11-11",{"$f":"Sunrise_set!AE227","v":752},{"$f":"Sunrise_set!AF227","v":1609},{"$error":"#REF!"},{"$error":"#REF!"},null,null,null,660,1740,null,360,null,null,{"$error":"#REF!"},null,{"$error":"#REF!"},null,{"$error":"#REF!"}]
["2011-11-12",{"$f":"Sunrise_set!AE228","v":755},{"$f":"Sunrise_set!AF228","v":1607},{"$error":"#REF!"},{"$error":"#REF!"},null,null,null,660,1740,null,360,null,null,{"$error":"#REF!"},null,{"$error":"#REF!"},null,{"$error":"#REF!"}]
["2011-11-13",{"$f":"Sunrise_set!AE229","v":757},{"$f":"Sunrise_set!AF229","v":1605},{"$error":"#REF!"},{"$error":"#REF!"},null,null,null,660,1740,null,360,null,null,{"$error":"#REF!"},null,{"$error":"#REF!"},null,{"$error":"#REF!"}]
["2011-11-14",{"$f":"Sunrise_set!AE230","v":759},{"$f":"Sunrise_set!AF230","v":1603},{"$error":"#REF!"},{"$error":"#REF!"},null,null,null,660,1740,null,360,null,null,{"$error":"#REF!"},null,{"$error":"#REF!"},null,{"$error":"#REF!"}]
["2011-11-15",{"$f":"Sunrise_set!AE231","v":801},{"$f":"Sunrise_set!AF231","v":1601},{"$error":"#REF!"},{"$error":"#REF!"},null,null,null,660,1740,null,360,null,null,{"$error":"#REF!"},null,{"$error":"#REF!"},null,{"$error":"#REF!"}]
["2011-11-16",{"$f":"Sunrise_set!AE232","v":803},{"$f":"Sunrise_set!AF232","v":1559},{"$error":"#REF!"},{"$error":"#REF!"},null,null,null,660,1740,null,360,null,null,{"$error":"#REF!"},null,{"$error":"#REF!"},null,{"$error":"#REF!"}]
["2011-11-17",{"$f":"Sunrise_set!AE233","v":806},{"$f":"Sunrise_set!AF233","v":1558},{"$error":"#REF!"},{"$error":"#REF!"},null,null,null,660,1740,null,360,null,null,{"$error":"#REF!"},null,{"$error":"#REF!"},null,{"$error":"#REF!"}]
["2011-11-18",{"$f":"Sunrise_set!AE234","v":808},{"$f":"Sunrise_set!AF234","v":1556},{"$error":"#REF!"},{"$error":"#REF!"},null,null,null,660,1740,null,360,null,null,{"$error":"#REF!"},null,{"$error":"#REF!"},null,{"$error":"#REF!"}]
["2011-11-19",{"$f":"Sunrise_set!AE235","v":810},{"$f":"Sunrise_set!AF235","v":1554},{"$error":"#REF!"},{"$error":"#REF!"},null,null,null,660,1740,null,360,null,null,{"$error":"#REF!"},null,{"$error":"#REF!"},null,{"$error":"#REF!"}]
["2011-11-20",{"$f":"Sunrise_set!AE236","v":812},{"$f":"Sunrise_set!AF236","v":1553},{"$error":"#REF!"},{"$error":"#REF!"},null,null,null,660,1740,null,360,null,null,{"$error":"#REF!"},null,{"$error":"#REF!"},null,{"$error":"#REF!"}]
["2011-11-21",{"$f":"Sunrise_set!AE237","v":814},{"$f":"Sunrise_set!AF237","v":1551},{"$error":"#REF!"},{"$error":"#REF!"},null,null,null,660,1740,null,360,null,null,{"$error":"#REF!"},null,{"$error":"#REF!"},null,{"$error":"#REF!"}]
["2011-11-22",{"$f":"Sunrise_set!AE238","v":816},{"$f":"Sunrise_set!AF238","v":1550},{"$error":"#REF!"},{"$error":"#REF!"},null,null,null,660,1740,null,360,null,null,{"$error":"#REF!"},null,{"$error":"#REF!"},null,{"$error":"#REF!"}]
["2011-11-23",{"$f":"Sunrise_set!AE239","v":818},{"$f":"Sunrise_set!AF239","v":1548},{"$error":"#REF!"},{"$error":"#REF!"},null,null,null,660,1740,null,360,null,null,{"$error":"#REF!"},null,{"$error":"#REF!"},null,{"$error":"#REF!"}]
["2011-11-24",{"$f":"Sunrise_set!AE240","v":820},{"$f":"Sunrise_set!AF240","v":1547},{"$error":"#REF!"},{"$error":"#REF!"},null,null,null,660,1740,null,360,null,null,{"$error":"#REF!"},null,{"$error":"#REF!"},null,{"$error":"#REF!"}]
["2011-11-25",{"$f":"Sunrise_set!AE241","v":822},{"$f":"Sunrise_set!AF241","v":1545},{"$error":"#REF!"},{"$error":"#REF!"},null,null,null,660,1740,null,360,null,null,{"$error":"#REF!"},null,{"$error":"#REF!"},null,{"$error":"#REF!"}]
["2011-11-26",{"$f":"Sunrise_set!AE242","v":824},{"$f":"Sunrise_set!AF242","v":1544},{"$error":"#REF!"},{"$error":"#REF!"},null,null,null,660,1740,null,360,null,null,{"$error":"#REF!"},null,{"$error":"#REF!"},null,{"$error":"#REF!"}]
["2011-11-27",{"$f":"Sunrise_set!AE243","v":826},{"$f":"Sunrise_set!AF243","v":1543},{"$error":"#REF!"},{"$error":"#REF!"},null,null,null,660,1740,null,360,null,null,{"$error":"#REF!"},null,{"$error":"#REF!"},null,{"$error":"#REF!"}]
["2011-11-28",{"$f":"Sunrise_set!AE244","v":828},{"$f":"Sunrise_set!AF244","v":1542},{"$error":"#REF!"},{"$error":"#REF!"},null,null,null,660,1740,null,360,null,null,{"$error":"#REF!"},null,{"$error":"#REF!"},null,{"$error":"#REF!"}]
["2011-11-29",{"$f":"Sunrise_set!AE245","v":830},{"$f":"Sunrise_set!AF245","v":1540},{"$error":"#REF!"},{"$error":"#REF!"},null,null,null,660,1740,null,360,null,null,{"$error":"#REF!"},null,{"$error":"#REF!"},null,{"$error":"#REF!"}]
["2011-11-30",{"$f":"Sunrise_set!AE246","v":832},{"$f":"Sunrise_set!AF246","v":1539},{"$error":"#REF!"},{"$error":"#REF!"},null,null,null,660,1740,null,360,null,null,{"$error":"#REF!"},null,{"$error":"#REF!"},null,{"$error":"#REF!"}]
["2011-12-01",{"$f":"Sunrise_set!AE247","v":834},{"$f":"Sunrise_set!AF247","v":1538},{"$error":"#REF!"},{"$error":"#REF!"},null,null,null,660,1740,null,360,null,null,{"$error":"#REF!"},null,{"$error":"#REF!"},null,{"$error":"#REF!"}]
["2011-12-02",{"$f":"Sunrise_set!AE248","v":835},{"$f":"Sunrise_set!AF248","v":1537},{"$error":"#REF!"},{"$error":"#REF!"},null,null,null,660,1740,null,360,null,null,{"$error":"#REF!"},null,{"$error":"#REF!"},null,{"$error":"#REF!"}]
["2011-12-03",{"$f":"Sunrise_set!AE249","v":837},{"$f":"Sunrise_set!AF249","v":1536},{"$error":"#REF!"},{"$error":"#REF!"},null,null,null,660,1740,null,360,null,null,{"$error":"#REF!"},null,{"$error":"#REF!"},null,{"$error":"#REF!"}]
["2011-12-04",{"$f":"Sunrise_set!AE250","v":839},{"$f":"Sunrise_set!AF250","v":1536},{"$error":"#REF!"},{"$error":"#REF!"},null,null,null,660,1740,null,360,null,null,{"$error":"#REF!"},null,{"$error":"#REF!"},null,{"$error":"#REF!"}]
["2011-12-05",{"$f":"Sunrise_set!AE251","v":840},{"$f":"Sunrise_set!AF251","v":1535},{"$error":"#REF!"},{"$error":"#REF!"},null,null,null,660,1740,null,360,null,null,{"$error":"#REF!"},null,{"$error":"#REF!"},null,{"$error":"#REF!"}]
["2011-12-06",{"$f":"Sunrise_set!AE252","v":842},{"$f":"Sunrise_set!AF252","v":1534},{"$error":"#REF!"},{"$error":"#REF!"},null,null,null,660,1740,null,360,null,null,{"$error":"#REF!"},null,{"$error":"#REF!"},null,{"$error":"#REF!"}]
["2011-12-07",{"$f":"Sunrise_set!AE253","v":843},{"$f":"Sunrise_set!AF253","v":1534},{"$error":"#REF!"},{"$error":"#REF!"},null,null,null,660,1740,null,360,null,null,{"$error":"#REF!"},null,{"$error":"#REF!"},null,{"$error":"#REF!"}]
["2011-12-08",{"$f":"Sunrise_set!AE254","v":845},{"$f":"Sunrise_set!AF254","v":1533},{"$error":"#REF!"},{"$error":"#REF!"},null,null,null,660,1740,null,360,null,null,{"$error":"#REF!"},null,{"$error":"#REF!"},null,{"$error":"#REF!"}]
["2011-12-09",{"$f":"Sunrise_set!AE255","v":846},{"$f":"Sunrise_set!AF255","v":1533},{"$error":"#REF!"},{"$error":"#REF!"},null,null,null,660,1740,null,360,null,null,{"$error":"#REF!"},null,{"$error":"#REF!"},null,{"$error":"#REF!"}]
["2011-12-10",{"$f":"Sunrise_set!AE256","v":847},{"$f":"Sunrise_set!AF256","v":1532},{"$error":"#REF!"},{"$error":"#REF!"},null,null,null,660,1740,null,360,null,null,{"$error":"#REF!"},null,{"$error":"#REF!"},null,{"$error":"#REF!"}]
["2011-12-11",{"$f":"Sunrise_set!AE257","v":849},{"$f":"Sunrise_set!AF257","v":1532},{"$error":"#REF!"},{"$error":"#REF!"},null,null,null,660,1740,null,360,null,null,{"$error":"#REF!"},null,{"$error":"#REF!"},null,{"$error":"#REF!"}]
["2011-12-12",{"$f":"Sunrise_set!AE258","v":850},{"$f":"Sunrise_set!AF258","v":1532},{"$error":"#REF!"},{"$error":"#REF!"},null,null,null,660,1740,null,360,null,null,{"$error":"#REF!"},null,{"$error":"#REF!"},null,{"$error":"#REF!"}]
["2011-12-13",{"$f":"Sunrise_set!AE259","v":851},{"$f":"Sunrise_set!AF259","v":1532},{"$f":"LEFT(B258,1)*60+RIGHT(B258,2)+F258-$V$17","v":{"$error":"#REF!"}},{"$f":"LEFT(C258,2)*60+RIGHT(C258,2)+F258+$V$17","v":{"$error":"#REF!"}},null,null,null,{"$f":"$W$6*60+$X$6","v":660},1740,null,360,null,null,{"$error":"#REF!"},null,{"$f":"IF(E258>J258,E258-J258,0)","v":{"$error":"#REF!"}},null,{"$error":"#REF!"}]
["2011-12-14",{"$f":"Sunrise_set!AE260","v":852},{"$f":"Sunrise_set!AF260","v":1532},{"$error":"#REF!"},{"$error":"#REF!"},null,null,null,660,{"$f":"IF($W$7<12,($W$7+24)*60+$X$7,$W$7*60+$X$7)","v":1740},null,{"$f":"IF(AND($W$7>12,$W$6>12),I259-J259,(24*60)-J259+I259)","v":360},null,null,{"$f":"IF(AND($W$6>12,$W$7>12),0,IF(D259>I259,0,I259-D259))","v":{"$error":"#REF!"}},null,{"$error":"#REF!"},null,{"$f":"MAX(L259-SUM(O259,Q259),0)","v":{"$error":"#REF!"}}]
["2011-12-15",{"$f":"Sunrise_set!AE261","v":853},{"$f":"Sunrise_set!AF261","v":1532},{"$error":"#REF!"},{"$error":"#REF!"},null,null,null,660,1740,null,360,null,null,{"$error":"#REF!"},null,{"$error":"#REF!"},null,{"$error":"#REF!"}]
["2011-12-16",{"$f":"Sunrise_set!AE262","v":854},{"$f":"Sunrise_set!AF262","v":1532},{"$error":"#REF!"},{"$error":"#REF!"},null,null,null,660,1740,null,360,null,null,{"$error":"#REF!"},null,{"$error":"#REF!"},null,{"$error":"#REF!"}]
["2011-12-17",{"$f":"Sunrise_set!AE263","v":855},{"$f":"Sunrise_set!AF263","v":1532},{"$error":"#REF!"},{"$error":"#REF!"},null,null,null,660,1740,null,360,null,null,{"$error":"#REF!"},null,{"$error":"#REF!"},null,{"$error":"#REF!"}]
["2011-12-18",{"$f":"Sunrise_set!AE264","v":855},{"$f":"Sunrise_set!AF264","v":1532},{"$error":"#REF!"},{"$error":"#REF!"},null,null,null,660,1740,null,360,null,null,{"$error":"#REF!"},null,{"$error":"#REF!"},null,{"$error":"#REF!"}]
["2011-12-19",{"$f":"Sunrise_set!AE265","v":856},{"$f":"Sunrise_set!AF265","v":1532},{"$error":"#REF!"},{"$error":"#REF!"},null,null,null,660,1740,null,360,null,null,{"$error":"#REF!"},null,{"$error":"#REF!"},null,{"$error":"#REF!"}]
["2011-12-20",{"$f":"Sunrise_set!AE266","v":857},{"$f":"Sunrise_set!AF266","v":1533},{"$error":"#REF!"},{"$error":"#REF!"},null,null,null,660,1740,null,360,null,null,{"$error":"#REF!"},null,{"$error":"#REF!"},null,{"$error":"#REF!"}]
["2011-12-21",{"$f":"Sunrise_set!AE267","v":857},{"$f":"Sunrise_set!AF267","v":1533},{"$error":"#REF!"},{"$error":"#REF!"},null,null,null,660,1740,null,360,null,null,{"$error":"#REF!"},null,{"$error":"#REF!"},null,{"$error":"#REF!"}]
["2011-12-22",{"$f":"Sunrise_set!AE268","v":858},{"$f":"Sunrise_set!AF268","v":1534},{"$error":"#REF!"},{"$error":"#REF!"},null,null,null,660,1740,null,360,null,null,{"$error":"#REF!"},null,{"$error":"#REF!"},null,{"$error":"#REF!"}]
["2011-12-23",{"$f":"Sunrise_set!AE269","v":858},{"$f":"Sunrise_set!AF269","v":1534},{"$error":"#REF!"},{"$error":"#REF!"},null,null,null,660,1740,null,360,null,null,{"$error":"#REF!"},null,{"$error":"#REF!"},null,{"$error":"#REF!"}]
["2011-12-24",{"$f":"Sunrise_set!AE270","v":858},{"$f":"Sunrise_set!AF270","v":1535},{"$error":"#REF!"},{"$error":"#REF!"},null,null,null,660,1740,null,360,null,null,{"$error":"#REF!"},null,{"$error":"#REF!"},null,{"$error":"#REF!"}]
["2011-12-25",{"$f":"Sunrise_set!AE271","v":859},{"$f":"Sunrise_set!AF271","v":1536},{"$error":"#REF!"},{"$error":"#REF!"},null,null,null,660,1740,null,360,null,null,{"$error":"#REF!"},null,{"$error":"#REF!"},null,{"$error":"#REF!"}]
["2011-12-26",{"$f":"Sunrise_set!AE272","v":859},{"$f":"Sunrise_set!AF272","v":1537},{"$error":"#REF!"},{"$error":"#REF!"},null,null,null,660,1740,null,360,null,null,{"$error":"#REF!"},null,{"$error":"#REF!"},null,{"$error":"#REF!"}]
["2011-12-27",{"$f":"Sunrise_set!AE273","v":859},{"$f":"Sunrise_set!AF273","v":1538},{"$error":"#REF!"},{"$error":"#REF!"},null,null,null,660,1740,null,360,null,null,{"$error":"#REF!"},null,{"$error":"#REF!"},null,{"$error":"#REF!"}]
["2011-12-28",{"$f":"Sunrise_set!AE274","v":859},{"$f":"Sunrise_set!AF274","v":1539},{"$error":"#REF!"},{"$error":"#REF!"},null,null,null,660,1740,null,360,null,null,{"$error":"#REF!"},null,{"$error":"#REF!"},null,{"$error":"#REF!"}]
["2011-12-29",{"$f":"Sunrise_set!AE275","v":859},{"$f":"Sunrise_set!AF275","v":1540},{"$error":"#REF!"},{"$error":"#REF!"},null,null,null,660,1740,null,360,null,null,{"$error":"#REF!"},null,{"$error":"#REF!"},null,{"$error":"#REF!"}]
["2011-12-30",{"$f":"Sunrise_set!AE276","v":859},{"$f":"Sunrise_set!AF276","v":1541},{"$error":"#REF!"},{"$error":"#REF!"},null,null,null,660,1740,null,360,null,null,{"$error":"#REF!"},null,{"$error":"#REF!"},null,{"$error":"#REF!"}]
["2011-12-31",{"$f":"Sunrise_set!AE277","v":858},{"$f":"Sunrise_set!AF277","v":1542},{"$error":"#REF!"},{"$error":"#REF!"},null,null,null,660,1740,null,360,null,null,{"$error":"#REF!"},null,{"$error":"#REF!"},null,{"$error":"#REF!"}]
["2012-01-01",{"$f":"Sunrise_set!AE278","v":858},{"$f":"Sunrise_set!AF278","v":1542},{"$error":"#REF!"},{"$error":"#REF!"},null,null,null,660,1740,null,360,null,null,{"$error":"#REF!"},null,{"$error":"#REF!"},null,{"$error":"#REF!"}]
["2012-01-02",{"$f":"Sunrise_set!AE279","v":858},{"$f":"Sunrise_set!AF279","v":1544},{"$error":"#REF!"},{"$error":"#REF!"},null,null,null,660,1740,null,360,null,null,{"$error":"#REF!"},null,{"$error":"#REF!"},null,{"$error":"#REF!"}]
["2012-01-03",{"$f":"Sunrise_set!AE280","v":858},{"$f":"Sunrise_set!AF280","v":1545},{"$error":"#REF!"},{"$error":"#REF!"},null,null,null,660,1740,null,360,null,null,{"$error":"#REF!"},null,{"$error":"#REF!"},null,{"$error":"#REF!"}]
["2012-01-04",{"$f":"Sunrise_set!AE281","v":857},{"$f":"Sunrise_set!AF281","v":1546},{"$error":"#REF!"},{"$error":"#REF!"},null,null,null,660,1740,null,360,null,null,{"$error":"#REF!"},null,{"$error":"#REF!"},null,{"$error":"#REF!"}]
["2012-01-05",{"$f":"Sunrise_set!AE282","v":857},{"$f":"Sunrise_set!AF282","v":1548},{"$error":"#REF!"},{"$error":"#REF!"},null,null,null,660,1740,null,360,null,null,{"$error":"#REF!"},null,{"$error":"#REF!"},null,{"$error":"#REF!"}]
["2012-01-06",{"$f":"Sunrise_set!AE283","v":856},{"$f":"Sunrise_set!AF283","v":1549},{"$error":"#REF!"},{"$error":"#REF!"},null,null,null,660,1740,null,360,null,null,{"$error":"#REF!"},null,{"$error":"#REF!"},null,{"$error":"#REF!"}]
["2012-01-07",{"$f":"Sunrise_set!AE284","v":855},{"$f":"Sunrise_set!AF284","v":1551},{"$error":"#REF!"},{"$error":"#REF!"},null,null,null,660,1740,null,360,null,null,{"$error":"#REF!"},null,{"$error":"#REF!"},null,{"$error":"#REF!"}]
["2012-01-08",{"$f":"Sunrise_set!AE285","v":855},{"$f":"Sunrise_set!AF285","v":1553},{"$error":"#REF!"},{"$error":"#REF!"},null,null,null,660,1740,null,360,null,null,{"$error":"#REF!"},null,{"$error":"#REF!"},null,{"$error":"#REF!"}]
["2012-01-09",{"$f":"Sunrise_set!AE286","v":854},{"$f":"Sunrise_set!AF286","v":1554},{"$error":"#REF!"},{"$error":"#REF!"},null,null,null,660,1740,null,360,null,null,{"$error":"#REF!"},null,{"$error":"#REF!"},null,{"$error":"#REF!"}]
["2012-01-10",{"$f":"Sunrise_set!AE287","v":853},{"$f":"Sunrise_set!AF287","v":1556},{"$error":"#REF!"},{"$error":"#REF!"},null,null,null,660,1740,null,360,null,null,{"$error":"#REF!"},null,{"$error":"#REF!"},null,{"$error":"#REF!"}]
["2012-01-11",{"$f":"Sunrise_set!AE288","v":852},{"$f":"Sunrise_set!AF288","v":1558},{"$error":"#REF!"},{"$error":"#REF!"},null,null,null,660,1740,null,360,null,null,{"$error":"#REF!"},null,{"$error":"#REF!"},null,{"$error":"#REF!"}]
["2012-01-12",{"$f":"Sunrise_set!AE289","v":851},{"$f":"Sunrise_set!AF289","v":1600},{"$error":"#REF!"},{"$error":"#REF!"},null,null,null,660,1740,null,360,null,null,{"$error":"#REF!"},null,{"$error":"#REF!"},null,{"$error":"#REF!"}]
["2012-01-13",{"$f":"Sunrise_set!AE290","v":850},{"$f":"Sunrise_set!AF290","v":1601},{"$error":"#REF!"},{"$error":"#REF!"},null,null,null,660,1740,null,360,null,null,{"$error":"#REF!"},null,{"$error":"#REF!"},null,{"$error":"#REF!"}]
["2012-01-14",{"$f":"Sunrise_set!AE291","v":849},{"$f":"Sunrise_set!AF291","v":1603},{"$error":"#REF!"},{"$error":"#REF!"},null,null,null,660,1740,null,360,null,null,{"$error":"#REF!"},null,{"$error":"#REF!"},null,{"$error":"#REF!"}]
["2012-01-15",{"$f":"Sunrise_set!AE292","v":848},{"$f":"Sunrise_set!AF292","v":1605},{"$error":"#REF!"},{"$error":"#REF!"},null,null,null,660,1740,null,360,null,null,{"$error":"#REF!"},null,{"$error":"#REF!"},null,{"$error":"#REF!"}]
["2012-01-16",{"$f":"Sunrise_set!AE293","v":846},{"$f":"Sunrise_set!AF293","v":1607},{"$error":"#REF!"},{"$error":"#REF!"},null,null,null,660,1740,null,360,null,null,{"$error":"#REF!"},null,{"$error":"#REF!"},null,{"$error":"#REF!"}]
["2012-01-17",{"$f":"Sunrise_set!AE294","v":845},{"$f":"Sunrise_set!AF294","v":1609},{"$error":"#REF!"},{"$error":"#REF!"},null,null,null,660,1740,null,360,null,null,{"$error":"#REF!"},null,{"$error":"#REF!"},null,{"$error":"#REF!"}]
["2012-01-18",{"$f":"Sunrise_set!AE295","v":844},{"$f":"Sunrise_set!AF295","v":1611},{"$error":"#REF!"},{"$error":"#REF!"},null,null,null,660,1740,null,360,null,null,{"$error":"#REF!"},null,{"$error":"#REF!"},null,{"$error":"#REF!"}]
["2012-01-19",{"$f":"Sunrise_set!AE296","v":842},{"$f":"Sunrise_set!AF296","v":1613},{"$error":"#REF!"},{"$error":"#REF!"},null,null,null,660,1740,null,360,null,null,{"$error":"#REF!"},null,{"$error":"#REF!"},null,{"$error":"#REF!"}]
["2012-01-20",{"$f":"Sunrise_set!AE297","v":841},{"$f":"Sunrise_set!AF297","v":1615},{"$error":"#REF!"},{"$error":"#REF!"},null,null,null,660,1740,null,360,null,null,{"$error":"#REF!"},null,{"$error":"#REF!"},null,{"$error":"#REF!"}]
["2012-01-21",{"$f":"Sunrise_set!AE298","v":839},{"$f":"Sunrise_set!AF298","v":1618},{"$error":"#REF!"},{"$error":"#REF!"},null,null,null,660,1740,null,360,null,null,{"$error":"#REF!"},null,{"$error":"#REF!"},null,{"$error":"#REF!"}]
["2012-01-22",{"$f":"Sunrise_set!AE299","v":838},{"$f":"Sunrise_set!AF299","v":1620},{"$error":"#REF!"},{"$error":"#REF!"},null,null,null,660,1740,null,360,null,null,{"$error":"#REF!"},null,{"$error":"#REF!"},null,{"$error":"#REF!"}]
["2012-01-23",{"$f":"Sunrise_set!AE300","v":836},{"$f":"Sunrise_set!AF300","v":1622},{"$error":"#REF!"},{"$error":"#REF!"},null,null,null,660,1740,null,360,null,null,{"$error":"#REF!"},null,{"$error":"#REF!"},null,{"$error":"#REF!"}]
["2012-01-24",{"$f":"Sunrise_set!AE301","v":834},{"$f":"Sunrise_set!AF301","v":1624},{"$error":"#REF!"},{"$error":"#REF!"},null,null,null,660,1740,null,360,null,null,{"$error":"#REF!"},null,{"$error":"#REF!"},null,{"$error":"#REF!"}]
["2012-01-25",{"$f":"Sunrise_set!AE302","v":833},{"$f":"Sunrise_set!AF302","v":1626},{"$error":"#REF!"},{"$error":"#REF!"},null,null,null,660,1740,null,360,null,null,{"$error":"#REF!"},null,{"$error":"#REF!"},null,{"$error":"#REF!"}]
["2012-01-26",{"$f":"Sunrise_set!AE303","v":831},{"$f":"Sunrise_set!AF303","v":1629},{"$error":"#REF!"},{"$error":"#REF!"},null,null,null,660,1740,null,360,null,null,{"$error":"#REF!"},null,{"$error":"#REF!"},null,{"$error":"#REF!"}]
["2012-01-27",{"$f":"Sunrise_set!AE304","v":829},{"$f":"Sunrise_set!AF304","v":1631},{"$error":"#REF!"},{"$error":"#REF!"},null,null,null,660,1740,null,360,null,null,{"$error":"#REF!"},null,{"$error":"#REF!"},null,{"$error":"#REF!"}]
["2012-01-28",{"$f":"Sunrise_set!AE305","v":827},{"$f":"Sunrise_set!AF305","v":1633},{"$error":"#REF!"},{"$error":"#REF!"},null,null,null,660,1740,null,360,null,null,{"$error":"#REF!"},null,{"$error":"#REF!"},null,{"$error":"#REF!"}]
["2012-01-29",{"$f":"Sunrise_set!AE306","v":825},{"$f":"Sunrise_set!AF306","v":1635},{"$error":"#REF!"},{"$error":"#REF!"},null,null,null,660,1740,null,360,null,null,{"$error":"#REF!"},null,{"$error":"#REF!"},null,{"$error":"#REF!"}]
["2012-01-30",{"$f":"Sunrise_set!AE307","v":823},{"$f":"Sunrise_set!AF307","v":1638},{"$error":"#REF!"},{"$error":"#REF!"},null,null,null,660,1740,null,360,null,null,{"$error":"#REF!"},null,{"$error":"#REF!"},null,{"$error":"#REF!"}]
["2012-01-31",{"$f":"Sunrise_set!AE308","v":821},{"$f":"Sunrise_set!AF308","v":1640},{"$error":"#REF!"},{"$error":"#REF!"},null,null,null,660,1740,null,360,null,null,{"$error":"#REF!"},null,{"$error":"#REF!"},null,{"$error":"#REF!"}]
["2012-02-01",{"$f":"Sunrise_set!AE309","v":819},{"$f":"Sunrise_set!AF309","v":1642},{"$error":"#REF!"},{"$error":"#REF!"},null,null,null,660,1740,null,360,null,null,{"$error":"#REF!"},null,{"$error":"#REF!"},null,{"$error":"#REF!"}]
["2012-02-02",{"$f":"Sunrise_set!AE310","v":817},{"$f":"Sunrise_set!AF310","v":1645},{"$error":"#REF!"},{"$error":"#REF!"},null,null,null,660,1740,null,360,null,null,{"$error":"#REF!"},null,{"$error":"#REF!"},null,{"$error":"#REF!"}]
["2012-02-03",{"$f":"Sunrise_set!AE311","v":815},{"$f":"Sunrise_set!AF311","v":1647},{"$error":"#REF!"},{"$error":"#REF!"},null,null,null,660,1740,null,360,null,null,{"$error":"#REF!"},null,{"$error":"#REF!"},null,{"$error":"#REF!"}]
["2012-02-04",{"$f":"Sunrise_set!AE312","v":813},{"$f":"Sunrise_set!AF312","v":1649},{"$error":"#REF!"},{"$error":"#REF!"},null,null,null,660,1740,null,360,null,null,{"$error":"#REF!"},null,{"$error":"#REF!"},null,{"$error":"#REF!"}]
["2012-02-05",{"$f":"Sunrise_set!AE313","v":811},{"$f":"Sunrise_set!AF313","v":1652},{"$error":"#REF!"},{"$error":"#REF!"},null,null,null,660,1740,null,360,null,null,{"$error":"#REF!"},null,{"$error":"#REF!"},null,{"$error":"#REF!"}]
["2012-02-06",{"$f":"Sunrise_set!AE314","v":809},{"$f":"Sunrise_set!AF314","v":1654},{"$error":"#REF!"},{"$error":"#REF!"},null,null,null,660,1740,null,360,null,null,{"$error":"#REF!"},null,{"$error":"#REF!"},null,{"$error":"#REF!"}]
["2012-02-07",{"$f":"Sunrise_set!AE315","v":807},{"$f":"Sunrise_set!AF315","v":1656},{"$error":"#REF!"},{"$error":"#REF!"},null,null,null,660,1740,null,360,null,null,{"$error":"#REF!"},null,{"$error":"#REF!"},null,{"$error":"#REF!"}]
["2012-02-08",{"$f":"Sunrise_set!AE316","v":804},{"$f":"Sunrise_set!AF316","v":1659},{"$error":"#REF!"},{"$error":"#REF!"},null,null,null,660,1740,null,360,null,null,{"$error":"#REF!"},null,{"$error":"#REF!"},null,{"$error":"#REF!"}]
["2012-02-09",{"$f":"Sunrise_set!AE317","v":802},{"$f":"Sunrise_set!AF317","v":1701},{"$error":"#REF!"},{"$error":"#REF!"},null,null,null,660,1740,null,360,null,null,{"$error":"#REF!"},null,{"$error":"#REF!"},null,{"$error":"#REF!"}]
["2012-02-10",{"$f":"Sunrise_set!AE318","v":800},{"$f":"Sunrise_set!AF318","v":1703},{"$error":"#REF!"},{"$error":"#REF!"},null,null,null,660,1740,null,360,null,null,{"$error":"#REF!"},null,{"$error":"#REF!"},null,{"$error":"#REF!"}]
["2012-02-11",{"$f":"Sunrise_set!AE319","v":758},{"$f":"Sunrise_set!AF319","v":1706},{"$error":"#REF!"},{"$error":"#REF!"},null,null,null,660,1740,null,360,null,null,{"$error":"#REF!"},null,{"$error":"#REF!"},null,{"$error":"#REF!"}]
["2012-02-12",{"$f":"Sunrise_set!AE320","v":755},{"$f":"Sunrise_set!AF320","v":1708},{"$error":"#REF!"},{"$error":"#REF!"},null,null,null,660,1740,null,360,null,null,{"$error":"#REF!"},null,{"$error":"#REF!"},null,{"$error":"#REF!"}]
["2012-02-13",{"$f":"Sunrise_set!AE321","v":753},{"$f":"Sunrise_set!AF321","v":1710},{"$error":"#REF!"},{"$error":"#REF!"},null,null,null,660,1740,null,360,null,null,{"$error":"#REF!"},null,{"$error":"#REF!"},null,{"$error":"#REF!"}]
["2012-02-14",{"$f":"Sunrise_set!AE322","v":751},{"$f":"Sunrise_set!AF322","v":1713},{"$error":"#REF!"},{"$error":"#REF!"},null,null,null,660,1740,null,360,null,null,{"$error":"#REF!"},null,{"$error":"#REF!"},null,{"$error":"#REF!"}]
["2012-02-15",{"$f":"Sunrise_set!AE323","v":748},{"$f":"Sunrise_set!AF323","v":1715},{"$f":"LEFT(B322,1)*60+RIGHT(B322,2)+F322-$V$17","v":{"$error":"#REF!"}},{"$f":"LEFT(C322,2)*60+RIGHT(C322,2)+F322+$V$17","v":{"$error":"#REF!"}},null,null,null,{"$f":"$W$6*60+$X$6","v":660},1740,null,360,null,null,{"$error":"#REF!"},null,{"$f":"IF(E322>J322,E322-J322,0)","v":{"$error":"#REF!"}},null,{"$error":"#REF!"}]
["2012-02-16",{"$f":"Sunrise_set!AE324","v":746},{"$f":"Sunrise_set!AF324","v":1717},{"$error":"#REF!"},{"$error":"#REF!"},null,null,null,660,{"$f":"IF($W$7<12,($W$7+24)*60+$X$7,$W$7*60+$X$7)","v":1740},null,{"$f":"IF(AND($W$7>12,$W$6>12),I323-J323,(24*60)-J323+I323)","v":360},null,null,{"$f":"IF(AND($W$6>12,$W$7>12),0,IF(D323>I323,0,I323-D323))","v":{"$error":"#REF!"}},null,{"$error":"#REF!"},null,{"$f":"MAX(L323-SUM(O323,Q323),0)","v":{"$error":"#REF!"}}]
["2012-02-17",{"$f":"Sunrise_set!AE325","v":743},{"$f":"Sunrise_set!AF325","v":1720},{"$error":"#REF!"},{"$error":"#REF!"},null,null,null,660,1740,null,360,null,null,{"$error":"#REF!"},null,{"$error":"#REF!"},null,{"$error":"#REF!"}]
["2012-02-18",{"$f":"Sunrise_set!AE326","v":741},{"$f":"Sunrise_set!AF326","v":1722},{"$error":"#REF!"},{"$error":"#REF!"},null,null,null,660,1740,null,360,null,null,{"$error":"#REF!"},null,{"$error":"#REF!"},null,{"$error":"#REF!"}]
["2012-02-19",{"$f":"Sunrise_set!AE327","v":738},{"$f":"Sunrise_set!AF327","v":1724},{"$error":"#REF!"},{"$error":"#REF!"},null,null,null,660,1740,null,360,null,null,{"$error":"#REF!"},null,{"$error":"#REF!"},null,{"$error":"#REF!"}]
["2012-02-20",{"$f":"Sunrise_set!AE328","v":736},{"$f":"Sunrise_set!AF328","v":1727},{"$error":"#REF!"},{"$error":"#REF!"},null,null,null,660,1740,null,360,null,null,{"$error":"#REF!"},null,{"$error":"#REF!"},null,{"$error":"#REF!"}]
["2012-02-21",{"$f":"Sunrise_set!AE329","v":733},{"$f":"Sunrise_set!AF329","v":1729},{"$error":"#REF!"},{"$error":"#REF!"},null,null,null,660,1740,null,360,null,null,{"$error":"#REF!"},null,{"$error":"#REF!"},null,{"$error":"#REF!"}]
["2012-02-22",{"$f":"Sunrise_set!AE330","v":731},{"$f":"Sunrise_set!AF330","v":1731},{"$error":"#REF!"},{"$error":"#REF!"},null,null,null,660,1740,null,360,null,null,{"$error":"#REF!"},null,{"$error":"#REF!"},null,{"$error":"#REF!"}]
["2012-02-23",{"$f":"Sunrise_set!AE331","v":728},{"$f":"Sunrise_set!AF331","v":1734},{"$error":"#REF!"},{"$error":"#REF!"},null,null,null,660,1740,null,360,null,null,{"$error":"#REF!"},null,{"$error":"#REF!"},null,{"$error":"#REF!"}]
["2012-02-24",{"$f":"Sunrise_set!AE332","v":726},{"$f":"Sunrise_set!AF332","v":1736},{"$error":"#REF!"},{"$error":"#REF!"},null,null,null,660,1740,null,360,null,null,{"$error":"#REF!"},null,{"$error":"#REF!"},null,{"$error":"#REF!"}]
["2012-02-25",{"$f":"Sunrise_set!AE333","v":723},{"$f":"Sunrise_set!AF333","v":1738},{"$error":"#REF!"},{"$error":"#REF!"},null,null,null,660,1740,null,360,null,null,{"$error":"#REF!"},null,{"$error":"#REF!"},null,{"$error":"#REF!"}]
["2012-02-26",{"$f":"Sunrise_set!AE334","v":720},{"$f":"Sunrise_set!AF334","v":1740},{"$error":"#REF!"},{"$error":"#REF!"},null,null,null,660,1740,null,360,null,null,{"$error":"#REF!"},null,{"$error":"#REF!"},null,{"$error":"#REF!"}]
["2012-02-27",{"$f":"Sunrise_set!AE335","v":718},{"$f":"Sunrise_set!AF335","v":1743},{"$error":"#REF!"},{"$error":"#REF!"},null,null,null,660,1740,null,360,null,null,{"$error":"#REF!"},null,{"$error":"#REF!"},null,{"$error":"#REF!"}]
["2012-02-28",{"$f":"Sunrise_set!AE336","v":715},{"$f":"Sunrise_set!AF336","v":1745},{"$error":"#REF!"},{"$error":"#REF!"},null,null,null,660,1740,null,360,null,null,{"$error":"#REF!"},null,{"$error":"#REF!"},null,{"$error":"#REF!"}]
["2012-02-29",{"$f":"Sunrise_set!AE337","v":713},{"$f":"Sunrise_set!AF337","v":1747},{"$error":"#REF!"},{"$error":"#REF!"},null,null,null,660,1740,null,360,null,null,{"$error":"#REF!"},null,{"$error":"#REF!"},null,{"$error":"#REF!"}]
["2012-03-01",{"$f":"Sunrise_set!AE338","v":710},{"$f":"Sunrise_set!AF338","v":1750},{"$error":"#REF!"},{"$error":"#REF!"},null,null,null,660,1740,null,360,null,null,{"$error":"#REF!"},null,{"$error":"#REF!"},null,{"$error":"#REF!"}]
["2012-03-02",{"$f":"Sunrise_set!AE339","v":707},{"$f":"Sunrise_set!AF339","v":1752},{"$error":"#REF!"},{"$error":"#REF!"},null,null,null,660,1740,null,360,null,null,{"$error":"#REF!"},null,{"$error":"#REF!"},null,{"$error":"#REF!"}]
["2012-03-03",{"$f":"Sunrise_set!AE340","v":705},{"$f":"Sunrise_set!AF340","v":1754},{"$error":"#REF!"},{"$error":"#REF!"},null,null,null,660,1740,null,360,null,null,{"$error":"#REF!"},null,{"$error":"#REF!"},null,{"$error":"#REF!"}]
["2012-03-04",{"$f":"Sunrise_set!AE341","v":702},{"$f":"Sunrise_set!AF341","v":1756},{"$error":"#REF!"},{"$error":"#REF!"},null,null,null,660,1740,null,360,null,null,{"$error":"#REF!"},null,{"$error":"#REF!"},null,{"$error":"#REF!"}]
["2012-03-05",{"$f":"Sunrise_set!AE342","v":659},{"$f":"Sunrise_set!AF342","v":1759},{"$error":"#REF!"},{"$error":"#REF!"},null,null,null,660,1740,null,360,null,null,{"$error":"#REF!"},null,{"$error":"#REF!"},null,{"$error":"#REF!"}]
["2012-03-06",{"$f":"Sunrise_set!AE343","v":657},{"$f":"Sunrise_set!AF343","v":1801},{"$error":"#REF!"},{"$error":"#REF!"},null,null,null,660,1740,null,360,null,null,{"$error":"#REF!"},null,{"$error":"#REF!"},null,{"$error":"#REF!"}]
["2012-03-07",{"$f":"Sunrise_set!AE344","v":654},{"$f":"Sunrise_set!AF344","v":1803},{"$error":"#REF!"},{"$error":"#REF!"},null,null,null,660,1740,null,360,null,null,{"$error":"#REF!"},null,{"$error":"#REF!"},null,{"$error":"#REF!"}]
["2012-03-08",{"$f":"Sunrise_set!AE345","v":651},{"$f":"Sunrise_set!AF345","v":1805},{"$error":"#REF!"},{"$error":"#REF!"},null,null,null,660,1740,null,360,null,null,{"$error":"#REF!"},null,{"$error":"#REF!"},null,{"$error":"#REF!"}]
["2012-03-09",{"$f":"Sunrise_set!AE346","v":648},{"$f":"Sunrise_set!AF346","v":1808},{"$error":"#REF!"},{"$error":"#REF!"},null,null,null,660,1740,null,360,null,null,{"$error":"#REF!"},null,{"$error":"#REF!"},null,{"$error":"#REF!"}]
["2012-03-10",{"$f":"Sunrise_set!AE347","v":646},{"$f":"Sunrise_set!AF347","v":1810},{"$error":"#REF!"},{"$error":"#REF!"},null,null,null,660,1740,null,360,null,null,{"$error":"#REF!"},null,{"$error":"#REF!"},null,{"$error":"#REF!"}]
["2012-03-11",{"$f":"Sunrise_set!AE348","v":643},{"$f":"Sunrise_set!AF348","v":1812},{"$error":"#REF!"},{"$error":"#REF!"},null,null,null,660,1740,null,360,null,null,{"$error":"#REF!"},null,{"$error":"#REF!"},null,{"$error":"#REF!"}]
["2012-03-12",{"$f":"Sunrise_set!AE349","v":640},{"$f":"Sunrise_set!AF349","v":1814},{"$error":"#REF!"},{"$error":"#REF!"},null,null,null,660,1740,null,360,null,null,{"$error":"#REF!"},null,{"$error":"#REF!"},null,{"$error":"#REF!"}]
["2012-03-13",{"$f":"Sunrise_set!AE350","v":637},{"$f":"Sunrise_set!AF350","v":1816},{"$error":"#REF!"},{"$error":"#REF!"},null,null,null,660,1740,null,360,null,null,{"$error":"#REF!"},null,{"$error":"#REF!"},null,{"$error":"#REF!"}]
["2012-03-14",{"$f":"Sunrise_set!AE351","v":635},{"$f":"Sunrise_set!AF351","v":1819},{"$error":"#REF!"},{"$error":"#REF!"},null,null,null,660,1740,null,360,null,null,{"$error":"#REF!"},null,{"$error":"#REF!"},null,{"$error":"#REF!"}]
["2012-03-15",{"$f":"Sunrise_set!AE352","v":632},{"$f":"Sunrise_set!AF352","v":1821},{"$error":"#REF!"},{"$error":"#REF!"},null,null,null,660,1740,null,360,null,null,{"$error":"#REF!"},null,{"$error":"#REF!"},null,{"$error":"#REF!"}]
["2012-03-16",{"$f":"Sunrise_set!AE353","v":629},{"$f":"Sunrise_set!AF353","v":1823},{"$error":"#REF!"},{"$error":"#REF!"},null,null,null,660,1740,null,360,null,null,{"$error":"#REF!"},null,{"$error":"#REF!"},null,{"$error":"#REF!"}]
["2012-03-17",{"$f":"Sunrise_set!AE354","v":626},{"$f":"Sunrise_set!AF354","v":1825},{"$error":"#REF!"},{"$error":"#REF!"},null,null,null,660,1740,null,360,null,null,{"$error":"#REF!"},null,{"$error":"#REF!"},null,{"$error":"#REF!"}]
["2012-03-18",{"$f":"Sunrise_set!AE355","v":624},{"$f":"Sunrise_set!AF355","v":1827},{"$error":"#REF!"},{"$error":"#REF!"},null,null,null,660,1740,null,360,null,null,{"$error":"#REF!"},null,{"$error":"#REF!"},null,{"$error":"#REF!"}]
["2012-03-19",{"$f":"Sunrise_set!AE356","v":621},{"$f":"Sunrise_set!AF356","v":1830},{"$error":"#REF!"},{"$error":"#REF!"},null,null,null,660,1740,null,360,null,null,{"$error":"#REF!"},null,{"$error":"#REF!"},null,{"$error":"#REF!"}]
["2012-03-20",{"$f":"Sunrise_set!AE357","v":618},{"$f":"Sunrise_set!AF357","v":1832},{"$error":"#REF!"},{"$error":"#REF!"},null,null,null,660,1740,null,360,null,null,{"$error":"#REF!"},null,{"$error":"#REF!"},null,{"$error":"#REF!"}]
["2012-03-21",{"$f":"Sunrise_set!AE358","v":615},{"$f":"Sunrise_set!AF358","v":1834},{"$error":"#REF!"},{"$error":"#REF!"},null,null,null,660,1740,null,360,null,null,{"$error":"#REF!"},null,{"$error":"#REF!"},null,{"$error":"#REF!"}]
["2012-03-22",{"$f":"Sunrise_set!AE359","v":613},{"$f":"Sunrise_set!AF359","v":1836},{"$error":"#REF!"},{"$error":"#REF!"},null,null,null,660,1740,null,360,null,null,{"$error":"#REF!"},null,{"$error":"#REF!"},null,{"$error":"#REF!"}]
["2012-03-23",{"$f":"Sunrise_set!AE360","v":610},{"$f":"Sunrise_set!AF360","v":1838},{"$error":"#REF!"},{"$error":"#REF!"},null,null,null,660,1740,null,360,null,null,{"$error":"#REF!"},null,{"$error":"#REF!"},null,{"$error":"#REF!"}]
["2012-03-24",{"$f":"Sunrise_set!AE361","v":607},{"$f":"Sunrise_set!AF361","v":1840},{"$error":"#REF!"},{"$error":"#REF!"},null,null,null,660,1740,null,360,null,null,{"$error":"#REF!"},null,{"$error":"#REF!"},null,{"$error":"#REF!"}]
["2012-03-25",{"$f":"Sunrise_set!AE362","v":604},{"$f":"Sunrise_set!AF362","v":1843},{"$error":"#REF!"},{"$error":"#REF!"},null,null,null,660,1740,null,360,null,null,{"$error":"#REF!"},null,{"$error":"#REF!"},null,{"$error":"#REF!"}]
["2012-03-26",{"$f":"Sunrise_set!AE363","v":602},{"$f":"Sunrise_set!AF363","v":1845},{"$error":"#REF!"},{"$error":"#REF!"},null,null,null,660,1740,null,360,null,null,{"$error":"#REF!"},null,{"$error":"#REF!"},null,{"$error":"#REF!"}]
["2012-03-27",{"$f":"Sunrise_set!AE364","v":559},{"$f":"Sunrise_set!AF364","v":1847},{"$error":"#REF!"},{"$error":"#REF!"},null,null,null,660,1740,null,360,null,null,{"$error":"#REF!"},null,{"$error":"#REF!"},null,{"$error":"#REF!"}]
["2012-03-28",{"$f":"Sunrise_set!AE365","v":556},{"$f":"Sunrise_set!AF365","v":1849},{"$error":"#REF!"},{"$error":"#REF!"},null,null,null,660,1740,null,360,null,null,{"$error":"#REF!"},null,{"$error":"#REF!"},null,{"$error":"#REF!"}]
["2012-03-29",{"$f":"Sunrise_set!AE366","v":553},{"$f":"Sunrise_set!AF366","v":1851},{"$error":"#REF!"},{"$error":"#REF!"},null,null,null,660,1740,null,360,null,null,{"$error":"#REF!"},null,{"$error":"#REF!"},null,{"$error":"#REF!"}]
["2012-03-30",{"$f":"Sunrise_set!AE367","v":550},{"$f":"Sunrise_set!AF367","v":1853},{"$error":"#REF!"},{"$error":"#REF!"},null,null,null,660,1740,null,360,null,null,{"$error":"#REF!"},null,{"$error":"#REF!"},null,{"$error":"#REF!"}]
["2012-03-31",{"$f":"Sunrise_set!AE368","v":548},{"$f":"Sunrise_set!AF368","v":1856},{"$error":"#REF!"},{"$error":"#REF!"},null,null,null,660,1740,null,360,null,null,{"$error":"#REF!"},null,{"$error":"#REF!"},null,{"$error":"#REF!"}]

{"sheet":"Sunrise_set","index":3,"n_rows":368,"n_cols":32,"rows_kept":368,"cut":false,"hidden":true,"merged":[]}
[null,1,2,3,4,5,6,7,8,9,10,11,12,13,14,15,16,17,18,19,20,21,22,23,24,25,26,27,28]
[null,"_A","_A","_B","_B","_C","_C","_D","_D","_E","_E","_F","_F","_G","_G","_H","_H","_J","_J","_K","_K","_L","_L","_M","_M","_N","_N","_P","_P"]
[1,531,1832,538,1840,535,1835,547,1850,541,1842,537,1844,542,1845,541,1839,534,1832,552,1852,550,1847,539,1843,547,1856,545,1858,null,{"$f":"HLOOKUP(Calc!$Y$8,look1,Sunrise_set!A3+2)","v":545},{"$f":"HLOOKUP(Calc!$Z$8,look1,Sunrise_set!A3+2)","v":1858}]
[2,529,1833,536,1842,533,1836,544,1852,539,1844,535,1846,539,1847,539,1841,532,1834,549,1853,547,1849,536,1845,544,1858,542,1900,null,{"$f":"HLOOKUP(Calc!$Y$8,look1,Sunrise_set!A4+2)","v":542},{"$f":"HLOOKUP(Calc!$Z$8,look1,Sunrise_set!A4+2)","v":1900}]
[3,527,1835,533,1844,531,1838,542,1853,536,1846,532,1848,537,1849,536,1843,530,1836,547,1855,545,1850,534,1846,542,1900,539,1902,null,{"$f":"HLOOKUP(Calc!$Y$8,look1,Sunrise_set!A5+2)","v":539},{"$f":"HLOOKUP(Calc!$Z$8,look1,Sunrise_set!A5+2)","v":1902}]
[4,524,1837,531,1845,529,1840,540,1855,534,1847,530,1850,535,1850,534,1844,527,1837,545,1857,543,1852,531,1848,539,1902,537,1904,null,{"$f":"HLOOKUP(Calc!$Y$8,look1,Sunrise_set!A6+2)","v":537},{"$f":"HLOOKUP(Calc!$Z$8,look1,Sunrise_set!A6+2)","v":1904}]
[5,522,1839,529,1847,526,1841,537,1857,532,1849,527,1852,532,1852,532,1846,525,1839,543,1858,541,1854,529,1850,537,1904,534,1906,null,{"$f":"HLOOKUP(Calc!$Y$8,look1,Sunrise_set!A7+2)","v":534},{"$f":"HLOOKUP(Calc!$Z$8,look1,Sunrise_set!A7+2)","v":1906}]
[6,520,1840,526,1849,524,1843,535,1859,529,1851,525,1854,530,1854,530,1848,523,1841,540,1900,539,1855,527,1852,534,1906,531,1909,null,{"$f":"HLOOKUP(Calc!$Y$8,look1,Sunrise_set!A8+2)","v":531},{"$f":"HLOOKUP(Calc!$Z$8,look1,Sunrise_set!A8+2)","v":1909}]
[7,517,1842,524,1851,522,1845,533,1901,527,1853,522,1856,527,1856,528,1849,521,1842,538,1902,536,1857,524,1854,531,1908,528,1911,null,{"$f":"HLOOKUP(Calc!$Y$8,look1,Sunrise_set!A9+2)","v":528},{"$f":"HLOOKUP(Calc!$Z$8,look1,Sunrise_set!A9+2)","v":1911}]
[8,515,1844,521,1853,520,1846,530,1902,525,1854,520,1858,525,1858,525,1851,519,1844,536,1903,534,1859,522,1856,529,1910,526,1913,null,{"$f":"HLOOKUP(Calc!$Y$8,look1,Sunrise_set!A10+2)","v":526},{"$f":"HLOOKUP(Calc!$Z$8,look1,Sunrise_set!A10+2)","v":1913}]
[9,513,1846,519,1854,518,1848,528,1904,523,1856,517,1900,523,1900,523,1853,516,1846,534,1905,532,1900,519,1857,526,1912,523,1915,null,{"$f":"HLOOKUP(Calc!$Y$8,look1,Sunrise_set!A11+2)","v":523},{"$f":"HLOOKUP(Calc!$Z$8,look1,Sunrise_set!A11+2)","v":1915}]
[10,511,1847,517,1856,515,1850,525,1906,520,1858,515,1902,520,1901,521,1854,514,1847,531,1907,530,1902,517,1859,524,1914,520,1917,null,{"$f":"HLOOKUP(Calc!$Y$8,look1,Sunrise_set!A12+2)","v":520},{"$f":"HLOOKUP(Calc!$Z$8,look1,Sunrise_set!A12+2)","v":1917}]
[11,508,1849,515,1858,513,1851,523,1908,518,1900,512,1903,518,1903,519,1856,512,1849,529,1909,528,1903,515,1901,521,1916,518,1920,null,{"$f":"HLOOKUP(Calc!$Y$8,look1,Sunrise_set!A13+2)","v":518},{"$f":"HLOOKUP(Calc!$Z$8,look1,Sunrise_set!A13+2)","v":1920}]
[12,506,1851,512,1900,511,1853,521,1910,516,1901,510,1905,516,1905,517,1858,510,1851,527,1910,526,1905,512,1903,519,1918,515,1922,null,{"$f":"HLOOKUP(Calc!$Y$8,look1,Sunrise_set!A14+2)","v":515},{"$f":"HLOOKUP(Calc!$Z$8,look1,Sunrise_set!A14+2)","v":1922}]
[13,504,1852,510,1901,509,1855,518,1911,513,1903,507,1907,513,1907,514,1859,508,1852,525,1912,524,1907,510,1905,516,1920,512,1924,null,{"$f":"HLOOKUP(Calc!$Y$8,look1,Sunrise_set!A15+2)","v":512},{"$f":"HLOOKUP(Calc!$Z$8,look1,Sunrise_set!A15+2)","v":1924}]
[14,502,1854,508,1903,507,1856,516,1913,511,1905,505,1909,511,1909,512,1901,506,1854,522,1914,521,1908,508,1907,513,1922,510,1926,null,{"$f":"HLOOKUP(Calc!$Y$8,look1,Sunrise_set!A16+2)","v":510},{"$f":"HLOOKUP(Calc!$Z$8,look1,Sunrise_set!A16+2)","v":1926}]
[15,459,1856,505,1905,504,1858,514,1915,509,1907,503,1911,509,1911,510,1903,503,1855,520,1915,519,1910,505,1909,511,1924,507,1928,null,{"$f":"HLOOKUP(Calc!$Y$8,look1,Sunrise_set!A17+2)","v":507},{"$f":"HLOOKUP(Calc!$Z$8,look1,Sunrise_set!A17+2)","v":1928}]
[16,457,1858,503,1907,502,1900,512,1917,507,1908,500,1913,506,1912,508,1904,501,1857,518,1917,517,1911,503,1910,508,1926,504,1930,null,{"$f":"HLOOKUP(Calc!$Y$8,look1,Sunrise_set!A18+2)","v":504},{"$f":"HLOOKUP(Calc!$Z$8,look1,Sunrise_set!A18+2)","v":1930}]
[17,455,1859,501,1909,500,1901,509,1919,505,1910,458,1915,504,1914,506,1906,459,1859,516,1919,515,1913,501,1912,506,1928,502,1933,null,{"$f":"HLOOKUP(Calc!$Y$8,look1,Sunrise_set!A19+2)","v":502},{"$f":"HLOOKUP(Calc!$Z$8,look1,Sunrise_set!A19+2)","v":1933}]
[18,453,1901,459,1910,458,1903,507,1920,502,1912,455,1917,502,1916,504,1908,457,1900,514,1920,513,1915,458,1914,504,1930,459,1935,null,{"$f":"HLOOKUP(Calc!$Y$8,look1,Sunrise_set!A20+2)","v":459},{"$f":"HLOOKUP(Calc!$Z$8,look1,Sunrise_set!A20+2)","v":1935}]
[19,451,1903,457,1912,456,1905,505,1922,500,1914,453,1919,500,1918,502,1909,455,1902,512,1922,511,1916,456,1916,501,1932,456,1937,null,{"$f":"HLOOKUP(Calc!$Y$8,look1,Sunrise_set!A21+2)","v":456},{"$f":"HLOOKUP(Calc!$Z$8,look1,Sunrise_set!A21+2)","v":1937}]
[20,449,1905,454,1914,454,1906,503,1924,458,1915,451,1921,457,1920,500,1911,453,1904,510,1924,509,1918,454,1918,459,1934,454,1939,null,{"$f":"HLOOKUP(Calc!$Y$8,look1,Sunrise_set!A22+2)","v":454},{"$f":"HLOOKUP(Calc!$Z$8,look1,Sunrise_set!A22+2)","v":1939}]
[21,446,1906,452,1916,452,1908,500,1926,456,1917,448,1923,455,1921,458,1912,451,1905,507,1925,507,1919,452,1920,456,1936,451,1941,null,{"$f":"HLOOKUP(Calc!$Y$8,look1,Sunrise_set!A23+2)","v":451},{"$f":"HLOOKUP(Calc!$Z$8,look1,Sunrise_set!A23+2)","v":1941}]
[22,444,1908,450,1917,450,1910,458,1928,454,1919,446,1925,453,1923,456,1914,449,1907,505,1927,505,1921,449,1922,454,1938,449,1944,null,{"$f":"HLOOKUP(Calc!$Y$8,look1,Sunrise_set!A24+2)","v":449},{"$f":"HLOOKUP(Calc!$Z$8,look1,Sunrise_set!A24+2)","v":1944}]
[23,442,1910,448,1919,448,1911,456,1929,452,1921,444,1927,451,1925,454,1916,447,1909,503,1929,503,1923,447,1923,451,1940,446,1946,null,{"$f":"HLOOKUP(Calc!$Y$8,look1,Sunrise_set!A25+2)","v":446},{"$f":"HLOOKUP(Calc!$Z$8,look1,Sunrise_set!A25+2)","v":1946}]
[24,440,1911,446,1921,446,1913,454,1931,450,1922,441,1929,448,1927,452,1917,445,1910,501,1931,501,1924,445,1925,449,1942,444,1948,null,{"$f":"HLOOKUP(Calc!$Y$8,look1,Sunrise_set!A26+2)","v":444},{"$f":"HLOOKUP(Calc!$Z$8,look1,Sunrise_set!A26+2)","v":1948}]
[25,438,1913,444,1923,444,1915,452,1933,448,1924,439,1931,446,1929,450,1919,443,1912,459,1932,459,1926,443,1927,447,1944,441,1950,null,{"$f":"HLOOKUP(Calc!$Y$8,look1,Sunrise_set!A27+2)","v":441},{"$f":"HLOOKUP(Calc!$Z$8,look1,Sunrise_set!A27+2)","v":1950}]
[26,436,1915,441,1925,442,1916,450,1935,446,1926,437,1933,444,1931,448,1921,441,1913,457,1934,457,1927,440,1929,444,1946,439,1952,null,{"$f":"HLOOKUP(Calc!$Y$8,look1,Sunrise_set!A28+2)","v":439},{"$f":"HLOOKUP(Calc!$Z$8,look1,Sunrise_set!A28+2)","v":1952}]
[27,434,1917,439,1926,440,1918,448,1937,443,1928,435,1935,442,1932,446,1922,439,1915,455,1936,455,1929,438,1931,442,1948,436,1954,null,{"$f":"HLOOKUP(Calc!$Y$8,look1,Sunrise_set!A29+2)","v":436},{"$f":"HLOOKUP(Calc!$Z$8,look1,Sunrise_set!A29+2)","v":1954}]
[28,432,1918,437,1928,438,1920,445,1938,441,1929,432,1937,440,1934,444,1924,437,1917,453,1937,453,1931,436,1933,440,1950,434,1957,null,{"$f":"HLOOKUP(Calc!$Y$8,look1,Sunrise_set!A30+2)","v":434},{"$f":"HLOOKUP(Calc!$Z$8,look1,Sunrise_set!A30+2)","v":1957}]
[29,430,1920,435,1930,436,1921,443,1940,439,1931,430,1938,438,1936,442,1926,435,1918,451,1939,452,1932,434,1934,437,1952,431,1959,null,{"$f":"HLOOKUP(Calc!$Y$8,look1,Sunrise_set!A31+2)","v":431},{"$f":"HLOOKUP(Calc!$Z$8,look1,Sunrise_set!A31+2)","v":1959}]
[30,428,1922,433,1932,434,1923,441,1942,437,1933,428,1940,436,1938,440,1927,433,1920,449,1941,450,1934,432,1936,435,1954,429,2001,null,{"$f":"HLOOKUP(Calc!$Y$8,look1,Sunrise_set!A32+2)","v":429},{"$f":"HLOOKUP(Calc!$Z$8,look1,Sunrise_set!A32+2)","v":2001}]
[31,426,1923,431,1933,432,1924,439,1944,436,1934,426,1942,434,1940,438,1929,431,1922,448,1942,448,1935,430,1938,433,1956,426,2003,null,{"$f":"HLOOKUP(Calc!$Y$8,look1,Sunrise_set!A33+2)","v":426},{"$f":"HLOOKUP(Calc!$Z$8,look1,Sunrise_set!A33+2)","v":2003}]
[32,424,1925,429,1935,430,1926,437,1946,434,1936,424,1944,432,1941,436,1930,430,1923,446,1944,446,1937,428,1940,431,1958,424,2005,null,{"$f":"HLOOKUP(Calc!$Y$8,look1,Sunrise_set!A34+2)","v":424},{"$f":"HLOOKUP(Calc!$Z$8,look1,Sunrise_set!A34+2)","v":2005}]
[33,422,1927,427,1937,428,1928,435,1947,432,1938,421,1946,430,1943,434,1932,428,1925,444,1946,444,1939,426,1942,428,2000,422,2007,null,{"$f":"HLOOKUP(Calc!$Y$8,look1,Sunrise_set!A35+2)","v":422},{"$f":"HLOOKUP(Calc!$Z$8,look1,Sunrise_set!A35+2)","v":2007}]
[34,420,1928,425,1939,427,1929,433,1949,430,1940,419,1948,428,1945,433,1934,426,1926,442,1947,443,1940,424,1943,426,2002,419,2010,null,{"$f":"HLOOKUP(Calc!$Y$8,look1,Sunrise_set!A36+2)","v":419},{"$f":"HLOOKUP(Calc!$Z$8,look1,Sunrise_set!A36+2)","v":2010}]
[35,419,1930,424,1940,425,1931,431,1951,428,1941,417,1950,426,1947,431,1935,424,1928,440,1949,441,1942,422,1945,424,2004,417,2012,null,{"$f":"HLOOKUP(Calc!$Y$8,look1,Sunrise_set!A37+2)","v":417},{"$f":"HLOOKUP(Calc!$Z$8,look1,Sunrise_set!A37+2)","v":2012}]
[36,417,1932,422,1942,423,1933,430,1953,426,1943,415,1952,424,1948,429,1937,423,1930,438,1951,439,1943,420,1947,422,2006,415,2014,null,{"$f":"HLOOKUP(Calc!$Y$8,look1,Sunrise_set!A38+2)","v":415},{"$f":"HLOOKUP(Calc!$Z$8,look1,Sunrise_set!A38+2)","v":2014}]
[37,415,1933,420,1944,421,1934,428,1954,424,1945,413,1954,422,1950,427,1938,421,1931,437,1952,437,1945,418,1949,420,2008,412,2016,null,{"$f":"HLOOKUP(Calc!$Y$8,look1,Sunrise_set!A39+2)","v":412},{"$f":"HLOOKUP(Calc!$Z$8,look1,Sunrise_set!A39+2)","v":2016}]
[38,413,1935,418,1945,420,1936,426,1956,422,1946,411,1956,420,1952,426,1940,419,1933,435,1954,436,1946,416,1951,418,2010,410,2018,null,{"$f":"HLOOKUP(Calc!$Y$8,look1,Sunrise_set!A40+2)","v":410},{"$f":"HLOOKUP(Calc!$Z$8,look1,Sunrise_set!A40+2)","v":2018}]
[39,412,1937,416,1947,418,1937,424,1958,421,1948,409,1957,418,1954,424,1942,417,1934,433,1955,434,1948,414,1952,416,2012,408,2020,null,{"$f":"HLOOKUP(Calc!$Y$8,look1,Sunrise_set!A41+2)","v":408},{"$f":"HLOOKUP(Calc!$Z$8,look1,Sunrise_set!A41+2)","v":2020}]
[40,410,1938,414,1949,416,1939,422,1959,419,1950,407,1959,417,1955,422,1943,416,1936,431,1957,433,1949,413,1954,414,2014,406,2022,null,{"$f":"HLOOKUP(Calc!$Y$8,look1,Sunrise_set!A42+2)","v":406},{"$f":"HLOOKUP(Calc!$Z$8,look1,Sunrise_set!A42+2)","v":2022}]
[41,408,1940,413,1950,415,1940,421,2001,417,1951,406,2001,415,1957,421,1945,414,1937,430,1959,431,1951,411,1956,412,2016,404,2024,null,{"$f":"HLOOKUP(Calc!$Y$8,look1,Sunrise_set!A43+2)","v":404},{"$f":"HLOOKUP(Calc!$Z$8,look1,Sunrise_set!A43+2)","v":2024}]
[42,406,1942,411,1952,413,1942,419,2003,416,1953,404,2003,413,1959,419,1946,413,1939,428,2000,429,1952,409,1958,410,2018,401,2026,null,{"$f":"HLOOKUP(Calc!$Y$8,look1,Sunrise_set!A44+2)","v":401},{"$f":"HLOOKUP(Calc!$Z$8,look1,Sunrise_set!A44+2)","v":2026}]
[43,405,1943,409,1954,411,1944,417,2005,414,1954,402,2005,411,2000,418,1948,411,1940,427,2002,428,1954,407,1959,408,2020,359,2029,null,{"$f":"HLOOKUP(Calc!$Y$8,look1,Sunrise_set!A45+2)","v":359},{"$f":"HLOOKUP(Calc!$Z$8,look1,Sunrise_set!A45+2)","v":2029}]
[44,403,1945,408,1955,410,1945,415,2006,412,1956,400,2006,410,2002,416,1949,410,1942,425,2003,426,1955,406,2001,406,2022,357,2031,null,{"$f":"HLOOKUP(Calc!$Y$8,look1,Sunrise_set!A46+2)","v":357},{"$f":"HLOOKUP(Calc!$Z$8,look1,Sunrise_set!A46+2)","v":2031}]
[45,402,1946,406,1957,408,1947,414,2008,411,1958,358,2008,408,2004,415,1951,408,1943,424,2005,425,1957,404,2003,404,2024,355,2033,null,{"$f":"HLOOKUP(Calc!$Y$8,look1,Sunrise_set!A47+2)","v":355},{"$f":"HLOOKUP(Calc!$Z$8,look1,Sunrise_set!A47+2)","v":2033}]
[46,400,1948,405,1959,407,1948,412,2009,409,1959,357,2010,406,2005,413,1952,407,1945,422,2006,424,1958,402,2004,402,2025,353,2035,null,{"$f":"HLOOKUP(Calc!$Y$8,look1,Sunrise_set!A48+2)","v":353},{"$f":"HLOOKUP(Calc!$Z$8,look1,Sunrise_set!A48+2)","v":2035}]
[47,359,1949,403,2000,406,1950,411,2011,408,2001,355,2012,405,2007,412,1954,405,1946,421,2008,422,2000,401,2006,401,2027,351,2037,null,{"$f":"HLOOKUP(Calc!$Y$8,look1,Sunrise_set!A49+2)","v":351},{"$f":"HLOOKUP(Calc!$Z$8,look1,Sunrise_set!A49+2)","v":2037}]
[48,357,1951,402,2002,404,1951,409,2013,406,2002,353,2013,403,2009,411,1955,404,1948,419,2009,421,2001,359,2007,359,2029,350,2039,null,{"$f":"HLOOKUP(Calc!$Y$8,look1,Sunrise_set!A50+2)","v":350},{"$f":"HLOOKUP(Calc!$Z$8,look1,Sunrise_set!A50+2)","v":2039}]
[49,356,1952,400,2003,403,1952,408,2014,405,2004,352,2015,402,2010,409,1956,403,1949,418,2011,420,2002,358,2009,357,2031,348,2040,null,{"$f":"HLOOKUP(Calc!$Y$8,look1,Sunrise_set!A51+2)","v":348},{"$f":"HLOOKUP(Calc!$Z$8,look1,Sunrise_set!A51+2)","v":2040}]
[50,355,1954,359,2005,402,1954,406,2016,404,2005,350,2017,400,2012,408,1958,401,1950,416,2012,418,2004,356,2011,356,2032,346,2042,null,{"$f":"HLOOKUP(Calc!$Y$8,look1,Sunrise_set!A52+2)","v":346},{"$f":"HLOOKUP(Calc!$Z$8,look1,Sunrise_set!A52+2)","v":2042}]
[51,353,1955,357,2006,400,1955,405,2017,402,2006,349,2018,359,2013,407,1959,400,1952,415,2013,417,2005,355,2012,354,2034,344,2044,null,{"$f":"HLOOKUP(Calc!$Y$8,look1,Sunrise_set!A53+2)","v":344},{"$f":"HLOOKUP(Calc!$Z$8,look1,Sunrise_set!A53+2)","v":2044}]
[52,352,1957,356,2008,359,1957,404,2019,401,2008,347,2020,358,2015,405,2000,359,1953,414,2015,416,2006,353,2014,352,2036,342,2046,null,{"$f":"HLOOKUP(Calc!$Y$8,look1,Sunrise_set!A54+2)","v":342},{"$f":"HLOOKUP(Calc!$Z$8,look1,Sunrise_set!A54+2)","v":2046}]
[53,351,1958,355,2009,358,1958,402,2020,400,2009,346,2022,356,2016,404,2002,358,1954,413,2016,415,2008,352,2015,351,2038,341,2048,null,{"$f":"HLOOKUP(Calc!$Y$8,look1,Sunrise_set!A55+2)","v":341},{"$f":"HLOOKUP(Calc!$Z$8,look1,Sunrise_set!A55+2)","v":2048}]
[54,350,1959,354,2010,357,1959,401,2022,359,2011,344,2023,355,2018,403,2003,357,1956,412,2018,414,2009,351,2017,350,2039,339,2050,null,{"$f":"HLOOKUP(Calc!$Y$8,look1,Sunrise_set!A56+2)","v":339},{"$f":"HLOOKUP(Calc!$Z$8,look1,Sunrise_set!A56+2)","v":2050}]
[55,348,2001,352,2012,356,2000,400,2023,357,2012,343,2025,354,2019,402,2004,356,1957,410,2019,413,2010,349,2018,348,2041,338,2051,null,{"$f":"HLOOKUP(Calc!$Y$8,look1,Sunrise_set!A57+2)","v":338},{"$f":"HLOOKUP(Calc!$Z$8,look1,Sunrise_set!A57+2)","v":2051}]
[56,347,2002,351,2013,355,2002,359,2024,356,2013,342,2026,353,2020,401,2006,355,1958,409,2020,412,2011,348,2019,347,2042,336,2053,null,{"$f":"HLOOKUP(Calc!$Y$8,look1,Sunrise_set!A58+2)","v":336},{"$f":"HLOOKUP(Calc!$Z$8,look1,Sunrise_set!A58+2)","v":2053}]
[57,346,2003,350,2015,354,2003,357,2026,355,2015,340,2028,352,2022,400,2007,354,1959,408,2021,411,2013,347,2021,345,2044,335,2055,null,{"$f":"HLOOKUP(Calc!$Y$8,look1,Sunrise_set!A59+2)","v":335},{"$f":"HLOOKUP(Calc!$Z$8,look1,Sunrise_set!A59+2)","v":2055}]
[58,345,2004,349,2016,353,2004,356,2027,354,2016,339,2029,350,2023,359,2008,353,2001,407,2023,410,2014,346,2022,344,2045,333,2056,null,{"$f":"HLOOKUP(Calc!$Y$8,look1,Sunrise_set!A60+2)","v":333},{"$f":"HLOOKUP(Calc!$Z$8,look1,Sunrise_set!A60+2)","v":2056}]
[59,344,2006,348,2017,352,2005,355,2028,353,2017,338,2030,349,2024,358,2009,352,2002,406,2024,409,2015,345,2024,343,2047,332,2058,null,{"$f":"HLOOKUP(Calc!$Y$8,look1,Sunrise_set!A61+2)","v":332},{"$f":"HLOOKUP(Calc!$Z$8,look1,Sunrise_set!A61+2)","v":2058}]
[60,343,2007,347,2018,351,2007,354,2030,352,2018,337,2032,348,2026,357,2010,351,2003,405,2025,408,2016,344,2025,342,2048,330,2100,null,{"$f":"HLOOKUP(Calc!$Y$8,look1,Sunrise_set!A62+2)","v":330},{"$f":"HLOOKUP(Calc!$Z$8,look1,Sunrise_set!A62+2)","v":2100}]
[61,342,2008,346,2019,350,2008,353,2031,351,2020,336,2033,347,2027,356,2011,350,2004,404,2026,407,2017,343,2026,341,2050,329,2101,null,{"$f":"HLOOKUP(Calc!$Y$8,look1,Sunrise_set!A63+2)","v":329},{"$f":"HLOOKUP(Calc!$Z$8,look1,Sunrise_set!A63+2)","v":2101}]
[62,342,2009,345,2021,349,2009,352,2032,350,2021,335,2034,346,2028,356,2012,349,2005,404,2027,406,2018,342,2027,340,2051,328,2103,null,{"$f":"HLOOKUP(Calc!$Y$8,look1,Sunrise_set!A64+2)","v":328},{"$f":"HLOOKUP(Calc!$Z$8,look1,Sunrise_set!A64+2)","v":2103}]
[63,341,2010,344,2022,348,2010,352,2033,350,2022,334,2036,346,2029,355,2014,348,2006,403,2028,406,2019,341,2028,339,2052,327,2104,null,{"$f":"HLOOKUP(Calc!$Y$8,look1,Sunrise_set!A65+2)","v":327},{"$f":"HLOOKUP(Calc!$Z$8,look1,Sunrise_set!A65+2)","v":2104}]
[64,340,2011,344,2023,348,2011,351,2034,349,2023,333,2037,345,2030,354,2015,348,2007,402,2029,405,2020,340,2030,338,2054,326,2105,null,{"$f":"HLOOKUP(Calc!$Y$8,look1,Sunrise_set!A66+2)","v":326},{"$f":"HLOOKUP(Calc!$Z$8,look1,Sunrise_set!A66+2)","v":2105}]
[65,339,2012,343,2024,347,2012,350,2035,348,2024,332,2038,344,2031,354,2016,347,2008,402,2030,404,2021,339,2031,337,2055,325,2107,null,{"$f":"HLOOKUP(Calc!$Y$8,look1,Sunrise_set!A67+2)","v":325},{"$f":"HLOOKUP(Calc!$Z$8,look1,Sunrise_set!A67+2)","v":2107}]
[66,339,2013,342,2025,346,2013,349,2036,348,2025,331,2039,343,2032,353,2016,346,2009,401,2031,404,2022,339,2032,336,2056,324,2108,null,{"$f":"HLOOKUP(Calc!$Y$8,look1,Sunrise_set!A68+2)","v":324},{"$f":"HLOOKUP(Calc!$Z$8,look1,Sunrise_set!A68+2)","v":2108}]
[67,338,2014,342,2026,346,2014,349,2037,347,2026,331,2040,343,2033,352,2017,346,2010,400,2032,403,2023,338,2033,335,2057,323,2109,null,{"$f":"HLOOKUP(Calc!$Y$8,look1,Sunrise_set!A69+2)","v":323},{"$f":"HLOOKUP(Calc!$Z$8,look1,Sunrise_set!A69+2)","v":2109}]
[68,338,2015,341,2027,345,2014,348,2038,346,2027,330,2041,342,2034,352,2018,345,2011,400,2033,403,2024,337,2034,334,2058,322,2110,null,{"$f":"HLOOKUP(Calc!$Y$8,look1,Sunrise_set!A70+2)","v":322},{"$f":"HLOOKUP(Calc!$Z$8,look1,Sunrise_set!A70+2)","v":2110}]
[69,337,2016,340,2028,345,2015,348,2039,346,2028,329,2042,342,2035,351,2019,345,2012,359,2034,402,2025,337,2035,334,2059,321,2111,null,{"$f":"HLOOKUP(Calc!$Y$8,look1,Sunrise_set!A71+2)","v":321},{"$f":"HLOOKUP(Calc!$Z$8,look1,Sunrise_set!A71+2)","v":2111}]
[70,337,2017,340,2028,344,2016,347,2040,345,2028,329,2043,341,2036,351,2020,345,2012,359,2035,402,2025,336,2035,333,2100,321,2112,null,{"$f":"HLOOKUP(Calc!$Y$8,look1,Sunrise_set!A72+2)","v":321},{"$f":"HLOOKUP(Calc!$Z$8,look1,Sunrise_set!A72+2)","v":2112}]
[71,336,2017,340,2029,344,2017,347,2041,345,2029,328,2044,341,2037,351,2020,344,2013,359,2035,402,2026,336,2036,333,2101,320,2113,null,{"$f":"HLOOKUP(Calc!$Y$8,look1,Sunrise_set!A73+2)","v":320},{"$f":"HLOOKUP(Calc!$Z$8,look1,Sunrise_set!A73+2)","v":2113}]
[72,336,2018,339,2030,344,2017,346,2041,345,2030,328,2045,340,2038,350,2021,344,2014,358,2036,401,2027,336,2037,332,2102,320,2114,null,{"$f":"HLOOKUP(Calc!$Y$8,look1,Sunrise_set!A74+2)","v":320},{"$f":"HLOOKUP(Calc!$Z$8,look1,Sunrise_set!A74+2)","v":2114}]
[73,336,2019,339,2031,343,2018,346,2042,344,2030,328,2045,340,2038,350,2022,344,2014,358,2037,401,2027,335,2038,332,2102,319,2115,null,{"$f":"HLOOKUP(Calc!$Y$8,look1,Sunrise_set!A75+2)","v":319},{"$f":"HLOOKUP(Calc!$Z$8,look1,Sunrise_set!A75+2)","v":2115}]
[74,335,2019,339,2031,343,2019,346,2043,344,2031,327,2046,340,2039,350,2022,343,2015,358,2037,401,2028,335,2038,331,2103,319,2116,null,{"$f":"HLOOKUP(Calc!$Y$8,look1,Sunrise_set!A76+2)","v":319},{"$f":"HLOOKUP(Calc!$Z$8,look1,Sunrise_set!A76+2)","v":2116}]
[75,335,2020,339,2032,343,2019,346,2043,344,2032,327,2047,340,2039,350,2023,343,2015,358,2038,401,2028,335,2039,331,2104,318,2116,null,{"$f":"HLOOKUP(Calc!$Y$8,look1,Sunrise_set!A77+2)","v":318},{"$f":"HLOOKUP(Calc!$Z$8,look1,Sunrise_set!A77+2)","v":2116}]
[76,335,2020,338,2032,343,2020,345,2044,344,2032,327,2047,339,2040,350,2023,343,2016,357,2038,401,2029,335,2039,331,2104,318,2117,null,{"$f":"HLOOKUP(Calc!$Y$8,look1,Sunrise_set!A78+2)","v":318},{"$f":"HLOOKUP(Calc!$Z$8,look1,Sunrise_set!A78+2)","v":2117}]
[77,335,2021,338,2033,343,2020,345,2044,344,2033,327,2048,339,2040,350,2024,343,2016,357,2039,401,2029,335,2040,331,2105,318,2118,null,{"$f":"HLOOKUP(Calc!$Y$8,look1,Sunrise_set!A79+2)","v":318},{"$f":"HLOOKUP(Calc!$Z$8,look1,Sunrise_set!A79+2)","v":2118}]
[78,335,2021,338,2033,343,2021,345,2045,344,2033,327,2048,339,2041,350,2024,343,2017,357,2039,401,2030,335,2040,331,2105,318,2118,null,{"$f":"HLOOKUP(Calc!$Y$8,look1,Sunrise_set!A80+2)","v":318},{"$f":"HLOOKUP(Calc!$Z$8,look1,Sunrise_set!A80+2)","v":2118}]
[79,335,2022,338,2034,343,2021,345,2045,344,2033,327,2049,339,2041,350,2025,343,2017,357,2040,401,2030,335,2041,331,2106,318,2118,null,{"$f":"HLOOKUP(Calc!$Y$8,look1,Sunrise_set!A81+2)","v":318},{"$f":"HLOOKUP(Calc!$Z$8,look1,Sunrise_set!A81+2)","v":2118}]
[80,335,2022,338,2034,343,2021,345,2045,344,2034,327,2049,339,2042,350,2025,343,2017,358,2040,401,2030,335,2041,331,2106,318,2119,null,{"$f":"HLOOKUP(Calc!$Y$8,look1,Sunrise_set!A82+2)","v":318},{"$f":"HLOOKUP(Calc!$Z$8,look1,Sunrise_set!A82+2)","v":2119}]
[81,335,2022,339,2034,343,2021,346,2046,344,2034,327,2049,340,2042,350,2025,343,2018,358,2040,401,2031,335,2041,331,2106,318,2119,null,{"$f":"HLOOKUP(Calc!$Y$8,look1,Sunrise_set!A83+2)","v":318},{"$f":"HLOOKUP(Calc!$Z$8,look1,Sunrise_set!A83+2)","v":2119}]
[82,336,2022,339,2034,343,2022,346,2046,344,2034,327,2049,340,2042,350,2025,344,2018,358,2040,401,2031,335,2041,331,2106,318,2119,null,{"$f":"HLOOKUP(Calc!$Y$8,look1,Sunrise_set!A84+2)","v":318},{"$f":"HLOOKUP(Calc!$Z$8,look1,Sunrise_set!A84+2)","v":2119}]
[83,336,2023,339,2034,344,2022,346,2046,345,2034,327,2049,340,2042,350,2025,344,2018,358,2041,401,2031,335,2042,331,2106,318,2119,null,{"$f":"HLOOKUP(Calc!$Y$8,look1,Sunrise_set!A85+2)","v":318},{"$f":"HLOOKUP(Calc!$Z$8,look1,Sunrise_set!A85+2)","v":2119}]
[84,336,2023,339,2035,344,2022,346,2046,345,2034,328,2049,340,2042,351,2026,344,2018,358,2041,402,2031,336,2042,332,2107,319,2119,null,{"$f":"HLOOKUP(Calc!$Y$8,look1,Sunrise_set!A86+2)","v":319},{"$f":"HLOOKUP(Calc!$Z$8,look1,Sunrise_set!A86+2)","v":2119}]
[85,336,2023,340,2035,344,2022,347,2046,345,2034,328,2049,341,2042,351,2026,345,2018,359,2041,402,2031,336,2042,332,2107,319,2119,null,{"$f":"HLOOKUP(Calc!$Y$8,look1,Sunrise_set!A87+2)","v":319},{"$f":"HLOOKUP(Calc!$Z$8,look1,Sunrise_set!A87+2)","v":2119}]
[86,337,2023,340,2035,345,2022,347,2046,346,2034,328,2049,341,2042,351,2026,345,2018,359,2041,402,2031,336,2042,333,2106,320,2119,null,{"$f":"HLOOKUP(Calc!$Y$8,look1,Sunrise_set!A88+2)","v":320},{"$f":"HLOOKUP(Calc!$Z$8,look1,Sunrise_set!A88+2)","v":2119}]
[87,337,2023,341,2034,345,2022,348,2046,346,2034,329,2049,342,2042,352,2026,345,2018,400,2041,403,2031,337,2042,333,2106,320,2119,null,{"$f":"HLOOKUP(Calc!$Y$8,look1,Sunrise_set!A89+2)","v":320},{"$f":"HLOOKUP(Calc!$Z$8,look1,Sunrise_set!A89+2)","v":2119}]
[88,338,2022,341,2034,346,2022,348,2046,347,2034,330,2049,342,2042,352,2025,346,2018,400,2040,403,2031,337,2041,334,2106,321,2119,null,{"$f":"HLOOKUP(Calc!$Y$8,look1,Sunrise_set!A90+2)","v":321},{"$f":"HLOOKUP(Calc!$Z$8,look1,Sunrise_set!A90+2)","v":2119}]
[89,338,2022,342,2034,346,2022,349,2046,347,2034,330,2049,343,2042,353,2025,346,2018,401,2040,404,2031,338,2041,334,2106,322,2119,null,{"$f":"HLOOKUP(Calc!$Y$8,look1,Sunrise_set!A91+2)","v":322},{"$f":"HLOOKUP(Calc!$Z$8,look1,Sunrise_set!A91+2)","v":2119}]
[90,339,2022,342,2034,347,2021,349,2045,348,2034,331,2049,343,2041,353,2025,347,2018,401,2040,404,2031,339,2041,335,2106,322,2118,null,{"$f":"HLOOKUP(Calc!$Y$8,look1,Sunrise_set!A92+2)","v":322},{"$f":"HLOOKUP(Calc!$Z$8,look1,Sunrise_set!A92+2)","v":2118}]
[91,340,2022,343,2034,347,2021,350,2045,348,2033,332,2048,344,2041,354,2025,348,2017,402,2040,405,2030,339,2041,336,2105,323,2118,null,{"$f":"HLOOKUP(Calc!$Y$8,look1,Sunrise_set!A93+2)","v":323},{"$f":"HLOOKUP(Calc!$Z$8,look1,Sunrise_set!A93+2)","v":2118}]
[92,340,2021,344,2033,348,2021,351,2045,349,2033,332,2048,345,2041,355,2025,348,2017,403,2039,406,2030,340,2040,337,2105,324,2117,null,{"$f":"HLOOKUP(Calc!$Y$8,look1,Sunrise_set!A94+2)","v":324},{"$f":"HLOOKUP(Calc!$Z$8,look1,Sunrise_set!A94+2)","v":2117}]
[93,341,2021,344,2033,349,2020,352,2044,350,2033,333,2047,346,2040,355,2024,349,2017,403,2039,406,2030,341,2040,337,2104,325,2116,null,{"$f":"HLOOKUP(Calc!$Y$8,look1,Sunrise_set!A95+2)","v":325},{"$f":"HLOOKUP(Calc!$Z$8,look1,Sunrise_set!A95+2)","v":2116}]
[94,342,2021,345,2032,350,2020,352,2044,351,2032,334,2047,346,2040,356,2024,350,2016,404,2039,407,2029,342,2039,338,2104,326,2116,null,{"$f":"HLOOKUP(Calc!$Y$8,look1,Sunrise_set!A96+2)","v":326},{"$f":"HLOOKUP(Calc!$Z$8,look1,Sunrise_set!A96+2)","v":2116}]
[95,343,2020,346,2032,350,2020,353,2043,351,2032,335,2046,347,2039,357,2023,351,2016,405,2038,408,2029,342,2039,339,2103,327,2115,null,{"$f":"HLOOKUP(Calc!$Y$8,look1,Sunrise_set!A97+2)","v":327},{"$f":"HLOOKUP(Calc!$Z$8,look1,Sunrise_set!A97+2)","v":2115}]
[96,344,2020,347,2031,351,2019,354,2043,352,2031,336,2045,348,2039,358,2023,351,2015,406,2038,409,2028,343,2038,340,2102,328,2114,null,{"$f":"HLOOKUP(Calc!$Y$8,look1,Sunrise_set!A98+2)","v":328},{"$f":"HLOOKUP(Calc!$Z$8,look1,Sunrise_set!A98+2)","v":2114}]
[97,344,2019,348,2031,352,2018,355,2042,353,2031,337,2045,349,2038,359,2022,352,2015,407,2037,409,2028,344,2037,341,2101,329,2113,null,{"$f":"HLOOKUP(Calc!$Y$8,look1,Sunrise_set!A99+2)","v":329},{"$f":"HLOOKUP(Calc!$Z$8,look1,Sunrise_set!A99+2)","v":2113}]
[98,345,2018,349,2030,353,2018,356,2041,354,2030,338,2044,350,2037,400,2022,353,2014,408,2036,410,2027,345,2037,343,2101,331,2112,null,{"$f":"HLOOKUP(Calc!$Y$8,look1,Sunrise_set!A100+2)","v":331},{"$f":"HLOOKUP(Calc!$Z$8,look1,Sunrise_set!A100+2)","v":2112}]
[99,346,2018,350,2029,354,2017,357,2040,355,2029,339,2043,351,2037,401,2021,354,2014,409,2036,411,2027,346,2036,344,2100,332,2111,null,{"$f":"HLOOKUP(Calc!$Y$8,look1,Sunrise_set!A101+2)","v":332},{"$f":"HLOOKUP(Calc!$Z$8,look1,Sunrise_set!A101+2)","v":2111}]
[100,347,2017,351,2028,355,2016,358,2040,356,2028,340,2042,352,2036,402,2020,355,2013,410,2035,412,2026,348,2035,345,2059,333,2110,null,{"$f":"HLOOKUP(Calc!$Y$8,look1,Sunrise_set!A102+2)","v":333},{"$f":"HLOOKUP(Calc!$Z$8,look1,Sunrise_set!A102+2)","v":2110}]
[101,348,2016,352,2028,356,2016,359,2039,357,2028,342,2041,353,2035,403,2019,356,2012,411,2034,413,2025,349,2034,346,2058,335,2109,null,{"$f":"HLOOKUP(Calc!$Y$8,look1,Sunrise_set!A103+2)","v":335},{"$f":"HLOOKUP(Calc!$Z$8,look1,Sunrise_set!A103+2)","v":2109}]
[102,350,2015,353,2027,357,2015,400,2038,358,2027,343,2040,354,2034,404,2019,357,2011,412,2033,414,2024,350,2033,348,2057,336,2108,null,{"$f":"HLOOKUP(Calc!$Y$8,look1,Sunrise_set!A104+2)","v":336},{"$f":"HLOOKUP(Calc!$Z$8,look1,Sunrise_set!A104+2)","v":2108}]
[103,351,2014,354,2026,358,2014,402,2037,359,2026,344,2039,356,2033,405,2018,358,2010,413,2032,415,2024,351,2032,349,2055,338,2107,null,{"$f":"HLOOKUP(Calc!$Y$8,look1,Sunrise_set!A105+2)","v":338},{"$f":"HLOOKUP(Calc!$Z$8,look1,Sunrise_set!A105+2)","v":2107}]
[104,352,2013,356,2025,359,2013,403,2036,401,2025,345,2038,357,2032,406,2017,359,2010,414,2032,416,2023,352,2031,350,2054,339,2105,null,{"$f":"HLOOKUP(Calc!$Y$8,look1,Sunrise_set!A106+2)","v":339},{"$f":"HLOOKUP(Calc!$Z$8,look1,Sunrise_set!A106+2)","v":2105}]
[105,353,2012,357,2024,400,2012,404,2035,402,2024,347,2037,358,2031,407,2016,400,2009,415,2031,417,2022,354,2030,352,2053,341,2104,null,{"$f":"HLOOKUP(Calc!$Y$8,look1,Sunrise_set!A107+2)","v":341},{"$f":"HLOOKUP(Calc!$Z$8,look1,Sunrise_set!A107+2)","v":2104}]
[106,354,2011,358,2023,401,2011,405,2034,403,2023,348,2036,359,2030,408,2015,402,2008,416,2030,419,2021,355,2029,353,2052,342,2103,null,{"$f":"HLOOKUP(Calc!$Y$8,look1,Sunrise_set!A108+2)","v":342},{"$f":"HLOOKUP(Calc!$Z$8,look1,Sunrise_set!A108+2)","v":2103}]
[107,355,2010,359,2021,403,2010,407,2033,404,2022,350,2034,401,2029,409,2014,403,2007,417,2028,420,2020,356,2028,355,2050,344,2101,null,{"$f":"HLOOKUP(Calc!$Y$8,look1,Sunrise_set!A109+2)","v":344},{"$f":"HLOOKUP(Calc!$Z$8,look1,Sunrise_set!A109+2)","v":2101}]
[108,357,2009,401,2020,404,2009,408,2031,406,2021,351,2033,402,2027,410,2013,404,2006,419,2027,421,2019,358,2027,356,2049,346,2100,null,{"$f":"HLOOKUP(Calc!$Y$8,look1,Sunrise_set!A110+2)","v":346},{"$f":"HLOOKUP(Calc!$Z$8,look1,Sunrise_set!A110+2)","v":2100}]
[109,358,2008,402,2019,405,2008,409,2030,407,2019,353,2032,403,2026,412,2012,405,2004,420,2026,422,2018,359,2025,358,2048,347,2058,null,{"$f":"HLOOKUP(Calc!$Y$8,look1,Sunrise_set!A111+2)","v":347},{"$f":"HLOOKUP(Calc!$Z$8,look1,Sunrise_set!A111+2)","v":2058}]
[110,359,2007,403,2018,406,2007,411,2029,408,2018,354,2030,405,2025,413,2011,406,2003,421,2025,423,2017,400,2024,359,2046,349,2056,null,{"$f":"HLOOKUP(Calc!$Y$8,look1,Sunrise_set!A112+2)","v":349},{"$f":"HLOOKUP(Calc!$Z$8,look1,Sunrise_set!A112+2)","v":2056}]
[111,401,2005,405,2016,408,2005,412,2027,410,2017,356,2029,406,2023,414,2009,408,2002,423,2024,425,2015,402,2023,401,2045,351,2055,null,{"$f":"HLOOKUP(Calc!$Y$8,look1,Sunrise_set!A113+2)","v":351},{"$f":"HLOOKUP(Calc!$Z$8,look1,Sunrise_set!A113+2)","v":2055}]
[112,402,2004,406,2015,409,2004,414,2026,411,2016,357,2027,408,2022,416,2008,409,2001,424,2023,426,2014,403,2021,403,2043,353,2053,null,{"$f":"HLOOKUP(Calc!$Y$8,look1,Sunrise_set!A114+2)","v":353},{"$f":"HLOOKUP(Calc!$Z$8,look1,Sunrise_set!A114+2)","v":2053}]
[113,403,2003,408,2014,410,2003,415,2025,412,2014,359,2026,409,2021,417,2007,410,2000,425,2021,427,2013,405,2020,404,2041,354,2051,null,{"$f":"HLOOKUP(Calc!$Y$8,look1,Sunrise_set!A115+2)","v":354},{"$f":"HLOOKUP(Calc!$Z$8,look1,Sunrise_set!A115+2)","v":2051}]
[114,405,2001,409,2012,412,2002,417,2023,414,2013,400,2024,411,2019,418,2006,412,1958,427,2020,429,2012,406,2018,406,2040,356,2049,null,{"$f":"HLOOKUP(Calc!$Y$8,look1,Sunrise_set!A116+2)","v":356},{"$f":"HLOOKUP(Calc!$Z$8,look1,Sunrise_set!A116+2)","v":2049}]
[115,406,2000,410,2011,413,2000,418,2022,415,2011,402,2023,412,2018,420,2004,413,1957,428,2018,430,2010,408,2017,408,2038,358,2047,null,{"$f":"HLOOKUP(Calc!$Y$8,look1,Sunrise_set!A117+2)","v":358},{"$f":"HLOOKUP(Calc!$Z$8,look1,Sunrise_set!A117+2)","v":2047}]
[116,408,1959,412,2009,415,1959,420,2020,417,2010,404,2021,414,2016,421,2003,414,1956,430,2017,431,2009,409,2015,409,2036,400,2046,null,{"$f":"HLOOKUP(Calc!$Y$8,look1,Sunrise_set!A118+2)","v":400},{"$f":"HLOOKUP(Calc!$Z$8,look1,Sunrise_set!A118+2)","v":2046}]
[117,409,1957,414,2008,416,1957,421,2019,418,2008,405,2019,415,2015,422,2001,416,1954,431,2016,433,2008,411,2013,411,2035,402,2044,null,{"$f":"HLOOKUP(Calc!$Y$8,look1,Sunrise_set!A119+2)","v":402},{"$f":"HLOOKUP(Calc!$Z$8,look1,Sunrise_set!A119+2)","v":2044}]
[118,411,1956,415,2006,417,1956,423,2017,420,2007,407,2017,417,2013,424,2000,417,1953,433,2014,434,2006,413,2012,413,2033,404,2042,null,{"$f":"HLOOKUP(Calc!$Y$8,look1,Sunrise_set!A120+2)","v":404},{"$f":"HLOOKUP(Calc!$Z$8,look1,Sunrise_set!A120+2)","v":2042}]
[119,412,1954,417,2005,419,1954,424,2015,421,2005,409,2016,419,2011,425,1959,419,1951,434,2013,435,2005,414,2010,415,2031,406,2040,null,{"$f":"HLOOKUP(Calc!$Y$8,look1,Sunrise_set!A121+2)","v":406},{"$f":"HLOOKUP(Calc!$Z$8,look1,Sunrise_set!A121+2)","v":2040}]
[120,414,1952,418,2003,420,1953,426,2014,423,2004,410,2014,420,2010,427,1957,420,1950,435,2011,437,2003,416,2008,417,2029,408,2038,null,{"$f":"HLOOKUP(Calc!$Y$8,look1,Sunrise_set!A122+2)","v":408},{"$f":"HLOOKUP(Calc!$Z$8,look1,Sunrise_set!A122+2)","v":2038}]
[121,415,1951,420,2001,422,1951,427,2012,424,2002,412,2012,422,2008,428,1955,422,1948,437,2009,438,2002,418,2007,418,2027,410,2035,null,{"$f":"HLOOKUP(Calc!$Y$8,look1,Sunrise_set!A123+2)","v":410},{"$f":"HLOOKUP(Calc!$Z$8,look1,Sunrise_set!A123+2)","v":2035}]
[122,417,1949,421,2000,423,1950,429,2010,426,2000,414,2010,423,2006,430,1954,423,1947,439,2008,440,2000,419,2005,420,2025,412,2033,null,{"$f":"HLOOKUP(Calc!$Y$8,look1,Sunrise_set!A124+2)","v":412},{"$f":"HLOOKUP(Calc!$Z$8,look1,Sunrise_set!A124+2)","v":2033}]
[123,418,1947,423,1958,425,1948,431,2009,428,1959,416,2008,425,2004,431,1952,424,1945,440,2006,441,1959,421,2003,422,2023,414,2031,null,{"$f":"HLOOKUP(Calc!$Y$8,look1,Sunrise_set!A125+2)","v":414},{"$f":"HLOOKUP(Calc!$Z$8,look1,Sunrise_set!A125+2)","v":2031}]
[124,420,1946,425,1956,426,1946,432,2007,429,1957,418,2006,427,2003,433,1951,426,1943,442,2004,443,1957,423,2001,424,2021,416,2029,null,{"$f":"HLOOKUP(Calc!$Y$8,look1,Sunrise_set!A126+2)","v":416},{"$f":"HLOOKUP(Calc!$Z$8,look1,Sunrise_set!A126+2)","v":2029}]
[125,421,1944,426,1954,428,1945,434,2005,431,1955,419,2004,428,2001,434,1949,427,1942,443,2003,444,1955,424,1959,426,2019,418,2027,null,{"$f":"HLOOKUP(Calc!$Y$8,look1,Sunrise_set!A127+2)","v":418},{"$f":"HLOOKUP(Calc!$Z$8,look1,Sunrise_set!A127+2)","v":2027}]
[126,423,1942,428,1953,429,1943,436,2003,432,1953,421,2002,430,1959,436,1947,429,1940,445,2001,446,1954,426,1958,428,2017,420,2025,null,{"$f":"HLOOKUP(Calc!$Y$8,look1,Sunrise_set!A128+2)","v":420},{"$f":"HLOOKUP(Calc!$Z$8,look1,Sunrise_set!A128+2)","v":2025}]
[127,425,1940,430,1951,431,1941,437,2001,434,1952,423,2000,432,1957,437,1946,431,1938,446,1959,447,1952,428,1956,430,2015,422,2022,null,{"$f":"HLOOKUP(Calc!$Y$8,look1,Sunrise_set!A129+2)","v":422},{"$f":"HLOOKUP(Calc!$Z$8,look1,Sunrise_set!A129+2)","v":2022}]
[128,426,1939,431,1949,433,1940,439,1959,436,1950,425,1958,433,1955,439,1944,432,1936,448,1957,449,1950,429,1954,432,2013,424,2020,null,{"$f":"HLOOKUP(Calc!$Y$8,look1,Sunrise_set!A130+2)","v":424},{"$f":"HLOOKUP(Calc!$Z$8,look1,Sunrise_set!A130+2)","v":2020}]
[129,428,1937,433,1947,434,1938,441,1957,437,1948,427,1956,435,1953,440,1942,434,1935,449,1956,450,1949,431,1952,433,2010,426,2018,null,{"$f":"HLOOKUP(Calc!$Y$8,look1,Sunrise_set!A131+2)","v":426},{"$f":"HLOOKUP(Calc!$Z$8,look1,Sunrise_set!A131+2)","v":2018}]
[130,429,1935,435,1945,436,1936,442,1955,439,1946,428,1954,437,1951,442,1940,435,1933,451,1954,452,1947,433,1950,435,2008,428,2015,null,{"$f":"HLOOKUP(Calc!$Y$8,look1,Sunrise_set!A132+2)","v":428},{"$f":"HLOOKUP(Calc!$Z$8,look1,Sunrise_set!A132+2)","v":2015}]
[131,431,1933,436,1943,437,1934,444,1953,440,1944,430,1952,439,1949,443,1938,437,1931,453,1952,453,1945,435,1948,437,2006,430,2013,null,{"$f":"HLOOKUP(Calc!$Y$8,look1,Sunrise_set!A133+2)","v":430},{"$f":"HLOOKUP(Calc!$Z$8,look1,Sunrise_set!A133+2)","v":2013}]
[132,433,1931,438,1941,439,1932,446,1951,442,1942,432,1950,440,1947,445,1936,438,1929,454,1950,455,1943,436,1946,439,2004,432,2011,null,{"$f":"HLOOKUP(Calc!$Y$8,look1,Sunrise_set!A134+2)","v":432},{"$f":"HLOOKUP(Calc!$Z$8,look1,Sunrise_set!A134+2)","v":2011}]
[133,434,1929,440,1939,440,1930,448,1949,444,1940,434,1948,442,1945,446,1935,440,1927,456,1948,456,1941,438,1944,441,2002,435,2008,null,{"$f":"HLOOKUP(Calc!$Y$8,look1,Sunrise_set!A135+2)","v":435},{"$f":"HLOOKUP(Calc!$Z$8,look1,Sunrise_set!A135+2)","v":2008}]
[134,436,1927,441,1937,442,1928,449,1947,445,1938,436,1945,444,1943,448,1933,441,1925,457,1946,458,1939,440,1941,443,1959,437,2006,null,{"$f":"HLOOKUP(Calc!$Y$8,look1,Sunrise_set!A136+2)","v":437},{"$f":"HLOOKUP(Calc!$Z$8,look1,Sunrise_set!A136+2)","v":2006}]
[135,438,1925,443,1935,443,1926,451,1945,447,1936,438,1943,446,1941,450,1931,443,1924,459,1944,459,1938,442,1939,445,1957,439,2003,null,{"$f":"HLOOKUP(Calc!$Y$8,look1,Sunrise_set!A137+2)","v":439},{"$f":"HLOOKUP(Calc!$Z$8,look1,Sunrise_set!A137+2)","v":2003}]
[136,439,1923,445,1933,445,1924,453,1943,449,1934,440,1941,447,1939,451,1929,444,1922,501,1942,501,1936,443,1937,447,1955,441,2001,null,{"$f":"HLOOKUP(Calc!$Y$8,look1,Sunrise_set!A138+2)","v":441},{"$f":"HLOOKUP(Calc!$Z$8,look1,Sunrise_set!A138+2)","v":2001}]
[137,441,1921,446,1931,447,1922,454,1941,450,1932,441,1939,449,1937,453,1927,446,1920,502,1940,502,1934,445,1935,449,1952,443,1958,null,{"$f":"HLOOKUP(Calc!$Y$8,look1,Sunrise_set!A139+2)","v":443},{"$f":"HLOOKUP(Calc!$Z$8,look1,Sunrise_set!A139+2)","v":1958}]
[138,443,1919,448,1929,448,1920,456,1939,452,1930,443,1936,451,1934,454,1925,447,1918,504,1938,504,1932,447,1933,451,1950,445,1956,null,{"$f":"HLOOKUP(Calc!$Y$8,look1,Sunrise_set!A140+2)","v":445},{"$f":"HLOOKUP(Calc!$Z$8,look1,Sunrise_set!A140+2)","v":1956}]
[139,444,1917,450,1926,450,1918,458,1937,454,1928,445,1934,452,1932,456,1923,449,1916,505,1936,505,1930,449,1931,453,1948,447,1953,null,{"$f":"HLOOKUP(Calc!$Y$8,look1,Sunrise_set!A141+2)","v":447},{"$f":"HLOOKUP(Calc!$Z$8,look1,Sunrise_set!A141+2)","v":1953}]
[140,446,1915,451,1924,451,1916,500,1935,455,1926,447,1932,454,1930,457,1921,451,1914,507,1934,507,1928,451,1928,455,1945,449,1951,null,{"$f":"HLOOKUP(Calc!$Y$8,look1,Sunrise_set!A142+2)","v":449},{"$f":"HLOOKUP(Calc!$Z$8,look1,Sunrise_set!A142+2)","v":1951}]
[141,447,1913,453,1922,453,1914,501,1932,457,1924,449,1930,456,1928,459,1919,452,1912,509,1932,508,1926,452,1926,457,1943,451,1948,null,{"$f":"HLOOKUP(Calc!$Y$8,look1,Sunrise_set!A143+2)","v":451},{"$f":"HLOOKUP(Calc!$Z$8,look1,Sunrise_set!A143+2)","v":1948}]
[142,449,1911,455,1920,455,1912,503,1930,459,1921,451,1927,458,1926,500,1917,454,1910,510,1930,510,1924,454,1924,459,1940,453,1945,null,{"$f":"HLOOKUP(Calc!$Y$8,look1,Sunrise_set!A144+2)","v":453},{"$f":"HLOOKUP(Calc!$Z$8,look1,Sunrise_set!A144+2)","v":1945}]
[143,451,1908,456,1918,456,1910,505,1928,500,1919,453,1925,459,1923,502,1915,455,1908,512,1928,511,1922,456,1922,501,1938,456,1943,null,{"$f":"HLOOKUP(Calc!$Y$8,look1,Sunrise_set!A145+2)","v":456},{"$f":"HLOOKUP(Calc!$Z$8,look1,Sunrise_set!A145+2)","v":1943}]
[144,452,1906,458,1916,458,1908,507,1926,502,1917,455,1922,501,1921,504,1913,457,1905,513,1925,513,1920,458,1919,503,1936,458,1940,null,{"$f":"HLOOKUP(Calc!$Y$8,look1,Sunrise_set!A146+2)","v":458},{"$f":"HLOOKUP(Calc!$Z$8,look1,Sunrise_set!A146+2)","v":1940}]
[145,454,1904,500,1913,459,1906,508,1923,504,1915,456,1920,503,1919,505,1910,458,1903,515,1923,514,1918,459,1917,504,1933,500,1938,null,{"$f":"HLOOKUP(Calc!$Y$8,look1,Sunrise_set!A147+2)","v":500},{"$f":"HLOOKUP(Calc!$Z$8,look1,Sunrise_set!A147+2)","v":1938}]
[146,456,1902,502,1911,501,1904,510,1921,505,1913,458,1918,505,1917,507,1908,500,1901,517,1921,516,1916,501,1915,506,1931,502,1935,null,{"$f":"HLOOKUP(Calc!$Y$8,look1,Sunrise_set!A148+2)","v":502},{"$f":"HLOOKUP(Calc!$Z$8,look1,Sunrise_set!A148+2)","v":1935}]
[147,457,1900,503,1909,503,1902,512,1919,507,1910,500,1915,506,1914,508,1906,502,1859,518,1919,518,1913,503,1912,508,1928,504,1932,null,{"$f":"HLOOKUP(Calc!$Y$8,look1,Sunrise_set!A149+2)","v":504},{"$f":"HLOOKUP(Calc!$Z$8,look1,Sunrise_set!A149+2)","v":1932}]
[148,459,1857,505,1907,504,1859,513,1917,509,1908,502,1913,508,1912,510,1904,503,1857,520,1917,519,1911,505,1910,510,1926,506,1930,null,{"$f":"HLOOKUP(Calc!$Y$8,look1,Sunrise_set!A150+2)","v":506},{"$f":"HLOOKUP(Calc!$Z$8,look1,Sunrise_set!A150+2)","v":1930}]
[149,501,1855,507,1904,506,1857,515,1914,510,1906,504,1910,510,1910,511,1902,505,1855,522,1915,521,1909,506,1908,512,1923,508,1927,null,{"$f":"HLOOKUP(Calc!$Y$8,look1,Sunrise_set!A151+2)","v":508},{"$f":"HLOOKUP(Calc!$Z$8,look1,Sunrise_set!A151+2)","v":1927}]
[150,502,1853,508,1902,507,1855,517,1912,512,1904,506,1908,512,1907,513,1900,506,1853,523,1912,522,1907,508,1905,514,1920,510,1924,null,{"$f":"HLOOKUP(Calc!$Y$8,look1,Sunrise_set!A152+2)","v":510},{"$f":"HLOOKUP(Calc!$Z$8,look1,Sunrise_set!A152+2)","v":1924}]
[151,504,1851,510,1900,509,1853,519,1910,514,1901,508,1905,513,1905,515,1858,508,1851,525,1910,524,1905,510,1903,516,1918,512,1922,null,{"$f":"HLOOKUP(Calc!$Y$8,look1,Sunrise_set!A153+2)","v":512},{"$f":"HLOOKUP(Calc!$Z$8,look1,Sunrise_set!A153+2)","v":1922}]
[152,506,1849,512,1857,511,1851,520,1907,515,1859,509,1903,515,1903,516,1855,509,1848,526,1908,525,1903,512,1901,518,1915,514,1919,null,{"$f":"HLOOKUP(Calc!$Y$8,look1,Sunrise_set!A154+2)","v":514},{"$f":"HLOOKUP(Calc!$Z$8,look1,Sunrise_set!A154+2)","v":1919}]
[153,507,1846,514,1855,512,1849,522,1905,517,1857,511,1900,517,1900,518,1853,511,1846,528,1906,527,1901,514,1858,520,1913,517,1916,null,{"$f":"HLOOKUP(Calc!$Y$8,look1,Sunrise_set!A155+2)","v":517},{"$f":"HLOOKUP(Calc!$Z$8,look1,Sunrise_set!A155+2)","v":1916}]
[154,509,1844,515,1853,514,1846,524,1903,519,1855,513,1858,519,1858,519,1851,513,1844,530,1903,528,1858,515,1856,522,1910,519,1913,null,{"$f":"HLOOKUP(Calc!$Y$8,look1,Sunrise_set!A156+2)","v":519},{"$f":"HLOOKUP(Calc!$Z$8,look1,Sunrise_set!A156+2)","v":1913}]
[155,511,1842,517,1850,515,1844,526,1900,520,1852,515,1855,520,1856,521,1849,514,1842,531,1901,530,1856,517,1853,524,1908,521,1911,null,{"$f":"HLOOKUP(Calc!$Y$8,look1,Sunrise_set!A157+2)","v":521},{"$f":"HLOOKUP(Calc!$Z$8,look1,Sunrise_set!A157+2)","v":1911}]
[156,512,1839,519,1848,517,1842,527,1858,522,1850,517,1853,522,1853,523,1847,516,1840,533,1859,531,1854,519,1851,526,1905,523,1908,null,{"$f":"HLOOKUP(Calc!$Y$8,look1,Sunrise_set!A158+2)","v":523},{"$f":"HLOOKUP(Calc!$Z$8,look1,Sunrise_set!A158+2)","v":1908}]
[157,514,1837,520,1846,518,1840,529,1855,524,1848,519,1850,524,1851,524,1844,517,1837,535,1857,533,1852,521,1849,528,1902,525,1905,null,{"$f":"HLOOKUP(Calc!$Y$8,look1,Sunrise_set!A159+2)","v":525},{"$f":"HLOOKUP(Calc!$Z$8,look1,Sunrise_set!A159+2)","v":1905}]
[158,515,1835,522,1843,520,1837,531,1853,525,1845,521,1848,526,1848,526,1842,519,1835,536,1854,535,1850,522,1846,530,1900,527,1903,null,{"$f":"HLOOKUP(Calc!$Y$8,look1,Sunrise_set!A160+2)","v":527},{"$f":"HLOOKUP(Calc!$Z$8,look1,Sunrise_set!A160+2)","v":1903}]
[159,517,1832,524,1841,522,1835,533,1851,527,1843,522,1845,527,1846,527,1840,520,1833,538,1852,536,1848,524,1844,532,1857,529,1900,null,{"$f":"HLOOKUP(Calc!$Y$8,look1,Sunrise_set!A161+2)","v":529},{"$f":"HLOOKUP(Calc!$Z$8,look1,Sunrise_set!A161+2)","v":1900}]
[160,519,1830,525,1839,523,1833,534,1848,529,1841,524,1843,529,1844,529,1838,522,1831,539,1850,538,1845,526,1841,534,1855,531,1857,null,{"$f":"HLOOKUP(Calc!$Y$8,look1,Sunrise_set!A162+2)","v":531},{"$f":"HLOOKUP(Calc!$Z$8,look1,Sunrise_set!A162+2)","v":1857}]
[161,520,1828,527,1836,525,1831,536,1846,530,1838,526,1840,531,1841,530,1835,524,1828,541,1848,539,1843,528,1839,536,1852,533,1854,null,{"$f":"HLOOKUP(Calc!$Y$8,look1,Sunrise_set!A163+2)","v":533},{"$f":"HLOOKUP(Calc!$Z$8,look1,Sunrise_set!A163+2)","v":1854}]
[162,522,1825,529,1834,526,1828,538,1843,532,1836,528,1838,533,1839,532,1833,525,1826,543,1845,541,1841,529,1836,538,1849,535,1852,null,{"$f":"HLOOKUP(Calc!$Y$8,look1,Sunrise_set!A164+2)","v":535},{"$f":"HLOOKUP(Calc!$Z$8,look1,Sunrise_set!A164+2)","v":1852}]
[163,524,1823,531,1831,528,1826,539,1841,534,1834,530,1835,534,1836,534,1831,527,1824,544,1843,542,1839,531,1834,539,1847,537,1849,null,{"$f":"HLOOKUP(Calc!$Y$8,look1,Sunrise_set!A165+2)","v":537},{"$f":"HLOOKUP(Calc!$Z$8,look1,Sunrise_set!A165+2)","v":1849}]
[164,525,1821,532,1829,530,1824,541,1839,535,1831,532,1833,536,1834,535,1829,528,1822,546,1841,544,1836,533,1831,541,1844,540,1846,null,{"$f":"HLOOKUP(Calc!$Y$8,look1,Sunrise_set!A166+2)","v":540},{"$f":"HLOOKUP(Calc!$Z$8,look1,Sunrise_set!A166+2)","v":1846}]
[165,527,1818,534,1827,531,1821,543,1836,537,1829,534,1830,538,1831,537,1826,530,1819,548,1838,545,1834,535,1829,543,1842,542,1843,null,{"$f":"HLOOKUP(Calc!$Y$8,look1,Sunrise_set!A167+2)","v":542},{"$f":"HLOOKUP(Calc!$Z$8,look1,Sunrise_set!A167+2)","v":1843}]
[166,529,1816,536,1824,533,1819,545,1834,539,1826,536,1827,540,1829,538,1824,531,1817,549,1836,547,1832,537,1827,545,1839,544,1840,null,{"$f":"HLOOKUP(Calc!$Y$8,look1,Sunrise_set!A168+2)","v":544},{"$f":"HLOOKUP(Calc!$Z$8,look1,Sunrise_set!A168+2)","v":1840}]
[167,530,1814,537,1822,534,1817,546,1831,540,1824,537,1825,541,1826,540,1822,533,1815,551,1834,548,1830,538,1824,547,1836,546,1838,null,{"$f":"HLOOKUP(Calc!$Y$8,look1,Sunrise_set!A169+2)","v":546},{"$f":"HLOOKUP(Calc!$Z$8,look1,Sunrise_set!A169+2)","v":1838}]
[168,532,1811,539,1819,536,1814,548,1829,542,1822,539,1822,543,1824,541,1819,534,1812,552,1831,550,1827,540,1822,549,1834,548,1835,null,{"$f":"HLOOKUP(Calc!$Y$8,look1,Sunrise_set!A170+2)","v":548},{"$f":"HLOOKUP(Calc!$Z$8,look1,Sunrise_set!A170+2)","v":1835}]
[169,534,1809,541,1817,538,1812,550,1826,544,1819,541,1820,545,1822,543,1817,536,1810,554,1829,551,1825,542,1819,551,1831,550,1832,null,{"$f":"HLOOKUP(Calc!$Y$8,look1,Sunrise_set!A171+2)","v":550},{"$f":"HLOOKUP(Calc!$Z$8,look1,Sunrise_set!A171+2)","v":1832}]
[170,535,1807,542,1815,539,1810,552,1824,545,1817,543,1817,546,1819,545,1815,538,1808,556,1827,553,1823,544,1817,553,1828,552,1829,null,{"$f":"HLOOKUP(Calc!$Y$8,look1,Sunrise_set!A172+2)","v":552},{"$f":"HLOOKUP(Calc!$Z$8,look1,Sunrise_set!A172+2)","v":1829}]
[171,537,1804,544,1812,541,1808,553,1821,547,1815,545,1815,548,1817,546,1813,539,1806,557,1824,555,1821,545,1814,555,1826,554,1826,null,{"$f":"HLOOKUP(Calc!$Y$8,look1,Sunrise_set!A173+2)","v":554},{"$f":"HLOOKUP(Calc!$Z$8,look1,Sunrise_set!A173+2)","v":1826}]
[172,539,1802,546,1810,542,1805,555,1819,549,1812,547,1812,550,1814,548,1810,541,1803,559,1822,556,1818,547,1812,557,1823,556,1824,null,{"$f":"HLOOKUP(Calc!$Y$8,look1,Sunrise_set!A174+2)","v":556},{"$f":"HLOOKUP(Calc!$Z$8,look1,Sunrise_set!A174+2)","v":1824}]
[173,540,1800,548,1807,544,1803,557,1817,550,1810,549,1809,552,1812,549,1808,542,1801,600,1820,558,1816,549,1809,559,1820,558,1821,null,{"$f":"HLOOKUP(Calc!$Y$8,look1,Sunrise_set!A175+2)","v":558},{"$f":"HLOOKUP(Calc!$Z$8,look1,Sunrise_set!A175+2)","v":1821}]
[174,542,1757,549,1805,546,1801,558,1814,552,1807,550,1807,553,1809,551,1806,544,1759,602,1817,559,1814,551,1807,601,1818,600,1818,null,{"$f":"HLOOKUP(Calc!$Y$8,look1,Sunrise_set!A176+2)","v":600},{"$f":"HLOOKUP(Calc!$Z$8,look1,Sunrise_set!A176+2)","v":1818}]
[175,544,1755,551,1802,547,1758,600,1812,554,1805,552,1804,555,1807,552,1803,545,1757,604,1815,601,1812,552,1804,603,1815,602,1815,null,{"$f":"HLOOKUP(Calc!$Y$8,look1,Sunrise_set!A177+2)","v":602},{"$f":"HLOOKUP(Calc!$Z$8,look1,Sunrise_set!A177+2)","v":1815}]
[176,545,1752,553,1800,549,1756,602,1809,555,1803,554,1802,557,1804,554,1801,547,1754,605,1813,602,1809,554,1802,605,1812,604,1812,null,{"$f":"HLOOKUP(Calc!$Y$8,look1,Sunrise_set!A178+2)","v":604},{"$f":"HLOOKUP(Calc!$Z$8,look1,Sunrise_set!A178+2)","v":1812}]
[177,547,1750,554,1758,550,1754,604,1807,557,1800,556,1759,559,1802,556,1759,549,1752,607,1810,604,1807,556,1759,607,1810,607,1810,null,{"$f":"HLOOKUP(Calc!$Y$8,look1,Sunrise_set!A179+2)","v":607},{"$f":"HLOOKUP(Calc!$Z$8,look1,Sunrise_set!A179+2)","v":1810}]
[178,549,1748,556,1755,552,1751,605,1804,559,1758,558,1757,600,1800,557,1757,550,1750,609,1808,605,1805,558,1757,609,1807,609,1807,null,{"$f":"HLOOKUP(Calc!$Y$8,look1,Sunrise_set!A180+2)","v":609},{"$f":"HLOOKUP(Calc!$Z$8,look1,Sunrise_set!A180+2)","v":1807}]
[179,550,1745,558,1753,554,1749,607,1802,600,1756,600,1754,602,1757,559,1754,552,1747,610,1806,607,1803,600,1754,611,1804,611,1804,null,{"$f":"HLOOKUP(Calc!$Y$8,look1,Sunrise_set!A181+2)","v":611},{"$f":"HLOOKUP(Calc!$Z$8,look1,Sunrise_set!A181+2)","v":1804}]
[180,552,1743,600,1750,555,1747,609,1800,602,1753,602,1752,604,1755,600,1752,553,1745,612,1803,609,1800,601,1752,612,1802,613,1801,null,{"$f":"HLOOKUP(Calc!$Y$8,look1,Sunrise_set!A182+2)","v":613},{"$f":"HLOOKUP(Calc!$Z$8,look1,Sunrise_set!A182+2)","v":1801}]
[181,554,1741,601,1748,557,1745,611,1757,604,1751,604,1749,606,1752,602,1750,555,1743,614,1801,610,1758,603,1749,614,1759,615,1759,null,{"$f":"HLOOKUP(Calc!$Y$8,look1,Sunrise_set!A183+2)","v":615},{"$f":"HLOOKUP(Calc!$Z$8,look1,Sunrise_set!A183+2)","v":1759}]
[182,555,1738,603,1746,559,1742,612,1755,606,1749,605,1746,608,1750,604,1748,557,1741,615,1759,612,1756,605,1747,616,1757,617,1756,null,{"$f":"HLOOKUP(Calc!$Y$8,look1,Sunrise_set!A184+2)","v":617},{"$f":"HLOOKUP(Calc!$Z$8,look1,Sunrise_set!A184+2)","v":1756}]
[183,557,1736,605,1743,600,1740,614,1752,607,1746,607,1744,609,1747,605,1745,558,1738,617,1756,613,1754,607,1745,618,1754,619,1753,null,{"$f":"HLOOKUP(Calc!$Y$8,look1,Sunrise_set!A185+2)","v":619},{"$f":"HLOOKUP(Calc!$Z$8,look1,Sunrise_set!A185+2)","v":1753}]
[184,559,1734,607,1741,602,1738,616,1750,609,1744,609,1741,611,1745,607,1743,600,1736,619,1754,615,1751,609,1742,620,1751,621,1750,null,{"$f":"HLOOKUP(Calc!$Y$8,look1,Sunrise_set!A186+2)","v":621},{"$f":"HLOOKUP(Calc!$Z$8,look1,Sunrise_set!A186+2)","v":1750}]
[185,600,1731,608,1739,603,1735,618,1748,611,1741,611,1739,613,1743,608,1741,601,1734,620,1752,616,1749,610,1740,622,1749,623,1748,null,{"$f":"HLOOKUP(Calc!$Y$8,look1,Sunrise_set!A187+2)","v":623},{"$f":"HLOOKUP(Calc!$Z$8,look1,Sunrise_set!A187+2)","v":1748}]
[186,602,1729,610,1736,605,1733,619,1745,612,1739,613,1736,615,1740,610,1739,603,1732,622,1750,618,1747,612,1737,624,1746,626,1745,null,{"$f":"HLOOKUP(Calc!$Y$8,look1,Sunrise_set!A188+2)","v":626},{"$f":"HLOOKUP(Calc!$Z$8,look1,Sunrise_set!A188+2)","v":1745}]
[187,604,1727,612,1734,607,1731,621,1743,614,1737,615,1734,616,1738,612,1736,605,1729,624,1747,620,1745,614,1735,626,1744,628,1742,null,{"$f":"HLOOKUP(Calc!$Y$8,look1,Sunrise_set!A189+2)","v":628},{"$f":"HLOOKUP(Calc!$Z$8,look1,Sunrise_set!A189+2)","v":1742}]
[188,605,1724,614,1731,608,1729,623,1740,616,1734,617,1731,618,1735,613,1734,606,1727,625,1745,621,1743,616,1732,628,1741,630,1739,null,{"$f":"HLOOKUP(Calc!$Y$8,look1,Sunrise_set!A190+2)","v":630},{"$f":"HLOOKUP(Calc!$Z$8,look1,Sunrise_set!A190+2)","v":1739}]
[189,607,1722,615,1729,610,1726,625,1738,618,1732,619,1729,620,1733,615,1732,608,1725,627,1743,623,1740,618,1730,630,1738,632,1737,null,{"$f":"HLOOKUP(Calc!$Y$8,look1,Sunrise_set!A191+2)","v":632},{"$f":"HLOOKUP(Calc!$Z$8,look1,Sunrise_set!A191+2)","v":1737}]
[190,609,1720,617,1727,612,1724,627,1736,619,1730,621,1726,622,1731,617,1730,610,1723,629,1740,624,1738,620,1728,632,1736,634,1734,null,{"$f":"HLOOKUP(Calc!$Y$8,look1,Sunrise_set!A192+2)","v":634},{"$f":"HLOOKUP(Calc!$Z$8,look1,Sunrise_set!A192+2)","v":1734}]
[191,611,1718,619,1724,613,1722,628,1733,621,1728,623,1724,624,1728,618,1727,611,1721,630,1738,626,1736,621,1725,634,1733,636,1731,null,{"$f":"HLOOKUP(Calc!$Y$8,look1,Sunrise_set!A193+2)","v":636},{"$f":"HLOOKUP(Calc!$Z$8,look1,Sunrise_set!A193+2)","v":1731}]
[192,612,1715,621,1722,615,1720,630,1731,623,1725,625,1721,626,1726,620,1725,613,1718,632,1736,628,1734,623,1723,636,1731,639,1729,null,{"$f":"HLOOKUP(Calc!$Y$8,look1,Sunrise_set!A194+2)","v":639},{"$f":"HLOOKUP(Calc!$Z$8,look1,Sunrise_set!A194+2)","v":1729}]
[193,614,1713,622,1720,617,1718,632,1729,624,1723,627,1719,627,1723,622,1723,614,1716,634,1734,629,1732,625,1720,638,1728,641,1726,null,{"$f":"HLOOKUP(Calc!$Y$8,look1,Sunrise_set!A195+2)","v":641},{"$f":"HLOOKUP(Calc!$Z$8,look1,Sunrise_set!A195+2)","v":1726}]
[194,616,1711,624,1717,618,1715,634,1726,626,1721,629,1716,629,1721,623,1721,616,1714,635,1731,631,1730,627,1718,640,1726,643,1723,null,{"$f":"HLOOKUP(Calc!$Y$8,look1,Sunrise_set!A196+2)","v":643},{"$f":"HLOOKUP(Calc!$Z$8,look1,Sunrise_set!A196+2)","v":1723}]
[195,617,1709,626,1715,620,1713,636,1724,628,1718,630,1714,631,1719,625,1719,618,1712,637,1729,633,1728,629,1716,642,1723,645,1721,null,{"$f":"HLOOKUP(Calc!$Y$8,look1,Sunrise_set!A197+2)","v":645},{"$f":"HLOOKUP(Calc!$Z$8,look1,Sunrise_set!A197+2)","v":1721}]
[196,619,1706,628,1713,622,1711,638,1722,630,1716,632,1711,633,1716,627,1717,619,1710,639,1727,634,1725,631,1713,645,1721,647,1718,null,{"$f":"HLOOKUP(Calc!$Y$8,look1,Sunrise_set!A198+2)","v":647},{"$f":"HLOOKUP(Calc!$Z$8,look1,Sunrise_set!A198+2)","v":1718}]
[197,621,1704,630,1711,623,1709,639,1719,632,1714,634,1709,635,1714,628,1714,621,1708,641,1725,636,1723,633,1711,647,1718,649,1715,null,{"$f":"HLOOKUP(Calc!$Y$8,look1,Sunrise_set!A199+2)","v":649},{"$f":"HLOOKUP(Calc!$Z$8,look1,Sunrise_set!A199+2)","v":1715}]
[198,623,1702,631,1708,625,1707,641,1717,633,1712,636,1707,637,1712,630,1712,623,1706,642,1723,637,1721,634,1709,649,1716,652,1713,null,{"$f":"HLOOKUP(Calc!$Y$8,look1,Sunrise_set!A200+2)","v":652},{"$f":"HLOOKUP(Calc!$Z$8,look1,Sunrise_set!A200+2)","v":1713}]
[199,624,1700,633,1706,627,1705,643,1715,635,1710,638,1704,638,1710,632,1710,624,1703,644,1721,639,1719,636,1706,651,1713,654,1710,null,{"$f":"HLOOKUP(Calc!$Y$8,look1,Sunrise_set!A201+2)","v":654},{"$f":"HLOOKUP(Calc!$Z$8,look1,Sunrise_set!A201+2)","v":1710}]
[200,626,1658,635,1704,629,1703,645,1713,637,1707,640,1702,640,1707,633,1708,626,1701,646,1718,641,1717,638,1704,653,1711,656,1707,null,{"$f":"HLOOKUP(Calc!$Y$8,look1,Sunrise_set!A202+2)","v":656},{"$f":"HLOOKUP(Calc!$Z$8,look1,Sunrise_set!A202+2)","v":1707}]
[201,628,1656,637,1702,630,1700,647,1710,639,1705,642,1700,642,1705,635,1706,628,1659,648,1716,642,1715,640,1702,655,1708,658,1705,null,{"$f":"HLOOKUP(Calc!$Y$8,look1,Sunrise_set!A203+2)","v":658},{"$f":"HLOOKUP(Calc!$Z$8,look1,Sunrise_set!A203+2)","v":1705}]
[202,630,1653,639,1700,632,1658,649,1708,640,1703,644,1657,644,1703,637,1704,630,1657,649,1714,644,1713,642,1700,657,1706,700,1702,null,{"$f":"HLOOKUP(Calc!$Y$8,look1,Sunrise_set!A204+2)","v":700},{"$f":"HLOOKUP(Calc!$Z$8,look1,Sunrise_set!A204+2)","v":1702}]
[203,632,1651,641,1657,634,1656,650,1706,642,1701,646,1655,646,1701,638,1702,631,1655,651,1712,646,1711,644,1657,659,1703,703,1700,null,{"$f":"HLOOKUP(Calc!$Y$8,look1,Sunrise_set!A205+2)","v":703},{"$f":"HLOOKUP(Calc!$Z$8,look1,Sunrise_set!A205+2)","v":1700}]
[204,633,1649,642,1655,635,1654,652,1704,644,1659,648,1653,648,1658,640,1700,633,1653,653,1710,647,1709,646,1655,701,1701,705,1657,null,{"$f":"HLOOKUP(Calc!$Y$8,look1,Sunrise_set!A206+2)","v":705},{"$f":"HLOOKUP(Calc!$Z$8,look1,Sunrise_set!A206+2)","v":1657}]
[205,635,1647,644,1653,637,1652,654,1702,646,1657,650,1650,650,1656,642,1658,635,1651,655,1708,649,1707,648,1653,703,1659,707,1655,null,{"$f":"HLOOKUP(Calc!$Y$8,look1,Sunrise_set!A207+2)","v":707},{"$f":"HLOOKUP(Calc!$Z$8,look1,Sunrise_set!A207+2)","v":1655}]
[206,637,1645,646,1651,639,1650,656,1659,648,1655,652,1648,652,1654,644,1656,636,1649,656,1706,651,1705,650,1651,705,1656,709,1652,null,{"$f":"HLOOKUP(Calc!$Y$8,look1,Sunrise_set!A208+2)","v":709},{"$f":"HLOOKUP(Calc!$Z$8,look1,Sunrise_set!A208+2)","v":1652}]
[207,639,1643,648,1649,641,1648,658,1657,649,1653,654,1646,653,1652,645,1654,638,1647,658,1704,652,1703,652,1649,707,1654,712,1650,null,{"$f":"HLOOKUP(Calc!$Y$8,look1,Sunrise_set!A209+2)","v":712},{"$f":"HLOOKUP(Calc!$Z$8,look1,Sunrise_set!A209+2)","v":1650}]
[208,641,1641,650,1647,642,1646,700,1655,651,1651,656,1643,655,1650,647,1652,640,1645,700,1702,654,1701,653,1646,709,1652,714,1647,null,{"$f":"HLOOKUP(Calc!$Y$8,look1,Sunrise_set!A210+2)","v":714},{"$f":"HLOOKUP(Calc!$Z$8,look1,Sunrise_set!A210+2)","v":1647}]
[209,642,1639,652,1645,644,1644,702,1653,653,1649,658,1641,657,1648,649,1650,642,1643,702,1700,656,1659,655,1644,711,1649,716,1645,null,{"$f":"HLOOKUP(Calc!$Y$8,look1,Sunrise_set!A211+2)","v":716},{"$f":"HLOOKUP(Calc!$Z$8,look1,Sunrise_set!A211+2)","v":1645}]
[210,644,1637,653,1643,646,1642,704,1651,655,1647,700,1639,659,1646,650,1648,643,1641,703,1658,658,1658,657,1642,714,1647,718,1642,null,{"$f":"HLOOKUP(Calc!$Y$8,look1,Sunrise_set!A212+2)","v":718},{"$f":"HLOOKUP(Calc!$Z$8,look1,Sunrise_set!A212+2)","v":1642}]
[211,646,1635,655,1641,648,1640,705,1649,657,1645,702,1637,701,1644,652,1646,645,1640,705,1656,659,1656,659,1640,716,1645,721,1640,null,{"$f":"HLOOKUP(Calc!$Y$8,look1,Sunrise_set!A213+2)","v":721},{"$f":"HLOOKUP(Calc!$Z$8,look1,Sunrise_set!A213+2)","v":1640}]
[212,648,1633,657,1639,649,1639,707,1647,659,1643,704,1635,703,1642,654,1644,647,1638,707,1654,701,1654,701,1638,718,1643,723,1637,null,{"$f":"HLOOKUP(Calc!$Y$8,look1,Sunrise_set!A214+2)","v":723},{"$f":"HLOOKUP(Calc!$Z$8,look1,Sunrise_set!A214+2)","v":1637}]
[213,650,1631,659,1637,651,1637,709,1645,700,1641,706,1633,705,1640,656,1643,649,1636,709,1652,703,1652,703,1636,720,1640,725,1635,null,{"$f":"HLOOKUP(Calc!$Y$8,look1,Sunrise_set!A215+2)","v":725},{"$f":"HLOOKUP(Calc!$Z$8,look1,Sunrise_set!A215+2)","v":1635}]
[214,651,1629,701,1635,653,1635,711,1643,702,1639,709,1630,707,1638,657,1641,650,1634,711,1650,704,1650,705,1634,722,1638,727,1633,null,{"$f":"HLOOKUP(Calc!$Y$8,look1,Sunrise_set!A216+2)","v":727},{"$f":"HLOOKUP(Calc!$Z$8,look1,Sunrise_set!A216+2)","v":1633}]
[215,653,1627,703,1633,655,1633,713,1641,704,1637,711,1628,709,1636,659,1639,652,1632,712,1649,706,1649,707,1632,724,1636,730,1630,null,{"$f":"HLOOKUP(Calc!$Y$8,look1,Sunrise_set!A217+2)","v":730},{"$f":"HLOOKUP(Calc!$Z$8,look1,Sunrise_set!A217+2)","v":1630}]
[216,655,1626,705,1631,657,1631,715,1639,706,1635,713,1626,711,1634,701,1637,654,1631,714,1647,708,1647,709,1630,726,1634,732,1628,null,{"$f":"HLOOKUP(Calc!$Y$8,look1,Sunrise_set!A218+2)","v":732},{"$f":"HLOOKUP(Calc!$Z$8,look1,Sunrise_set!A218+2)","v":1628}]
[217,657,1624,707,1629,658,1630,717,1637,708,1633,715,1624,713,1632,703,1636,655,1629,716,1645,709,1645,711,1628,728,1632,734,1626,null,{"$f":"HLOOKUP(Calc!$Y$8,look1,Sunrise_set!A219+2)","v":734},{"$f":"HLOOKUP(Calc!$Z$8,look1,Sunrise_set!A219+2)","v":1626}]
[218,659,1622,708,1627,700,1628,719,1635,710,1631,717,1622,714,1630,704,1634,657,1627,718,1643,711,1643,713,1626,730,1630,737,1624,null,{"$f":"HLOOKUP(Calc!$Y$8,look1,Sunrise_set!A220+2)","v":737},{"$f":"HLOOKUP(Calc!$Z$8,look1,Sunrise_set!A220+2)","v":1624}]
[219,700,1620,710,1626,702,1626,721,1634,711,1630,719,1620,716,1628,706,1632,659,1625,720,1642,713,1642,715,1624,733,1628,739,1621,null,{"$f":"HLOOKUP(Calc!$Y$8,look1,Sunrise_set!A221+2)","v":739},{"$f":"HLOOKUP(Calc!$Z$8,look1,Sunrise_set!A221+2)","v":1621}]
[220,702,1619,712,1624,704,1624,723,1632,713,1628,721,1618,718,1626,708,1630,701,1624,721,1640,715,1640,717,1622,735,1626,741,1619,null,{"$f":"HLOOKUP(Calc!$Y$8,look1,Sunrise_set!A222+2)","v":741},{"$f":"HLOOKUP(Calc!$Z$8,look1,Sunrise_set!A222+2)","v":1619}]
[221,704,1617,714,1622,705,1623,724,1630,715,1626,723,1616,720,1625,710,1629,702,1622,723,1638,716,1639,719,1621,737,1624,743,1617,null,{"$f":"HLOOKUP(Calc!$Y$8,look1,Sunrise_set!A223+2)","v":743},{"$f":"HLOOKUP(Calc!$Z$8,look1,Sunrise_set!A223+2)","v":1617}]
[222,706,1615,716,1620,707,1621,726,1628,717,1625,725,1615,722,1623,711,1627,704,1621,725,1637,718,1637,721,1619,739,1622,746,1615,null,{"$f":"HLOOKUP(Calc!$Y$8,look1,Sunrise_set!A224+2)","v":746},{"$f":"HLOOKUP(Calc!$Z$8,look1,Sunrise_set!A224+2)","v":1615}]
[223,708,1614,718,1619,709,1620,728,1627,719,1623,727,1613,724,1621,713,1626,706,1619,727,1635,720,1636,723,1617,741,1620,748,1613,null,{"$f":"HLOOKUP(Calc!$Y$8,look1,Sunrise_set!A225+2)","v":748},{"$f":"HLOOKUP(Calc!$Z$8,look1,Sunrise_set!A225+2)","v":1613}]
[224,710,1612,720,1617,711,1618,730,1625,721,1621,729,1611,726,1619,715,1624,708,1618,728,1633,721,1634,724,1615,743,1618,750,1611,null,{"$f":"HLOOKUP(Calc!$Y$8,look1,Sunrise_set!A226+2)","v":750},{"$f":"HLOOKUP(Calc!$Z$8,look1,Sunrise_set!A226+2)","v":1611}]
[225,711,1610,721,1615,712,1617,732,1623,722,1620,731,1609,728,1618,717,1623,709,1616,730,1632,723,1633,726,1614,745,1616,752,1609,null,{"$f":"HLOOKUP(Calc!$Y$8,look1,Sunrise_set!A227+2)","v":752},{"$f":"HLOOKUP(Calc!$Z$8,look1,Sunrise_set!A227+2)","v":1609}]
[226,713,1609,723,1614,714,1615,734,1622,724,1618,733,1607,730,1616,718,1621,711,1615,732,1630,725,1631,728,1612,747,1614,755,1607,null,{"$f":"HLOOKUP(Calc!$Y$8,look1,Sunrise_set!A228+2)","v":755},{"$f":"HLOOKUP(Calc!$Z$8,look1,Sunrise_set!A228+2)","v":1607}]
[227,715,1607,725,1612,716,1614,736,1620,726,1617,735,1606,732,1614,720,1620,713,1613,734,1629,726,1630,730,1611,749,1612,757,1605,null,{"$f":"HLOOKUP(Calc!$Y$8,look1,Sunrise_set!A229+2)","v":757},{"$f":"HLOOKUP(Calc!$Z$8,look1,Sunrise_set!A229+2)","v":1605}]
[228,717,1606,727,1611,717,1612,738,1619,728,1615,737,1604,733,1613,722,1618,714,1612,735,1627,728,1628,732,1609,751,1611,759,1603,null,{"$f":"HLOOKUP(Calc!$Y$8,look1,Sunrise_set!A230+2)","v":759},{"$f":"HLOOKUP(Calc!$Z$8,look1,Sunrise_set!A230+2)","v":1603}]
[229,718,1605,729,1609,719,1611,739,1617,730,1614,739,1602,735,1611,723,1617,716,1610,737,1626,730,1627,734,1607,754,1609,801,1601,null,{"$f":"HLOOKUP(Calc!$Y$8,look1,Sunrise_set!A231+2)","v":801},{"$f":"HLOOKUP(Calc!$Z$8,look1,Sunrise_set!A231+2)","v":1601}]
[230,720,1603,731,1608,721,1610,741,1616,731,1612,741,1601,737,1610,725,1616,718,1609,739,1625,731,1626,736,1606,756,1607,803,1559,null,{"$f":"HLOOKUP(Calc!$Y$8,look1,Sunrise_set!A232+2)","v":803},{"$f":"HLOOKUP(Calc!$Z$8,look1,Sunrise_set!A232+2)","v":1559}]
[231,722,1602,732,1606,723,1608,743,1614,733,1611,743,1559,739,1609,727,1615,719,1608,741,1623,733,1625,738,1604,758,1606,806,1558,null,{"$f":"HLOOKUP(Calc!$Y$8,look1,Sunrise_set!A233+2)","v":806},{"$f":"HLOOKUP(Calc!$Z$8,look1,Sunrise_set!A233+2)","v":1558}]
[232,724,1601,734,1605,724,1607,745,1613,735,1610,745,1558,741,1607,728,1613,721,1607,742,1622,735,1623,739,1603,800,1604,808,1556,null,{"$f":"HLOOKUP(Calc!$Y$8,look1,Sunrise_set!A234+2)","v":808},{"$f":"HLOOKUP(Calc!$Z$8,look1,Sunrise_set!A234+2)","v":1556}]
[233,725,1559,736,1604,726,1606,747,1612,737,1608,747,1556,743,1606,730,1612,723,1606,744,1621,736,1622,741,1602,802,1603,810,1554,null,{"$f":"HLOOKUP(Calc!$Y$8,look1,Sunrise_set!A235+2)","v":810},{"$f":"HLOOKUP(Calc!$Z$8,look1,Sunrise_set!A235+2)","v":1554}]
[234,727,1558,738,1603,728,1605,748,1610,738,1607,749,1555,744,1605,732,1611,724,1604,746,1620,738,1621,743,1600,804,1601,812,1553,null,{"$f":"HLOOKUP(Calc!$Y$8,look1,Sunrise_set!A236+2)","v":812},{"$f":"HLOOKUP(Calc!$Z$8,look1,Sunrise_set!A236+2)","v":1553}]
[235,729,1557,739,1601,729,1604,750,1609,740,1606,750,1554,746,1603,733,1610,726,1603,747,1619,740,1620,745,1559,805,1600,814,1551,null,{"$f":"HLOOKUP(Calc!$Y$8,look1,Sunrise_set!A237+2)","v":814},{"$f":"HLOOKUP(Calc!$Z$8,look1,Sunrise_set!A237+2)","v":1551}]
[236,730,1556,741,1600,731,1602,752,1608,742,1605,752,1552,748,1602,735,1609,728,1602,749,1618,741,1619,747,1558,807,1558,816,1550,null,{"$f":"HLOOKUP(Calc!$Y$8,look1,Sunrise_set!A238+2)","v":816},{"$f":"HLOOKUP(Calc!$Z$8,look1,Sunrise_set!A238+2)","v":1550}]
[237,732,1555,743,1559,732,1601,754,1607,743,1604,754,1551,750,1601,737,1608,729,1601,751,1616,743,1618,748,1557,809,1557,818,1548,null,{"$f":"HLOOKUP(Calc!$Y$8,look1,Sunrise_set!A239+2)","v":818},{"$f":"HLOOKUP(Calc!$Z$8,look1,Sunrise_set!A239+2)","v":1548}]
[238,734,1554,745,1558,734,1600,755,1606,745,1603,756,1550,751,1600,738,1607,731,1600,752,1615,744,1617,750,1556,811,1556,820,1547,null,{"$f":"HLOOKUP(Calc!$Y$8,look1,Sunrise_set!A240+2)","v":820},{"$f":"HLOOKUP(Calc!$Z$8,look1,Sunrise_set!A240+2)","v":1547}]
[239,735,1553,746,1557,736,1600,757,1605,747,1602,758,1549,753,1559,740,1606,732,1559,754,1615,746,1616,752,1555,813,1555,822,1545,null,{"$f":"HLOOKUP(Calc!$Y$8,look1,Sunrise_set!A241+2)","v":822},{"$f":"HLOOKUP(Calc!$Z$8,look1,Sunrise_set!A241+2)","v":1545}]
[240,737,1552,748,1556,737,1559,759,1604,748,1601,759,1548,755,1558,741,1605,734,1558,755,1614,747,1615,754,1554,815,1553,824,1544,null,{"$f":"HLOOKUP(Calc!$Y$8,look1,Sunrise_set!A242+2)","v":824},{"$f":"HLOOKUP(Calc!$Z$8,look1,Sunrise_set!A242+2)","v":1544}]
[241,738,1551,749,1555,739,1558,800,1603,750,1600,801,1547,756,1557,743,1604,735,1558,757,1613,749,1615,755,1553,817,1552,826,1543,null,{"$f":"HLOOKUP(Calc!$Y$8,look1,Sunrise_set!A243+2)","v":826},{"$f":"HLOOKUP(Calc!$Z$8,look1,Sunrise_set!A243+2)","v":1543}]
[242,740,1550,751,1554,740,1557,802,1602,751,1559,803,1546,758,1556,744,1603,737,1557,758,1612,750,1614,757,1552,818,1551,828,1542,null,{"$f":"HLOOKUP(Calc!$Y$8,look1,Sunrise_set!A244+2)","v":828},{"$f":"HLOOKUP(Calc!$Z$8,look1,Sunrise_set!A244+2)","v":1542}]
[243,741,1549,752,1553,742,1556,803,1601,753,1558,804,1545,759,1555,746,1603,738,1556,800,1611,752,1613,758,1551,820,1550,830,1540,null,{"$f":"HLOOKUP(Calc!$Y$8,look1,Sunrise_set!A245+2)","v":830},{"$f":"HLOOKUP(Calc!$Z$8,look1,Sunrise_set!A245+2)","v":1540}]
[244,743,1549,754,1553,743,1556,805,1600,754,1558,806,1544,801,1554,747,1602,740,1556,801,1610,753,1612,800,1550,822,1549,832,1539,null,{"$f":"HLOOKUP(Calc!$Y$8,look1,Sunrise_set!A246+2)","v":832},{"$f":"HLOOKUP(Calc!$Z$8,look1,Sunrise_set!A246+2)","v":1539}]
[245,744,1548,755,1552,744,1555,806,1559,756,1557,808,1543,802,1554,748,1601,741,1555,803,1610,754,1612,801,1549,823,1548,834,1538,null,{"$f":"HLOOKUP(Calc!$Y$8,look1,Sunrise_set!A247+2)","v":834},{"$f":"HLOOKUP(Calc!$Z$8,look1,Sunrise_set!A247+2)","v":1538}]
[246,746,1547,757,1551,746,1554,808,1559,757,1556,809,1542,804,1553,750,1601,742,1554,804,1609,756,1611,803,1548,825,1548,835,1537,null,{"$f":"HLOOKUP(Calc!$Y$8,look1,Sunrise_set!A248+2)","v":835},{"$f":"HLOOKUP(Calc!$Z$8,look1,Sunrise_set!A248+2)","v":1537}]
[247,747,1547,758,1551,747,1554,809,1558,759,1556,811,1541,805,1552,751,1600,744,1554,805,1609,757,1611,804,1548,827,1547,837,1536,null,{"$f":"HLOOKUP(Calc!$Y$8,look1,Sunrise_set!A249+2)","v":837},{"$f":"HLOOKUP(Calc!$Z$8,look1,Sunrise_set!A249+2)","v":1536}]
[248,748,1546,800,1550,748,1553,811,1558,800,1555,812,1541,807,1552,752,1600,745,1553,807,1608,758,1610,806,1547,828,1546,839,1536,null,{"$f":"HLOOKUP(Calc!$Y$8,look1,Sunrise_set!A250+2)","v":839},{"$f":"HLOOKUP(Calc!$Z$8,look1,Sunrise_set!A250+2)","v":1536}]
[249,750,1546,801,1550,750,1553,812,1557,801,1555,814,1540,808,1551,754,1559,746,1553,808,1608,759,1610,807,1547,830,1545,840,1535,null,{"$f":"HLOOKUP(Calc!$Y$8,look1,Sunrise_set!A251+2)","v":840},{"$f":"HLOOKUP(Calc!$Z$8,look1,Sunrise_set!A251+2)","v":1535}]
[250,751,1545,802,1549,751,1553,813,1557,802,1554,815,1540,809,1551,755,1559,747,1553,809,1607,801,1610,808,1546,831,1545,842,1534,null,{"$f":"HLOOKUP(Calc!$Y$8,look1,Sunrise_set!A252+2)","v":842},{"$f":"HLOOKUP(Calc!$Z$8,look1,Sunrise_set!A252+2)","v":1534}]
[251,752,1545,804,1549,752,1552,815,1556,804,1554,816,1539,811,1550,756,1559,749,1552,811,1607,802,1609,810,1546,833,1544,843,1534,null,{"$f":"HLOOKUP(Calc!$Y$8,look1,Sunrise_set!A253+2)","v":843},{"$f":"HLOOKUP(Calc!$Z$8,look1,Sunrise_set!A253+2)","v":1534}]
[252,753,1545,805,1549,753,1552,816,1556,805,1554,818,1539,812,1550,757,1559,750,1552,812,1607,803,1609,811,1546,834,1544,845,1533,null,{"$f":"HLOOKUP(Calc!$Y$8,look1,Sunrise_set!A254+2)","v":845},{"$f":"HLOOKUP(Calc!$Z$8,look1,Sunrise_set!A254+2)","v":1533}]
[253,755,1545,806,1548,754,1552,817,1556,806,1553,819,1539,813,1550,758,1558,751,1552,813,1607,804,1609,812,1545,835,1544,846,1533,null,{"$f":"HLOOKUP(Calc!$Y$8,look1,Sunrise_set!A255+2)","v":846},{"$f":"HLOOKUP(Calc!$Z$8,look1,Sunrise_set!A255+2)","v":1533}]
[254,756,1544,807,1548,755,1552,818,1555,807,1553,820,1538,814,1550,759,1558,752,1552,814,1606,805,1609,813,1545,836,1543,847,1532,null,{"$f":"HLOOKUP(Calc!$Y$8,look1,Sunrise_set!A256+2)","v":847},{"$f":"HLOOKUP(Calc!$Z$8,look1,Sunrise_set!A256+2)","v":1532}]
[255,757,1544,808,1548,756,1552,819,1555,808,1553,821,1538,815,1549,800,1558,753,1552,815,1606,806,1609,814,1545,838,1543,849,1532,null,{"$f":"HLOOKUP(Calc!$Y$8,look1,Sunrise_set!A257+2)","v":849},{"$f":"HLOOKUP(Calc!$Z$8,look1,Sunrise_set!A257+2)","v":1532}]
[256,758,1544,809,1548,757,1552,820,1555,809,1553,822,1538,816,1549,801,1558,754,1552,816,1606,807,1609,815,1545,839,1543,850,1532,null,{"$f":"HLOOKUP(Calc!$Y$8,look1,Sunrise_set!A258+2)","v":850},{"$f":"HLOOKUP(Calc!$Z$8,look1,Sunrise_set!A258+2)","v":1532}]
[257,759,1544,810,1548,758,1552,821,1555,810,1553,823,1538,817,1549,802,1558,755,1552,817,1606,808,1609,816,1545,840,1543,851,1532,null,{"$f":"HLOOKUP(Calc!$Y$8,look1,Sunrise_set!A259+2)","v":851},{"$f":"HLOOKUP(Calc!$Z$8,look1,Sunrise_set!A259+2)","v":1532}]
[258,800,1544,811,1548,759,1552,822,1555,811,1553,824,1538,818,1549,803,1558,756,1552,818,1606,809,1609,817,1545,841,1543,852,1532,null,{"$f":"HLOOKUP(Calc!$Y$8,look1,Sunrise_set!A260+2)","v":852},{"$f":"HLOOKUP(Calc!$Z$8,look1,Sunrise_set!A260+2)","v":1532}]
[259,800,1544,812,1548,800,1552,823,1555,812,1553,825,1538,819,1549,804,1558,757,1552,819,1606,810,1609,818,1545,842,1543,853,1532,null,{"$f":"HLOOKUP(Calc!$Y$8,look1,Sunrise_set!A261+2)","v":853},{"$f":"HLOOKUP(Calc!$Z$8,look1,Sunrise_set!A261+2)","v":1532}]
[260,801,1545,813,1548,801,1552,824,1556,813,1553,826,1538,820,1550,805,1559,757,1552,819,1607,810,1609,819,1545,843,1543,854,1532,null,{"$f":"HLOOKUP(Calc!$Y$8,look1,Sunrise_set!A262+2)","v":854},{"$f":"HLOOKUP(Calc!$Z$8,look1,Sunrise_set!A262+2)","v":1532}]
[261,802,1545,813,1548,802,1552,825,1556,813,1554,827,1538,821,1550,805,1559,758,1552,820,1607,811,1609,820,1545,843,1543,855,1532,null,{"$f":"HLOOKUP(Calc!$Y$8,look1,Sunrise_set!A263+2)","v":855},{"$f":"HLOOKUP(Calc!$Z$8,look1,Sunrise_set!A263+2)","v":1532}]
[262,803,1545,814,1549,802,1553,825,1556,814,1554,828,1539,821,1550,806,1559,759,1553,821,1607,812,1610,821,1546,844,1543,855,1532,null,{"$f":"HLOOKUP(Calc!$Y$8,look1,Sunrise_set!A264+2)","v":855},{"$f":"HLOOKUP(Calc!$Z$8,look1,Sunrise_set!A264+2)","v":1532}]
[263,803,1545,815,1549,803,1553,826,1556,815,1554,828,1539,822,1550,807,1600,759,1553,821,1608,812,1610,821,1546,845,1544,856,1532,null,{"$f":"HLOOKUP(Calc!$Y$8,look1,Sunrise_set!A265+2)","v":856},{"$f":"HLOOKUP(Calc!$Z$8,look1,Sunrise_set!A265+2)","v":1532}]
[264,804,1546,815,1550,804,1553,827,1557,815,1555,829,1539,823,1551,807,1600,800,1553,822,1608,813,1611,822,1546,845,1544,857,1533,null,{"$f":"HLOOKUP(Calc!$Y$8,look1,Sunrise_set!A266+2)","v":857},{"$f":"HLOOKUP(Calc!$Z$8,look1,Sunrise_set!A266+2)","v":1533}]
[265,804,1546,816,1550,804,1554,827,1557,816,1555,829,1540,823,1551,808,1600,800,1554,823,1609,814,1611,822,1547,846,1545,857,1533,null,{"$f":"HLOOKUP(Calc!$Y$8,look1,Sunrise_set!A267+2)","v":857},{"$f":"HLOOKUP(Calc!$Z$8,look1,Sunrise_set!A267+2)","v":1533}]
[266,805,1547,816,1551,805,1554,828,1558,816,1556,830,1540,824,1552,808,1601,801,1554,823,1609,814,1612,823,1547,846,1545,858,1534,null,{"$f":"HLOOKUP(Calc!$Y$8,look1,Sunrise_set!A268+2)","v":858},{"$f":"HLOOKUP(Calc!$Z$8,look1,Sunrise_set!A268+2)","v":1534}]
[267,805,1548,817,1551,805,1555,828,1558,817,1556,830,1541,824,1553,809,1602,801,1555,823,1610,814,1612,823,1548,847,1546,858,1534,null,{"$f":"HLOOKUP(Calc!$Y$8,look1,Sunrise_set!A269+2)","v":858},{"$f":"HLOOKUP(Calc!$Z$8,look1,Sunrise_set!A269+2)","v":1534}]
[268,806,1548,817,1552,805,1556,828,1559,817,1557,831,1542,824,1553,809,1602,802,1556,824,1610,815,1613,824,1549,847,1546,858,1535,null,{"$f":"HLOOKUP(Calc!$Y$8,look1,Sunrise_set!A270+2)","v":858},{"$f":"HLOOKUP(Calc!$Z$8,look1,Sunrise_set!A270+2)","v":1535}]
[269,806,1549,817,1553,806,1556,829,1600,818,1558,831,1542,825,1554,809,1603,802,1556,824,1611,815,1614,824,1549,847,1547,859,1536,null,{"$f":"HLOOKUP(Calc!$Y$8,look1,Sunrise_set!A271+2)","v":859},{"$f":"HLOOKUP(Calc!$Z$8,look1,Sunrise_set!A271+2)","v":1536}]
[270,806,1550,818,1553,806,1557,829,1601,818,1558,831,1543,825,1555,810,1604,802,1557,824,1612,815,1614,824,1550,848,1548,859,1537,null,{"$f":"HLOOKUP(Calc!$Y$8,look1,Sunrise_set!A272+2)","v":859},{"$f":"HLOOKUP(Calc!$Z$8,look1,Sunrise_set!A272+2)","v":1537}]
[271,806,1550,818,1554,806,1558,829,1601,818,1559,831,1544,825,1555,810,1604,803,1558,825,1613,816,1615,824,1551,848,1549,859,1538,null,{"$f":"HLOOKUP(Calc!$Y$8,look1,Sunrise_set!A273+2)","v":859},{"$f":"HLOOKUP(Calc!$Z$8,look1,Sunrise_set!A273+2)","v":1538}]
[272,807,1551,818,1555,806,1559,829,1602,818,1600,831,1545,825,1556,810,1605,803,1559,825,1613,816,1616,824,1552,848,1550,859,1539,null,{"$f":"HLOOKUP(Calc!$Y$8,look1,Sunrise_set!A274+2)","v":859},{"$f":"HLOOKUP(Calc!$Z$8,look1,Sunrise_set!A274+2)","v":1539}]
[273,807,1552,818,1556,806,1600,829,1603,818,1601,831,1546,825,1557,810,1606,803,1600,825,1614,816,1617,825,1553,848,1551,859,1540,null,{"$f":"HLOOKUP(Calc!$Y$8,look1,Sunrise_set!A275+2)","v":859},{"$f":"HLOOKUP(Calc!$Z$8,look1,Sunrise_set!A275+2)","v":1540}]
[274,807,1553,818,1557,806,1601,829,1604,818,1602,831,1547,825,1558,810,1607,803,1601,825,1615,816,1618,824,1554,848,1552,859,1541,null,{"$f":"HLOOKUP(Calc!$Y$8,look1,Sunrise_set!A276+2)","v":859},{"$f":"HLOOKUP(Calc!$Z$8,look1,Sunrise_set!A276+2)","v":1541}]
[275,807,1554,818,1558,806,1602,829,1605,818,1603,831,1548,825,1559,810,1608,803,1602,825,1616,816,1619,824,1555,848,1553,858,1542,null,{"$f":"HLOOKUP(Calc!$Y$8,look1,Sunrise_set!A277+2)","v":858},{"$f":"HLOOKUP(Calc!$Z$8,look1,Sunrise_set!A277+2)","v":1542}]
[276,807,1554,818,1558,806,1602,829,1606,818,1603,831,1548,825,1600,810,1608,803,1602,825,1617,816,1619,824,1555,847,1553,858,1542,null,{"$f":"HLOOKUP(Calc!$Y$8,look1,Sunrise_set!A278+2)","v":858},{"$f":"HLOOKUP(Calc!$Z$8,look1,Sunrise_set!A278+2)","v":1542}]
[277,806,1556,818,1559,806,1603,829,1607,818,1604,831,1549,825,1601,810,1609,803,1603,825,1618,816,1620,824,1556,847,1554,858,1544,null,{"$f":"HLOOKUP(Calc!$Y$8,look1,Sunrise_set!A279+2)","v":858},{"$f":"HLOOKUP(Calc!$Z$8,look1,Sunrise_set!A279+2)","v":1544}]
[278,806,1557,818,1600,806,1604,829,1608,818,1606,831,1551,825,1602,810,1610,803,1604,825,1619,816,1621,824,1557,847,1556,858,1545,null,{"$f":"HLOOKUP(Calc!$Y$8,look1,Sunrise_set!A280+2)","v":858},{"$f":"HLOOKUP(Calc!$Z$8,look1,Sunrise_set!A280+2)","v":1545}]
[279,806,1558,817,1602,806,1605,829,1609,818,1607,830,1552,825,1603,810,1612,802,1605,824,1620,816,1622,824,1559,847,1557,857,1546,null,{"$f":"HLOOKUP(Calc!$Y$8,look1,Sunrise_set!A281+2)","v":857},{"$f":"HLOOKUP(Calc!$Z$8,look1,Sunrise_set!A281+2)","v":1546}]
[280,806,1559,817,1603,806,1606,828,1610,817,1608,830,1553,824,1604,810,1613,802,1606,824,1621,815,1623,823,1600,846,1558,857,1548,null,{"$f":"HLOOKUP(Calc!$Y$8,look1,Sunrise_set!A282+2)","v":857},{"$f":"HLOOKUP(Calc!$Z$8,look1,Sunrise_set!A282+2)","v":1548}]
[281,805,1600,817,1604,805,1607,828,1612,817,1609,830,1555,824,1606,809,1614,802,1607,824,1622,815,1625,823,1601,846,1600,856,1549,null,{"$f":"HLOOKUP(Calc!$Y$8,look1,Sunrise_set!A283+2)","v":856},{"$f":"HLOOKUP(Calc!$Z$8,look1,Sunrise_set!A283+2)","v":1549}]
[282,805,1602,816,1605,805,1609,827,1613,817,1610,829,1556,823,1607,809,1615,802,1609,823,1624,815,1626,822,1603,845,1601,855,1551,null,{"$f":"HLOOKUP(Calc!$Y$8,look1,Sunrise_set!A284+2)","v":855},{"$f":"HLOOKUP(Calc!$Z$8,look1,Sunrise_set!A284+2)","v":1551}]
[283,805,1603,816,1607,805,1610,827,1614,816,1612,828,1558,823,1608,808,1617,801,1610,823,1625,814,1627,822,1604,844,1603,855,1553,null,{"$f":"HLOOKUP(Calc!$Y$8,look1,Sunrise_set!A285+2)","v":855},{"$f":"HLOOKUP(Calc!$Z$8,look1,Sunrise_set!A285+2)","v":1553}]
[284,804,1604,815,1608,804,1611,826,1616,816,1613,828,1559,822,1610,808,1618,801,1611,822,1626,814,1628,821,1605,844,1604,854,1554,null,{"$f":"HLOOKUP(Calc!$Y$8,look1,Sunrise_set!A286+2)","v":854},{"$f":"HLOOKUP(Calc!$Z$8,look1,Sunrise_set!A286+2)","v":1554}]
[285,804,1606,815,1610,804,1613,826,1617,815,1615,827,1601,822,1611,807,1619,800,1613,822,1628,813,1630,821,1607,843,1606,853,1556,null,{"$f":"HLOOKUP(Calc!$Y$8,look1,Sunrise_set!A287+2)","v":853},{"$f":"HLOOKUP(Calc!$Z$8,look1,Sunrise_set!A287+2)","v":1556}]
[286,803,1607,814,1611,803,1614,825,1619,814,1616,826,1602,821,1613,807,1621,800,1614,821,1629,813,1631,820,1608,842,1608,852,1558,null,{"$f":"HLOOKUP(Calc!$Y$8,look1,Sunrise_set!A288+2)","v":852},{"$f":"HLOOKUP(Calc!$Z$8,look1,Sunrise_set!A288+2)","v":1558}]
[287,802,1609,813,1613,802,1616,824,1620,814,1618,825,1604,820,1614,806,1622,759,1615,821,1631,812,1632,819,1610,841,1609,851,1600,null,{"$f":"HLOOKUP(Calc!$Y$8,look1,Sunrise_set!A289+2)","v":851},{"$f":"HLOOKUP(Calc!$Z$8,look1,Sunrise_set!A289+2)","v":1600}]
[288,802,1610,813,1614,802,1617,823,1622,813,1619,825,1606,819,1616,806,1624,758,1617,820,1632,812,1634,818,1612,840,1611,850,1601,null,{"$f":"HLOOKUP(Calc!$Y$8,look1,Sunrise_set!A290+2)","v":850},{"$f":"HLOOKUP(Calc!$Z$8,look1,Sunrise_set!A290+2)","v":1601}]
[289,801,1612,812,1616,801,1619,823,1623,812,1621,824,1607,819,1618,805,1625,758,1618,819,1634,811,1635,818,1613,839,1613,849,1603,null,{"$f":"HLOOKUP(Calc!$Y$8,look1,Sunrise_set!A291+2)","v":849},{"$f":"HLOOKUP(Calc!$Z$8,look1,Sunrise_set!A291+2)","v":1603}]
[290,800,1613,811,1617,800,1620,822,1625,811,1622,823,1609,818,1619,804,1627,757,1620,818,1635,810,1637,817,1615,838,1615,848,1605,null,{"$f":"HLOOKUP(Calc!$Y$8,look1,Sunrise_set!A292+2)","v":848},{"$f":"HLOOKUP(Calc!$Z$8,look1,Sunrise_set!A292+2)","v":1605}]
[291,759,1615,810,1619,759,1622,821,1627,810,1624,822,1611,817,1621,803,1628,756,1621,818,1637,809,1638,816,1617,837,1617,846,1607,null,{"$f":"HLOOKUP(Calc!$Y$8,look1,Sunrise_set!A293+2)","v":846},{"$f":"HLOOKUP(Calc!$Z$8,look1,Sunrise_set!A293+2)","v":1607}]
[292,758,1616,809,1621,758,1623,820,1628,809,1626,820,1613,816,1623,802,1630,755,1623,817,1638,809,1640,815,1618,836,1618,845,1609,null,{"$f":"HLOOKUP(Calc!$Y$8,look1,Sunrise_set!A294+2)","v":845},{"$f":"HLOOKUP(Calc!$Z$8,look1,Sunrise_set!A294+2)","v":1609}]
[293,757,1618,808,1622,758,1625,819,1630,808,1627,819,1614,815,1624,802,1631,754,1625,816,1640,808,1641,814,1620,835,1620,844,1611,null,{"$f":"HLOOKUP(Calc!$Y$8,look1,Sunrise_set!A295+2)","v":844},{"$f":"HLOOKUP(Calc!$Z$8,look1,Sunrise_set!A295+2)","v":1611}]
[294,756,1620,807,1624,757,1626,818,1632,807,1629,818,1616,814,1626,801,1633,753,1626,815,1642,807,1643,812,1622,833,1622,842,1613,null,{"$f":"HLOOKUP(Calc!$Y$8,look1,Sunrise_set!A296+2)","v":842},{"$f":"HLOOKUP(Calc!$Z$8,look1,Sunrise_set!A296+2)","v":1613}]
[295,755,1621,806,1626,756,1628,817,1634,806,1631,817,1618,812,1628,800,1634,752,1628,814,1643,806,1645,811,1624,832,1624,841,1615,null,{"$f":"HLOOKUP(Calc!$Y$8,look1,Sunrise_set!A297+2)","v":841},{"$f":"HLOOKUP(Calc!$Z$8,look1,Sunrise_set!A297+2)","v":1615}]
[296,754,1623,805,1628,754,1630,815,1635,805,1632,816,1620,811,1630,759,1636,751,1629,813,1645,805,1646,810,1625,831,1626,839,1618,null,{"$f":"HLOOKUP(Calc!$Y$8,look1,Sunrise_set!A298+2)","v":839},{"$f":"HLOOKUP(Calc!$Z$8,look1,Sunrise_set!A298+2)","v":1618}]
[297,753,1625,803,1629,753,1631,814,1637,804,1634,814,1622,810,1631,757,1638,750,1631,811,1647,804,1648,809,1627,829,1628,838,1620,null,{"$f":"HLOOKUP(Calc!$Y$8,look1,Sunrise_set!A299+2)","v":838},{"$f":"HLOOKUP(Calc!$Z$8,look1,Sunrise_set!A299+2)","v":1620}]
[298,752,1627,802,1631,752,1633,813,1639,803,1636,813,1624,809,1633,756,1639,749,1633,810,1648,803,1650,807,1629,828,1630,836,1622,null,{"$f":"HLOOKUP(Calc!$Y$8,look1,Sunrise_set!A300+2)","v":836},{"$f":"HLOOKUP(Calc!$Z$8,look1,Sunrise_set!A300+2)","v":1622}]
[299,750,1628,801,1633,751,1635,812,1641,802,1638,811,1626,807,1635,755,1641,748,1635,809,1650,801,1651,806,1631,826,1632,834,1624,null,{"$f":"HLOOKUP(Calc!$Y$8,look1,Sunrise_set!A301+2)","v":834},{"$f":"HLOOKUP(Calc!$Z$8,look1,Sunrise_set!A301+2)","v":1624}]
[300,749,1630,800,1635,750,1637,810,1643,800,1639,810,1628,806,1637,754,1643,747,1636,808,1652,800,1653,805,1633,825,1634,833,1626,null,{"$f":"HLOOKUP(Calc!$Y$8,look1,Sunrise_set!A302+2)","v":833},{"$f":"HLOOKUP(Calc!$Z$8,look1,Sunrise_set!A302+2)","v":1626}]
[301,748,1632,758,1637,748,1638,809,1645,759,1641,808,1630,805,1639,753,1645,745,1638,806,1654,759,1655,803,1635,823,1636,831,1629,null,{"$f":"HLOOKUP(Calc!$Y$8,look1,Sunrise_set!A303+2)","v":831},{"$f":"HLOOKUP(Calc!$Z$8,look1,Sunrise_set!A303+2)","v":1629}]
[302,746,1634,757,1639,747,1640,807,1646,758,1643,807,1632,803,1641,751,1646,744,1640,805,1655,758,1656,802,1637,821,1639,829,1631,null,{"$f":"HLOOKUP(Calc!$Y$8,look1,Sunrise_set!A304+2)","v":829},{"$f":"HLOOKUP(Calc!$Z$8,look1,Sunrise_set!A304+2)","v":1631}]
[303,745,1636,755,1640,746,1642,806,1648,756,1645,805,1634,802,1643,750,1648,743,1641,804,1657,756,1658,800,1639,820,1641,827,1633,null,{"$f":"HLOOKUP(Calc!$Y$8,look1,Sunrise_set!A305+2)","v":827},{"$f":"HLOOKUP(Calc!$Z$8,look1,Sunrise_set!A305+2)","v":1633}]
[304,744,1637,754,1642,744,1644,804,1650,755,1647,803,1636,800,1645,749,1650,741,1643,802,1659,755,1700,759,1641,818,1643,825,1635,null,{"$f":"HLOOKUP(Calc!$Y$8,look1,Sunrise_set!A306+2)","v":825},{"$f":"HLOOKUP(Calc!$Z$8,look1,Sunrise_set!A306+2)","v":1635}]
[305,742,1639,752,1644,743,1645,803,1652,753,1649,802,1638,759,1647,747,1652,740,1645,801,1701,754,1701,757,1643,816,1645,823,1638,null,{"$f":"HLOOKUP(Calc!$Y$8,look1,Sunrise_set!A307+2)","v":823},{"$f":"HLOOKUP(Calc!$Z$8,look1,Sunrise_set!A307+2)","v":1638}]
[306,741,1641,751,1646,742,1647,801,1654,752,1650,800,1640,757,1649,746,1653,739,1647,759,1703,752,1703,755,1645,814,1647,821,1640,null,{"$f":"HLOOKUP(Calc!$Y$8,look1,Sunrise_set!A308+2)","v":821},{"$f":"HLOOKUP(Calc!$Z$8,look1,Sunrise_set!A308+2)","v":1640}]
[307,739,1643,749,1648,740,1649,800,1656,750,1652,758,1642,755,1650,744,1655,737,1649,758,1704,751,1705,754,1647,812,1649,819,1642,null,{"$f":"HLOOKUP(Calc!$Y$8,look1,Sunrise_set!A309+2)","v":819},{"$f":"HLOOKUP(Calc!$Z$8,look1,Sunrise_set!A309+2)","v":1642}]
[308,737,1645,747,1650,738,1651,758,1658,748,1654,756,1644,754,1652,743,1657,736,1650,756,1706,749,1707,752,1649,811,1651,817,1645,null,{"$f":"HLOOKUP(Calc!$Y$8,look1,Sunrise_set!A310+2)","v":817},{"$f":"HLOOKUP(Calc!$Z$8,look1,Sunrise_set!A310+2)","v":1645}]
[309,736,1647,746,1652,737,1653,756,1700,747,1656,755,1646,752,1654,741,1659,734,1652,755,1708,748,1708,750,1651,809,1654,815,1647,null,{"$f":"HLOOKUP(Calc!$Y$8,look1,Sunrise_set!A311+2)","v":815},{"$f":"HLOOKUP(Calc!$Z$8,look1,Sunrise_set!A311+2)","v":1647}]
[310,734,1649,744,1654,735,1655,754,1702,745,1658,753,1648,750,1656,740,1701,732,1654,753,1710,746,1710,749,1653,807,1656,813,1649,null,{"$f":"HLOOKUP(Calc!$Y$8,look1,Sunrise_set!A312+2)","v":813},{"$f":"HLOOKUP(Calc!$Z$8,look1,Sunrise_set!A312+2)","v":1649}]
[311,732,1650,742,1656,734,1656,753,1704,743,1700,751,1651,748,1658,738,1702,731,1656,751,1712,745,1712,747,1655,805,1658,811,1652,null,{"$f":"HLOOKUP(Calc!$Y$8,look1,Sunrise_set!A313+2)","v":811},{"$f":"HLOOKUP(Calc!$Z$8,look1,Sunrise_set!A313+2)","v":1652}]
[312,731,1652,741,1658,732,1658,751,1706,742,1702,749,1653,747,1700,736,1704,729,1657,750,1714,743,1714,745,1657,803,1700,809,1654,null,{"$f":"HLOOKUP(Calc!$Y$8,look1,Sunrise_set!A314+2)","v":809},{"$f":"HLOOKUP(Calc!$Z$8,look1,Sunrise_set!A314+2)","v":1654}]
[313,729,1654,739,1700,730,1700,749,1708,740,1704,747,1655,745,1702,735,1706,728,1659,748,1716,742,1716,743,1659,801,1702,807,1656,null,{"$f":"HLOOKUP(Calc!$Y$8,look1,Sunrise_set!A315+2)","v":807},{"$f":"HLOOKUP(Calc!$Z$8,look1,Sunrise_set!A315+2)","v":1656}]
[314,727,1656,737,1702,729,1702,747,1710,738,1706,745,1657,743,1704,733,1708,726,1701,746,1717,740,1717,741,1701,759,1704,804,1659,null,{"$f":"HLOOKUP(Calc!$Y$8,look1,Sunrise_set!A316+2)","v":804},{"$f":"HLOOKUP(Calc!$Z$8,look1,Sunrise_set!A316+2)","v":1659}]
[315,725,1658,735,1704,727,1704,745,1712,736,1707,743,1659,741,1706,731,1710,724,1703,744,1719,738,1719,739,1703,757,1707,802,1701,null,{"$f":"HLOOKUP(Calc!$Y$8,look1,Sunrise_set!A317+2)","v":802},{"$f":"HLOOKUP(Calc!$Z$8,look1,Sunrise_set!A317+2)","v":1701}]
[316,724,1700,733,1705,725,1705,743,1714,734,1709,741,1701,739,1708,730,1711,722,1705,743,1721,736,1721,737,1705,754,1709,800,1703,null,{"$f":"HLOOKUP(Calc!$Y$8,look1,Sunrise_set!A318+2)","v":800},{"$f":"HLOOKUP(Calc!$Z$8,look1,Sunrise_set!A318+2)","v":1703}]
[317,722,1702,731,1707,723,1707,741,1716,733,1711,739,1703,737,1710,728,1713,721,1706,741,1723,735,1723,735,1707,752,1711,758,1706,null,{"$f":"HLOOKUP(Calc!$Y$8,look1,Sunrise_set!A319+2)","v":758},{"$f":"HLOOKUP(Calc!$Z$8,look1,Sunrise_set!A319+2)","v":1706}]
[318,720,1704,729,1709,721,1709,740,1718,731,1713,737,1705,735,1712,726,1715,719,1708,739,1725,733,1724,733,1709,750,1713,755,1708,null,{"$f":"HLOOKUP(Calc!$Y$8,look1,Sunrise_set!A320+2)","v":755},{"$f":"HLOOKUP(Calc!$Z$8,look1,Sunrise_set!A320+2)","v":1708}]
[319,718,1706,727,1711,720,1711,738,1720,729,1715,735,1707,733,1714,724,1717,717,1710,737,1727,731,1726,731,1711,748,1715,753,1710,null,{"$f":"HLOOKUP(Calc!$Y$8,look1,Sunrise_set!A321+2)","v":753},{"$f":"HLOOKUP(Calc!$Z$8,look1,Sunrise_set!A321+2)","v":1710}]
[320,716,1707,725,1713,718,1713,736,1722,727,1717,732,1709,731,1716,722,1719,715,1712,735,1729,729,1728,729,1713,746,1718,751,1713,null,{"$f":"HLOOKUP(Calc!$Y$8,look1,Sunrise_set!A322+2)","v":751},{"$f":"HLOOKUP(Calc!$Z$8,look1,Sunrise_set!A322+2)","v":1713}]
[321,714,1709,723,1715,716,1715,733,1724,725,1719,730,1712,729,1718,720,1720,713,1714,733,1730,727,1730,727,1715,743,1720,748,1715,null,{"$f":"HLOOKUP(Calc!$Y$8,look1,Sunrise_set!A323+2)","v":748},{"$f":"HLOOKUP(Calc!$Z$8,look1,Sunrise_set!A323+2)","v":1715}]
[322,712,1711,721,1717,714,1716,731,1725,723,1721,728,1714,727,1720,719,1722,711,1715,731,1732,726,1732,725,1717,741,1722,746,1717,null,{"$f":"HLOOKUP(Calc!$Y$8,look1,Sunrise_set!A324+2)","v":746},{"$f":"HLOOKUP(Calc!$Z$8,look1,Sunrise_set!A324+2)","v":1717}]
[323,710,1713,719,1719,712,1718,729,1727,721,1723,726,1716,725,1722,717,1724,709,1717,729,1734,724,1733,723,1719,739,1724,743,1720,null,{"$f":"HLOOKUP(Calc!$Y$8,look1,Sunrise_set!A325+2)","v":743},{"$f":"HLOOKUP(Calc!$Z$8,look1,Sunrise_set!A325+2)","v":1720}]
[324,708,1715,717,1721,710,1720,727,1729,719,1725,724,1718,723,1724,715,1726,708,1719,727,1736,722,1735,721,1721,736,1726,741,1722,null,{"$f":"HLOOKUP(Calc!$Y$8,look1,Sunrise_set!A326+2)","v":741},{"$f":"HLOOKUP(Calc!$Z$8,look1,Sunrise_set!A326+2)","v":1722}]
[325,706,1717,715,1723,708,1722,725,1731,717,1727,721,1720,721,1726,713,1728,706,1721,725,1738,720,1737,719,1723,734,1728,738,1724,null,{"$f":"HLOOKUP(Calc!$Y$8,look1,Sunrise_set!A327+2)","v":738},{"$f":"HLOOKUP(Calc!$Z$8,look1,Sunrise_set!A327+2)","v":1724}]
[326,704,1719,713,1725,706,1724,723,1733,715,1728,719,1722,718,1728,711,1729,704,1723,723,1740,718,1739,716,1725,732,1731,736,1727,null,{"$f":"HLOOKUP(Calc!$Y$8,look1,Sunrise_set!A328+2)","v":736},{"$f":"HLOOKUP(Calc!$Z$8,look1,Sunrise_set!A328+2)","v":1727}]
[327,702,1721,711,1727,704,1726,721,1735,713,1730,717,1724,716,1730,709,1731,702,1724,721,1741,716,1740,714,1727,729,1733,733,1729,null,{"$f":"HLOOKUP(Calc!$Y$8,look1,Sunrise_set!A329+2)","v":733},{"$f":"HLOOKUP(Calc!$Z$8,look1,Sunrise_set!A329+2)","v":1729}]
[328,700,1722,709,1729,702,1727,719,1737,710,1732,714,1726,714,1732,707,1733,700,1726,719,1743,714,1742,712,1729,727,1735,731,1731,null,{"$f":"HLOOKUP(Calc!$Y$8,look1,Sunrise_set!A330+2)","v":731},{"$f":"HLOOKUP(Calc!$Z$8,look1,Sunrise_set!A330+2)","v":1731}]
[329,658,1724,707,1731,700,1729,716,1739,708,1734,712,1728,712,1734,705,1735,658,1728,717,1745,712,1744,710,1731,725,1737,728,1734,null,{"$f":"HLOOKUP(Calc!$Y$8,look1,Sunrise_set!A331+2)","v":728},{"$f":"HLOOKUP(Calc!$Z$8,look1,Sunrise_set!A331+2)","v":1734}]
[330,656,1726,704,1732,658,1731,714,1741,706,1736,710,1730,710,1736,703,1737,656,1730,715,1747,710,1746,708,1733,722,1739,726,1736,null,{"$f":"HLOOKUP(Calc!$Y$8,look1,Sunrise_set!A332+2)","v":726},{"$f":"HLOOKUP(Calc!$Z$8,look1,Sunrise_set!A332+2)","v":1736}]
[331,654,1728,702,1734,656,1733,712,1743,704,1738,707,1732,707,1738,701,1738,654,1732,713,1749,708,1747,705,1735,720,1741,723,1738,null,{"$f":"HLOOKUP(Calc!$Y$8,look1,Sunrise_set!A333+2)","v":723},{"$f":"HLOOKUP(Calc!$Z$8,look1,Sunrise_set!A333+2)","v":1738}]
[332,651,1730,700,1736,654,1735,710,1745,702,1740,705,1735,705,1740,659,1740,651,1733,711,1751,706,1749,703,1736,717,1744,720,1740,null,{"$f":"HLOOKUP(Calc!$Y$8,look1,Sunrise_set!A334+2)","v":720},{"$f":"HLOOKUP(Calc!$Z$8,look1,Sunrise_set!A334+2)","v":1740}]
[333,649,1732,658,1738,652,1736,708,1747,700,1741,703,1737,703,1742,656,1742,649,1735,709,1752,704,1751,701,1738,715,1746,718,1743,null,{"$f":"HLOOKUP(Calc!$Y$8,look1,Sunrise_set!A335+2)","v":718},{"$f":"HLOOKUP(Calc!$Z$8,look1,Sunrise_set!A335+2)","v":1743}]
[334,647,1733,656,1740,650,1738,705,1749,658,1743,700,1739,701,1744,654,1744,647,1737,707,1754,702,1753,659,1740,712,1748,715,1745,null,{"$f":"HLOOKUP(Calc!$Y$8,look1,Sunrise_set!A336+2)","v":715},{"$f":"HLOOKUP(Calc!$Z$8,look1,Sunrise_set!A336+2)","v":1745}]
[335,645,1735,653,1742,647,1740,703,1751,655,1745,658,1741,658,1746,652,1745,645,1739,704,1756,700,1754,656,1742,710,1750,713,1747,null,{"$f":"HLOOKUP(Calc!$Y$8,look1,Sunrise_set!A337+2)","v":713},{"$f":"HLOOKUP(Calc!$Z$8,look1,Sunrise_set!A337+2)","v":1747}]
[336,643,1737,651,1744,645,1742,701,1753,653,1747,656,1743,656,1747,650,1747,643,1740,702,1758,658,1756,654,1744,707,1752,710,1750,null,{"$f":"HLOOKUP(Calc!$Y$8,look1,Sunrise_set!A338+2)","v":710},{"$f":"HLOOKUP(Calc!$Z$8,look1,Sunrise_set!A338+2)","v":1750}]
[337,640,1739,649,1746,643,1743,658,1754,651,1749,653,1745,654,1749,648,1749,641,1742,700,1800,656,1758,652,1746,705,1754,707,1752,null,{"$f":"HLOOKUP(Calc!$Y$8,look1,Sunrise_set!A339+2)","v":707},{"$f":"HLOOKUP(Calc!$Z$8,look1,Sunrise_set!A339+2)","v":1752}]
[338,638,1741,647,1748,641,1745,656,1756,649,1751,651,1747,651,1751,646,1751,639,1744,658,1801,653,1759,649,1748,702,1756,705,1754,null,{"$f":"HLOOKUP(Calc!$Y$8,look1,Sunrise_set!A340+2)","v":705},{"$f":"HLOOKUP(Calc!$Z$8,look1,Sunrise_set!A340+2)","v":1754}]
[339,636,1743,644,1749,639,1747,654,1758,646,1753,648,1749,649,1753,644,1752,637,1745,656,1803,651,1801,647,1750,700,1758,702,1756,null,{"$f":"HLOOKUP(Calc!$Y$8,look1,Sunrise_set!A341+2)","v":702},{"$f":"HLOOKUP(Calc!$Z$8,look1,Sunrise_set!A341+2)","v":1756}]
[340,634,1744,642,1751,637,1749,652,1800,644,1754,646,1751,647,1755,641,1754,634,1747,653,1805,649,1803,644,1752,657,1800,659,1759,null,{"$f":"HLOOKUP(Calc!$Y$8,look1,Sunrise_set!A342+2)","v":659},{"$f":"HLOOKUP(Calc!$Z$8,look1,Sunrise_set!A342+2)","v":1759}]
[341,631,1746,640,1753,634,1750,649,1802,642,1756,643,1753,644,1757,639,1756,632,1749,651,1807,647,1804,642,1754,655,1803,657,1801,null,{"$f":"HLOOKUP(Calc!$Y$8,look1,Sunrise_set!A343+2)","v":657},{"$f":"HLOOKUP(Calc!$Z$8,look1,Sunrise_set!A343+2)","v":1801}]
[342,629,1748,637,1755,632,1752,647,1804,640,1758,641,1755,642,1759,637,1758,630,1751,649,1808,645,1806,640,1756,652,1805,654,1803,null,{"$f":"HLOOKUP(Calc!$Y$8,look1,Sunrise_set!A344+2)","v":654},{"$f":"HLOOKUP(Calc!$Z$8,look1,Sunrise_set!A344+2)","v":1803}]
[343,627,1750,635,1757,630,1754,645,1806,637,1800,638,1757,640,1801,635,1759,628,1752,647,1810,643,1808,637,1758,650,1807,651,1805,null,{"$f":"HLOOKUP(Calc!$Y$8,look1,Sunrise_set!A345+2)","v":651},{"$f":"HLOOKUP(Calc!$Z$8,look1,Sunrise_set!A345+2)","v":1805}]
[344,625,1752,633,1759,628,1756,642,1808,635,1802,636,1759,637,1803,633,1801,626,1754,644,1812,641,1809,635,1800,647,1809,648,1808,null,{"$f":"HLOOKUP(Calc!$Y$8,look1,Sunrise_set!A346+2)","v":648},{"$f":"HLOOKUP(Calc!$Z$8,look1,Sunrise_set!A346+2)","v":1808}]
[345,622,1753,630,1800,625,1757,640,1809,633,1803,633,1801,635,1804,630,1803,623,1756,642,1814,638,1811,633,1802,645,1811,646,1810,null,{"$f":"HLOOKUP(Calc!$Y$8,look1,Sunrise_set!A347+2)","v":646},{"$f":"HLOOKUP(Calc!$Z$8,look1,Sunrise_set!A347+2)","v":1810}]
[346,620,1755,628,1802,623,1759,637,1811,630,1805,631,1803,633,1806,628,1804,621,1757,640,1815,636,1813,630,1803,642,1813,643,1812,null,{"$f":"HLOOKUP(Calc!$Y$8,look1,Sunrise_set!A348+2)","v":643},{"$f":"HLOOKUP(Calc!$Z$8,look1,Sunrise_set!A348+2)","v":1812}]
[347,618,1757,626,1804,621,1801,635,1813,628,1807,628,1805,630,1808,626,1806,619,1759,638,1817,634,1814,628,1805,639,1815,640,1814,null,{"$f":"HLOOKUP(Calc!$Y$8,look1,Sunrise_set!A349+2)","v":640},{"$f":"HLOOKUP(Calc!$Z$8,look1,Sunrise_set!A349+2)","v":1814}]
[348,615,1759,623,1806,619,1802,633,1815,626,1809,626,1807,628,1810,624,1808,617,1801,635,1819,632,1816,625,1807,637,1817,637,1816,null,{"$f":"HLOOKUP(Calc!$Y$8,look1,Sunrise_set!A350+2)","v":637},{"$f":"HLOOKUP(Calc!$Z$8,look1,Sunrise_set!A350+2)","v":1816}]
[349,613,1800,621,1808,616,1804,630,1817,623,1811,623,1809,625,1812,622,1809,615,1803,633,1821,630,1818,623,1809,634,1819,635,1819,null,{"$f":"HLOOKUP(Calc!$Y$8,look1,Sunrise_set!A351+2)","v":635},{"$f":"HLOOKUP(Calc!$Z$8,look1,Sunrise_set!A351+2)","v":1819}]
[350,611,1802,618,1810,614,1806,628,1819,621,1812,621,1811,623,1814,619,1811,612,1804,631,1822,627,1819,620,1811,631,1821,632,1821,null,{"$f":"HLOOKUP(Calc!$Y$8,look1,Sunrise_set!A352+2)","v":632},{"$f":"HLOOKUP(Calc!$Z$8,look1,Sunrise_set!A352+2)","v":1821}]
[351,608,1804,616,1811,612,1808,625,1821,619,1814,618,1813,621,1816,617,1813,610,1806,629,1824,625,1821,618,1813,629,1823,629,1823,null,{"$f":"HLOOKUP(Calc!$Y$8,look1,Sunrise_set!A353+2)","v":629},{"$f":"HLOOKUP(Calc!$Z$8,look1,Sunrise_set!A353+2)","v":1823}]
[352,606,1806,614,1813,610,1809,623,1822,616,1816,616,1815,618,1817,615,1814,608,1808,626,1826,623,1823,615,1815,626,1825,626,1825,null,{"$f":"HLOOKUP(Calc!$Y$8,look1,Sunrise_set!A354+2)","v":626},{"$f":"HLOOKUP(Calc!$Z$8,look1,Sunrise_set!A354+2)","v":1825}]
[353,604,1807,611,1815,607,1811,621,1824,614,1818,613,1817,616,1819,612,1816,606,1809,624,1828,621,1824,613,1817,624,1827,624,1827,null,{"$f":"HLOOKUP(Calc!$Y$8,look1,Sunrise_set!A355+2)","v":624},{"$f":"HLOOKUP(Calc!$Z$8,look1,Sunrise_set!A355+2)","v":1827}]
[354,601,1809,609,1817,605,1813,618,1826,612,1819,610,1819,613,1821,610,1818,603,1811,622,1829,618,1826,611,1819,621,1829,621,1830,null,{"$f":"HLOOKUP(Calc!$Y$8,look1,Sunrise_set!A356+2)","v":621},{"$f":"HLOOKUP(Calc!$Z$8,look1,Sunrise_set!A356+2)","v":1830}]
[355,559,1811,607,1819,603,1814,616,1828,609,1821,608,1821,611,1823,608,1820,601,1813,619,1831,616,1828,608,1820,618,1831,618,1832,null,{"$f":"HLOOKUP(Calc!$Y$8,look1,Sunrise_set!A357+2)","v":618},{"$f":"HLOOKUP(Calc!$Z$8,look1,Sunrise_set!A357+2)","v":1832}]
[356,557,1813,604,1820,600,1816,613,1830,607,1823,605,1823,608,1825,606,1821,559,1814,617,1833,614,1829,606,1822,616,1833,615,1834,null,{"$f":"HLOOKUP(Calc!$Y$8,look1,Sunrise_set!A358+2)","v":615},{"$f":"HLOOKUP(Calc!$Z$8,look1,Sunrise_set!A358+2)","v":1834}]
[357,554,1814,602,1822,558,1818,611,1832,605,1825,603,1825,606,1827,603,1823,557,1816,615,1834,612,1831,603,1824,613,1835,613,1836,null,{"$f":"HLOOKUP(Calc!$Y$8,look1,Sunrise_set!A359+2)","v":613},{"$f":"HLOOKUP(Calc!$Z$8,look1,Sunrise_set!A359+2)","v":1836}]
[358,552,1816,559,1824,556,1819,608,1833,602,1826,600,1826,604,1829,601,1825,554,1818,612,1836,610,1833,601,1826,610,1838,610,1838,null,{"$f":"HLOOKUP(Calc!$Y$8,look1,Sunrise_set!A360+2)","v":610},{"$f":"HLOOKUP(Calc!$Z$8,look1,Sunrise_set!A360+2)","v":1838}]
[359,550,1818,557,1826,554,1821,606,1835,600,1828,558,1828,601,1830,559,1826,552,1819,610,1838,607,1834,558,1828,608,1840,607,1840,null,{"$f":"HLOOKUP(Calc!$Y$8,look1,Sunrise_set!A361+2)","v":607},{"$f":"HLOOKUP(Calc!$Z$8,look1,Sunrise_set!A361+2)","v":1840}]
[360,547,1820,555,1828,551,1823,604,1837,558,1830,555,1830,559,1832,557,1828,550,1821,608,1840,605,1836,556,1830,605,1842,604,1843,null,{"$f":"HLOOKUP(Calc!$Y$8,look1,Sunrise_set!A362+2)","v":604},{"$f":"HLOOKUP(Calc!$Z$8,look1,Sunrise_set!A362+2)","v":1843}]
[361,545,1821,552,1829,549,1824,601,1839,555,1832,553,1832,556,1834,554,1830,548,1822,605,1841,603,1837,553,1832,603,1844,602,1845,null,{"$f":"HLOOKUP(Calc!$Y$8,look1,Sunrise_set!A363+2)","v":602},{"$f":"HLOOKUP(Calc!$Z$8,look1,Sunrise_set!A363+2)","v":1845}]
[362,543,1823,550,1831,547,1826,559,1841,553,1833,550,1834,554,1836,552,1831,545,1824,603,1843,601,1839,551,1833,600,1846,559,1847,null,{"$f":"HLOOKUP(Calc!$Y$8,look1,Sunrise_set!A364+2)","v":559},{"$f":"HLOOKUP(Calc!$Z$8,look1,Sunrise_set!A364+2)","v":1847}]
[363,540,1825,547,1833,545,1828,556,1842,550,1835,548,1836,551,1838,550,1833,543,1826,601,1845,558,1841,548,1835,557,1848,556,1849,null,{"$f":"HLOOKUP(Calc!$Y$8,look1,Sunrise_set!A365+2)","v":556},{"$f":"HLOOKUP(Calc!$Z$8,look1,Sunrise_set!A365+2)","v":1849}]
[364,538,1827,545,1835,542,1829,554,1844,548,1837,545,1838,549,1840,548,1834,541,1827,559,1846,556,1842,546,1837,555,1850,553,1851,null,{"$f":"HLOOKUP(Calc!$Y$8,look1,Sunrise_set!A366+2)","v":553},{"$f":"HLOOKUP(Calc!$Z$8,look1,Sunrise_set!A366+2)","v":1851}]
[365,536,1828,543,1837,540,1831,552,1846,546,1839,542,1840,547,1841,545,1836,539,1829,556,1848,554,1844,544,1839,552,1852,550,1853,null,{"$f":"HLOOKUP(Calc!$Y$8,look1,Sunrise_set!A367+2)","v":550},{"$f":"HLOOKUP(Calc!$Z$8,look1,Sunrise_set!A367+2)","v":1853}]
[366,533,1830,540,1838,538,1833,549,1848,543,1840,540,1842,544,1843,543,1838,536,1831,554,1850,552,1846,541,1841,550,1854,548,1856,null,{"$f":"HLOOKUP(Calc!$Y$8,look1,Sunrise_set!A368+2)","v":548},{"$f":"HLOOKUP(Calc!$Z$8,look1,Sunrise_set!A368+2)","v":1856}]

{"sheet":"Switch Regime Entry","index":4,"n_rows":3,"n_cols":31,"rows_kept":3,"cut":false,"hidden":false,"merged":[[0,2,0,15]]}
[null,null,"GSP Group Name"]
["Regime","Period","Eastern","East Midlands","London","Merseyside & North Wales","Midlands","Northern","North Western","Southern","South Eastern","South Wales","South Western","Yorkshire","South Scotland","North Scotland","After Sunset","Before Sunrise","Lux On","Lux Off","Intermediate Off","Intermediate On","Switch On","Switch Off","Switch Class","Category","Status","Default Switch Regime","GMT/CLK","Effective From Date","Effective To Date"]
["F19","Variable Power Switch Regime - (GMT)",2120,2115,2117,2111,2115,2115,2113,2115,2118,2110,2111,2115,2110,2110,null,null,20,20,null,null,null,null,"P","B","P",null,"GMT","2018-12-19"]

{"sheet":"Dropdowns","index":5,"n_rows":25,"n_cols":4,"rows_kept":25,"cut":false,"hidden":true,"merged":[]}
["CLK",0,0,0]
["GMT",30,1,5]
[null,null,2,10]
[null,null,3,15]
[null,null,4,20]
[null,null,5,25]
[null,null,6,30]
[null,null,7,35]
[null,null,8,40]
[null,null,9,45]
[null,null,10,50]
[null,null,11,55]
[null,null,12,60]
[null,null,13,65]
[null,null,14,70]
[null,null,15,75]
[null,null,16,80]
[null,null,17,85]
[null,null,18,90]
[null,null,19,95]
[null,null,20,100]
[null,null,21]
[null,null,22]
[null,null,23]
[null,null,24]