{"text_format":"1","workbook":"xlsx","n_sheets":9,"sheets":["Multiple","SO","BSCC Ltd","FAA","Stage 2","Internal","NGC","Items","Macros"],"not_rendered":{"charts":0,"images":0,"macros":1,"external_links":0,"defined_names":26,"comments":0,"pivot_tables":0},"unopened":[{"sheet":"Macros","index":8,"reason":"part_missing"}],"bounds":{"document_bytes":16777216,"sheet_cells":100000,"rows_first":2000,"rows_last":500,"rows_between":2000,"halvings":0,"cell_chars":16384,"cell_head_chars":4096},"cells_cut":0,"cells_raw":0,"read":"whole","date_system":"1900"}

{"sheet":"Multiple","index":0,"n_rows":1032,"n_cols":14,"rows_kept":1032,"cut":false,"hidden":false,"merged":[]}
["Id","type","flow version / range","L1","L2","L3","L4","L5","L6","L7","data type","Valid Set","item name/group description","comments"]
[]
["B0102",{"$f":"IF(LEN(K3)>0,\"D\",IF(LEN(A3)=5,\"F\",IF(LEN(A3)=3,\"R\",\" \")))","v":"F"},"001",null,null,null,null,null,null,null,null,{"$f":"IF($L$1024=TRUE,\"\",\"Problem in Consistency Checks at bottom of sheet\")","v":""},"BMRA-I010 sub-flow 2 - BMRA BSAD Feedback Report","This subflow is used when the exception report relates to an adjustment flow (NGC30).  Subflow 1 is defined in IDD part 1"]
[]
["HNF",{"$f":"IF(LEN(K5)>0,\"D\",IF(LEN(A5)=5,\"F\",IF(LEN(A5)=3,\"R\",\" \")))","v":"R"},1,"G",null,null,null,null,null,null,null,null,"Header of NGC file being processed"]
[{"$f":"VLOOKUP(UPPER(M6),Items!$A$2:$B$525,2,FALSE)","v":"N0329"},{"$f":"IF(LEN(K6)>0,\"D\",IF(LEN(A6)=5,\"F\",IF(LEN(A6)=3,\"R\",\" \")))","v":"D"},null,null,1,null,null,null,null,null,{"$f":"VLOOKUP(UPPER(A6),Items!$B$2:$G$525,6)","v":"text(255)"},{"$f":"IF(VLOOKUP(UPPER(A6),Items!$B$2:$H$525,7,FALSE)<>0,VLOOKUP(UPPER(A6),Items!$B$2:$H$525,7,FALSE),\"\")","v":""},"NGC Filename"]
["BDE",{"$f":"IF(LEN(K7)>0,\"D\",IF(LEN(A7)=5,\"F\",IF(LEN(A7)=3,\"R\",\" \")))","v":"R"},"1-*","G",null,null,null,null,null,null,null,null,"BMRA Data Exceptions"]
[{"$f":"VLOOKUP(UPPER(M8),Items!$A$2:$B$525,2,FALSE)","v":"N0094"},{"$f":"IF(LEN(K8)>0,\"D\",IF(LEN(A8)=5,\"F\",IF(LEN(A8)=3,\"R\",\" \")))","v":"D"},null,null,1,null,null,null,null,null,{"$f":"VLOOKUP(UPPER(A8),Items!$B$2:$G$525,6)","v":"char"},{"$f":"IF(VLOOKUP(UPPER(A8),Items!$B$2:$H$525,7,FALSE)<>0,VLOOKUP(UPPER(A8),Items!$B$2:$H$525,7,FALSE),\"\")","v":"BMRA Exception Type"},"Exception Type"]
[{"$f":"VLOOKUP(UPPER(M9),Items!$A$2:$B$525,2,FALSE)","v":"N0093"},{"$f":"IF(LEN(K9)>0,\"D\",IF(LEN(A9)=5,\"F\",IF(LEN(A9)=3,\"R\",\" \")))","v":"D"},null,null,1,null,null,null,null,null,{"$f":"VLOOKUP(UPPER(A9),Items!$B$2:$G$525,6)","v":"text(255)"},{"$f":"IF(VLOOKUP(UPPER(A9),Items!$B$2:$H$525,7,FALSE)<>0,VLOOKUP(UPPER(A9),Items!$B$2:$H$525,7,FALSE),\"\")","v":""},"Exception Description"]
[]
["R0041",{"$f":"IF(LEN(K11)>0,\"D\",IF(LEN(A11)=5,\"F\",IF(LEN(A11)=3,\"R\",\" \")))","v":"F"},"001",null,null,null,null,null,null,null,null,null,"CRA-I004: BSC Service Agent Registration Details"]
[null," "]
["BS2","R",1,"G",null,null,null,null,null,null,null,null,"BSC Service Agent Details"]
[{"$f":"VLOOKUP(UPPER(M14),Items!$A$2:$B$525,2,FALSE)","v":"N0005"},"D",null,null,1,null,null,null,null,null,{"$f":"VLOOKUP(UPPER(A14),Items!$B$2:$G$525,6)","v":"text(255)"},{"$f":"IF(VLOOKUP(UPPER(A14),Items!$B$2:$H$525,7,FALSE)<>0,VLOOKUP(UPPER(A14),Items!$B$2:$H$525,7,FALSE),\"\")","v":""},"Action Description"]
[{"$f":"VLOOKUP(UPPER(M15),Items!$A$2:$B$525,2,FALSE)","v":"N0022"},"D",null,null,1,null,null,null,null,null,{"$f":"VLOOKUP(UPPER(A15),Items!$B$2:$G$525,6)","v":"text(30)"},{"$f":"IF(VLOOKUP(UPPER(A15),Items!$B$2:$H$525,7,FALSE)<>0,VLOOKUP(UPPER(A15),Items!$B$2:$H$525,7,FALSE),\"\")","v":""},"Authentication Name"]
[{"$f":"VLOOKUP(UPPER(M16),Items!$A$2:$B$525,2,FALSE)","v":"N0023"},"D",null,null,1,null,null,null,null,null,{"$f":"VLOOKUP(UPPER(A16),Items!$B$2:$G$525,6)","v":"text(8)"},{"$f":"IF(VLOOKUP(UPPER(A16),Items!$B$2:$H$525,7,FALSE)<>0,VLOOKUP(UPPER(A16),Items!$B$2:$H$525,7,FALSE),\"\")","v":""},"Authentication Password"]
[{"$f":"VLOOKUP(UPPER(M17),Items!$A$2:$B$525,2,FALSE)","v":"N0019"},"D",null,null,1,null,null,null,null,null,{"$f":"VLOOKUP(UPPER(A17),Items!$B$2:$G$525,6)","v":"text(30)"},{"$f":"IF(VLOOKUP(UPPER(A17),Items!$B$2:$H$525,7,FALSE)<>0,VLOOKUP(UPPER(A17),Items!$B$2:$H$525,7,FALSE),\"\")","v":""},"Agent Name"]
[{"$f":"VLOOKUP(UPPER(M18),Items!$A$2:$B$525,2,FALSE)","v":"N0018"},"D",null,null,"O",null,null,null,null,null,{"$f":"VLOOKUP(UPPER(A18),Items!$B$2:$G$525,6)","v":"text(8)"},{"$f":"IF(VLOOKUP(UPPER(A18),Items!$B$2:$H$525,7,FALSE)<>0,VLOOKUP(UPPER(A18),Items!$B$2:$H$525,7,FALSE),\"\")","v":""},"Agent Id"]
["SR5","R","0-*",null,"G",null,null,null,null,null,null,null,"Service Agent Role Details"]
[{"$f":"VLOOKUP(UPPER(M20),Items!$A$2:$B$525,2,FALSE)","v":"N0020"},{"$f":"IF(LEN(K20)>0,\"D\",IF(LEN(A20)=5,\"F\",IF(LEN(A20)=3,\"R\",\" \")))","v":"D"},null,null,null,1,null,null,null,null,{"$f":"VLOOKUP(UPPER(A20),Items!$B$2:$G$525,6)","v":"text(2)"},{"$f":"IF(VLOOKUP(UPPER(A20),Items!$B$2:$H$525,7,FALSE)<>0,VLOOKUP(UPPER(A20),Items!$B$2:$H$525,7,FALSE),\"\")","v":"Organisation Type"},"Agent Type"]
[{"$f":"VLOOKUP(UPPER(M21),Items!$A$2:$B$525,2,FALSE)","v":"N0081"},"D",null,null,null,1,null,null,null,null,{"$f":"VLOOKUP(UPPER(A21),Items!$B$2:$G$525,6)","v":"date"},null,"Effective From Date"]
[{"$f":"VLOOKUP(UPPER(M22),Items!$A$2:$B$525,2,FALSE)","v":"N0083"},"D",null,null,null,"O",null,null,null,null,{"$f":"VLOOKUP(UPPER(A22),Items!$B$2:$G$525,6)","v":"date"},{"$f":"IF(VLOOKUP(UPPER(A22),Items!$B$2:$H$525,7,FALSE)<>0,VLOOKUP(UPPER(A22),Items!$B$2:$H$525,7,FALSE),\"\")","v":""},"Effective To Date"]
["RA2","R","0-1",null,null,"G",null,null,null,null,null,null,"Role Address Details"]
[{"$f":"VLOOKUP(UPPER(M24),Items!$A$2:$B$525,2,FALSE)","v":"N0008"},"D",null,null,null,null,1,null,null,null,{"$f":"VLOOKUP(UPPER(A24),Items!$B$2:$G$525,6)","v":"text(40)"},{"$f":"IF(VLOOKUP(UPPER(A24),Items!$B$2:$H$525,7,FALSE)<>0,VLOOKUP(UPPER(A24),Items!$B$2:$H$525,7,FALSE),\"\")","v":""},"Address Line 1"]
[{"$f":"VLOOKUP(UPPER(M25),Items!$A$2:$B$525,2,FALSE)","v":"N0009"},"D",null,null,null,null,"O",null,null,null,{"$f":"VLOOKUP(UPPER(A25),Items!$B$2:$G$525,6)","v":"text(40)"},{"$f":"IF(VLOOKUP(UPPER(A25),Items!$B$2:$H$525,7,FALSE)<>0,VLOOKUP(UPPER(A25),Items!$B$2:$H$525,7,FALSE),\"\")","v":""},"Address Line 2"]
[{"$f":"VLOOKUP(UPPER(M26),Items!$A$2:$B$525,2,FALSE)","v":"N0010"},"D",null,null,null,null,"O",null,null,null,{"$f":"VLOOKUP(UPPER(A26),Items!$B$2:$G$525,6)","v":"text(40)"},{"$f":"IF(VLOOKUP(UPPER(A26),Items!$B$2:$H$525,7,FALSE)<>0,VLOOKUP(UPPER(A26),Items!$B$2:$H$525,7,FALSE),\"\")","v":""},"Address Line 3"]
[{"$f":"VLOOKUP(UPPER(M27),Items!$A$2:$B$525,2,FALSE)","v":"N0011"},"D",null,null,null,null,"O",null,null,null,{"$f":"VLOOKUP(UPPER(A27),Items!$B$2:$G$525,6)","v":"text(40)"},{"$f":"IF(VLOOKUP(UPPER(A27),Items!$B$2:$H$525,7,FALSE)<>0,VLOOKUP(UPPER(A27),Items!$B$2:$H$525,7,FALSE),\"\")","v":""},"Address Line 4"]
[{"$f":"VLOOKUP(UPPER(M28),Items!$A$2:$B$525,2,FALSE)","v":"N0012"},"D",null,null,null,null,"O",null,null,null,{"$f":"VLOOKUP(UPPER(A28),Items!$B$2:$G$525,6)","v":"text(40)"},{"$f":"IF(VLOOKUP(UPPER(A28),Items!$B$2:$H$525,7,FALSE)<>0,VLOOKUP(UPPER(A28),Items!$B$2:$H$525,7,FALSE),\"\")","v":""},"Address Line 5"]
[{"$f":"VLOOKUP(UPPER(M29),Items!$A$2:$B$525,2,FALSE)","v":"N0013"},"D",null,null,null,null,"O",null,null,null,{"$f":"VLOOKUP(UPPER(A29),Items!$B$2:$G$525,6)","v":"text(40)"},{"$f":"IF(VLOOKUP(UPPER(A29),Items!$B$2:$H$525,7,FALSE)<>0,VLOOKUP(UPPER(A29),Items!$B$2:$H$525,7,FALSE),\"\")","v":""},"Address Line 6"]
[{"$f":"VLOOKUP(UPPER(M30),Items!$A$2:$B$525,2,FALSE)","v":"N0014"},"D",null,null,null,null,"O",null,null,null,{"$f":"VLOOKUP(UPPER(A30),Items!$B$2:$G$525,6)","v":"text(40)"},{"$f":"IF(VLOOKUP(UPPER(A30),Items!$B$2:$H$525,7,FALSE)<>0,VLOOKUP(UPPER(A30),Items!$B$2:$H$525,7,FALSE),\"\")","v":""},"Address Line 7"]
[{"$f":"VLOOKUP(UPPER(M31),Items!$A$2:$B$525,2,FALSE)","v":"N0015"},"D",null,null,null,null,"O",null,null,null,{"$f":"VLOOKUP(UPPER(A31),Items!$B$2:$G$525,6)","v":"text(40)"},{"$f":"IF(VLOOKUP(UPPER(A31),Items!$B$2:$H$525,7,FALSE)<>0,VLOOKUP(UPPER(A31),Items!$B$2:$H$525,7,FALSE),\"\")","v":""},"Address Line 8"]
[{"$f":"VLOOKUP(UPPER(M32),Items!$A$2:$B$525,2,FALSE)","v":"N0016"},"D",null,null,null,null,"O",null,null,null,{"$f":"VLOOKUP(UPPER(A32),Items!$B$2:$G$525,6)","v":"text(40)"},{"$f":"IF(VLOOKUP(UPPER(A32),Items!$B$2:$H$525,7,FALSE)<>0,VLOOKUP(UPPER(A32),Items!$B$2:$H$525,7,FALSE),\"\")","v":""},"Address Line 9"]
[{"$f":"VLOOKUP(UPPER(M33),Items!$A$2:$B$525,2,FALSE)","v":"N0176"},"D",null,null,null,null,"O",null,null,null,{"$f":"VLOOKUP(UPPER(A33),Items!$B$2:$G$525,6)","v":"text(10)"},{"$f":"IF(VLOOKUP(UPPER(A33),Items!$B$2:$H$525,7,FALSE)<>0,VLOOKUP(UPPER(A33),Items!$B$2:$H$525,7,FALSE),\"\")","v":""},"Post Code"]
[{"$f":"VLOOKUP(UPPER(M34),Items!$A$2:$B$525,2,FALSE)","v":"N0218"},"D",null,null,null,null,"O",null,null,null,{"$f":"VLOOKUP(UPPER(A34),Items!$B$2:$G$525,6)","v":"text(15)"},{"$f":"IF(VLOOKUP(UPPER(A34),Items!$B$2:$H$525,7,FALSE)<>0,VLOOKUP(UPPER(A34),Items!$B$2:$H$525,7,FALSE),\"\")","v":""},"Telephone No"]
[{"$f":"VLOOKUP(UPPER(M35),Items!$A$2:$B$525,2,FALSE)","v":"N0100"},"D",null,null,null,null,"O",null,null,null,{"$f":"VLOOKUP(UPPER(A35),Items!$B$2:$G$525,6)","v":"text(15)"},{"$f":"IF(VLOOKUP(UPPER(A35),Items!$B$2:$H$525,7,FALSE)<>0,VLOOKUP(UPPER(A35),Items!$B$2:$H$525,7,FALSE),\"\")","v":""},"Fax No"]
[{"$f":"VLOOKUP(UPPER(M36),Items!$A$2:$B$525,2,FALSE)","v":"N0067"},"D",null,null,null,null,"O",null,null,null,{"$f":"VLOOKUP(UPPER(A36),Items!$B$2:$G$525,6)","v":"text(80)"},{"$f":"IF(VLOOKUP(UPPER(A36),Items!$B$2:$H$525,7,FALSE)<>0,VLOOKUP(UPPER(A36),Items!$B$2:$H$525,7,FALSE),\"\")","v":""},{"$f":"PROPER(\"e-mail Address\")","v":"E-Mail Address"}]
[]
[]
[null,{"$f":"IF(LEN(K39)>0,\"D\",IF(LEN(A39)=5,\"F\",IF(LEN(A39)=3,\"R\",\" \")))","v":" "}]
["R0131","F","001",null,null,null,null,null,null,null,null,null,"CRA-I013: Issue BSC Party and BSC Party Agent Authentication Data"]
[null," "]
["BP8","R","0-*","G",null,null,null,null,null,null,null,null,"BSC Party Details"]
[{"$f":"VLOOKUP(UPPER(M43),Items!$A$2:$B$525,2,FALSE)","v":"N0339"},"D",null,null,"O",null,null,null,null,null,{"$f":"VLOOKUP(UPPER(A43),Items!$B$2:$G$525,6)","v":"text(9)"},{"$f":"IF(VLOOKUP(UPPER(A43),Items!$B$2:$H$525,7,FALSE)<>0,VLOOKUP(UPPER(A43),Items!$B$2:$H$525,7,FALSE),\"\")","v":""},"Action Code"]
[{"$f":"VLOOKUP(UPPER(M44),Items!$A$2:$B$525,2,FALSE)","v":"N0046"},"D",null,null,1,null,null,null,null,null,{"$f":"VLOOKUP(UPPER(A44),Items!$B$2:$G$525,6)","v":"text(30)"},{"$f":"IF(VLOOKUP(UPPER(A44),Items!$B$2:$H$525,7,FALSE)<>0,VLOOKUP(UPPER(A44),Items!$B$2:$H$525,7,FALSE),\"\")","v":""},"BSC Party Name"]
[{"$f":"VLOOKUP(UPPER(M45),Items!$A$2:$B$525,2,FALSE)","v":"N0045"},"D",null,null,1,null,null,null,null,null,{"$f":"VLOOKUP(UPPER(A45),Items!$B$2:$G$525,6)","v":"text(8)"},{"$f":"IF(VLOOKUP(UPPER(A45),Items!$B$2:$H$525,7,FALSE)<>0,VLOOKUP(UPPER(A45),Items!$B$2:$H$525,7,FALSE),\"\")","v":""},"BSC Party Id"]
["PR1","R","0-*",null,"G",null,null,null,null,null,null,null,"Party Role Details"]
[{"$f":"VLOOKUP(UPPER(M47),Items!$A$2:$B$525,2,FALSE)","v":"N0339"},{"$f":"IF(LEN(K47)>0,\"D\",IF(LEN(A47)=5,\"F\",IF(LEN(A47)=3,\"R\",\" \")))","v":"D"},null,null,null,"O",null,null,null,null,{"$f":"VLOOKUP(UPPER(A47),Items!$B$2:$G$525,6)","v":"text(9)"},{"$f":"IF(VLOOKUP(UPPER(A47),Items!$B$2:$H$525,7,FALSE)<>0,VLOOKUP(UPPER(A47),Items!$B$2:$H$525,7,FALSE),\"\")","v":""},"Action Code"]
[{"$f":"VLOOKUP(UPPER(M48),Items!$A$2:$B$525,2,FALSE)","v":"N0047"},"D",null,null,null,1,null,null,null,null,{"$f":"VLOOKUP(UPPER(A48),Items!$B$2:$G$525,6)","v":"text(2)"},{"$f":"IF(VLOOKUP(UPPER(A48),Items!$B$2:$H$525,7,FALSE)<>0,VLOOKUP(UPPER(A48),Items!$B$2:$H$525,7,FALSE),\"\")","v":"Organisation Type"},"BSC Party Type"]
[{"$f":"VLOOKUP(UPPER(M49),Items!$A$2:$B$525,2,FALSE)","v":"N0183"},"D",null,null,null,1,null,null,null,null,{"$f":"VLOOKUP(UPPER(A49),Items!$B$2:$G$525,6)","v":"date"},{"$f":"IF(VLOOKUP(UPPER(A49),Items!$B$2:$H$525,7,FALSE)<>0,VLOOKUP(UPPER(A49),Items!$B$2:$H$525,7,FALSE),\"\")","v":""},"Registration Effective From Date"]
[{"$f":"VLOOKUP(UPPER(M50),Items!$A$2:$B$525,2,FALSE)","v":"N0184"},"D",null,null,null,"O",null,null,null,null,{"$f":"VLOOKUP(UPPER(A50),Items!$B$2:$G$525,6)","v":"date"},{"$f":"IF(VLOOKUP(UPPER(A50),Items!$B$2:$H$525,7,FALSE)<>0,VLOOKUP(UPPER(A50),Items!$B$2:$H$525,7,FALSE),\"\")","v":""},"Registration Effective To Date"]
["RA4","R","0-1",null,null,"G",null,null,null,null,null,null,"Role Address Details"]
[{"$f":"VLOOKUP(UPPER(M52),Items!$A$2:$B$525,2,FALSE)","v":"N0339"},"D",null,null,null,null,"O",null,null,null,{"$f":"VLOOKUP(UPPER(A52),Items!$B$2:$G$525,6)","v":"text(9)"},{"$f":"IF(VLOOKUP(UPPER(A52),Items!$B$2:$H$525,7,FALSE)<>0,VLOOKUP(UPPER(A52),Items!$B$2:$H$525,7,FALSE),\"\")","v":""},"Action Code"]
[{"$f":"VLOOKUP(UPPER(M53),Items!$A$2:$B$525,2,FALSE)","v":"N0008"},"D",null,null,null,null,1,null,null,null,{"$f":"VLOOKUP(UPPER(A53),Items!$B$2:$G$525,6)","v":"text(40)"},{"$f":"IF(VLOOKUP(UPPER(A53),Items!$B$2:$H$525,7,FALSE)<>0,VLOOKUP(UPPER(A53),Items!$B$2:$H$525,7,FALSE),\"\")","v":""},"Address Line 1"]
[{"$f":"VLOOKUP(UPPER(M54),Items!$A$2:$B$525,2,FALSE)","v":"N0009"},"D",null,null,null,null,"O",null,null,null,{"$f":"VLOOKUP(UPPER(A54),Items!$B$2:$G$525,6)","v":"text(40)"},{"$f":"IF(VLOOKUP(UPPER(A54),Items!$B$2:$H$525,7,FALSE)<>0,VLOOKUP(UPPER(A54),Items!$B$2:$H$525,7,FALSE),\"\")","v":""},"Address Line 2"]
[{"$f":"VLOOKUP(UPPER(M55),Items!$A$2:$B$525,2,FALSE)","v":"N0010"},"D",null,null,null,null,"O",null,null,null,{"$f":"VLOOKUP(UPPER(A55),Items!$B$2:$G$525,6)","v":"text(40)"},{"$f":"IF(VLOOKUP(UPPER(A55),Items!$B$2:$H$525,7,FALSE)<>0,VLOOKUP(UPPER(A55),Items!$B$2:$H$525,7,FALSE),\"\")","v":""},"Address Line 3"]
[{"$f":"VLOOKUP(UPPER(M56),Items!$A$2:$B$525,2,FALSE)","v":"N0011"},"D",null,null,null,null,"O",null,null,null,{"$f":"VLOOKUP(UPPER(A56),Items!$B$2:$G$525,6)","v":"text(40)"},{"$f":"IF(VLOOKUP(UPPER(A56),Items!$B$2:$H$525,7,FALSE)<>0,VLOOKUP(UPPER(A56),Items!$B$2:$H$525,7,FALSE),\"\")","v":""},"Address Line 4"]
[{"$f":"VLOOKUP(UPPER(M57),Items!$A$2:$B$525,2,FALSE)","v":"N0012"},"D",null,null,null,null,"O",null,null,null,{"$f":"VLOOKUP(UPPER(A57),Items!$B$2:$G$525,6)","v":"text(40)"},{"$f":"IF(VLOOKUP(UPPER(A57),Items!$B$2:$H$525,7,FALSE)<>0,VLOOKUP(UPPER(A57),Items!$B$2:$H$525,7,FALSE),\"\")","v":""},"Address Line 5"]
[{"$f":"VLOOKUP(UPPER(M58),Items!$A$2:$B$525,2,FALSE)","v":"N0013"},"D",null,null,null,null,"O",null,null,null,{"$f":"VLOOKUP(UPPER(A58),Items!$B$2:$G$525,6)","v":"text(40)"},{"$f":"IF(VLOOKUP(UPPER(A58),Items!$B$2:$H$525,7,FALSE)<>0,VLOOKUP(UPPER(A58),Items!$B$2:$H$525,7,FALSE),\"\")","v":""},"Address Line 6"]
[{"$f":"VLOOKUP(UPPER(M59),Items!$A$2:$B$525,2,FALSE)","v":"N0014"},"D",null,null,null,null,"O",null,null,null,{"$f":"VLOOKUP(UPPER(A59),Items!$B$2:$G$525,6)","v":"text(40)"},{"$f":"IF(VLOOKUP(UPPER(A59),Items!$B$2:$H$525,7,FALSE)<>0,VLOOKUP(UPPER(A59),Items!$B$2:$H$525,7,FALSE),\"\")","v":""},"Address Line 7"]
[{"$f":"VLOOKUP(UPPER(M60),Items!$A$2:$B$525,2,FALSE)","v":"N0015"},"D",null,null,null,null,"O",null,null,null,{"$f":"VLOOKUP(UPPER(A60),Items!$B$2:$G$525,6)","v":"text(40)"},{"$f":"IF(VLOOKUP(UPPER(A60),Items!$B$2:$H$525,7,FALSE)<>0,VLOOKUP(UPPER(A60),Items!$B$2:$H$525,7,FALSE),\"\")","v":""},"Address Line 8"]
[{"$f":"VLOOKUP(UPPER(M61),Items!$A$2:$B$525,2,FALSE)","v":"N0016"},"D",null,null,null,null,"O",null,null,null,{"$f":"VLOOKUP(UPPER(A61),Items!$B$2:$G$525,6)","v":"text(40)"},{"$f":"IF(VLOOKUP(UPPER(A61),Items!$B$2:$H$525,7,FALSE)<>0,VLOOKUP(UPPER(A61),Items!$B$2:$H$525,7,FALSE),\"\")","v":""},"Address Line 9"]
[{"$f":"VLOOKUP(UPPER(M62),Items!$A$2:$B$525,2,FALSE)","v":"N0176"},"D",null,null,null,null,"O",null,null,null,{"$f":"VLOOKUP(UPPER(A62),Items!$B$2:$G$525,6)","v":"text(10)"},{"$f":"IF(VLOOKUP(UPPER(A62),Items!$B$2:$H$525,7,FALSE)<>0,VLOOKUP(UPPER(A62),Items!$B$2:$H$525,7,FALSE),\"\")","v":""},"Post Code"]
[{"$f":"VLOOKUP(UPPER(M63),Items!$A$2:$B$525,2,FALSE)","v":"N0218"},"D",null,null,null,null,"O",null,null,null,{"$f":"VLOOKUP(UPPER(A63),Items!$B$2:$G$525,6)","v":"text(15)"},{"$f":"IF(VLOOKUP(UPPER(A63),Items!$B$2:$H$525,7,FALSE)<>0,VLOOKUP(UPPER(A63),Items!$B$2:$H$525,7,FALSE),\"\")","v":""},"Telephone No"]
[{"$f":"VLOOKUP(UPPER(M64),Items!$A$2:$B$525,2,FALSE)","v":"N0100"},"D",null,null,null,null,"O",null,null,null,{"$f":"VLOOKUP(UPPER(A64),Items!$B$2:$G$525,6)","v":"text(15)"},{"$f":"IF(VLOOKUP(UPPER(A64),Items!$B$2:$H$525,7,FALSE)<>0,VLOOKUP(UPPER(A64),Items!$B$2:$H$525,7,FALSE),\"\")","v":""},"Fax No"]
[{"$f":"VLOOKUP(UPPER(M65),Items!$A$2:$B$525,2,FALSE)","v":"N0067"},"D",null,null,null,null,"O",null,null,null,{"$f":"VLOOKUP(UPPER(A65),Items!$B$2:$G$525,6)","v":"text(80)"},{"$f":"IF(VLOOKUP(UPPER(A65),Items!$B$2:$H$525,7,FALSE)<>0,VLOOKUP(UPPER(A65),Items!$B$2:$H$525,7,FALSE),\"\")","v":""},{"$f":"PROPER(\"e-mail Address\")","v":"E-Mail Address"}]
["NRD","R","0-*",null,"G",null,null,null,null,null,null,null,"Notification Rejection Details"]
[{"$f":"VLOOKUP(UPPER(M67),Items!$A$2:$B$525,2,FALSE)","v":"N0339"},"D",null,null,null,"O",null,null,null,null,{"$f":"VLOOKUP(UPPER(A67),Items!$B$2:$G$525,6)","v":"text(9)"},{"$f":"IF(VLOOKUP(UPPER(A67),Items!$B$2:$H$525,7,FALSE)<>0,VLOOKUP(UPPER(A67),Items!$B$2:$H$525,7,FALSE),\"\")","v":""},"Action Code"]
[{"$f":"VLOOKUP(UPPER(M68),Items!$A$2:$B$525,2,FALSE)","v":"N0330"},"D",null,null,null,1,null,null,null,null,{"$f":"VLOOKUP(UPPER(A68),Items!$B$2:$G$525,6)","v":"boolean"},{"$f":"IF(VLOOKUP(UPPER(A68),Items!$B$2:$H$525,7,FALSE)<>0,VLOOKUP(UPPER(A68),Items!$B$2:$H$525,7,FALSE),\"\")","v":""},"Permit Notification Rejection Flag"]
[{"$f":"VLOOKUP(UPPER(M69),Items!$A$2:$B$525,2,FALSE)","v":"N0081"},"D",null,null,null,1,null,null,null,null,{"$f":"VLOOKUP(UPPER(A69),Items!$B$2:$G$525,6)","v":"date"},{"$f":"IF(VLOOKUP(UPPER(A69),Items!$B$2:$H$525,7,FALSE)<>0,VLOOKUP(UPPER(A69),Items!$B$2:$H$525,7,FALSE),\"\")","v":""},"Effective From Date"]
["SR9","R","0-*",null,"G",null,null,null,null,null,null,null,"Settlement Report Details"]
[{"$f":"VLOOKUP(UPPER(M71),Items!$A$2:$B$525,2,FALSE)","v":"N0339"},"D",null,null,null,"O",null,null,null,null,{"$f":"VLOOKUP(UPPER(A71),Items!$B$2:$G$525,6)","v":"text(9)"},{"$f":"IF(VLOOKUP(UPPER(A71),Items!$B$2:$H$525,7,FALSE)<>0,VLOOKUP(UPPER(A71),Items!$B$2:$H$525,7,FALSE),\"\")","v":""},"Action Code"]
[{"$f":"VLOOKUP(UPPER(M72),Items!$A$2:$B$525,2,FALSE)","v":"N0192"},"D",null,null,null,1,null,null,null,null,{"$f":"VLOOKUP(UPPER(A72),Items!$B$2:$G$525,6)","v":"text(30)"},{"$f":"IF(VLOOKUP(UPPER(A72),Items!$B$2:$H$525,7,FALSE)<>0,VLOOKUP(UPPER(A72),Items!$B$2:$H$525,7,FALSE),\"\")","v":""},"Report Type"]
[{"$f":"VLOOKUP(UPPER(M73),Items!$A$2:$B$525,2,FALSE)","v":"N0065"},"D",null,null,null,"O",null,null,null,null,{"$f":"VLOOKUP(UPPER(A73),Items!$B$2:$G$525,6)","v":"text(20)"},{"$f":"IF(VLOOKUP(UPPER(A73),Items!$B$2:$H$525,7,FALSE)<>0,VLOOKUP(UPPER(A73),Items!$B$2:$H$525,7,FALSE),\"\")","v":""},"Distribution Method"]
["PAS","R","0-*",null,"G",null,null,null,null,null,null,null,"Authorised Signatories"]
[{"$f":"VLOOKUP(UPPER(M75),Items!$A$2:$B$525,2,FALSE)","v":"N0339"},"D",null,null,null,"O",null,null,null,null,{"$f":"VLOOKUP(UPPER(A75),Items!$B$2:$G$525,6)","v":"text(9)"},{"$f":"IF(VLOOKUP(UPPER(A75),Items!$B$2:$H$525,7,FALSE)<>0,VLOOKUP(UPPER(A75),Items!$B$2:$H$525,7,FALSE),\"\")","v":""},"Action Code"]
[{"$f":"VLOOKUP(UPPER(M76),Items!$A$2:$B$525,2,FALSE)","v":"N0203"},"D",null,null,null,1,null,null,null,null,{"$f":"VLOOKUP(UPPER(A76),Items!$B$2:$G$525,6)","v":"text(30)"},{"$f":"IF(VLOOKUP(UPPER(A76),Items!$B$2:$H$525,7,FALSE)<>0,VLOOKUP(UPPER(A76),Items!$B$2:$H$525,7,FALSE),\"\")","v":""},"Signatory Name"]
[{"$f":"VLOOKUP(UPPER(M77),Items!$A$2:$B$525,2,FALSE)","v":"N0162"},"D",null,null,null,"O",null,null,null,null,{"$f":"VLOOKUP(UPPER(A77),Items!$B$2:$G$525,6)","v":"text(8)"},{"$f":"IF(VLOOKUP(UPPER(A77),Items!$B$2:$H$525,7,FALSE)<>0,VLOOKUP(UPPER(A77),Items!$B$2:$H$525,7,FALSE),\"\")","v":""},"Password"]
[{"$f":"VLOOKUP(UPPER(M78),Items!$A$2:$B$525,2,FALSE)","v":"N0056"},"D",null,null,null,"O",null,null,null,null,{"$f":"VLOOKUP(UPPER(A78),Items!$B$2:$G$525,6)","v":"text(15)"},{"$f":"IF(VLOOKUP(UPPER(A78),Items!$B$2:$H$525,7,FALSE)<>0,VLOOKUP(UPPER(A78),Items!$B$2:$H$525,7,FALSE),\"\")","v":""},"Contact Phone No"]
[{"$f":"VLOOKUP(UPPER(M79),Items!$A$2:$B$525,2,FALSE)","v":"N0067"},"D",null,null,null,"O",null,null,null,null,{"$f":"VLOOKUP(UPPER(A79),Items!$B$2:$G$525,6)","v":"text(80)"},{"$f":"IF(VLOOKUP(UPPER(A79),Items!$B$2:$H$525,7,FALSE)<>0,VLOOKUP(UPPER(A79),Items!$B$2:$H$525,7,FALSE),\"\")","v":""},{"$f":"PROPER(\"e-mail Address\")","v":"E-Mail Address"}]
["PAL","R","0-*",null,null,"G",null,null,null,null,null,null,"Authorisation Levels"]
[{"$f":"VLOOKUP(UPPER(M81),Items!$A$2:$B$525,2,FALSE)","v":"N0339"},"D",null,null,null,null,"O",null,null,null,{"$f":"VLOOKUP(UPPER(A81),Items!$B$2:$G$525,6)","v":"text(9)"},{"$f":"IF(VLOOKUP(UPPER(A81),Items!$B$2:$H$525,7,FALSE)<>0,VLOOKUP(UPPER(A81),Items!$B$2:$H$525,7,FALSE),\"\")","v":""},"Action Code"]
[{"$f":"VLOOKUP(UPPER(M82),Items!$A$2:$B$525,2,FALSE)","v":"N0006"},"D",null,null,null,null,1,null,null,null,{"$f":"VLOOKUP(UPPER(A82),Items!$B$2:$G$525,6)","v":"text(2)"},{"$f":"IF(VLOOKUP(UPPER(A82),Items!$B$2:$H$525,7,FALSE)<>0,VLOOKUP(UPPER(A82),Items!$B$2:$H$525,7,FALSE),\"\")","v":"Activity"},"Activity"]
[{"$f":"VLOOKUP(UPPER(M83),Items!$A$2:$B$525,2,FALSE)","v":"N0081"},"D",null,null,null,null,1,null,null,null,{"$f":"VLOOKUP(UPPER(A83),Items!$B$2:$G$525,6)","v":"date"},{"$f":"IF(VLOOKUP(UPPER(A83),Items!$B$2:$H$525,7,FALSE)<>0,VLOOKUP(UPPER(A83),Items!$B$2:$H$525,7,FALSE),\"\")","v":""},"Effective From Date"]
[{"$f":"VLOOKUP(UPPER(M84),Items!$A$2:$B$525,2,FALSE)","v":"N0083"},"D",null,null,null,null,"O",null,null,null,{"$f":"VLOOKUP(UPPER(A84),Items!$B$2:$G$525,6)","v":"date"},{"$f":"IF(VLOOKUP(UPPER(A84),Items!$B$2:$H$525,7,FALSE)<>0,VLOOKUP(UPPER(A84),Items!$B$2:$H$525,7,FALSE),\"\")","v":""},"Effective To Date"]
["BP3","R","0-*","G",null,null,null,null,null,null,null,null,"BSC Party Agent Details"]
[{"$f":"VLOOKUP(UPPER(M86),Items!$A$2:$B$525,2,FALSE)","v":"N0339"},"D",null,null,"O",null,null,null,null,null,{"$f":"VLOOKUP(UPPER(A86),Items!$B$2:$G$525,6)","v":"text(9)"},{"$f":"IF(VLOOKUP(UPPER(A86),Items!$B$2:$H$525,7,FALSE)<>0,VLOOKUP(UPPER(A86),Items!$B$2:$H$525,7,FALSE),\"\")","v":""},"Action Code"]
[{"$f":"VLOOKUP(UPPER(M87),Items!$A$2:$B$525,2,FALSE)","v":"N0043"},"D",null,null,1,null,null,null,null,null,{"$f":"VLOOKUP(UPPER(A87),Items!$B$2:$G$525,6)","v":"text(30)"},{"$f":"IF(VLOOKUP(UPPER(A87),Items!$B$2:$H$525,7,FALSE)<>0,VLOOKUP(UPPER(A87),Items!$B$2:$H$525,7,FALSE),\"\")","v":""},"BSC Party Agent Name"]
[{"$f":"VLOOKUP(UPPER(M88),Items!$A$2:$B$525,2,FALSE)","v":"N0018"},"D",null,null,1,null,null,null,null,null,{"$f":"VLOOKUP(UPPER(A88),Items!$B$2:$G$525,6)","v":"text(8)"},{"$f":"IF(VLOOKUP(UPPER(A88),Items!$B$2:$H$525,7,FALSE)<>0,VLOOKUP(UPPER(A88),Items!$B$2:$H$525,7,FALSE),\"\")","v":""},"Agent Id"]
["AR2","R","0-*",null,"G",null,null,null,null,null,null,null,"Agent Role Details"]
[{"$f":"VLOOKUP(UPPER(M90),Items!$A$2:$B$525,2,FALSE)","v":"N0339"},{"$f":"IF(LEN(K90)>0,\"D\",IF(LEN(A90)=5,\"F\",IF(LEN(A90)=3,\"R\",\" \")))","v":"D"},null,null,null,"O",null,null,null,null,{"$f":"VLOOKUP(UPPER(A90),Items!$B$2:$G$525,6)","v":"text(9)"},{"$f":"IF(VLOOKUP(UPPER(A90),Items!$B$2:$H$525,7,FALSE)<>0,VLOOKUP(UPPER(A90),Items!$B$2:$H$525,7,FALSE),\"\")","v":""},"Action Code"]
[{"$f":"VLOOKUP(UPPER(M91),Items!$A$2:$B$525,2,FALSE)","v":"N0044"},"D",null,null,null,1,null,null,null,null,{"$f":"VLOOKUP(UPPER(A91),Items!$B$2:$G$525,6)","v":"text(2)"},{"$f":"IF(VLOOKUP(UPPER(A91),Items!$B$2:$H$525,7,FALSE)<>0,VLOOKUP(UPPER(A91),Items!$B$2:$H$525,7,FALSE),\"\")","v":"Organisation Type"},"BSC Party Agent Type"]
[{"$f":"VLOOKUP(UPPER(M92),Items!$A$2:$B$525,2,FALSE)","v":"N0183"},"D",null,null,null,1,null,null,null,null,{"$f":"VLOOKUP(UPPER(A92),Items!$B$2:$G$525,6)","v":"date"},{"$f":"IF(VLOOKUP(UPPER(A92),Items!$B$2:$H$525,7,FALSE)<>0,VLOOKUP(UPPER(A92),Items!$B$2:$H$525,7,FALSE),\"\")","v":""},"Registration Effective From Date"]
[{"$f":"VLOOKUP(UPPER(M93),Items!$A$2:$B$525,2,FALSE)","v":"N0184"},"D",null,null,null,"O",null,null,null,null,{"$f":"VLOOKUP(UPPER(A93),Items!$B$2:$G$525,6)","v":"date"},{"$f":"IF(VLOOKUP(UPPER(A93),Items!$B$2:$H$525,7,FALSE)<>0,VLOOKUP(UPPER(A93),Items!$B$2:$H$525,7,FALSE),\"\")","v":""},"Registration Effective To Date"]
["SA2","R","0-1",null,null,"G",null,null,null,null,null,null,"Role Address Details"]
[{"$f":"VLOOKUP(UPPER(M95),Items!$A$2:$B$525,2,FALSE)","v":"N0339"},"D",null,null,null,null,"O",null,null,null,{"$f":"VLOOKUP(UPPER(A95),Items!$B$2:$G$525,6)","v":"text(9)"},{"$f":"IF(VLOOKUP(UPPER(A95),Items!$B$2:$H$525,7,FALSE)<>0,VLOOKUP(UPPER(A95),Items!$B$2:$H$525,7,FALSE),\"\")","v":""},"Action Code"]
[{"$f":"VLOOKUP(UPPER(M96),Items!$A$2:$B$525,2,FALSE)","v":"N0008"},"D",null,null,null,null,1,null,null,null,{"$f":"VLOOKUP(UPPER(A96),Items!$B$2:$G$525,6)","v":"text(40)"},{"$f":"IF(VLOOKUP(UPPER(A96),Items!$B$2:$H$525,7,FALSE)<>0,VLOOKUP(UPPER(A96),Items!$B$2:$H$525,7,FALSE),\"\")","v":""},"Address Line 1"]
[{"$f":"VLOOKUP(UPPER(M97),Items!$A$2:$B$525,2,FALSE)","v":"N0009"},"D",null,null,null,null,"O",null,null,null,{"$f":"VLOOKUP(UPPER(A97),Items!$B$2:$G$525,6)","v":"text(40)"},{"$f":"IF(VLOOKUP(UPPER(A97),Items!$B$2:$H$525,7,FALSE)<>0,VLOOKUP(UPPER(A97),Items!$B$2:$H$525,7,FALSE),\"\")","v":""},"Address Line 2"]
[{"$f":"VLOOKUP(UPPER(M98),Items!$A$2:$B$525,2,FALSE)","v":"N0010"},"D",null,null,null,null,"O",null,null,null,{"$f":"VLOOKUP(UPPER(A98),Items!$B$2:$G$525,6)","v":"text(40)"},{"$f":"IF(VLOOKUP(UPPER(A98),Items!$B$2:$H$525,7,FALSE)<>0,VLOOKUP(UPPER(A98),Items!$B$2:$H$525,7,FALSE),\"\")","v":""},"Address Line 3"]
[{"$f":"VLOOKUP(UPPER(M99),Items!$A$2:$B$525,2,FALSE)","v":"N0011"},"D",null,null,null,null,"O",null,null,null,{"$f":"VLOOKUP(UPPER(A99),Items!$B$2:$G$525,6)","v":"text(40)"},{"$f":"IF(VLOOKUP(UPPER(A99),Items!$B$2:$H$525,7,FALSE)<>0,VLOOKUP(UPPER(A99),Items!$B$2:$H$525,7,FALSE),\"\")","v":""},"Address Line 4"]
[{"$f":"VLOOKUP(UPPER(M100),Items!$A$2:$B$525,2,FALSE)","v":"N0012"},"D",null,null,null,null,"O",null,null,null,{"$f":"VLOOKUP(UPPER(A100),Items!$B$2:$G$525,6)","v":"text(40)"},{"$f":"IF(VLOOKUP(UPPER(A100),Items!$B$2:$H$525,7,FALSE)<>0,VLOOKUP(UPPER(A100),Items!$B$2:$H$525,7,FALSE),\"\")","v":""},"Address Line 5"]
[{"$f":"VLOOKUP(UPPER(M101),Items!$A$2:$B$525,2,FALSE)","v":"N0013"},"D",null,null,null,null,"O",null,null,null,{"$f":"VLOOKUP(UPPER(A101),Items!$B$2:$G$525,6)","v":"text(40)"},{"$f":"IF(VLOOKUP(UPPER(A101),Items!$B$2:$H$525,7,FALSE)<>0,VLOOKUP(UPPER(A101),Items!$B$2:$H$525,7,FALSE),\"\")","v":""},"Address Line 6"]
[{"$f":"VLOOKUP(UPPER(M102),Items!$A$2:$B$525,2,FALSE)","v":"N0014"},"D",null,null,null,null,"O",null,null,null,{"$f":"VLOOKUP(UPPER(A102),Items!$B$2:$G$525,6)","v":"text(40)"},{"$f":"IF(VLOOKUP(UPPER(A102),Items!$B$2:$H$525,7,FALSE)<>0,VLOOKUP(UPPER(A102),Items!$B$2:$H$525,7,FALSE),\"\")","v":""},"Address Line 7"]
[{"$f":"VLOOKUP(UPPER(M103),Items!$A$2:$B$525,2,FALSE)","v":"N0015"},"D",null,null,null,null,"O",null,null,null,{"$f":"VLOOKUP(UPPER(A103),Items!$B$2:$G$525,6)","v":"text(40)"},{"$f":"IF(VLOOKUP(UPPER(A103),Items!$B$2:$H$525,7,FALSE)<>0,VLOOKUP(UPPER(A103),Items!$B$2:$H$525,7,FALSE),\"\")","v":""},"Address Line 8"]
[{"$f":"VLOOKUP(UPPER(M104),Items!$A$2:$B$525,2,FALSE)","v":"N0016"},"D",null,null,null,null,"O",null,null,null,{"$f":"VLOOKUP(UPPER(A104),Items!$B$2:$G$525,6)","v":"text(40)"},{"$f":"IF(VLOOKUP(UPPER(A104),Items!$B$2:$H$525,7,FALSE)<>0,VLOOKUP(UPPER(A104),Items!$B$2:$H$525,7,FALSE),\"\")","v":""},"Address Line 9"]
[{"$f":"VLOOKUP(UPPER(M105),Items!$A$2:$B$525,2,FALSE)","v":"N0176"},"D",null,null,null,null,"O",null,null,null,{"$f":"VLOOKUP(UPPER(A105),Items!$B$2:$G$525,6)","v":"text(10)"},{"$f":"IF(VLOOKUP(UPPER(A105),Items!$B$2:$H$525,7,FALSE)<>0,VLOOKUP(UPPER(A105),Items!$B$2:$H$525,7,FALSE),\"\")","v":""},"Post Code"]
[{"$f":"VLOOKUP(UPPER(M106),Items!$A$2:$B$525,2,FALSE)","v":"N0218"},"D",null,null,null,null,"O",null,null,null,{"$f":"VLOOKUP(UPPER(A106),Items!$B$2:$G$525,6)","v":"text(15)"},{"$f":"IF(VLOOKUP(UPPER(A106),Items!$B$2:$H$525,7,FALSE)<>0,VLOOKUP(UPPER(A106),Items!$B$2:$H$525,7,FALSE),\"\")","v":""},"Telephone No"]
[{"$f":"VLOOKUP(UPPER(M107),Items!$A$2:$B$525,2,FALSE)","v":"N0100"},"D",null,null,null,null,"O",null,null,null,{"$f":"VLOOKUP(UPPER(A107),Items!$B$2:$G$525,6)","v":"text(15)"},{"$f":"IF(VLOOKUP(UPPER(A107),Items!$B$2:$H$525,7,FALSE)<>0,VLOOKUP(UPPER(A107),Items!$B$2:$H$525,7,FALSE),\"\")","v":""},"Fax No"]
[{"$f":"VLOOKUP(UPPER(M108),Items!$A$2:$B$525,2,FALSE)","v":"N0067"},"D",null,null,null,null,"O",null,null,null,{"$f":"VLOOKUP(UPPER(A108),Items!$B$2:$G$525,6)","v":"text(80)"},{"$f":"IF(VLOOKUP(UPPER(A108),Items!$B$2:$H$525,7,FALSE)<>0,VLOOKUP(UPPER(A108),Items!$B$2:$H$525,7,FALSE),\"\")","v":""},{"$f":"PROPER(\"e-mail Address\")","v":"E-Mail Address"}]
["AAS","R","0-*",null,"G",null,null,null,null,null,null,null,"Authorised Signatories"]
[{"$f":"VLOOKUP(UPPER(M110),Items!$A$2:$B$525,2,FALSE)","v":"N0339"},"D",null,null,null,"O",null,null,null,null,{"$f":"VLOOKUP(UPPER(A110),Items!$B$2:$G$525,6)","v":"text(9)"},{"$f":"IF(VLOOKUP(UPPER(A110),Items!$B$2:$H$525,7,FALSE)<>0,VLOOKUP(UPPER(A110),Items!$B$2:$H$525,7,FALSE),\"\")","v":""},"Action Code"]
[{"$f":"VLOOKUP(UPPER(M111),Items!$A$2:$B$525,2,FALSE)","v":"N0203"},"D",null,null,null,1,null,null,null,null,{"$f":"VLOOKUP(UPPER(A111),Items!$B$2:$G$525,6)","v":"text(30)"},{"$f":"IF(VLOOKUP(UPPER(A111),Items!$B$2:$H$525,7,FALSE)<>0,VLOOKUP(UPPER(A111),Items!$B$2:$H$525,7,FALSE),\"\")","v":""},"Signatory Name"]
[{"$f":"VLOOKUP(UPPER(M112),Items!$A$2:$B$525,2,FALSE)","v":"N0162"},"D",null,null,null,"O",null,null,null,null,{"$f":"VLOOKUP(UPPER(A112),Items!$B$2:$G$525,6)","v":"text(8)"},{"$f":"IF(VLOOKUP(UPPER(A112),Items!$B$2:$H$525,7,FALSE)<>0,VLOOKUP(UPPER(A112),Items!$B$2:$H$525,7,FALSE),\"\")","v":""},"Password"]
[{"$f":"VLOOKUP(UPPER(M113),Items!$A$2:$B$525,2,FALSE)","v":"N0056"},"D",null,null,null,"O",null,null,null,null,{"$f":"VLOOKUP(UPPER(A113),Items!$B$2:$G$525,6)","v":"text(15)"},{"$f":"IF(VLOOKUP(UPPER(A113),Items!$B$2:$H$525,7,FALSE)<>0,VLOOKUP(UPPER(A113),Items!$B$2:$H$525,7,FALSE),\"\")","v":""},"Contact Phone No"]
[{"$f":"VLOOKUP(UPPER(M114),Items!$A$2:$B$525,2,FALSE)","v":"N0067"},"D",null,null,null,"O",null,null,null,null,{"$f":"VLOOKUP(UPPER(A114),Items!$B$2:$G$525,6)","v":"text(80)"},{"$f":"IF(VLOOKUP(UPPER(A114),Items!$B$2:$H$525,7,FALSE)<>0,VLOOKUP(UPPER(A114),Items!$B$2:$H$525,7,FALSE),\"\")","v":""},"e-Mail Address"]
["AAL","R","0-*",null,null,"G",null,null,null,null,null,null,"Authorisation Levels"]
[{"$f":"VLOOKUP(UPPER(M116),Items!$A$2:$B$525,2,FALSE)","v":"N0339"},"D",null,null,null,null,"O",null,null,null,{"$f":"VLOOKUP(UPPER(A116),Items!$B$2:$G$525,6)","v":"text(9)"},{"$f":"IF(VLOOKUP(UPPER(A116),Items!$B$2:$H$525,7,FALSE)<>0,VLOOKUP(UPPER(A116),Items!$B$2:$H$525,7,FALSE),\"\")","v":""},"Action Code"]
[{"$f":"VLOOKUP(UPPER(M117),Items!$A$2:$B$525,2,FALSE)","v":"N0006"},"D",null,null,null,null,1,null,null,null,{"$f":"VLOOKUP(UPPER(A117),Items!$B$2:$G$525,6)","v":"text(2)"},{"$f":"IF(VLOOKUP(UPPER(A117),Items!$B$2:$H$525,7,FALSE)<>0,VLOOKUP(UPPER(A117),Items!$B$2:$H$525,7,FALSE),\"\")","v":"Activity"},"Activity"]
[{"$f":"VLOOKUP(UPPER(M118),Items!$A$2:$B$525,2,FALSE)","v":"N0081"},"D",null,null,null,null,1,null,null,null,{"$f":"VLOOKUP(UPPER(A118),Items!$B$2:$G$525,6)","v":"date"},{"$f":"IF(VLOOKUP(UPPER(A118),Items!$B$2:$H$525,7,FALSE)<>0,VLOOKUP(UPPER(A118),Items!$B$2:$H$525,7,FALSE),\"\")","v":""},"Effective From Date"]
[{"$f":"VLOOKUP(UPPER(M119),Items!$A$2:$B$525,2,FALSE)","v":"N0083"},"D",null,null,null,null,"O",null,null,null,{"$f":"VLOOKUP(UPPER(A119),Items!$B$2:$G$525,6)","v":"date"},{"$f":"IF(VLOOKUP(UPPER(A119),Items!$B$2:$H$525,7,FALSE)<>0,VLOOKUP(UPPER(A119),Items!$B$2:$H$525,7,FALSE),\"\")","v":""},"Effective To Date"]
[]
["R0131",{"$f":"IF(LEN(K121)>0,\"D\",IF(LEN(A121)=5,\"F\",IF(LEN(A121)=3,\"R\",\" \")))","v":"F"},"002",null,null,null,null,null,null,null,null,null,"CRA-I013: Issue Authentication Report"]
[null," "]
["BP8","R","0-*","G",null,null,null,null,null,null,null,null,"BSC Party Details"]
[{"$f":"VLOOKUP(UPPER(M124),Items!$A$2:$B$525,2,FALSE)","v":"N0339"},"D",null,null,"O",null,null,null,null,null,{"$f":"VLOOKUP(UPPER(A124),Items!$B$2:$G$525,6)","v":"text(9)"},{"$f":"IF(VLOOKUP(UPPER(A124),Items!$B$2:$H$525,7,FALSE)<>0,VLOOKUP(UPPER(A124),Items!$B$2:$H$525,7,FALSE),\"\")","v":""},"Action Code"]
[{"$f":"VLOOKUP(UPPER(M125),Items!$A$2:$B$525,2,FALSE)","v":"N0046"},"D",null,null,1,null,null,null,null,null,{"$f":"VLOOKUP(UPPER(A125),Items!$B$2:$G$525,6)","v":"text(30)"},{"$f":"IF(VLOOKUP(UPPER(A125),Items!$B$2:$H$525,7,FALSE)<>0,VLOOKUP(UPPER(A125),Items!$B$2:$H$525,7,FALSE),\"\")","v":""},"BSC Party Name"]
[{"$f":"VLOOKUP(UPPER(M126),Items!$A$2:$B$525,2,FALSE)","v":"N0045"},"D",null,null,1,null,null,null,null,null,{"$f":"VLOOKUP(UPPER(A126),Items!$B$2:$G$525,6)","v":"text(8)"},{"$f":"IF(VLOOKUP(UPPER(A126),Items!$B$2:$H$525,7,FALSE)<>0,VLOOKUP(UPPER(A126),Items!$B$2:$H$525,7,FALSE),\"\")","v":""},"BSC Party Id"]
["PR1","R","0-*",null,"G",null,null,null,null,null,null,null,"Party Role Details"]
[{"$f":"VLOOKUP(UPPER(M128),Items!$A$2:$B$525,2,FALSE)","v":"N0339"},{"$f":"IF(LEN(K128)>0,\"D\",IF(LEN(A128)=5,\"F\",IF(LEN(A128)=3,\"R\",\" \")))","v":"D"},null,null,null,"O",null,null,null,null,{"$f":"VLOOKUP(UPPER(A128),Items!$B$2:$G$525,6)","v":"text(9)"},{"$f":"IF(VLOOKUP(UPPER(A128),Items!$B$2:$H$525,7,FALSE)<>0,VLOOKUP(UPPER(A128),Items!$B$2:$H$525,7,FALSE),\"\")","v":""},"Action Code"]
[{"$f":"VLOOKUP(UPPER(M129),Items!$A$2:$B$525,2,FALSE)","v":"N0047"},"D",null,null,null,1,null,null,null,null,{"$f":"VLOOKUP(UPPER(A129),Items!$B$2:$G$525,6)","v":"text(2)"},{"$f":"IF(VLOOKUP(UPPER(A129),Items!$B$2:$H$525,7,FALSE)<>0,VLOOKUP(UPPER(A129),Items!$B$2:$H$525,7,FALSE),\"\")","v":"Organisation Type"},"BSC Party Type"]
[{"$f":"VLOOKUP(UPPER(M130),Items!$A$2:$B$525,2,FALSE)","v":"N0183"},"D",null,null,null,1,null,null,null,null,{"$f":"VLOOKUP(UPPER(A130),Items!$B$2:$G$525,6)","v":"date"},{"$f":"IF(VLOOKUP(UPPER(A130),Items!$B$2:$H$525,7,FALSE)<>0,VLOOKUP(UPPER(A130),Items!$B$2:$H$525,7,FALSE),\"\")","v":""},"Registration Effective From Date"]
[{"$f":"VLOOKUP(UPPER(M131),Items!$A$2:$B$525,2,FALSE)","v":"N0184"},"D",null,null,null,"O",null,null,null,null,{"$f":"VLOOKUP(UPPER(A131),Items!$B$2:$G$525,6)","v":"date"},{"$f":"IF(VLOOKUP(UPPER(A131),Items!$B$2:$H$525,7,FALSE)<>0,VLOOKUP(UPPER(A131),Items!$B$2:$H$525,7,FALSE),\"\")","v":""},"Registration Effective To Date"]
["RA4","R","0-1",null,null,"G",null,null,null,null,null,null,"Role Address Details"]
[{"$f":"VLOOKUP(UPPER(M133),Items!$A$2:$B$525,2,FALSE)","v":"N0339"},"D",null,null,null,null,"O",null,null,null,{"$f":"VLOOKUP(UPPER(A133),Items!$B$2:$G$525,6)","v":"text(9)"},{"$f":"IF(VLOOKUP(UPPER(A133),Items!$B$2:$H$525,7,FALSE)<>0,VLOOKUP(UPPER(A133),Items!$B$2:$H$525,7,FALSE),\"\")","v":""},"Action Code"]
[{"$f":"VLOOKUP(UPPER(M134),Items!$A$2:$B$525,2,FALSE)","v":"N0008"},"D",null,null,null,null,1,null,null,null,{"$f":"VLOOKUP(UPPER(A134),Items!$B$2:$G$525,6)","v":"text(40)"},{"$f":"IF(VLOOKUP(UPPER(A134),Items!$B$2:$H$525,7,FALSE)<>0,VLOOKUP(UPPER(A134),Items!$B$2:$H$525,7,FALSE),\"\")","v":""},"Address Line 1"]
[{"$f":"VLOOKUP(UPPER(M135),Items!$A$2:$B$525,2,FALSE)","v":"N0009"},"D",null,null,null,null,"O",null,null,null,{"$f":"VLOOKUP(UPPER(A135),Items!$B$2:$G$525,6)","v":"text(40)"},{"$f":"IF(VLOOKUP(UPPER(A135),Items!$B$2:$H$525,7,FALSE)<>0,VLOOKUP(UPPER(A135),Items!$B$2:$H$525,7,FALSE),\"\")","v":""},"Address Line 2"]
[{"$f":"VLOOKUP(UPPER(M136),Items!$A$2:$B$525,2,FALSE)","v":"N0010"},"D",null,null,null,null,"O",null,null,null,{"$f":"VLOOKUP(UPPER(A136),Items!$B$2:$G$525,6)","v":"text(40)"},{"$f":"IF(VLOOKUP(UPPER(A136),Items!$B$2:$H$525,7,FALSE)<>0,VLOOKUP(UPPER(A136),Items!$B$2:$H$525,7,FALSE),\"\")","v":""},"Address Line 3"]
[{"$f":"VLOOKUP(UPPER(M137),Items!$A$2:$B$525,2,FALSE)","v":"N0011"},"D",null,null,null,null,"O",null,null,null,{"$f":"VLOOKUP(UPPER(A137),Items!$B$2:$G$525,6)","v":"text(40)"},{"$f":"IF(VLOOKUP(UPPER(A137),Items!$B$2:$H$525,7,FALSE)<>0,VLOOKUP(UPPER(A137),Items!$B$2:$H$525,7,FALSE),\"\")","v":""},"Address Line 4"]
[{"$f":"VLOOKUP(UPPER(M138),Items!$A$2:$B$525,2,FALSE)","v":"N0012"},"D",null,null,null,null,"O",null,null,null,{"$f":"VLOOKUP(UPPER(A138),Items!$B$2:$G$525,6)","v":"text(40)"},{"$f":"IF(VLOOKUP(UPPER(A138),Items!$B$2:$H$525,7,FALSE)<>0,VLOOKUP(UPPER(A138),Items!$B$2:$H$525,7,FALSE),\"\")","v":""},"Address Line 5"]
[{"$f":"VLOOKUP(UPPER(M139),Items!$A$2:$B$525,2,FALSE)","v":"N0013"},"D",null,null,null,null,"O",null,null,null,{"$f":"VLOOKUP(UPPER(A139),Items!$B$2:$G$525,6)","v":"text(40)"},{"$f":"IF(VLOOKUP(UPPER(A139),Items!$B$2:$H$525,7,FALSE)<>0,VLOOKUP(UPPER(A139),Items!$B$2:$H$525,7,FALSE),\"\")","v":""},"Address Line 6"]
[{"$f":"VLOOKUP(UPPER(M140),Items!$A$2:$B$525,2,FALSE)","v":"N0014"},"D",null,null,null,null,"O",null,null,null,{"$f":"VLOOKUP(UPPER(A140),Items!$B$2:$G$525,6)","v":"text(40)"},{"$f":"IF(VLOOKUP(UPPER(A140),Items!$B$2:$H$525,7,FALSE)<>0,VLOOKUP(UPPER(A140),Items!$B$2:$H$525,7,FALSE),\"\")","v":""},"Address Line 7"]
[{"$f":"VLOOKUP(UPPER(M141),Items!$A$2:$B$525,2,FALSE)","v":"N0015"},"D",null,null,null,null,"O",null,null,null,{"$f":"VLOOKUP(UPPER(A141),Items!$B$2:$G$525,6)","v":"text(40)"},{"$f":"IF(VLOOKUP(UPPER(A141),Items!$B$2:$H$525,7,FALSE)<>0,VLOOKUP(UPPER(A141),Items!$B$2:$H$525,7,FALSE),\"\")","v":""},"Address Line 8"]
[{"$f":"VLOOKUP(UPPER(M142),Items!$A$2:$B$525,2,FALSE)","v":"N0016"},"D",null,null,null,null,"O",null,null,null,{"$f":"VLOOKUP(UPPER(A142),Items!$B$2:$G$525,6)","v":"text(40)"},{"$f":"IF(VLOOKUP(UPPER(A142),Items!$B$2:$H$525,7,FALSE)<>0,VLOOKUP(UPPER(A142),Items!$B$2:$H$525,7,FALSE),\"\")","v":""},"Address Line 9","mw"]
[{"$f":"VLOOKUP(UPPER(M143),Items!$A$2:$B$525,2,FALSE)","v":"N0176"},"D",null,null,null,null,"O",null,null,null,{"$f":"VLOOKUP(UPPER(A143),Items!$B$2:$G$525,6)","v":"text(10)"},{"$f":"IF(VLOOKUP(UPPER(A143),Items!$B$2:$H$525,7,FALSE)<>0,VLOOKUP(UPPER(A143),Items!$B$2:$H$525,7,FALSE),\"\")","v":""},"Post Code","mw"]
[{"$f":"VLOOKUP(UPPER(M144),Items!$A$2:$B$525,2,FALSE)","v":"N0218"},"D",null,null,null,null,"O",null,null,null,{"$f":"VLOOKUP(UPPER(A144),Items!$B$2:$G$525,6)","v":"text(15)"},{"$f":"IF(VLOOKUP(UPPER(A144),Items!$B$2:$H$525,7,FALSE)<>0,VLOOKUP(UPPER(A144),Items!$B$2:$H$525,7,FALSE),\"\")","v":""},"Telephone No"]
[{"$f":"VLOOKUP(UPPER(M145),Items!$A$2:$B$525,2,FALSE)","v":"N0100"},"D",null,null,null,null,"O",null,null,null,{"$f":"VLOOKUP(UPPER(A145),Items!$B$2:$G$525,6)","v":"text(15)"},{"$f":"IF(VLOOKUP(UPPER(A145),Items!$B$2:$H$525,7,FALSE)<>0,VLOOKUP(UPPER(A145),Items!$B$2:$H$525,7,FALSE),\"\")","v":""},"Fax No"]
[{"$f":"VLOOKUP(UPPER(M146),Items!$A$2:$B$525,2,FALSE)","v":"N0067"},"D",null,null,null,null,"O",null,null,null,{"$f":"VLOOKUP(UPPER(A146),Items!$B$2:$G$525,6)","v":"text(80)"},{"$f":"IF(VLOOKUP(UPPER(A146),Items!$B$2:$H$525,7,FALSE)<>0,VLOOKUP(UPPER(A146),Items!$B$2:$H$525,7,FALSE),\"\")","v":""},{"$f":"PROPER(\"e-mail Address\")","v":"E-Mail Address"},"mw"]
["NRD","R","0-*",null,"G",null,null,null,null,null,null,null,"Notification Rejection Details","mw"]
[{"$f":"VLOOKUP(UPPER(M148),Items!$A$2:$B$525,2,FALSE)","v":"N0339"},"D",null,null,null,"O",null,null,null,null,{"$f":"VLOOKUP(UPPER(A148),Items!$B$2:$G$525,6)","v":"text(9)"},{"$f":"IF(VLOOKUP(UPPER(A148),Items!$B$2:$H$525,7,FALSE)<>0,VLOOKUP(UPPER(A148),Items!$B$2:$H$525,7,FALSE),\"\")","v":""},"Action Code"]
[{"$f":"VLOOKUP(UPPER(M149),Items!$A$2:$B$525,2,FALSE)","v":"N0330"},"D",null,null,null,1,null,null,null,null,{"$f":"VLOOKUP(UPPER(A149),Items!$B$2:$G$525,6)","v":"boolean"},{"$f":"IF(VLOOKUP(UPPER(A149),Items!$B$2:$H$525,7,FALSE)<>0,VLOOKUP(UPPER(A149),Items!$B$2:$H$525,7,FALSE),\"\")","v":""},"Permit Notification Rejection Flag"]
[{"$f":"VLOOKUP(UPPER(M150),Items!$A$2:$B$525,2,FALSE)","v":"N0081"},"D",null,null,null,1,null,null,null,null,{"$f":"VLOOKUP(UPPER(A150),Items!$B$2:$G$525,6)","v":"date"},{"$f":"IF(VLOOKUP(UPPER(A150),Items!$B$2:$H$525,7,FALSE)<>0,VLOOKUP(UPPER(A150),Items!$B$2:$H$525,7,FALSE),\"\")","v":""},"Effective From Date"]
["SR9","R","0-*",null,"G",null,null,null,null,null,null,null,"Settlement Report Details","if BM Unit Type is 'G' or 'S' or 'E'"]
[{"$f":"VLOOKUP(UPPER(M152),Items!$A$2:$B$525,2,FALSE)","v":"N0339"},"D",null,null,null,"O",null,null,null,null,{"$f":"VLOOKUP(UPPER(A152),Items!$B$2:$G$525,6)","v":"text(9)"},{"$f":"IF(VLOOKUP(UPPER(A152),Items!$B$2:$H$525,7,FALSE)<>0,VLOOKUP(UPPER(A152),Items!$B$2:$H$525,7,FALSE),\"\")","v":""},"Action Code","if BM Unit Type is 'G' or 'S' or 'E'"]
[{"$f":"VLOOKUP(UPPER(M153),Items!$A$2:$B$525,2,FALSE)","v":"N0192"},"D",null,null,null,1,null,null,null,null,{"$f":"VLOOKUP(UPPER(A153),Items!$B$2:$G$525,6)","v":"text(30)"},{"$f":"IF(VLOOKUP(UPPER(A153),Items!$B$2:$H$525,7,FALSE)<>0,VLOOKUP(UPPER(A153),Items!$B$2:$H$525,7,FALSE),\"\")","v":""},"Report Type","if BM Unit Type is 'I'"]
[{"$f":"VLOOKUP(UPPER(M154),Items!$A$2:$B$525,2,FALSE)","v":"N0065"},"D",null,null,null,"O",null,null,null,null,{"$f":"VLOOKUP(UPPER(A154),Items!$B$2:$G$525,6)","v":"text(20)"},{"$f":"IF(VLOOKUP(UPPER(A154),Items!$B$2:$H$525,7,FALSE)<>0,VLOOKUP(UPPER(A154),Items!$B$2:$H$525,7,FALSE),\"\")","v":""},"Distribution Method"]
["PAS","R","0-*",null,"G",null,null,null,null,null,null,null,"Authorised Signatories"]
[{"$f":"VLOOKUP(UPPER(M156),Items!$A$2:$B$525,2,FALSE)","v":"N0339"},"D",null,null,null,"O",null,null,null,null,{"$f":"VLOOKUP(UPPER(A156),Items!$B$2:$G$525,6)","v":"text(9)"},{"$f":"IF(VLOOKUP(UPPER(A156),Items!$B$2:$H$525,7,FALSE)<>0,VLOOKUP(UPPER(A156),Items!$B$2:$H$525,7,FALSE),\"\")","v":""},"Action Code"]
[{"$f":"VLOOKUP(UPPER(M157),Items!$A$2:$B$525,2,FALSE)","v":"N0203"},"D",null,null,null,1,null,null,null,null,{"$f":"VLOOKUP(UPPER(A157),Items!$B$2:$G$525,6)","v":"text(30)"},{"$f":"IF(VLOOKUP(UPPER(A157),Items!$B$2:$H$525,7,FALSE)<>0,VLOOKUP(UPPER(A157),Items!$B$2:$H$525,7,FALSE),\"\")","v":""},"Signatory Name"]
[{"$f":"VLOOKUP(UPPER(M158),Items!$A$2:$B$525,2,FALSE)","v":"N0162"},"D",null,null,null,"O",null,null,null,null,{"$f":"VLOOKUP(UPPER(A158),Items!$B$2:$G$525,6)","v":"text(8)"},{"$f":"IF(VLOOKUP(UPPER(A158),Items!$B$2:$H$525,7,FALSE)<>0,VLOOKUP(UPPER(A158),Items!$B$2:$H$525,7,FALSE),\"\")","v":""},"Password"]
[{"$f":"VLOOKUP(UPPER(M159),Items!$A$2:$B$525,2,FALSE)","v":"N0056"},"D",null,null,null,"O",null,null,null,null,{"$f":"VLOOKUP(UPPER(A159),Items!$B$2:$G$525,6)","v":"text(15)"},{"$f":"IF(VLOOKUP(UPPER(A159),Items!$B$2:$H$525,7,FALSE)<>0,VLOOKUP(UPPER(A159),Items!$B$2:$H$525,7,FALSE),\"\")","v":""},"Contact Phone No"]
[{"$f":"VLOOKUP(UPPER(M160),Items!$A$2:$B$525,2,FALSE)","v":"N0067"},"D",null,null,null,"O",null,null,null,null,{"$f":"VLOOKUP(UPPER(A160),Items!$B$2:$G$525,6)","v":"text(80)"},{"$f":"IF(VLOOKUP(UPPER(A160),Items!$B$2:$H$525,7,FALSE)<>0,VLOOKUP(UPPER(A160),Items!$B$2:$H$525,7,FALSE),\"\")","v":""},{"$f":"PROPER(\"e-mail Address\")","v":"E-Mail Address"}]
["PAL","R","0-*",null,null,"G",null,null,null,null,null,null,"Authorisation Levels"]
[{"$f":"VLOOKUP(UPPER(M162),Items!$A$2:$B$525,2,FALSE)","v":"N0339"},"D",null,null,null,null,"O",null,null,null,{"$f":"VLOOKUP(UPPER(A162),Items!$B$2:$G$525,6)","v":"text(9)"},{"$f":"IF(VLOOKUP(UPPER(A162),Items!$B$2:$H$525,7,FALSE)<>0,VLOOKUP(UPPER(A162),Items!$B$2:$H$525,7,FALSE),\"\")","v":""},"Action Code"]
[{"$f":"VLOOKUP(UPPER(M163),Items!$A$2:$B$525,2,FALSE)","v":"N0006"},"D",null,null,null,null,1,null,null,null,{"$f":"VLOOKUP(UPPER(A163),Items!$B$2:$G$525,6)","v":"text(2)"},{"$f":"IF(VLOOKUP(UPPER(A163),Items!$B$2:$H$525,7,FALSE)<>0,VLOOKUP(UPPER(A163),Items!$B$2:$H$525,7,FALSE),\"\")","v":"Activity"},"Activity"]
[{"$f":"VLOOKUP(UPPER(M164),Items!$A$2:$B$525,2,FALSE)","v":"N0081"},"D",null,null,null,null,1,null,null,null,{"$f":"VLOOKUP(UPPER(A164),Items!$B$2:$G$525,6)","v":"date"},{"$f":"IF(VLOOKUP(UPPER(A164),Items!$B$2:$H$525,7,FALSE)<>0,VLOOKUP(UPPER(A164),Items!$B$2:$H$525,7,FALSE),\"\")","v":""},"Effective From Date"]
[{"$f":"VLOOKUP(UPPER(M165),Items!$A$2:$B$525,2,FALSE)","v":"N0083"},"D",null,null,null,null,"O",null,null,null,{"$f":"VLOOKUP(UPPER(A165),Items!$B$2:$G$525,6)","v":"date"},{"$f":"IF(VLOOKUP(UPPER(A165),Items!$B$2:$H$525,7,FALSE)<>0,VLOOKUP(UPPER(A165),Items!$B$2:$H$525,7,FALSE),\"\")","v":""},"Effective To Date"]
["BP3","R","0-*","G",null,null,null,null,null,null,null,null,"BSC Party Agent Details"]
[{"$f":"VLOOKUP(UPPER(M167),Items!$A$2:$B$525,2,FALSE)","v":"N0339"},"D",null,null,"O",null,null,null,null,null,{"$f":"VLOOKUP(UPPER(A167),Items!$B$2:$G$525,6)","v":"text(9)"},{"$f":"IF(VLOOKUP(UPPER(A167),Items!$B$2:$H$525,7,FALSE)<>0,VLOOKUP(UPPER(A167),Items!$B$2:$H$525,7,FALSE),\"\")","v":""},"Action Code"]
[{"$f":"VLOOKUP(UPPER(M168),Items!$A$2:$B$525,2,FALSE)","v":"N0043"},"D",null,null,1,null,null,null,null,null,{"$f":"VLOOKUP(UPPER(A168),Items!$B$2:$G$525,6)","v":"text(30)"},{"$f":"IF(VLOOKUP(UPPER(A168),Items!$B$2:$H$525,7,FALSE)<>0,VLOOKUP(UPPER(A168),Items!$B$2:$H$525,7,FALSE),\"\")","v":""},"BSC Party Agent Name"]
[{"$f":"VLOOKUP(UPPER(M169),Items!$A$2:$B$525,2,FALSE)","v":"N0018"},"D",null,null,1,null,null,null,null,null,{"$f":"VLOOKUP(UPPER(A169),Items!$B$2:$G$525,6)","v":"text(8)"},{"$f":"IF(VLOOKUP(UPPER(A169),Items!$B$2:$H$525,7,FALSE)<>0,VLOOKUP(UPPER(A169),Items!$B$2:$H$525,7,FALSE),\"\")","v":""},"Agent Id"]
["AR2","R","0-*",null,"G",null,null,null,null,null,null,null,"Agent Role Details"]
[{"$f":"VLOOKUP(UPPER(M171),Items!$A$2:$B$525,2,FALSE)","v":"N0339"},{"$f":"IF(LEN(K171)>0,\"D\",IF(LEN(A171)=5,\"F\",IF(LEN(A171)=3,\"R\",\" \")))","v":"D"},null,null,null,"O",null,null,null,null,{"$f":"VLOOKUP(UPPER(A171),Items!$B$2:$G$525,6)","v":"text(9)"},{"$f":"IF(VLOOKUP(UPPER(A171),Items!$B$2:$H$525,7,FALSE)<>0,VLOOKUP(UPPER(A171),Items!$B$2:$H$525,7,FALSE),\"\")","v":""},"Action Code"]
[{"$f":"VLOOKUP(UPPER(M172),Items!$A$2:$B$525,2,FALSE)","v":"N0044"},"D",null,null,null,1,null,null,null,null,{"$f":"VLOOKUP(UPPER(A172),Items!$B$2:$G$525,6)","v":"text(2)"},{"$f":"IF(VLOOKUP(UPPER(A172),Items!$B$2:$H$525,7,FALSE)<>0,VLOOKUP(UPPER(A172),Items!$B$2:$H$525,7,FALSE),\"\")","v":"Organisation Type"},"BSC Party Agent Type"]
[{"$f":"VLOOKUP(UPPER(M173),Items!$A$2:$B$525,2,FALSE)","v":"N0183"},"D",null,null,null,1,null,null,null,null,{"$f":"VLOOKUP(UPPER(A173),Items!$B$2:$G$525,6)","v":"date"},{"$f":"IF(VLOOKUP(UPPER(A173),Items!$B$2:$H$525,7,FALSE)<>0,VLOOKUP(UPPER(A173),Items!$B$2:$H$525,7,FALSE),\"\")","v":""},"Registration Effective From Date"]
[{"$f":"VLOOKUP(UPPER(M174),Items!$A$2:$B$525,2,FALSE)","v":"N0184"},"D",null,null,null,"O",null,null,null,null,{"$f":"VLOOKUP(UPPER(A174),Items!$B$2:$G$525,6)","v":"date"},{"$f":"IF(VLOOKUP(UPPER(A174),Items!$B$2:$H$525,7,FALSE)<>0,VLOOKUP(UPPER(A174),Items!$B$2:$H$525,7,FALSE),\"\")","v":""},"Registration Effective To Date"]
["SA2","R","0-1",null,null,"G",null,null,null,null,null,null,"Role Address Details"]
[{"$f":"VLOOKUP(UPPER(M176),Items!$A$2:$B$525,2,FALSE)","v":"N0339"},"D",null,null,null,null,"O",null,null,null,{"$f":"VLOOKUP(UPPER(A176),Items!$B$2:$G$525,6)","v":"text(9)"},{"$f":"IF(VLOOKUP(UPPER(A176),Items!$B$2:$H$525,7,FALSE)<>0,VLOOKUP(UPPER(A176),Items!$B$2:$H$525,7,FALSE),\"\")","v":""},"Action Code"]
[{"$f":"VLOOKUP(UPPER(M177),Items!$A$2:$B$525,2,FALSE)","v":"N0008"},"D",null,null,null,null,1,null,null,null,{"$f":"VLOOKUP(UPPER(A177),Items!$B$2:$G$525,6)","v":"text(40)"},{"$f":"IF(VLOOKUP(UPPER(A177),Items!$B$2:$H$525,7,FALSE)<>0,VLOOKUP(UPPER(A177),Items!$B$2:$H$525,7,FALSE),\"\")","v":""},"Address Line 1","(for CRA-I0015 sub-flow 2 see Stage 2 section)"]
[{"$f":"VLOOKUP(UPPER(M178),Items!$A$2:$B$525,2,FALSE)","v":"N0009"},"D",null,null,null,null,"O",null,null,null,{"$f":"VLOOKUP(UPPER(A178),Items!$B$2:$G$525,6)","v":"text(40)"},{"$f":"IF(VLOOKUP(UPPER(A178),Items!$B$2:$H$525,7,FALSE)<>0,VLOOKUP(UPPER(A178),Items!$B$2:$H$525,7,FALSE),\"\")","v":""},"Address Line 2"]
[{"$f":"VLOOKUP(UPPER(M179),Items!$A$2:$B$525,2,FALSE)","v":"N0010"},"D",null,null,null,null,"O",null,null,null,{"$f":"VLOOKUP(UPPER(A179),Items!$B$2:$G$525,6)","v":"text(40)"},{"$f":"IF(VLOOKUP(UPPER(A179),Items!$B$2:$H$525,7,FALSE)<>0,VLOOKUP(UPPER(A179),Items!$B$2:$H$525,7,FALSE),\"\")","v":""},"Address Line 3"]
[{"$f":"VLOOKUP(UPPER(M180),Items!$A$2:$B$525,2,FALSE)","v":"N0011"},"D",null,null,null,null,"O",null,null,null,{"$f":"VLOOKUP(UPPER(A180),Items!$B$2:$G$525,6)","v":"text(40)"},{"$f":"IF(VLOOKUP(UPPER(A180),Items!$B$2:$H$525,7,FALSE)<>0,VLOOKUP(UPPER(A180),Items!$B$2:$H$525,7,FALSE),\"\")","v":""},"Address Line 4"]
[{"$f":"VLOOKUP(UPPER(M181),Items!$A$2:$B$525,2,FALSE)","v":"N0012"},"D",null,null,null,null,"O",null,null,null,{"$f":"VLOOKUP(UPPER(A181),Items!$B$2:$G$525,6)","v":"text(40)"},{"$f":"IF(VLOOKUP(UPPER(A181),Items!$B$2:$H$525,7,FALSE)<>0,VLOOKUP(UPPER(A181),Items!$B$2:$H$525,7,FALSE),\"\")","v":""},"Address Line 5"]
[{"$f":"VLOOKUP(UPPER(M182),Items!$A$2:$B$525,2,FALSE)","v":"N0013"},"D",null,null,null,null,"O",null,null,null,{"$f":"VLOOKUP(UPPER(A182),Items!$B$2:$G$525,6)","v":"text(40)"},{"$f":"IF(VLOOKUP(UPPER(A182),Items!$B$2:$H$525,7,FALSE)<>0,VLOOKUP(UPPER(A182),Items!$B$2:$H$525,7,FALSE),\"\")","v":""},"Address Line 6"]
[{"$f":"VLOOKUP(UPPER(M183),Items!$A$2:$B$525,2,FALSE)","v":"N0014"},"D",null,null,null,null,"O",null,null,null,{"$f":"VLOOKUP(UPPER(A183),Items!$B$2:$G$525,6)","v":"text(40)"},{"$f":"IF(VLOOKUP(UPPER(A183),Items!$B$2:$H$525,7,FALSE)<>0,VLOOKUP(UPPER(A183),Items!$B$2:$H$525,7,FALSE),\"\")","v":""},"Address Line 7"]
[{"$f":"VLOOKUP(UPPER(M184),Items!$A$2:$B$525,2,FALSE)","v":"N0015"},"D",null,null,null,null,"O",null,null,null,{"$f":"VLOOKUP(UPPER(A184),Items!$B$2:$G$525,6)","v":"text(40)"},{"$f":"IF(VLOOKUP(UPPER(A184),Items!$B$2:$H$525,7,FALSE)<>0,VLOOKUP(UPPER(A184),Items!$B$2:$H$525,7,FALSE),\"\")","v":""},"Address Line 8"]
[{"$f":"VLOOKUP(UPPER(M185),Items!$A$2:$B$525,2,FALSE)","v":"N0016"},"D",null,null,null,null,"O",null,null,null,{"$f":"VLOOKUP(UPPER(A185),Items!$B$2:$G$525,6)","v":"text(40)"},{"$f":"IF(VLOOKUP(UPPER(A185),Items!$B$2:$H$525,7,FALSE)<>0,VLOOKUP(UPPER(A185),Items!$B$2:$H$525,7,FALSE),\"\")","v":""},"Address Line 9"]
[{"$f":"VLOOKUP(UPPER(M186),Items!$A$2:$B$525,2,FALSE)","v":"N0176"},"D",null,null,null,null,"O",null,null,null,{"$f":"VLOOKUP(UPPER(A186),Items!$B$2:$G$525,6)","v":"text(10)"},{"$f":"IF(VLOOKUP(UPPER(A186),Items!$B$2:$H$525,7,FALSE)<>0,VLOOKUP(UPPER(A186),Items!$B$2:$H$525,7,FALSE),\"\")","v":""},"Post Code"]
[{"$f":"VLOOKUP(UPPER(M187),Items!$A$2:$B$525,2,FALSE)","v":"N0218"},"D",null,null,null,null,"O",null,null,null,{"$f":"VLOOKUP(UPPER(A187),Items!$B$2:$G$525,6)","v":"text(15)"},{"$f":"IF(VLOOKUP(UPPER(A187),Items!$B$2:$H$525,7,FALSE)<>0,VLOOKUP(UPPER(A187),Items!$B$2:$H$525,7,FALSE),\"\")","v":""},"Telephone No"]
[{"$f":"VLOOKUP(UPPER(M188),Items!$A$2:$B$525,2,FALSE)","v":"N0100"},"D",null,null,null,null,"O",null,null,null,{"$f":"VLOOKUP(UPPER(A188),Items!$B$2:$G$525,6)","v":"text(15)"},{"$f":"IF(VLOOKUP(UPPER(A188),Items!$B$2:$H$525,7,FALSE)<>0,VLOOKUP(UPPER(A188),Items!$B$2:$H$525,7,FALSE),\"\")","v":""},"Fax No"]
[{"$f":"VLOOKUP(UPPER(M189),Items!$A$2:$B$525,2,FALSE)","v":"N0067"},"D",null,null,null,null,"O",null,null,null,{"$f":"VLOOKUP(UPPER(A189),Items!$B$2:$G$525,6)","v":"text(80)"},{"$f":"IF(VLOOKUP(UPPER(A189),Items!$B$2:$H$525,7,FALSE)<>0,VLOOKUP(UPPER(A189),Items!$B$2:$H$525,7,FALSE),\"\")","v":""},{"$f":"PROPER(\"e-mail Address\")","v":"E-Mail Address"}]
["AAS","R","0-*",null,"G",null,null,null,null,null,null,null,"Authorised Signatories"]
[{"$f":"VLOOKUP(UPPER(M191),Items!$A$2:$B$525,2,FALSE)","v":"N0339"},"D",null,null,null,"O",null,null,null,null,{"$f":"VLOOKUP(UPPER(A191),Items!$B$2:$G$525,6)","v":"text(9)"},{"$f":"IF(VLOOKUP(UPPER(A191),Items!$B$2:$H$525,7,FALSE)<>0,VLOOKUP(UPPER(A191),Items!$B$2:$H$525,7,FALSE),\"\")","v":""},"Action Code"]
[{"$f":"VLOOKUP(UPPER(M192),Items!$A$2:$B$525,2,FALSE)","v":"N0203"},"D",null,null,null,1,null,null,null,null,{"$f":"VLOOKUP(UPPER(A192),Items!$B$2:$G$525,6)","v":"text(30)"},{"$f":"IF(VLOOKUP(UPPER(A192),Items!$B$2:$H$525,7,FALSE)<>0,VLOOKUP(UPPER(A192),Items!$B$2:$H$525,7,FALSE),\"\")","v":""},"Signatory Name"]
[{"$f":"VLOOKUP(UPPER(M193),Items!$A$2:$B$525,2,FALSE)","v":"N0162"},"D",null,null,null,"O",null,null,null,null,{"$f":"VLOOKUP(UPPER(A193),Items!$B$2:$G$525,6)","v":"text(8)"},{"$f":"IF(VLOOKUP(UPPER(A193),Items!$B$2:$H$525,7,FALSE)<>0,VLOOKUP(UPPER(A193),Items!$B$2:$H$525,7,FALSE),\"\")","v":""},"Password"]
[{"$f":"VLOOKUP(UPPER(M194),Items!$A$2:$B$525,2,FALSE)","v":"N0056"},"D",null,null,null,"O",null,null,null,null,{"$f":"VLOOKUP(UPPER(A194),Items!$B$2:$G$525,6)","v":"text(15)"},{"$f":"IF(VLOOKUP(UPPER(A194),Items!$B$2:$H$525,7,FALSE)<>0,VLOOKUP(UPPER(A194),Items!$B$2:$H$525,7,FALSE),\"\")","v":""},"Contact Phone No","if BM Unit Type is 'G' or 'S' or 'E'"]
[{"$f":"VLOOKUP(UPPER(M195),Items!$A$2:$B$525,2,FALSE)","v":"N0067"},"D",null,null,null,"O",null,null,null,null,{"$f":"VLOOKUP(UPPER(A195),Items!$B$2:$G$525,6)","v":"text(80)"},{"$f":"IF(VLOOKUP(UPPER(A195),Items!$B$2:$H$525,7,FALSE)<>0,VLOOKUP(UPPER(A195),Items!$B$2:$H$525,7,FALSE),\"\")","v":""},"e-Mail Address","if BM Unit Type is 'G' or 'S' or 'E'"]
["AAL","R","0-*",null,null,"G",null,null,null,null,null,null,"Authorisation Levels"]
[{"$f":"VLOOKUP(UPPER(M197),Items!$A$2:$B$525,2,FALSE)","v":"N0339"},"D",null,null,null,null,"O",null,null,null,{"$f":"VLOOKUP(UPPER(A197),Items!$B$2:$G$525,6)","v":"text(9)"},{"$f":"IF(VLOOKUP(UPPER(A197),Items!$B$2:$H$525,7,FALSE)<>0,VLOOKUP(UPPER(A197),Items!$B$2:$H$525,7,FALSE),\"\")","v":""},"Action Code","mw"]
[{"$f":"VLOOKUP(UPPER(M198),Items!$A$2:$B$525,2,FALSE)","v":"N0006"},"D",null,null,null,null,1,null,null,null,{"$f":"VLOOKUP(UPPER(A198),Items!$B$2:$G$525,6)","v":"text(2)"},{"$f":"IF(VLOOKUP(UPPER(A198),Items!$B$2:$H$525,7,FALSE)<>0,VLOOKUP(UPPER(A198),Items!$B$2:$H$525,7,FALSE),\"\")","v":"Activity"},"Activity","mw"]
[{"$f":"VLOOKUP(UPPER(M199),Items!$A$2:$B$525,2,FALSE)","v":"N0081"},"D",null,null,null,null,1,null,null,null,{"$f":"VLOOKUP(UPPER(A199),Items!$B$2:$G$525,6)","v":"date"},{"$f":"IF(VLOOKUP(UPPER(A199),Items!$B$2:$H$525,7,FALSE)<>0,VLOOKUP(UPPER(A199),Items!$B$2:$H$525,7,FALSE),\"\")","v":""},"Effective From Date"]
[{"$f":"VLOOKUP(UPPER(M200),Items!$A$2:$B$525,2,FALSE)","v":"N0083"},"D",null,null,null,null,"O",null,null,null,{"$f":"VLOOKUP(UPPER(A200),Items!$B$2:$G$525,6)","v":"date"},{"$f":"IF(VLOOKUP(UPPER(A200),Items!$B$2:$H$525,7,FALSE)<>0,VLOOKUP(UPPER(A200),Items!$B$2:$H$525,7,FALSE),\"\")","v":""},"Effective To Date"]
["MDP","R","0-*","G",null,null,null,null,null,null,null,null,"Market Index Data Provider"]
[{"$f":"VLOOKUP(UPPER(M202),Items!$A$2:$B$525,2,FALSE)","v":"N0339"},"D",null,null,"O",null,null,null,null,null,{"$f":"VLOOKUP(UPPER(A202),Items!$B$2:$G$525,6)","v":"text(9)"},{"$f":"IF(VLOOKUP(UPPER(A202),Items!$B$2:$H$525,7,FALSE)<>0,VLOOKUP(UPPER(A202),Items!$B$2:$H$525,7,FALSE),\"\")","v":""},"Action Code"]
[{"$f":"VLOOKUP(UPPER(M203),Items!$A$2:$B$748,2,FALSE)","v":"N0422"},"D",null,null,1,null,null,null,null,null,{"$f":"VLOOKUP(UPPER(A203),Items!$B$2:$G$748,6)","v":"text(30)"},{"$f":"IF(VLOOKUP(UPPER(A203),Items!$B$2:$H$748,7,FALSE)<>0,VLOOKUP(UPPER(A203),Items!$B$2:$H$748,7,FALSE),\"\")","v":""},"Market Index Data Provider Name"]
[{"$f":"VLOOKUP(UPPER(M204),Items!$A$2:$B$748,2,FALSE)","v":"N0423"},"D",null,null,1,null,null,null,null,null,{"$f":"VLOOKUP(UPPER(A204),Items!$B$2:$G$748,6)","v":"text(8)"},{"$f":"IF(VLOOKUP(UPPER(A204),Items!$B$2:$H$748,7,FALSE)<>0,VLOOKUP(UPPER(A204),Items!$B$2:$H$748,7,FALSE),\"\")","v":""},"Market Index Data Provider ID"]
["MED","R","0-*",null,"G",null,null,null,null,null,null,null,"Market Index Data Provider Effective Dates"]
[{"$f":"VLOOKUP(UPPER(M206),Items!$A$2:$B$525,2,FALSE)","v":"N0339"},"D",null,null,null,"O",null,null,null,null,{"$f":"VLOOKUP(UPPER(A206),Items!$B$2:$G$525,6)","v":"text(9)"},{"$f":"IF(VLOOKUP(UPPER(A206),Items!$B$2:$H$525,7,FALSE)<>0,VLOOKUP(UPPER(A206),Items!$B$2:$H$525,7,FALSE),\"\")","v":""},"Action Code"]
[{"$f":"VLOOKUP(UPPER(M207),Items!$A$2:$B$748,2,FALSE)","v":"N0424"},"D",null,null,null,1,null,null,null,null,{"$f":"VLOOKUP(UPPER(A207),Items!$B$2:$G$748,6)","v":"date"},{"$f":"IF(VLOOKUP(UPPER(A207),Items!$B$2:$H$748,7,FALSE)<>0,VLOOKUP(UPPER(A207),Items!$B$2:$H$748,7,FALSE),\"\")","v":""},"Provider Effective From Settlement Date"]
[{"$f":"VLOOKUP(UPPER(M208),Items!$A$2:$B$748,2,FALSE)","v":"N0425"},"D",null,null,null,"O",null,null,null,null,{"$f":"VLOOKUP(UPPER(A208),Items!$B$2:$G$748,6)","v":"date"},{"$f":"IF(VLOOKUP(UPPER(A208),Items!$B$2:$H$748,7,FALSE)<>0,VLOOKUP(UPPER(A208),Items!$B$2:$H$748,7,FALSE),\"\")","v":""},"Provider Effective To Settlement Date"]
[]
["R0131",{"$f":"IF(LEN(K210)>0,\"D\",IF(LEN(A210)=5,\"F\",IF(LEN(A210)=3,\"R\",\" \")))","v":"F"},"003",null,null,null,null,null,null,null,null,null,"CRA-I013: Issue Authentication Report"]
[null," "]
["BP8","R","0-*","G",null,null,null,null,null,null,null,null,"BSC Party Details"]
[{"$f":"VLOOKUP(UPPER(M213),Items!$A$2:$B$525,2,FALSE)","v":"N0339"},"D",null,null,"O",null,null,null,null,null,{"$f":"VLOOKUP(UPPER(A213),Items!$B$2:$G$525,6)","v":"text(9)"},{"$f":"IF(VLOOKUP(UPPER(A213),Items!$B$2:$H$525,7,FALSE)<>0,VLOOKUP(UPPER(A213),Items!$B$2:$H$525,7,FALSE),\"\")","v":""},"Action Code"]
[{"$f":"VLOOKUP(UPPER(M214),Items!$A$2:$B$525,2,FALSE)","v":"N0046"},"D",null,null,1,null,null,null,null,null,{"$f":"VLOOKUP(UPPER(A214),Items!$B$2:$G$525,6)","v":"text(30)"},{"$f":"IF(VLOOKUP(UPPER(A214),Items!$B$2:$H$525,7,FALSE)<>0,VLOOKUP(UPPER(A214),Items!$B$2:$H$525,7,FALSE),\"\")","v":""},"BSC Party Name"]
[{"$f":"VLOOKUP(UPPER(M215),Items!$A$2:$B$525,2,FALSE)","v":"N0045"},"D",null,null,1,null,null,null,null,null,{"$f":"VLOOKUP(UPPER(A215),Items!$B$2:$G$525,6)","v":"text(8)"},{"$f":"IF(VLOOKUP(UPPER(A215),Items!$B$2:$H$525,7,FALSE)<>0,VLOOKUP(UPPER(A215),Items!$B$2:$H$525,7,FALSE),\"\")","v":""},"BSC Party Id"]
["PR1","R","0-*",null,"G",null,null,null,null,null,null,null,"Party Role Details"]
[{"$f":"VLOOKUP(UPPER(M217),Items!$A$2:$B$525,2,FALSE)","v":"N0339"},{"$f":"IF(LEN(K217)>0,\"D\",IF(LEN(A217)=5,\"F\",IF(LEN(A217)=3,\"R\",\" \")))","v":"D"},null,null,null,"O",null,null,null,null,{"$f":"VLOOKUP(UPPER(A217),Items!$B$2:$G$525,6)","v":"text(9)"},{"$f":"IF(VLOOKUP(UPPER(A217),Items!$B$2:$H$525,7,FALSE)<>0,VLOOKUP(UPPER(A217),Items!$B$2:$H$525,7,FALSE),\"\")","v":""},"Action Code"]
[{"$f":"VLOOKUP(UPPER(M218),Items!$A$2:$B$525,2,FALSE)","v":"N0047"},"D",null,null,null,1,null,null,null,null,{"$f":"VLOOKUP(UPPER(A218),Items!$B$2:$G$525,6)","v":"text(2)"},{"$f":"IF(VLOOKUP(UPPER(A218),Items!$B$2:$H$525,7,FALSE)<>0,VLOOKUP(UPPER(A218),Items!$B$2:$H$525,7,FALSE),\"\")","v":"Organisation Type"},"BSC Party Type"]
[{"$f":"VLOOKUP(UPPER(M219),Items!$A$2:$B$525,2,FALSE)","v":"N0183"},"D",null,null,null,1,null,null,null,null,{"$f":"VLOOKUP(UPPER(A219),Items!$B$2:$G$525,6)","v":"date"},{"$f":"IF(VLOOKUP(UPPER(A219),Items!$B$2:$H$525,7,FALSE)<>0,VLOOKUP(UPPER(A219),Items!$B$2:$H$525,7,FALSE),\"\")","v":""},"Registration Effective From Date"]
[{"$f":"VLOOKUP(UPPER(M220),Items!$A$2:$B$525,2,FALSE)","v":"N0184"},"D",null,null,null,"O",null,null,null,null,{"$f":"VLOOKUP(UPPER(A220),Items!$B$2:$G$525,6)","v":"date"},{"$f":"IF(VLOOKUP(UPPER(A220),Items!$B$2:$H$525,7,FALSE)<>0,VLOOKUP(UPPER(A220),Items!$B$2:$H$525,7,FALSE),\"\")","v":""},"Registration Effective To Date"]
["RA4","R","0-1",null,null,"G",null,null,null,null,null,null,"Role Address Details"]
[{"$f":"VLOOKUP(UPPER(M222),Items!$A$2:$B$525,2,FALSE)","v":"N0339"},"D",null,null,null,null,"O",null,null,null,{"$f":"VLOOKUP(UPPER(A222),Items!$B$2:$G$525,6)","v":"text(9)"},{"$f":"IF(VLOOKUP(UPPER(A222),Items!$B$2:$H$525,7,FALSE)<>0,VLOOKUP(UPPER(A222),Items!$B$2:$H$525,7,FALSE),\"\")","v":""},"Action Code"]
[{"$f":"VLOOKUP(UPPER(M223),Items!$A$2:$B$525,2,FALSE)","v":"N0008"},"D",null,null,null,null,1,null,null,null,{"$f":"VLOOKUP(UPPER(A223),Items!$B$2:$G$525,6)","v":"text(40)"},{"$f":"IF(VLOOKUP(UPPER(A223),Items!$B$2:$H$525,7,FALSE)<>0,VLOOKUP(UPPER(A223),Items!$B$2:$H$525,7,FALSE),\"\")","v":""},"Address Line 1"]
[{"$f":"VLOOKUP(UPPER(M224),Items!$A$2:$B$525,2,FALSE)","v":"N0009"},"D",null,null,null,null,"O",null,null,null,{"$f":"VLOOKUP(UPPER(A224),Items!$B$2:$G$525,6)","v":"text(40)"},{"$f":"IF(VLOOKUP(UPPER(A224),Items!$B$2:$H$525,7,FALSE)<>0,VLOOKUP(UPPER(A224),Items!$B$2:$H$525,7,FALSE),\"\")","v":""},"Address Line 2"]
[{"$f":"VLOOKUP(UPPER(M225),Items!$A$2:$B$525,2,FALSE)","v":"N0010"},"D",null,null,null,null,"O",null,null,null,{"$f":"VLOOKUP(UPPER(A225),Items!$B$2:$G$525,6)","v":"text(40)"},{"$f":"IF(VLOOKUP(UPPER(A225),Items!$B$2:$H$525,7,FALSE)<>0,VLOOKUP(UPPER(A225),Items!$B$2:$H$525,7,FALSE),\"\")","v":""},"Address Line 3"]
[{"$f":"VLOOKUP(UPPER(M226),Items!$A$2:$B$525,2,FALSE)","v":"N0011"},"D",null,null,null,null,"O",null,null,null,{"$f":"VLOOKUP(UPPER(A226),Items!$B$2:$G$525,6)","v":"text(40)"},{"$f":"IF(VLOOKUP(UPPER(A226),Items!$B$2:$H$525,7,FALSE)<>0,VLOOKUP(UPPER(A226),Items!$B$2:$H$525,7,FALSE),\"\")","v":""},"Address Line 4"]
[{"$f":"VLOOKUP(UPPER(M227),Items!$A$2:$B$525,2,FALSE)","v":"N0012"},"D",null,null,null,null,"O",null,null,null,{"$f":"VLOOKUP(UPPER(A227),Items!$B$2:$G$525,6)","v":"text(40)"},{"$f":"IF(VLOOKUP(UPPER(A227),Items!$B$2:$H$525,7,FALSE)<>0,VLOOKUP(UPPER(A227),Items!$B$2:$H$525,7,FALSE),\"\")","v":""},"Address Line 5"]
[{"$f":"VLOOKUP(UPPER(M228),Items!$A$2:$B$525,2,FALSE)","v":"N0013"},"D",null,null,null,null,"O",null,null,null,{"$f":"VLOOKUP(UPPER(A228),Items!$B$2:$G$525,6)","v":"text(40)"},{"$f":"IF(VLOOKUP(UPPER(A228),Items!$B$2:$H$525,7,FALSE)<>0,VLOOKUP(UPPER(A228),Items!$B$2:$H$525,7,FALSE),\"\")","v":""},"Address Line 6"]
[{"$f":"VLOOKUP(UPPER(M229),Items!$A$2:$B$525,2,FALSE)","v":"N0014"},"D",null,null,null,null,"O",null,null,null,{"$f":"VLOOKUP(UPPER(A229),Items!$B$2:$G$525,6)","v":"text(40)"},{"$f":"IF(VLOOKUP(UPPER(A229),Items!$B$2:$H$525,7,FALSE)<>0,VLOOKUP(UPPER(A229),Items!$B$2:$H$525,7,FALSE),\"\")","v":""},"Address Line 7"]
[{"$f":"VLOOKUP(UPPER(M230),Items!$A$2:$B$525,2,FALSE)","v":"N0015"},"D",null,null,null,null,"O",null,null,null,{"$f":"VLOOKUP(UPPER(A230),Items!$B$2:$G$525,6)","v":"text(40)"},{"$f":"IF(VLOOKUP(UPPER(A230),Items!$B$2:$H$525,7,FALSE)<>0,VLOOKUP(UPPER(A230),Items!$B$2:$H$525,7,FALSE),\"\")","v":""},"Address Line 8"]
[{"$f":"VLOOKUP(UPPER(M231),Items!$A$2:$B$525,2,FALSE)","v":"N0016"},"D",null,null,null,null,"O",null,null,null,{"$f":"VLOOKUP(UPPER(A231),Items!$B$2:$G$525,6)","v":"text(40)"},{"$f":"IF(VLOOKUP(UPPER(A231),Items!$B$2:$H$525,7,FALSE)<>0,VLOOKUP(UPPER(A231),Items!$B$2:$H$525,7,FALSE),\"\")","v":""},"Address Line 9","mw"]
[{"$f":"VLOOKUP(UPPER(M232),Items!$A$2:$B$525,2,FALSE)","v":"N0176"},"D",null,null,null,null,"O",null,null,null,{"$f":"VLOOKUP(UPPER(A232),Items!$B$2:$G$525,6)","v":"text(10)"},{"$f":"IF(VLOOKUP(UPPER(A232),Items!$B$2:$H$525,7,FALSE)<>0,VLOOKUP(UPPER(A232),Items!$B$2:$H$525,7,FALSE),\"\")","v":""},"Post Code","mw"]
[{"$f":"VLOOKUP(UPPER(M233),Items!$A$2:$B$525,2,FALSE)","v":"N0218"},"D",null,null,null,null,"O",null,null,null,{"$f":"VLOOKUP(UPPER(A233),Items!$B$2:$G$525,6)","v":"text(15)"},{"$f":"IF(VLOOKUP(UPPER(A233),Items!$B$2:$H$525,7,FALSE)<>0,VLOOKUP(UPPER(A233),Items!$B$2:$H$525,7,FALSE),\"\")","v":""},"Telephone No"]
[{"$f":"VLOOKUP(UPPER(M234),Items!$A$2:$B$525,2,FALSE)","v":"N0100"},"D",null,null,null,null,"O",null,null,null,{"$f":"VLOOKUP(UPPER(A234),Items!$B$2:$G$525,6)","v":"text(15)"},{"$f":"IF(VLOOKUP(UPPER(A234),Items!$B$2:$H$525,7,FALSE)<>0,VLOOKUP(UPPER(A234),Items!$B$2:$H$525,7,FALSE),\"\")","v":""},"Fax No"]
[{"$f":"VLOOKUP(UPPER(M235),Items!$A$2:$B$525,2,FALSE)","v":"N0067"},"D",null,null,null,null,"O",null,null,null,{"$f":"VLOOKUP(UPPER(A235),Items!$B$2:$G$525,6)","v":"text(80)"},{"$f":"IF(VLOOKUP(UPPER(A235),Items!$B$2:$H$525,7,FALSE)<>0,VLOOKUP(UPPER(A235),Items!$B$2:$H$525,7,FALSE),\"\")","v":""},{"$f":"PROPER(\"e-mail Address\")","v":"E-Mail Address"},"mw"]
["SR9","R","0-*",null,"G",null,null,null,null,null,null,null,"Settlement Report Details","if BM Unit Type is 'G' or 'S' or 'E'"]
[{"$f":"VLOOKUP(UPPER(M237),Items!$A$2:$B$525,2,FALSE)","v":"N0339"},"D",null,null,null,"O",null,null,null,null,{"$f":"VLOOKUP(UPPER(A237),Items!$B$2:$G$525,6)","v":"text(9)"},{"$f":"IF(VLOOKUP(UPPER(A237),Items!$B$2:$H$525,7,FALSE)<>0,VLOOKUP(UPPER(A237),Items!$B$2:$H$525,7,FALSE),\"\")","v":""},"Action Code","if BM Unit Type is 'G' or 'S' or 'E'"]
[{"$f":"VLOOKUP(UPPER(M238),Items!$A$2:$B$525,2,FALSE)","v":"N0192"},"D",null,null,null,1,null,null,null,null,{"$f":"VLOOKUP(UPPER(A238),Items!$B$2:$G$525,6)","v":"text(30)"},{"$f":"IF(VLOOKUP(UPPER(A238),Items!$B$2:$H$525,7,FALSE)<>0,VLOOKUP(UPPER(A238),Items!$B$2:$H$525,7,FALSE),\"\")","v":""},"Report Type","if BM Unit Type is 'I'"]
[{"$f":"VLOOKUP(UPPER(M239),Items!$A$2:$B$525,2,FALSE)","v":"N0065"},"D",null,null,null,"O",null,null,null,null,{"$f":"VLOOKUP(UPPER(A239),Items!$B$2:$G$525,6)","v":"text(20)"},{"$f":"IF(VLOOKUP(UPPER(A239),Items!$B$2:$H$525,7,FALSE)<>0,VLOOKUP(UPPER(A239),Items!$B$2:$H$525,7,FALSE),\"\")","v":""},"Distribution Method"]
["PAS","R","0-*",null,"G",null,null,null,null,null,null,null,"Authorised Signatories"]
[{"$f":"VLOOKUP(UPPER(M241),Items!$A$2:$B$525,2,FALSE)","v":"N0339"},"D",null,null,null,"O",null,null,null,null,{"$f":"VLOOKUP(UPPER(A241),Items!$B$2:$G$525,6)","v":"text(9)"},{"$f":"IF(VLOOKUP(UPPER(A241),Items!$B$2:$H$525,7,FALSE)<>0,VLOOKUP(UPPER(A241),Items!$B$2:$H$525,7,FALSE),\"\")","v":""},"Action Code"]
[{"$f":"VLOOKUP(UPPER(M242),Items!$A$2:$B$525,2,FALSE)","v":"N0203"},"D",null,null,null,1,null,null,null,null,{"$f":"VLOOKUP(UPPER(A242),Items!$B$2:$G$525,6)","v":"text(30)"},{"$f":"IF(VLOOKUP(UPPER(A242),Items!$B$2:$H$525,7,FALSE)<>0,VLOOKUP(UPPER(A242),Items!$B$2:$H$525,7,FALSE),\"\")","v":""},"Signatory Name"]
[{"$f":"VLOOKUP(UPPER(M243),Items!$A$2:$B$525,2,FALSE)","v":"N0162"},"D",null,null,null,"O",null,null,null,null,{"$f":"VLOOKUP(UPPER(A243),Items!$B$2:$G$525,6)","v":"text(8)"},{"$f":"IF(VLOOKUP(UPPER(A243),Items!$B$2:$H$525,7,FALSE)<>0,VLOOKUP(UPPER(A243),Items!$B$2:$H$525,7,FALSE),\"\")","v":""},"Password"]
[{"$f":"VLOOKUP(UPPER(M244),Items!$A$2:$B$525,2,FALSE)","v":"N0056"},"D",null,null,null,"O",null,null,null,null,{"$f":"VLOOKUP(UPPER(A244),Items!$B$2:$G$525,6)","v":"text(15)"},{"$f":"IF(VLOOKUP(UPPER(A244),Items!$B$2:$H$525,7,FALSE)<>0,VLOOKUP(UPPER(A244),Items!$B$2:$H$525,7,FALSE),\"\")","v":""},"Contact Phone No"]
[{"$f":"VLOOKUP(UPPER(M245),Items!$A$2:$B$525,2,FALSE)","v":"N0067"},"D",null,null,null,"O",null,null,null,null,{"$f":"VLOOKUP(UPPER(A245),Items!$B$2:$G$525,6)","v":"text(80)"},{"$f":"IF(VLOOKUP(UPPER(A245),Items!$B$2:$H$525,7,FALSE)<>0,VLOOKUP(UPPER(A245),Items!$B$2:$H$525,7,FALSE),\"\")","v":""},{"$f":"PROPER(\"e-mail Address\")","v":"E-Mail Address"}]
["PAL","R","0-*",null,null,"G",null,null,null,null,null,null,"Authorisation Levels"]
[{"$f":"VLOOKUP(UPPER(M247),Items!$A$2:$B$525,2,FALSE)","v":"N0339"},"D",null,null,null,null,"O",null,null,null,{"$f":"VLOOKUP(UPPER(A247),Items!$B$2:$G$525,6)","v":"text(9)"},{"$f":"IF(VLOOKUP(UPPER(A247),Items!$B$2:$H$525,7,FALSE)<>0,VLOOKUP(UPPER(A247),Items!$B$2:$H$525,7,FALSE),\"\")","v":""},"Action Code"]
[{"$f":"VLOOKUP(UPPER(M248),Items!$A$2:$B$525,2,FALSE)","v":"N0006"},"D",null,null,null,null,1,null,null,null,{"$f":"VLOOKUP(UPPER(A248),Items!$B$2:$G$525,6)","v":"text(2)"},{"$f":"IF(VLOOKUP(UPPER(A248),Items!$B$2:$H$525,7,FALSE)<>0,VLOOKUP(UPPER(A248),Items!$B$2:$H$525,7,FALSE),\"\")","v":"Activity"},"Activity"]
[{"$f":"VLOOKUP(UPPER(M249),Items!$A$2:$B$525,2,FALSE)","v":"N0081"},"D",null,null,null,null,1,null,null,null,{"$f":"VLOOKUP(UPPER(A249),Items!$B$2:$G$525,6)","v":"date"},{"$f":"IF(VLOOKUP(UPPER(A249),Items!$B$2:$H$525,7,FALSE)<>0,VLOOKUP(UPPER(A249),Items!$B$2:$H$525,7,FALSE),\"\")","v":""},"Effective From Date"]
[{"$f":"VLOOKUP(UPPER(M250),Items!$A$2:$B$525,2,FALSE)","v":"N0083"},"D",null,null,null,null,"O",null,null,null,{"$f":"VLOOKUP(UPPER(A250),Items!$B$2:$G$525,6)","v":"date"},{"$f":"IF(VLOOKUP(UPPER(A250),Items!$B$2:$H$525,7,FALSE)<>0,VLOOKUP(UPPER(A250),Items!$B$2:$H$525,7,FALSE),\"\")","v":""},"Effective To Date"]
["BP3","R","0-*","G",null,null,null,null,null,null,null,null,"BSC Party Agent Details"]
[{"$f":"VLOOKUP(UPPER(M252),Items!$A$2:$B$525,2,FALSE)","v":"N0339"},"D",null,null,"O",null,null,null,null,null,{"$f":"VLOOKUP(UPPER(A252),Items!$B$2:$G$525,6)","v":"text(9)"},{"$f":"IF(VLOOKUP(UPPER(A252),Items!$B$2:$H$525,7,FALSE)<>0,VLOOKUP(UPPER(A252),Items!$B$2:$H$525,7,FALSE),\"\")","v":""},"Action Code"]
[{"$f":"VLOOKUP(UPPER(M253),Items!$A$2:$B$525,2,FALSE)","v":"N0043"},"D",null,null,1,null,null,null,null,null,{"$f":"VLOOKUP(UPPER(A253),Items!$B$2:$G$525,6)","v":"text(30)"},{"$f":"IF(VLOOKUP(UPPER(A253),Items!$B$2:$H$525,7,FALSE)<>0,VLOOKUP(UPPER(A253),Items!$B$2:$H$525,7,FALSE),\"\")","v":""},"BSC Party Agent Name"]
[{"$f":"VLOOKUP(UPPER(M254),Items!$A$2:$B$525,2,FALSE)","v":"N0018"},"D",null,null,1,null,null,null,null,null,{"$f":"VLOOKUP(UPPER(A254),Items!$B$2:$G$525,6)","v":"text(8)"},{"$f":"IF(VLOOKUP(UPPER(A254),Items!$B$2:$H$525,7,FALSE)<>0,VLOOKUP(UPPER(A254),Items!$B$2:$H$525,7,FALSE),\"\")","v":""},"Agent Id"]
["AR2","R","0-*",null,"G",null,null,null,null,null,null,null,"Agent Role Details"]
[{"$f":"VLOOKUP(UPPER(M256),Items!$A$2:$B$525,2,FALSE)","v":"N0339"},{"$f":"IF(LEN(K256)>0,\"D\",IF(LEN(A256)=5,\"F\",IF(LEN(A256)=3,\"R\",\" \")))","v":"D"},null,null,null,"O",null,null,null,null,{"$f":"VLOOKUP(UPPER(A256),Items!$B$2:$G$525,6)","v":"text(9)"},{"$f":"IF(VLOOKUP(UPPER(A256),Items!$B$2:$H$525,7,FALSE)<>0,VLOOKUP(UPPER(A256),Items!$B$2:$H$525,7,FALSE),\"\")","v":""},"Action Code"]
[{"$f":"VLOOKUP(UPPER(M257),Items!$A$2:$B$525,2,FALSE)","v":"N0044"},"D",null,null,null,1,null,null,null,null,{"$f":"VLOOKUP(UPPER(A257),Items!$B$2:$G$525,6)","v":"text(2)"},{"$f":"IF(VLOOKUP(UPPER(A257),Items!$B$2:$H$525,7,FALSE)<>0,VLOOKUP(UPPER(A257),Items!$B$2:$H$525,7,FALSE),\"\")","v":"Organisation Type"},"BSC Party Agent Type"]
[{"$f":"VLOOKUP(UPPER(M258),Items!$A$2:$B$525,2,FALSE)","v":"N0183"},"D",null,null,null,1,null,null,null,null,{"$f":"VLOOKUP(UPPER(A258),Items!$B$2:$G$525,6)","v":"date"},{"$f":"IF(VLOOKUP(UPPER(A258),Items!$B$2:$H$525,7,FALSE)<>0,VLOOKUP(UPPER(A258),Items!$B$2:$H$525,7,FALSE),\"\")","v":""},"Registration Effective From Date"]
[{"$f":"VLOOKUP(UPPER(M259),Items!$A$2:$B$525,2,FALSE)","v":"N0184"},"D",null,null,null,"O",null,null,null,null,{"$f":"VLOOKUP(UPPER(A259),Items!$B$2:$G$525,6)","v":"date"},{"$f":"IF(VLOOKUP(UPPER(A259),Items!$B$2:$H$525,7,FALSE)<>0,VLOOKUP(UPPER(A259),Items!$B$2:$H$525,7,FALSE),\"\")","v":""},"Registration Effective To Date"]
["SA2","R","0-1",null,null,"G",null,null,null,null,null,null,"Role Address Details"]
[{"$f":"VLOOKUP(UPPER(M261),Items!$A$2:$B$525,2,FALSE)","v":"N0339"},"D",null,null,null,null,"O",null,null,null,{"$f":"VLOOKUP(UPPER(A261),Items!$B$2:$G$525,6)","v":"text(9)"},{"$f":"IF(VLOOKUP(UPPER(A261),Items!$B$2:$H$525,7,FALSE)<>0,VLOOKUP(UPPER(A261),Items!$B$2:$H$525,7,FALSE),\"\")","v":""},"Action Code"]
[{"$f":"VLOOKUP(UPPER(M262),Items!$A$2:$B$525,2,FALSE)","v":"N0008"},"D",null,null,null,null,1,null,null,null,{"$f":"VLOOKUP(UPPER(A262),Items!$B$2:$G$525,6)","v":"text(40)"},{"$f":"IF(VLOOKUP(UPPER(A262),Items!$B$2:$H$525,7,FALSE)<>0,VLOOKUP(UPPER(A262),Items!$B$2:$H$525,7,FALSE),\"\")","v":""},"Address Line 1","(for CRA-I0015 sub-flow 2 see Stage 2 section)"]
[{"$f":"VLOOKUP(UPPER(M263),Items!$A$2:$B$525,2,FALSE)","v":"N0009"},"D",null,null,null,null,"O",null,null,null,{"$f":"VLOOKUP(UPPER(A263),Items!$B$2:$G$525,6)","v":"text(40)"},{"$f":"IF(VLOOKUP(UPPER(A263),Items!$B$2:$H$525,7,FALSE)<>0,VLOOKUP(UPPER(A263),Items!$B$2:$H$525,7,FALSE),\"\")","v":""},"Address Line 2"]
[{"$f":"VLOOKUP(UPPER(M264),Items!$A$2:$B$525,2,FALSE)","v":"N0010"},"D",null,null,null,null,"O",null,null,null,{"$f":"VLOOKUP(UPPER(A264),Items!$B$2:$G$525,6)","v":"text(40)"},{"$f":"IF(VLOOKUP(UPPER(A264),Items!$B$2:$H$525,7,FALSE)<>0,VLOOKUP(UPPER(A264),Items!$B$2:$H$525,7,FALSE),\"\")","v":""},"Address Line 3"]
[{"$f":"VLOOKUP(UPPER(M265),Items!$A$2:$B$525,2,FALSE)","v":"N0011"},"D",null,null,null,null,"O",null,null,null,{"$f":"VLOOKUP(UPPER(A265),Items!$B$2:$G$525,6)","v":"text(40)"},{"$f":"IF(VLOOKUP(UPPER(A265),Items!$B$2:$H$525,7,FALSE)<>0,VLOOKUP(UPPER(A265),Items!$B$2:$H$525,7,FALSE),\"\")","v":""},"Address Line 4"]
[{"$f":"VLOOKUP(UPPER(M266),Items!$A$2:$B$525,2,FALSE)","v":"N0012"},"D",null,null,null,null,"O",null,null,null,{"$f":"VLOOKUP(UPPER(A266),Items!$B$2:$G$525,6)","v":"text(40)"},{"$f":"IF(VLOOKUP(UPPER(A266),Items!$B$2:$H$525,7,FALSE)<>0,VLOOKUP(UPPER(A266),Items!$B$2:$H$525,7,FALSE),\"\")","v":""},"Address Line 5"]
[{"$f":"VLOOKUP(UPPER(M267),Items!$A$2:$B$525,2,FALSE)","v":"N0013"},"D",null,null,null,null,"O",null,null,null,{"$f":"VLOOKUP(UPPER(A267),Items!$B$2:$G$525,6)","v":"text(40)"},{"$f":"IF(VLOOKUP(UPPER(A267),Items!$B$2:$H$525,7,FALSE)<>0,VLOOKUP(UPPER(A267),Items!$B$2:$H$525,7,FALSE),\"\")","v":""},"Address Line 6"]
[{"$f":"VLOOKUP(UPPER(M268),Items!$A$2:$B$525,2,FALSE)","v":"N0014"},"D",null,null,null,null,"O",null,null,null,{"$f":"VLOOKUP(UPPER(A268),Items!$B$2:$G$525,6)","v":"text(40)"},{"$f":"IF(VLOOKUP(UPPER(A268),Items!$B$2:$H$525,7,FALSE)<>0,VLOOKUP(UPPER(A268),Items!$B$2:$H$525,7,FALSE),\"\")","v":""},"Address Line 7"]
[{"$f":"VLOOKUP(UPPER(M269),Items!$A$2:$B$525,2,FALSE)","v":"N0015"},"D",null,null,null,null,"O",null,null,null,{"$f":"VLOOKUP(UPPER(A269),Items!$B$2:$G$525,6)","v":"text(40)"},{"$f":"IF(VLOOKUP(UPPER(A269),Items!$B$2:$H$525,7,FALSE)<>0,VLOOKUP(UPPER(A269),Items!$B$2:$H$525,7,FALSE),\"\")","v":""},"Address Line 8"]
[{"$f":"VLOOKUP(UPPER(M270),Items!$A$2:$B$525,2,FALSE)","v":"N0016"},"D",null,null,null,null,"O",null,null,null,{"$f":"VLOOKUP(UPPER(A270),Items!$B$2:$G$525,6)","v":"text(40)"},{"$f":"IF(VLOOKUP(UPPER(A270),Items!$B$2:$H$525,7,FALSE)<>0,VLOOKUP(UPPER(A270),Items!$B$2:$H$525,7,FALSE),\"\")","v":""},"Address Line 9"]
[{"$f":"VLOOKUP(UPPER(M271),Items!$A$2:$B$525,2,FALSE)","v":"N0176"},"D",null,null,null,null,"O",null,null,null,{"$f":"VLOOKUP(UPPER(A271),Items!$B$2:$G$525,6)","v":"text(10)"},{"$f":"IF(VLOOKUP(UPPER(A271),Items!$B$2:$H$525,7,FALSE)<>0,VLOOKUP(UPPER(A271),Items!$B$2:$H$525,7,FALSE),\"\")","v":""},"Post Code"]
[{"$f":"VLOOKUP(UPPER(M272),Items!$A$2:$B$525,2,FALSE)","v":"N0218"},"D",null,null,null,null,"O",null,null,null,{"$f":"VLOOKUP(UPPER(A272),Items!$B$2:$G$525,6)","v":"text(15)"},{"$f":"IF(VLOOKUP(UPPER(A272),Items!$B$2:$H$525,7,FALSE)<>0,VLOOKUP(UPPER(A272),Items!$B$2:$H$525,7,FALSE),\"\")","v":""},"Telephone No"]
[{"$f":"VLOOKUP(UPPER(M273),Items!$A$2:$B$525,2,FALSE)","v":"N0100"},"D",null,null,null,null,"O",null,null,null,{"$f":"VLOOKUP(UPPER(A273),Items!$B$2:$G$525,6)","v":"text(15)"},{"$f":"IF(VLOOKUP(UPPER(A273),Items!$B$2:$H$525,7,FALSE)<>0,VLOOKUP(UPPER(A273),Items!$B$2:$H$525,7,FALSE),\"\")","v":""},"Fax No"]
[{"$f":"VLOOKUP(UPPER(M274),Items!$A$2:$B$525,2,FALSE)","v":"N0067"},"D",null,null,null,null,"O",null,null,null,{"$f":"VLOOKUP(UPPER(A274),Items!$B$2:$G$525,6)","v":"text(80)"},{"$f":"IF(VLOOKUP(UPPER(A274),Items!$B$2:$H$525,7,FALSE)<>0,VLOOKUP(UPPER(A274),Items!$B$2:$H$525,7,FALSE),\"\")","v":""},{"$f":"PROPER(\"e-mail Address\")","v":"E-Mail Address"}]
["AAS","R","0-*",null,"G",null,null,null,null,null,null,null,"Authorised Signatories"]
[{"$f":"VLOOKUP(UPPER(M276),Items!$A$2:$B$525,2,FALSE)","v":"N0339"},"D",null,null,null,"O",null,null,null,null,{"$f":"VLOOKUP(UPPER(A276),Items!$B$2:$G$525,6)","v":"text(9)"},{"$f":"IF(VLOOKUP(UPPER(A276),Items!$B$2:$H$525,7,FALSE)<>0,VLOOKUP(UPPER(A276),Items!$B$2:$H$525,7,FALSE),\"\")","v":""},"Action Code"]
[{"$f":"VLOOKUP(UPPER(M277),Items!$A$2:$B$525,2,FALSE)","v":"N0203"},"D",null,null,null,1,null,null,null,null,{"$f":"VLOOKUP(UPPER(A277),Items!$B$2:$G$525,6)","v":"text(30)"},{"$f":"IF(VLOOKUP(UPPER(A277),Items!$B$2:$H$525,7,FALSE)<>0,VLOOKUP(UPPER(A277),Items!$B$2:$H$525,7,FALSE),\"\")","v":""},"Signatory Name"]
[{"$f":"VLOOKUP(UPPER(M278),Items!$A$2:$B$525,2,FALSE)","v":"N0162"},"D",null,null,null,"O",null,null,null,null,{"$f":"VLOOKUP(UPPER(A278),Items!$B$2:$G$525,6)","v":"text(8)"},{"$f":"IF(VLOOKUP(UPPER(A278),Items!$B$2:$H$525,7,FALSE)<>0,VLOOKUP(UPPER(A278),Items!$B$2:$H$525,7,FALSE),\"\")","v":""},"Password"]
[{"$f":"VLOOKUP(UPPER(M279),Items!$A$2:$B$525,2,FALSE)","v":"N0056"},"D",null,null,null,"O",null,null,null,null,{"$f":"VLOOKUP(UPPER(A279),Items!$B$2:$G$525,6)","v":"text(15)"},{"$f":"IF(VLOOKUP(UPPER(A279),Items!$B$2:$H$525,7,FALSE)<>0,VLOOKUP(UPPER(A279),Items!$B$2:$H$525,7,FALSE),\"\")","v":""},"Contact Phone No","if BM Unit Type is 'G' or 'S' or 'E'"]
[{"$f":"VLOOKUP(UPPER(M280),Items!$A$2:$B$525,2,FALSE)","v":"N0067"},"D",null,null,null,"O",null,null,null,null,{"$f":"VLOOKUP(UPPER(A280),Items!$B$2:$G$525,6)","v":"text(80)"},{"$f":"IF(VLOOKUP(UPPER(A280),Items!$B$2:$H$525,7,FALSE)<>0,VLOOKUP(UPPER(A280),Items!$B$2:$H$525,7,FALSE),\"\")","v":""},"e-Mail Address","if BM Unit Type is 'G' or 'S' or 'E'"]
["AAL","R","0-*",null,null,"G",null,null,null,null,null,null,"Authorisation Levels"]
[{"$f":"VLOOKUP(UPPER(M282),Items!$A$2:$B$525,2,FALSE)","v":"N0339"},"D",null,null,null,null,"O",null,null,null,{"$f":"VLOOKUP(UPPER(A282),Items!$B$2:$G$525,6)","v":"text(9)"},{"$f":"IF(VLOOKUP(UPPER(A282),Items!$B$2:$H$525,7,FALSE)<>0,VLOOKUP(UPPER(A282),Items!$B$2:$H$525,7,FALSE),\"\")","v":""},"Action Code","mw"]
[{"$f":"VLOOKUP(UPPER(M283),Items!$A$2:$B$525,2,FALSE)","v":"N0006"},"D",null,null,null,null,1,null,null,null,{"$f":"VLOOKUP(UPPER(A283),Items!$B$2:$G$525,6)","v":"text(2)"},{"$f":"IF(VLOOKUP(UPPER(A283),Items!$B$2:$H$525,7,FALSE)<>0,VLOOKUP(UPPER(A283),Items!$B$2:$H$525,7,FALSE),\"\")","v":"Activity"},"Activity","mw"]
[{"$f":"VLOOKUP(UPPER(M284),Items!$A$2:$B$525,2,FALSE)","v":"N0081"},"D",null,null,null,null,1,null,null,null,{"$f":"VLOOKUP(UPPER(A284),Items!$B$2:$G$525,6)","v":"date"},{"$f":"IF(VLOOKUP(UPPER(A284),Items!$B$2:$H$525,7,FALSE)<>0,VLOOKUP(UPPER(A284),Items!$B$2:$H$525,7,FALSE),\"\")","v":""},"Effective From Date"]
[{"$f":"VLOOKUP(UPPER(M285),Items!$A$2:$B$525,2,FALSE)","v":"N0083"},"D",null,null,null,null,"O",null,null,null,{"$f":"VLOOKUP(UPPER(A285),Items!$B$2:$G$525,6)","v":"date"},{"$f":"IF(VLOOKUP(UPPER(A285),Items!$B$2:$H$525,7,FALSE)<>0,VLOOKUP(UPPER(A285),Items!$B$2:$H$525,7,FALSE),\"\")","v":""},"Effective To Date"]
["MDP","R","0-*","G",null,null,null,null,null,null,null,null,"Market Index Data Provider"]
[{"$f":"VLOOKUP(UPPER(M287),Items!$A$2:$B$525,2,FALSE)","v":"N0339"},"D",null,null,"O",null,null,null,null,null,{"$f":"VLOOKUP(UPPER(A287),Items!$B$2:$G$525,6)","v":"text(9)"},{"$f":"IF(VLOOKUP(UPPER(A287),Items!$B$2:$H$525,7,FALSE)<>0,VLOOKUP(UPPER(A287),Items!$B$2:$H$525,7,FALSE),\"\")","v":""},"Action Code"]
[{"$f":"VLOOKUP(UPPER(M288),Items!$A$2:$B$748,2,FALSE)","v":"N0422"},"D",null,null,1,null,null,null,null,null,{"$f":"VLOOKUP(UPPER(A288),Items!$B$2:$G$748,6)","v":"text(30)"},{"$f":"IF(VLOOKUP(UPPER(A288),Items!$B$2:$H$748,7,FALSE)<>0,VLOOKUP(UPPER(A288),Items!$B$2:$H$748,7,FALSE),\"\")","v":""},"Market Index Data Provider Name"]
[{"$f":"VLOOKUP(UPPER(M289),Items!$A$2:$B$748,2,FALSE)","v":"N0423"},"D",null,null,1,null,null,null,null,null,{"$f":"VLOOKUP(UPPER(A289),Items!$B$2:$G$748,6)","v":"text(8)"},{"$f":"IF(VLOOKUP(UPPER(A289),Items!$B$2:$H$748,7,FALSE)<>0,VLOOKUP(UPPER(A289),Items!$B$2:$H$748,7,FALSE),\"\")","v":""},"Market Index Data Provider ID"]
["MED","R","0-*",null,"G",null,null,null,null,null,null,null,"Market Index Data Provider Effective Dates"]
[{"$f":"VLOOKUP(UPPER(M291),Items!$A$2:$B$525,2,FALSE)","v":"N0339"},"D",null,null,null,"O",null,null,null,null,{"$f":"VLOOKUP(UPPER(A291),Items!$B$2:$G$525,6)","v":"text(9)"},{"$f":"IF(VLOOKUP(UPPER(A291),Items!$B$2:$H$525,7,FALSE)<>0,VLOOKUP(UPPER(A291),Items!$B$2:$H$525,7,FALSE),\"\")","v":""},"Action Code"]
[{"$f":"VLOOKUP(UPPER(M292),Items!$A$2:$B$748,2,FALSE)","v":"N0424"},"D",null,null,null,1,null,null,null,null,{"$f":"VLOOKUP(UPPER(A292),Items!$B$2:$G$748,6)","v":"date"},{"$f":"IF(VLOOKUP(UPPER(A292),Items!$B$2:$H$748,7,FALSE)<>0,VLOOKUP(UPPER(A292),Items!$B$2:$H$748,7,FALSE),\"\")","v":""},"Provider Effective From Settlement Date"]
[{"$f":"VLOOKUP(UPPER(M293),Items!$A$2:$B$748,2,FALSE)","v":"N0425"},"D",null,null,null,"O",null,null,null,null,{"$f":"VLOOKUP(UPPER(A293),Items!$B$2:$G$748,6)","v":"date"},{"$f":"IF(VLOOKUP(UPPER(A293),Items!$B$2:$H$748,7,FALSE)<>0,VLOOKUP(UPPER(A293),Items!$B$2:$H$748,7,FALSE),\"\")","v":""},"Provider Effective To Settlement Date"]
[]
["R0151",{"$f":"IF(LEN(K295)>0,\"D\",IF(LEN(A295)=5,\"F\",IF(LEN(A295)=3,\"R\",\" \")))","v":"F"},"001",null,null,null,null,null,null,null,null,null,"CRA-I015: BM Unit Interconnector and GSP Group Registration Details (sub-flow 1)","If BM Unit Type is 'I'"]
[]
["POL",{"$f":"IF(LEN(K297)>0,\"D\",IF(LEN(A297)=5,\"F\",IF(LEN(A297)=3,\"R\",\" \")))","v":"R"},"0-*","G",null,null,null,null,null,null,null,null,"Proportion Of Losses Data"]
[{"$f":"VLOOKUP(UPPER(M298),Items!$A$2:$B$525,2,FALSE)","v":"N0339"},"D",null,null,"O",null,null,null,null,null,{"$f":"VLOOKUP(UPPER(A298),Items!$B$2:$G$525,6)","v":"text(9)"},{"$f":"IF(VLOOKUP(UPPER(A298),Items!$B$2:$H$525,7,FALSE)<>0,VLOOKUP(UPPER(A298),Items!$B$2:$H$525,7,FALSE),\"\")","v":""},"Action Code"]
[{"$f":"VLOOKUP(UPPER(M299),Items!$A$2:$B$525,2,FALSE)","v":"N0178"},"D",null,null,1,null,null,null,null,null,{"$f":"VLOOKUP(UPPER(A299),Items!$B$2:$G$525,6)","v":"decimal(8,7)"},{"$f":"IF(VLOOKUP(UPPER(A299),Items!$B$2:$H$525,7,FALSE)<>0,VLOOKUP(UPPER(A299),Items!$B$2:$H$525,7,FALSE),\"\")","v":""},"Proportion of Losses"]
[{"$f":"VLOOKUP(UPPER(M300),Items!$A$2:$B$525,2,FALSE)","v":"N0081"},"D",null,null,1,null,null,null,null,null,{"$f":"VLOOKUP(UPPER(A300),Items!$B$2:$G$525,6)","v":"date"},{"$f":"IF(VLOOKUP(UPPER(A300),Items!$B$2:$H$525,7,FALSE)<>0,VLOOKUP(UPPER(A300),Items!$B$2:$H$525,7,FALSE),\"\")","v":""},"Effective From Date"]
["TUR","R","0-*","G",null,null,null,null,null,null,null,null,"Trading Unit Registration"]
[{"$f":"VLOOKUP(UPPER(M302),Items!$A$2:$B$525,2,FALSE)","v":"N0339"},"D",null,null,"O",null,null,null,null,null,{"$f":"VLOOKUP(UPPER(A302),Items!$B$2:$G$525,6)","v":"text(9)"},{"$f":"IF(VLOOKUP(UPPER(A302),Items!$B$2:$H$525,7,FALSE)<>0,VLOOKUP(UPPER(A302),Items!$B$2:$H$525,7,FALSE),\"\")","v":""},"Action Code"]
[{"$f":"VLOOKUP(UPPER(M303),Items!$A$2:$B$525,2,FALSE)","v":"N0232"},"D",null,null,1,null,null,null,null,null,{"$f":"VLOOKUP(UPPER(A303),Items!$B$2:$G$525,6)","v":"text(30)"},{"$f":"IF(VLOOKUP(UPPER(A303),Items!$B$2:$H$525,7,FALSE)<>0,VLOOKUP(UPPER(A303),Items!$B$2:$H$525,7,FALSE),\"\")","v":""},"Trading Unit Name"]
["BU9","R","0-*",null,"G",null,null,null,null,null,null,null,"BM Unit Details"]
[{"$f":"VLOOKUP(UPPER(M305),Items!$A$2:$B$525,2,FALSE)","v":"N0339"},"D",null,null,null,"O",null,null,null,null,{"$f":"VLOOKUP(UPPER(A305),Items!$B$2:$G$525,6)","v":"text(9)"},{"$f":"IF(VLOOKUP(UPPER(A305),Items!$B$2:$H$525,7,FALSE)<>0,VLOOKUP(UPPER(A305),Items!$B$2:$H$525,7,FALSE),\"\")","v":""},"Action Code"]
[{"$f":"VLOOKUP(UPPER(M306),Items!$A$2:$B$525,2,FALSE)","v":"N0034"},"D",null,null,null,1,null,null,null,null,{"$f":"VLOOKUP(UPPER(A306),Items!$B$2:$G$525,6)","v":"text(11)"},{"$f":"IF(VLOOKUP(UPPER(A306),Items!$B$2:$H$525,7,FALSE)<>0,VLOOKUP(UPPER(A306),Items!$B$2:$H$525,7,FALSE),\"\")","v":""},"BM Unit Id"]
[{"$f":"VLOOKUP(UPPER(M307),Items!$A$2:$B$525,2,FALSE)","v":"N0081"},"D",null,null,null,1,null,null,null,null,{"$f":"VLOOKUP(UPPER(A307),Items!$B$2:$G$525,6)","v":"date"},{"$f":"IF(VLOOKUP(UPPER(A307),Items!$B$2:$H$525,7,FALSE)<>0,VLOOKUP(UPPER(A307),Items!$B$2:$H$525,7,FALSE),\"\")","v":""},"Effective From Date"]
[{"$f":"VLOOKUP(UPPER(M308),Items!$A$2:$B$525,2,FALSE)","v":"N0083"},"D",null,null,null,"O",null,null,null,null,{"$f":"VLOOKUP(UPPER(A308),Items!$B$2:$G$525,6)","v":"date"},{"$f":"IF(VLOOKUP(UPPER(A308),Items!$B$2:$H$525,7,FALSE)<>0,VLOOKUP(UPPER(A308),Items!$B$2:$H$525,7,FALSE),\"\")","v":""},"Effective To Date"]
["BUR","R","0-*","G",null,null,null,null,null,null,null,null,"BM Unit Registration"]
[{"$f":"VLOOKUP(UPPER(M310),Items!$A$2:$B$525,2,FALSE)","v":"N0339"},"D",null,null,"O",null,null,null,null,null,{"$f":"VLOOKUP(UPPER(A310),Items!$B$2:$G$525,6)","v":"text(9)"},{"$f":"IF(VLOOKUP(UPPER(A310),Items!$B$2:$H$525,7,FALSE)<>0,VLOOKUP(UPPER(A310),Items!$B$2:$H$525,7,FALSE),\"\")","v":""},"Action Code"]
[{"$f":"VLOOKUP(UPPER(M311),Items!$A$2:$B$525,2,FALSE)","v":"N0036"},"D",null,null,1,null,null,null,null,null,{"$f":"VLOOKUP(UPPER(A311),Items!$B$2:$G$525,6)","v":"text(30)"},{"$f":"IF(VLOOKUP(UPPER(A311),Items!$B$2:$H$525,7,FALSE)<>0,VLOOKUP(UPPER(A311),Items!$B$2:$H$525,7,FALSE),\"\")","v":""},"BM Unit Name"]
[{"$f":"VLOOKUP(UPPER(M312),Items!$A$2:$B$525,2,FALSE)","v":"N0034"},"D",null,null,1,null,null,null,null,null,{"$f":"VLOOKUP(UPPER(A312),Items!$B$2:$G$525,6)","v":"text(11)"},{"$f":"IF(VLOOKUP(UPPER(A312),Items!$B$2:$H$525,7,FALSE)<>0,VLOOKUP(UPPER(A312),Items!$B$2:$H$525,7,FALSE),\"\")","v":""},"BM Unit Id"]
[{"$f":"VLOOKUP(UPPER(M313),Items!$A$2:$B$525,2,FALSE)","v":"N0038"},"D",null,null,"O",null,null,null,null,null,{"$f":"VLOOKUP(UPPER(A313),Items!$B$2:$G$525,6)","v":"char"},{"$f":"IF(VLOOKUP(UPPER(A313),Items!$B$2:$H$525,7,FALSE)<>0,VLOOKUP(UPPER(A313),Items!$B$2:$H$525,7,FALSE),\"\")","v":"BM Unit Type"},"BM Unit Type"]
[{"$f":"VLOOKUP(UPPER(M314),Items!$A$2:$B$525,2,FALSE)","v":"N0127"},"D",null,null,"O",null,null,null,null,null,{"$f":"VLOOKUP(UPPER(A314),Items!$B$2:$G$525,6)","v":"text(8)"},{"$f":"IF(VLOOKUP(UPPER(A314),Items!$B$2:$H$525,7,FALSE)<>0,VLOOKUP(UPPER(A314),Items!$B$2:$H$525,7,FALSE),\"\")","v":""},"Lead Party Id"]
[{"$f":"VLOOKUP(UPPER(M315),Items!$A$2:$B$525,2,FALSE)","v":"N0150"},"D",null," ","O",null,null,null,null,null,{"$f":"VLOOKUP(UPPER(A315),Items!$B$2:$G$525,6)","v":"text(9)"},{"$f":"IF(VLOOKUP(UPPER(A315),Items!$B$2:$H$525,7,FALSE)<>0,VLOOKUP(UPPER(A315),Items!$B$2:$H$525,7,FALSE),\"\")","v":""},"NGC BM Unit Name"]
[{"$f":"VLOOKUP(UPPER(M316),Items!$A$2:$B$525,2,FALSE)","v":"N0115"},"D",null,null,"O",null,null,null,null,null,{"$f":"VLOOKUP(UPPER(A316),Items!$B$2:$G$525,6)","v":"decimal(13,3)"},{"$f":"IF(VLOOKUP(UPPER(A316),Items!$B$2:$H$525,7,FALSE)<>0,VLOOKUP(UPPER(A316),Items!$B$2:$H$525,7,FALSE),\"\")","v":""},"Generation Capacity"]
[{"$f":"VLOOKUP(UPPER(M317),Items!$A$2:$B$525,2,FALSE)","v":"N0064"},"D",null,null,"O",null,null,null,null,null,{"$f":"VLOOKUP(UPPER(A317),Items!$B$2:$G$525,6)","v":"decimal(13,3)"},{"$f":"IF(VLOOKUP(UPPER(A317),Items!$B$2:$H$525,7,FALSE)<>0,VLOOKUP(UPPER(A317),Items!$B$2:$H$525,7,FALSE),\"\")","v":""},"Demand Capacity"]
[{"$f":"VLOOKUP(UPPER(M318),Items!$A$2:$B$525,2,FALSE)","v":"N0177"},"D",null,null,"O",null,null,null,null,null,{"$f":"VLOOKUP(UPPER(A318),Items!$B$2:$G$525,6)","v":"char"},{"$f":"IF(VLOOKUP(UPPER(A318),Items!$B$2:$H$525,7,FALSE)<>0,VLOOKUP(UPPER(A318),Items!$B$2:$H$525,7,FALSE),\"\")","v":"P/C Flag"},"Production/Consumption Flag"]
[{"$f":"VLOOKUP(UPPER(M319),Items!$A$2:$B$525,2,FALSE)","v":"N0233"},"D",null,null,"O",null,null,null,null,null,{"$f":"VLOOKUP(UPPER(A319),Items!$B$2:$G$525,6)","v":"decimal(8,7)"},{"$f":"IF(VLOOKUP(UPPER(A319),Items!$B$2:$H$525,7,FALSE)<>0,VLOOKUP(UPPER(A319),Items!$B$2:$H$525,7,FALSE),\"\")","v":""},"Transmission Loss Factor"]
[{"$f":"VLOOKUP(UPPER(M320),Items!$A$2:$B$525,2,FALSE)","v":"N0060"},"D",null,null,"O",null,null,null,null,null,{"$f":"VLOOKUP(UPPER(A320),Items!$B$2:$G$525,6)","v":"decimal(7,3)"},{"$f":"IF(VLOOKUP(UPPER(A320),Items!$B$2:$H$525,7,FALSE)<>0,VLOOKUP(UPPER(A320),Items!$B$2:$H$525,7,FALSE),\"\")","v":""},"Credit assessment Import Capability"]
[{"$f":"VLOOKUP(UPPER(M321),Items!$A$2:$B$525,2,FALSE)","v":"N0059"},"D",null,null,"O",null,null,null,null,null,{"$f":"VLOOKUP(UPPER(A321),Items!$B$2:$G$525,6)","v":"decimal(7,3)"},{"$f":"IF(VLOOKUP(UPPER(A321),Items!$B$2:$H$525,7,FALSE)<>0,VLOOKUP(UPPER(A321),Items!$B$2:$H$525,7,FALSE),\"\")","v":""},"Credit Assessment Export Capability"]
[{"$f":"VLOOKUP(UPPER(M322),Items!$A$2:$B$525,2,FALSE)","v":"N0081"},"D",null,null,1,null,null,null,null,null,{"$f":"VLOOKUP(UPPER(A322),Items!$B$2:$G$525,6)","v":"date"},{"$f":"IF(VLOOKUP(UPPER(A322),Items!$B$2:$H$525,7,FALSE)<>0,VLOOKUP(UPPER(A322),Items!$B$2:$H$525,7,FALSE),\"\")","v":""},"Effective From Date"]
[{"$f":"VLOOKUP(UPPER(M323),Items!$A$2:$B$525,2,FALSE)","v":"N0083"},"D",null,null,"O",null,null,null,null,null,{"$f":"VLOOKUP(UPPER(A323),Items!$B$2:$G$525,6)","v":"date"},{"$f":"IF(VLOOKUP(UPPER(A323),Items!$B$2:$H$525,7,FALSE)<>0,VLOOKUP(UPPER(A323),Items!$B$2:$H$525,7,FALSE),\"\")","v":""},"Effective To Date"]
[{"$f":"VLOOKUP(UPPER(M324),Items!$A$2:$B$525,2,FALSE)","v":"N0110"},"D",null,null,"O",null,null,null,null,null,{"$f":"VLOOKUP(UPPER(A324),Items!$B$2:$G$525,6)","v":"boolean"},{"$f":"IF(VLOOKUP(UPPER(A324),Items!$B$2:$H$525,7,FALSE)<>0,VLOOKUP(UPPER(A324),Items!$B$2:$H$525,7,FALSE),\"\")","v":""},"FPN Flag"]
[{"$f":"VLOOKUP(UPPER(M325),Items!$A$2:$B$525,2,FALSE)","v":"N0116"},"D",null,null,"O",null,null,null,null,null,{"$f":"VLOOKUP(UPPER(A325),Items!$B$2:$G$525,6)","v":"text(2)"},{"$f":"IF(VLOOKUP(UPPER(A325),Items!$B$2:$H$525,7,FALSE)<>0,VLOOKUP(UPPER(A325),Items!$B$2:$H$525,7,FALSE),\"\")","v":""},"GSP Group Id"]
[{"$f":"VLOOKUP(UPPER(M326),Items!$A$2:$B$525,2,FALSE)","v":"N0117"},"D",null,null,"O",null,null,null,null,null,{"$f":"VLOOKUP(UPPER(A326),Items!$B$2:$G$525,6)","v":"text(30)"},{"$f":"IF(VLOOKUP(UPPER(A326),Items!$B$2:$H$525,7,FALSE)<>0,VLOOKUP(UPPER(A326),Items!$B$2:$H$525,7,FALSE),\"\")","v":""},"GSP Group Name"]
[{"$f":"VLOOKUP(UPPER(M327),Items!$A$2:$B$525,2,FALSE)","v":"N0098"},"D",null,null,"O",null,null,null,null,null,{"$f":"VLOOKUP(UPPER(A327),Items!$B$2:$G$525,6)","v":"text(10)"},{"$f":"IF(VLOOKUP(UPPER(A327),Items!$B$2:$H$525,7,FALSE)<>0,VLOOKUP(UPPER(A327),Items!$B$2:$H$525,7,FALSE),\"\")","v":""},"Interconnector Id"]
["JBU","R","0-*","G",null,null,null,null,null,null,null,null,"BM Unit Group Details"]
[{"$f":"VLOOKUP(UPPER(M329),Items!$A$2:$B$525,2,FALSE)","v":"N0339"},{"$f":"IF(LEN(K329)>0,\"D\",IF(LEN(A329)=5,\"F\",IF(LEN(A329)=3,\"R\",\" \")))","v":"D"},null,null,"O",null,null,null,null,null,{"$f":"VLOOKUP(UPPER(A329),Items!$B$2:$G$525,6)","v":"text(9)"},{"$f":"IF(VLOOKUP(UPPER(A329),Items!$B$2:$H$525,7,FALSE)<>0,VLOOKUP(UPPER(A329),Items!$B$2:$H$525,7,FALSE),\"\")","v":""},"Action Code"]
[{"$f":"VLOOKUP(UPPER(M330),Items!$A$2:$B$525,2,FALSE)","v":"N0126"},"D",null,null,1,null,null,null,null,null,{"$f":"VLOOKUP(UPPER(A330),Items!$B$2:$G$525,6)","v":"text(11)"},{"$f":"IF(VLOOKUP(UPPER(A330),Items!$B$2:$H$525,7,FALSE)<>0,VLOOKUP(UPPER(A330),Items!$B$2:$H$525,7,FALSE),\"\")","v":""},"Joint BM Unit Id"]
[{"$f":"VLOOKUP(UPPER(M331),Items!$A$2:$B$525,2,FALSE)","v":"N0081"},"D",null,null,1,null,null,null,null,null,{"$f":"VLOOKUP(UPPER(A331),Items!$B$2:$G$525,6)","v":"date"},{"$f":"IF(VLOOKUP(UPPER(A331),Items!$B$2:$H$525,7,FALSE)<>0,VLOOKUP(UPPER(A331),Items!$B$2:$H$525,7,FALSE),\"\")","v":""},"Effective From Date"]
[{"$f":"VLOOKUP(UPPER(M332),Items!$A$2:$B$525,2,FALSE)","v":"N0083"},"D",null,null,"O",null,null,null,null,null,{"$f":"VLOOKUP(UPPER(A332),Items!$B$2:$G$525,6)","v":"date"},{"$f":"IF(VLOOKUP(UPPER(A332),Items!$B$2:$H$525,7,FALSE)<>0,VLOOKUP(UPPER(A332),Items!$B$2:$H$525,7,FALSE),\"\")","v":""},"Effective To Date"]
["JB3","R","0-*",null,"G",null,null,null,null,null,null,null,"BM Unit Group Member"]
[{"$f":"VLOOKUP(UPPER(M334),Items!$A$2:$B$525,2,FALSE)","v":"N0339"},"D",null,null,null,"O",null,null,null,null,{"$f":"VLOOKUP(UPPER(A334),Items!$B$2:$G$525,6)","v":"text(9)"},{"$f":"IF(VLOOKUP(UPPER(A334),Items!$B$2:$H$525,7,FALSE)<>0,VLOOKUP(UPPER(A334),Items!$B$2:$H$525,7,FALSE),\"\")","v":""},"Action Code"]
[{"$f":"VLOOKUP(UPPER(M335),Items!$A$2:$B$525,2,FALSE)","v":"N0034"},"D",null,null,null,1,null,null,null,null,{"$f":"VLOOKUP(UPPER(A335),Items!$B$2:$G$525,6)","v":"text(11)"},{"$f":"IF(VLOOKUP(UPPER(A335),Items!$B$2:$H$525,7,FALSE)<>0,VLOOKUP(UPPER(A335),Items!$B$2:$H$525,7,FALSE),\"\")","v":""},"BM Unit Id"]
["IRD","R","0-*","G",null,null,null,null,null,null,null,null,"Interconnector Registration Details"]
[{"$f":"VLOOKUP(UPPER(M337),Items!$A$2:$B$525,2,FALSE)","v":"N0339"},"D",null,null,"O",null,null,null,null,null,{"$f":"VLOOKUP(UPPER(A337),Items!$B$2:$G$525,6)","v":"text(9)"},{"$f":"IF(VLOOKUP(UPPER(A337),Items!$B$2:$H$525,7,FALSE)<>0,VLOOKUP(UPPER(A337),Items!$B$2:$H$525,7,FALSE),\"\")","v":""},"Action Code"]
[{"$f":"VLOOKUP(UPPER(M338),Items!$A$2:$B$525,2,FALSE)","v":"N0098"},"D",null,null,1,null,null,null,null,null,{"$f":"VLOOKUP(UPPER(A338),Items!$B$2:$G$525,6)","v":"text(10)"},{"$f":"IF(VLOOKUP(UPPER(A338),Items!$B$2:$H$525,7,FALSE)<>0,VLOOKUP(UPPER(A338),Items!$B$2:$H$525,7,FALSE),\"\")","v":""},"Interconnector Id"]
[{"$f":"VLOOKUP(UPPER(M339),Items!$A$2:$B$525,2,FALSE)","v":"N0095"},"D",null,null,1,null,null,null,null,null,{"$f":"VLOOKUP(UPPER(A339),Items!$B$2:$G$525,6)","v":"text(8)"},{"$f":"IF(VLOOKUP(UPPER(A339),Items!$B$2:$H$525,7,FALSE)<>0,VLOOKUP(UPPER(A339),Items!$B$2:$H$525,7,FALSE),\"\")","v":""},"Interconnector Administrator Id"]
[{"$f":"VLOOKUP(UPPER(M340),Items!$A$2:$B$525,2,FALSE)","v":"N0097"},"D",null,null,"O",null,null,null,null,null,{"$f":"VLOOKUP(UPPER(A340),Items!$B$2:$G$525,6)","v":"text(8)"},{"$f":"IF(VLOOKUP(UPPER(A340),Items!$B$2:$H$525,7,FALSE)<>0,VLOOKUP(UPPER(A340),Items!$B$2:$H$525,7,FALSE),\"\")","v":""},"Interconnector Error Administrator Id"]
[{"$f":"VLOOKUP(UPPER(M341),Items!$A$2:$B$525,2,FALSE)","v":"N0081"},"D",null,null,1,null,null,null,null,null,{"$f":"VLOOKUP(UPPER(A341),Items!$B$2:$G$525,6)","v":"date"},{"$f":"IF(VLOOKUP(UPPER(A341),Items!$B$2:$H$525,7,FALSE)<>0,VLOOKUP(UPPER(A341),Items!$B$2:$H$525,7,FALSE),\"\")","v":""},"Effective From Date"]
[{"$f":"VLOOKUP(UPPER(M342),Items!$A$2:$B$525,2,FALSE)","v":"N0083"},"D",null,null,"O",null,null,null,null,null,{"$f":"VLOOKUP(UPPER(A342),Items!$B$2:$G$525,6)","v":"date"},{"$f":"IF(VLOOKUP(UPPER(A342),Items!$B$2:$H$525,7,FALSE)<>0,VLOOKUP(UPPER(A342),Items!$B$2:$H$525,7,FALSE),\"\")","v":""},"Effective To Date"]
["GGR","R","0-*","G",null,null,null,null,null,null,null,null,"GSP Group Registration"]
[{"$f":"VLOOKUP(UPPER(M344),Items!$A$2:$B$525,2,FALSE)","v":"N0339"},"D",null,null,"O",null,null,null,null,null,{"$f":"VLOOKUP(UPPER(A344),Items!$B$2:$G$525,6)","v":"text(9)"},{"$f":"IF(VLOOKUP(UPPER(A344),Items!$B$2:$H$525,7,FALSE)<>0,VLOOKUP(UPPER(A344),Items!$B$2:$H$525,7,FALSE),\"\")","v":""},"Action Code"]
[{"$f":"VLOOKUP(UPPER(M345),Items!$A$2:$B$525,2,FALSE)","v":"N0116"},"D",null,null,1,null,null,null,null,null,{"$f":"VLOOKUP(UPPER(A345),Items!$B$2:$G$525,6)","v":"text(2)"},{"$f":"IF(VLOOKUP(UPPER(A345),Items!$B$2:$H$525,7,FALSE)<>0,VLOOKUP(UPPER(A345),Items!$B$2:$H$525,7,FALSE),\"\")","v":""},"GSP Group Id"]
[{"$f":"VLOOKUP(UPPER(M346),Items!$A$2:$B$525,2,FALSE)","v":"N0117"},"D",null,null,1,null,null,null,null,null,{"$f":"VLOOKUP(UPPER(A346),Items!$B$2:$G$525,6)","v":"text(30)"},{"$f":"IF(VLOOKUP(UPPER(A346),Items!$B$2:$H$525,7,FALSE)<>0,VLOOKUP(UPPER(A346),Items!$B$2:$H$525,7,FALSE),\"\")","v":""},"GSP Group Name"]
[{"$f":"VLOOKUP(UPPER(M347),Items!$A$2:$B$525,2,FALSE)","v":"N0066"},"D",null,null,1,null,null,null,null,null,{"$f":"VLOOKUP(UPPER(A347),Items!$B$2:$G$525,6)","v":"text(8)"},{"$f":"IF(VLOOKUP(UPPER(A347),Items!$B$2:$H$525,7,FALSE)<>0,VLOOKUP(UPPER(A347),Items!$B$2:$H$525,7,FALSE),\"\")","v":""},"Distributor BSC Party Id"]
[{"$f":"VLOOKUP(UPPER(M348),Items!$A$2:$B$525,2,FALSE)","v":"N0081"},"D",null,null,1,null,null,null,null,null,{"$f":"VLOOKUP(UPPER(A348),Items!$B$2:$G$525,6)","v":"date"},{"$f":"IF(VLOOKUP(UPPER(A348),Items!$B$2:$H$525,7,FALSE)<>0,VLOOKUP(UPPER(A348),Items!$B$2:$H$525,7,FALSE),\"\")","v":""},"Effective From Date"]
[{"$f":"VLOOKUP(UPPER(M349),Items!$A$2:$B$525,2,FALSE)","v":"N0083"},"D",null,null,"O",null,null,null,null,null,{"$f":"VLOOKUP(UPPER(A349),Items!$B$2:$G$525,6)","v":"date"},{"$f":"IF(VLOOKUP(UPPER(A349),Items!$B$2:$H$525,7,FALSE)<>0,VLOOKUP(UPPER(A349),Items!$B$2:$H$525,7,FALSE),\"\")","v":""},"Effective To Date"]
[]
["R0151",{"$f":"IF(LEN(K351)>0,\"D\",IF(LEN(A351)=5,\"F\",IF(LEN(A351)=3,\"R\",\" \")))","v":"F"},"002",null,null,null,null,null,null,null,null,null,"CRA-I015: BM Unit Interconnector and GSP Group Registration Details (sub-flow 1)"]
[]
["POL","R","0-*","G",null,null,null,null,null,null,null,null,"Proportion Of Losses Data"]
[{"$f":"VLOOKUP(UPPER(M354),Items!$A$2:$B$565,2,FALSE)","v":"N0339"},"D",null,null,"O",null,null,null,null,null,{"$f":"VLOOKUP(UPPER(A354),Items!$B$2:$G$565,6)","v":"text(9)"},{"$f":"IF(VLOOKUP(UPPER(A354),Items!$B$2:$H$565,7,FALSE)<>0,VLOOKUP(UPPER(A354),Items!$B$2:$H$565,7,FALSE),\"\")","v":""},"Action Code"]
[{"$f":"VLOOKUP(UPPER(M355),Items!$A$2:$B$565,2,FALSE)","v":"N0178"},"D",null,null,1,null,null,null,null,null,{"$f":"VLOOKUP(UPPER(A355),Items!$B$2:$G$565,6)","v":"decimal(8,7)"},{"$f":"IF(VLOOKUP(UPPER(A355),Items!$B$2:$H$565,7,FALSE)<>0,VLOOKUP(UPPER(A355),Items!$B$2:$H$565,7,FALSE),\"\")","v":""},"Proportion of Losses"]
[{"$f":"VLOOKUP(UPPER(M356),Items!$A$2:$B$565,2,FALSE)","v":"N0081"},"D",null,null,1,null,null,null,null,null,{"$f":"VLOOKUP(UPPER(A356),Items!$B$2:$G$565,6)","v":"date"},{"$f":"IF(VLOOKUP(UPPER(A356),Items!$B$2:$H$565,7,FALSE)<>0,VLOOKUP(UPPER(A356),Items!$B$2:$H$565,7,FALSE),\"\")","v":""},"Effective From Date"]
["TUR","R","0-*","G",null,null,null,null,null,null,null,null,"Trading Unit Registration"]
[{"$f":"VLOOKUP(UPPER(M358),Items!$A$2:$B$565,2,FALSE)","v":"N0339"},"D",null,null,"O",null,null,null,null,null,{"$f":"VLOOKUP(UPPER(A358),Items!$B$2:$G$565,6)","v":"text(9)"},{"$f":"IF(VLOOKUP(UPPER(A358),Items!$B$2:$H$565,7,FALSE)<>0,VLOOKUP(UPPER(A358),Items!$B$2:$H$565,7,FALSE),\"\")","v":""},"Action Code"]
[{"$f":"VLOOKUP(UPPER(M359),Items!$A$2:$B$565,2,FALSE)","v":"N0232"},"D",null,null,1,null,null,null,null,null,{"$f":"VLOOKUP(UPPER(A359),Items!$B$2:$G$565,6)","v":"text(30)"},{"$f":"IF(VLOOKUP(UPPER(A359),Items!$B$2:$H$565,7,FALSE)<>0,VLOOKUP(UPPER(A359),Items!$B$2:$H$565,7,FALSE),\"\")","v":""},"Trading Unit Name"]
["BU9","R","0-*",null,"G",null,null,null,null,null,null,null,"BM Unit Details"]
[{"$f":"VLOOKUP(UPPER(M361),Items!$A$2:$B$565,2,FALSE)","v":"N0339"},"D",null,null,null,"O",null,null,null,null,{"$f":"VLOOKUP(UPPER(A361),Items!$B$2:$G$565,6)","v":"text(9)"},{"$f":"IF(VLOOKUP(UPPER(A361),Items!$B$2:$H$565,7,FALSE)<>0,VLOOKUP(UPPER(A361),Items!$B$2:$H$565,7,FALSE),\"\")","v":""},"Action Code"]
[{"$f":"VLOOKUP(UPPER(M362),Items!$A$2:$B$565,2,FALSE)","v":"N0034"},"D",null,null,null,1,null,null,null,null,{"$f":"VLOOKUP(UPPER(A362),Items!$B$2:$G$565,6)","v":"text(11)"},{"$f":"IF(VLOOKUP(UPPER(A362),Items!$B$2:$H$565,7,FALSE)<>0,VLOOKUP(UPPER(A362),Items!$B$2:$H$565,7,FALSE),\"\")","v":""},"BM Unit Id"]
[{"$f":"VLOOKUP(UPPER(M363),Items!$A$2:$B$565,2,FALSE)","v":"N0081"},"D",null,null,null,1,null,null,null,null,{"$f":"VLOOKUP(UPPER(A363),Items!$B$2:$G$565,6)","v":"date"},{"$f":"IF(VLOOKUP(UPPER(A363),Items!$B$2:$H$565,7,FALSE)<>0,VLOOKUP(UPPER(A363),Items!$B$2:$H$565,7,FALSE),\"\")","v":""},"Effective From Date"]
[{"$f":"VLOOKUP(UPPER(M364),Items!$A$2:$B$565,2,FALSE)","v":"N0083"},"D",null,null,null,"O",null,null,null,null,{"$f":"VLOOKUP(UPPER(A364),Items!$B$2:$G$565,6)","v":"date"},{"$f":"IF(VLOOKUP(UPPER(A364),Items!$B$2:$H$565,7,FALSE)<>0,VLOOKUP(UPPER(A364),Items!$B$2:$H$565,7,FALSE),\"\")","v":""},"Effective To Date"]
["BUR","R","0-*","G",null,null,null,null,null,null,null,null,"BM Unit Registration"]
[{"$f":"VLOOKUP(UPPER(M366),Items!$A$2:$B$565,2,FALSE)","v":"N0339"},"D",null,null,"O",null,null,null,null,null,{"$f":"VLOOKUP(UPPER(A366),Items!$B$2:$G$565,6)","v":"text(9)"},{"$f":"IF(VLOOKUP(UPPER(A366),Items!$B$2:$H$565,7,FALSE)<>0,VLOOKUP(UPPER(A366),Items!$B$2:$H$565,7,FALSE),\"\")","v":""},"Action Code"]
[{"$f":"VLOOKUP(UPPER(M367),Items!$A$2:$B$565,2,FALSE)","v":"N0036"},"D",null,null,1,null,null,null,null,null,{"$f":"VLOOKUP(UPPER(A367),Items!$B$2:$G$565,6)","v":"text(30)"},{"$f":"IF(VLOOKUP(UPPER(A367),Items!$B$2:$H$565,7,FALSE)<>0,VLOOKUP(UPPER(A367),Items!$B$2:$H$565,7,FALSE),\"\")","v":""},"BM Unit Name"]
[{"$f":"VLOOKUP(UPPER(M368),Items!$A$2:$B$565,2,FALSE)","v":"N0034"},"D",null,null,1,null,null,null,null,null,{"$f":"VLOOKUP(UPPER(A368),Items!$B$2:$G$565,6)","v":"text(11)"},{"$f":"IF(VLOOKUP(UPPER(A368),Items!$B$2:$H$565,7,FALSE)<>0,VLOOKUP(UPPER(A368),Items!$B$2:$H$565,7,FALSE),\"\")","v":""},"BM Unit Id"]
[{"$f":"VLOOKUP(UPPER(M369),Items!$A$2:$B$565,2,FALSE)","v":"N0038"},"D",null,null,"O",null,null,null,null,null,{"$f":"VLOOKUP(UPPER(A369),Items!$B$2:$G$565,6)","v":"char"},{"$f":"IF(VLOOKUP(UPPER(A369),Items!$B$2:$H$565,7,FALSE)<>0,VLOOKUP(UPPER(A369),Items!$B$2:$H$565,7,FALSE),\"\")","v":"BM Unit Type"},"BM Unit Type"]
[{"$f":"VLOOKUP(UPPER(M370),Items!$A$2:$B$565,2,FALSE)","v":"N0127"},"D",null,null,"O",null,null,null,null,null,{"$f":"VLOOKUP(UPPER(A370),Items!$B$2:$G$565,6)","v":"text(8)"},{"$f":"IF(VLOOKUP(UPPER(A370),Items!$B$2:$H$565,7,FALSE)<>0,VLOOKUP(UPPER(A370),Items!$B$2:$H$565,7,FALSE),\"\")","v":""},"Lead Party Id"]
[{"$f":"VLOOKUP(UPPER(M371),Items!$A$2:$B$565,2,FALSE)","v":"N0150"},"D",null," ","O",null,null,null,null,null,{"$f":"VLOOKUP(UPPER(A371),Items!$B$2:$G$565,6)","v":"text(9)"},{"$f":"IF(VLOOKUP(UPPER(A371),Items!$B$2:$H$565,7,FALSE)<>0,VLOOKUP(UPPER(A371),Items!$B$2:$H$565,7,FALSE),\"\")","v":""},"NGC BM Unit Name"]
[{"$f":"VLOOKUP(UPPER(M372),Items!$A$2:$B$565,2,FALSE)","v":"N0115"},"D",null,null,"O",null,null,null,null,null,{"$f":"VLOOKUP(UPPER(A372),Items!$B$2:$G$565,6)","v":"decimal(13,3)"},{"$f":"IF(VLOOKUP(UPPER(A372),Items!$B$2:$H$565,7,FALSE)<>0,VLOOKUP(UPPER(A372),Items!$B$2:$H$565,7,FALSE),\"\")","v":""},"Generation Capacity"]
[{"$f":"VLOOKUP(UPPER(M373),Items!$A$2:$B$565,2,FALSE)","v":"N0064"},"D",null,null,"O",null,null,null,null,null,{"$f":"VLOOKUP(UPPER(A373),Items!$B$2:$G$565,6)","v":"decimal(13,3)"},{"$f":"IF(VLOOKUP(UPPER(A373),Items!$B$2:$H$565,7,FALSE)<>0,VLOOKUP(UPPER(A373),Items!$B$2:$H$565,7,FALSE),\"\")","v":""},"Demand Capacity"]
[{"$f":"VLOOKUP(UPPER(M374),Items!$A$2:$B$565,2,FALSE)","v":"N0177"},"D",null,null,"O",null,null,null,null,null,{"$f":"VLOOKUP(UPPER(A374),Items!$B$2:$G$565,6)","v":"char"},{"$f":"IF(VLOOKUP(UPPER(A374),Items!$B$2:$H$565,7,FALSE)<>0,VLOOKUP(UPPER(A374),Items!$B$2:$H$565,7,FALSE),\"\")","v":"P/C Flag"},"Production/Consumption Flag"]
[{"$f":"VLOOKUP(UPPER(M375),Items!$A$2:$B$565,2,FALSE)","v":"N0233"},"D",null,null,"O",null,null,null,null,null,{"$f":"VLOOKUP(UPPER(A375),Items!$B$2:$G$565,6)","v":"decimal(8,7)"},{"$f":"IF(VLOOKUP(UPPER(A375),Items!$B$2:$H$565,7,FALSE)<>0,VLOOKUP(UPPER(A375),Items!$B$2:$H$565,7,FALSE),\"\")","v":""},"Transmission Loss Factor"]
[{"$f":"VLOOKUP(UPPER(M376),Items!$A$2:$B$565,2,FALSE)","v":"N0060"},"D",null,null,"O",null,null,null,null,null,{"$f":"VLOOKUP(UPPER(A376),Items!$B$2:$G$565,6)","v":"decimal(7,3)"},{"$f":"IF(VLOOKUP(UPPER(A376),Items!$B$2:$H$565,7,FALSE)<>0,VLOOKUP(UPPER(A376),Items!$B$2:$H$565,7,FALSE),\"\")","v":""},"Credit assessment Import Capability"]
[{"$f":"VLOOKUP(UPPER(M377),Items!$A$2:$B$565,2,FALSE)","v":"N0059"},"D",null,null,"O",null,null,null,null,null,{"$f":"VLOOKUP(UPPER(A377),Items!$B$2:$G$565,6)","v":"decimal(7,3)"},{"$f":"IF(VLOOKUP(UPPER(A377),Items!$B$2:$H$565,7,FALSE)<>0,VLOOKUP(UPPER(A377),Items!$B$2:$H$565,7,FALSE),\"\")","v":""},"Credit Assessment Export Capability"]
[{"$f":"VLOOKUP(UPPER(M378),Items!$A$2:$B$565,2,FALSE)","v":"N0081"},"D",null,null,1,null,null,null,null,null,{"$f":"VLOOKUP(UPPER(A378),Items!$B$2:$G$565,6)","v":"date"},{"$f":"IF(VLOOKUP(UPPER(A378),Items!$B$2:$H$565,7,FALSE)<>0,VLOOKUP(UPPER(A378),Items!$B$2:$H$565,7,FALSE),\"\")","v":""},"Effective From Date"]
[{"$f":"VLOOKUP(UPPER(M379),Items!$A$2:$B$565,2,FALSE)","v":"N0083"},"D",null,null,"O",null,null,null,null,null,{"$f":"VLOOKUP(UPPER(A379),Items!$B$2:$G$565,6)","v":"date"},{"$f":"IF(VLOOKUP(UPPER(A379),Items!$B$2:$H$565,7,FALSE)<>0,VLOOKUP(UPPER(A379),Items!$B$2:$H$565,7,FALSE),\"\")","v":""},"Effective To Date"]
[{"$f":"VLOOKUP(UPPER(M380),Items!$A$2:$B$565,2,FALSE)","v":"N0110"},"D",null,null,"O",null,null,null,null,null,{"$f":"VLOOKUP(UPPER(A380),Items!$B$2:$G$565,6)","v":"boolean"},{"$f":"IF(VLOOKUP(UPPER(A380),Items!$B$2:$H$565,7,FALSE)<>0,VLOOKUP(UPPER(A380),Items!$B$2:$H$565,7,FALSE),\"\")","v":""},"FPN Flag"]
[{"$f":"VLOOKUP(UPPER(M381),Items!$A$2:$B$565,2,FALSE)","v":"N0512"},"D",null,null,"O",null,null,null,null,null,{"$f":"VLOOKUP(UPPER(A381),Items!$B$2:$G$565,6)","v":"boolean"},{"$f":"IF(VLOOKUP(UPPER(A381),Items!$B$2:$H$565,7,FALSE)<>0,VLOOKUP(UPPER(A381),Items!$B$2:$H$565,7,FALSE),\"\")","v":""},"Credit Qualifying Status"]
[{"$f":"VLOOKUP(UPPER(M382),Items!$A$2:$B$565,2,FALSE)","v":"N0513"},"D",null,null,"O",null,null,null,null,null,{"$f":"VLOOKUP(UPPER(A382),Items!$B$2:$G$565,6)","v":"boolean"},{"$f":"IF(VLOOKUP(UPPER(A382),Items!$B$2:$H$565,7,FALSE)<>0,VLOOKUP(UPPER(A382),Items!$B$2:$H$565,7,FALSE),\"\")","v":""},"Demand in Production Flag"]
[{"$f":"VLOOKUP(UPPER(M383),Items!$A$2:$B$565,2,FALSE)","v":"N0116"},"D",null,null,"O",null,null,null,null,null,{"$f":"VLOOKUP(UPPER(A383),Items!$B$2:$G$565,6)","v":"text(2)"},{"$f":"IF(VLOOKUP(UPPER(A383),Items!$B$2:$H$565,7,FALSE)<>0,VLOOKUP(UPPER(A383),Items!$B$2:$H$565,7,FALSE),\"\")","v":""},"GSP Group Id"]
[{"$f":"VLOOKUP(UPPER(M384),Items!$A$2:$B$565,2,FALSE)","v":"N0117"},"D",null,null,"O",null,null,null,null,null,{"$f":"VLOOKUP(UPPER(A384),Items!$B$2:$G$565,6)","v":"text(30)"},{"$f":"IF(VLOOKUP(UPPER(A384),Items!$B$2:$H$565,7,FALSE)<>0,VLOOKUP(UPPER(A384),Items!$B$2:$H$565,7,FALSE),\"\")","v":""},"GSP Group Name"]
[{"$f":"VLOOKUP(UPPER(M385),Items!$A$2:$B$565,2,FALSE)","v":"N0098"},"D",null,null,"O",null,null,null,null,null,{"$f":"VLOOKUP(UPPER(A385),Items!$B$2:$G$565,6)","v":"text(10)"},{"$f":"IF(VLOOKUP(UPPER(A385),Items!$B$2:$H$565,7,FALSE)<>0,VLOOKUP(UPPER(A385),Items!$B$2:$H$565,7,FALSE),\"\")","v":""},"Interconnector Id"]
["JBU","R","0-*","G",null,null,null,null,null,null,null,null,"BM Unit Group Details"]
[{"$f":"VLOOKUP(UPPER(M387),Items!$A$2:$B$565,2,FALSE)","v":"N0339"},"D",null,null,"O",null,null,null,null,null,{"$f":"VLOOKUP(UPPER(A387),Items!$B$2:$G$565,6)","v":"text(9)"},{"$f":"IF(VLOOKUP(UPPER(A387),Items!$B$2:$H$565,7,FALSE)<>0,VLOOKUP(UPPER(A387),Items!$B$2:$H$565,7,FALSE),\"\")","v":""},"Action Code"]
[{"$f":"VLOOKUP(UPPER(M388),Items!$A$2:$B$565,2,FALSE)","v":"N0126"},"D",null,null,1,null,null,null,null,null,{"$f":"VLOOKUP(UPPER(A388),Items!$B$2:$G$565,6)","v":"text(11)"},{"$f":"IF(VLOOKUP(UPPER(A388),Items!$B$2:$H$565,7,FALSE)<>0,VLOOKUP(UPPER(A388),Items!$B$2:$H$565,7,FALSE),\"\")","v":""},"Joint BM Unit Id"]
[{"$f":"VLOOKUP(UPPER(M389),Items!$A$2:$B$565,2,FALSE)","v":"N0081"},"D",null,null,1,null,null,null,null,null,{"$f":"VLOOKUP(UPPER(A389),Items!$B$2:$G$565,6)","v":"date"},{"$f":"IF(VLOOKUP(UPPER(A389),Items!$B$2:$H$565,7,FALSE)<>0,VLOOKUP(UPPER(A389),Items!$B$2:$H$565,7,FALSE),\"\")","v":""},"Effective From Date"]
[{"$f":"VLOOKUP(UPPER(M390),Items!$A$2:$B$565,2,FALSE)","v":"N0083"},"D",null,null,"O",null,null,null,null,null,{"$f":"VLOOKUP(UPPER(A390),Items!$B$2:$G$565,6)","v":"date"},{"$f":"IF(VLOOKUP(UPPER(A390),Items!$B$2:$H$565,7,FALSE)<>0,VLOOKUP(UPPER(A390),Items!$B$2:$H$565,7,FALSE),\"\")","v":""},"Effective To Date"]
["JB3","R","0-*",null,"G",null,null,null,null,null,null,null,"BM Unit Group Member"]
[{"$f":"VLOOKUP(UPPER(M392),Items!$A$2:$B$565,2,FALSE)","v":"N0339"},"D",null,null,null,"O",null,null,null,null,{"$f":"VLOOKUP(UPPER(A392),Items!$B$2:$G$565,6)","v":"text(9)"},{"$f":"IF(VLOOKUP(UPPER(A392),Items!$B$2:$H$565,7,FALSE)<>0,VLOOKUP(UPPER(A392),Items!$B$2:$H$565,7,FALSE),\"\")","v":""},"Action Code"]
[{"$f":"VLOOKUP(UPPER(M393),Items!$A$2:$B$565,2,FALSE)","v":"N0034"},"D",null,null,null,1,null,null,null,null,{"$f":"VLOOKUP(UPPER(A393),Items!$B$2:$G$565,6)","v":"text(11)"},{"$f":"IF(VLOOKUP(UPPER(A393),Items!$B$2:$H$565,7,FALSE)<>0,VLOOKUP(UPPER(A393),Items!$B$2:$H$565,7,FALSE),\"\")","v":""},"BM Unit Id"]
["IRD","R","0-*","G",null,null,null,null,null,null,null,null,"Interconnector Registration Details"]
[{"$f":"VLOOKUP(UPPER(M395),Items!$A$2:$B$565,2,FALSE)","v":"N0339"},"D",null,null,"O",null,null,null,null,null,{"$f":"VLOOKUP(UPPER(A395),Items!$B$2:$G$565,6)","v":"text(9)"},{"$f":"IF(VLOOKUP(UPPER(A395),Items!$B$2:$H$565,7,FALSE)<>0,VLOOKUP(UPPER(A395),Items!$B$2:$H$565,7,FALSE),\"\")","v":""},"Action Code"]
[{"$f":"VLOOKUP(UPPER(M396),Items!$A$2:$B$565,2,FALSE)","v":"N0098"},"D",null,null,1,null,null,null,null,null,{"$f":"VLOOKUP(UPPER(A396),Items!$B$2:$G$565,6)","v":"text(10)"},{"$f":"IF(VLOOKUP(UPPER(A396),Items!$B$2:$H$565,7,FALSE)<>0,VLOOKUP(UPPER(A396),Items!$B$2:$H$565,7,FALSE),\"\")","v":""},"Interconnector Id"]
[{"$f":"VLOOKUP(UPPER(M397),Items!$A$2:$B$565,2,FALSE)","v":"N0095"},"D",null,null,1,null,null,null,null,null,{"$f":"VLOOKUP(UPPER(A397),Items!$B$2:$G$565,6)","v":"text(8)"},{"$f":"IF(VLOOKUP(UPPER(A397),Items!$B$2:$H$565,7,FALSE)<>0,VLOOKUP(UPPER(A397),Items!$B$2:$H$565,7,FALSE),\"\")","v":""},"Interconnector Administrator Id"]
[{"$f":"VLOOKUP(UPPER(M398),Items!$A$2:$B$565,2,FALSE)","v":"N0097"},"D",null,null,"O",null,null,null,null,null,{"$f":"VLOOKUP(UPPER(A398),Items!$B$2:$G$565,6)","v":"text(8)"},{"$f":"IF(VLOOKUP(UPPER(A398),Items!$B$2:$H$565,7,FALSE)<>0,VLOOKUP(UPPER(A398),Items!$B$2:$H$565,7,FALSE),\"\")","v":""},"Interconnector Error Administrator Id"]
[{"$f":"VLOOKUP(UPPER(M399),Items!$A$2:$B$565,2,FALSE)","v":"N0081"},"D",null,null,1,null,null,null,null,null,{"$f":"VLOOKUP(UPPER(A399),Items!$B$2:$G$565,6)","v":"date"},{"$f":"IF(VLOOKUP(UPPER(A399),Items!$B$2:$H$565,7,FALSE)<>0,VLOOKUP(UPPER(A399),Items!$B$2:$H$565,7,FALSE),\"\")","v":""},"Effective From Date"]
[{"$f":"VLOOKUP(UPPER(M400),Items!$A$2:$B$565,2,FALSE)","v":"N0083"},"D",null,null,"O",null,null,null,null,null,{"$f":"VLOOKUP(UPPER(A400),Items!$B$2:$G$565,6)","v":"date"},{"$f":"IF(VLOOKUP(UPPER(A400),Items!$B$2:$H$565,7,FALSE)<>0,VLOOKUP(UPPER(A400),Items!$B$2:$H$565,7,FALSE),\"\")","v":""},"Effective To Date"]
["GGR","R","0-*","G",null,null,null,null,null,null,null,null,"GSP Group Registration"]
[{"$f":"VLOOKUP(UPPER(M402),Items!$A$2:$B$565,2,FALSE)","v":"N0339"},"D",null,null,"O",null,null,null,null,null,{"$f":"VLOOKUP(UPPER(A402),Items!$B$2:$G$565,6)","v":"text(9)"},{"$f":"IF(VLOOKUP(UPPER(A402),Items!$B$2:$H$565,7,FALSE)<>0,VLOOKUP(UPPER(A402),Items!$B$2:$H$565,7,FALSE),\"\")","v":""},"Action Code"]
[{"$f":"VLOOKUP(UPPER(M403),Items!$A$2:$B$565,2,FALSE)","v":"N0116"},"D",null,null,1,null,null,null,null,null,{"$f":"VLOOKUP(UPPER(A403),Items!$B$2:$G$565,6)","v":"text(2)"},{"$f":"IF(VLOOKUP(UPPER(A403),Items!$B$2:$H$565,7,FALSE)<>0,VLOOKUP(UPPER(A403),Items!$B$2:$H$565,7,FALSE),\"\")","v":""},"GSP Group Id"]
[{"$f":"VLOOKUP(UPPER(M404),Items!$A$2:$B$565,2,FALSE)","v":"N0117"},"D",null,null,1,null,null,null,null,null,{"$f":"VLOOKUP(UPPER(A404),Items!$B$2:$G$565,6)","v":"text(30)"},{"$f":"IF(VLOOKUP(UPPER(A404),Items!$B$2:$H$565,7,FALSE)<>0,VLOOKUP(UPPER(A404),Items!$B$2:$H$565,7,FALSE),\"\")","v":""},"GSP Group Name"]
[{"$f":"VLOOKUP(UPPER(M405),Items!$A$2:$B$565,2,FALSE)","v":"N0066"},"D",null,null,1,null,null,null,null,null,{"$f":"VLOOKUP(UPPER(A405),Items!$B$2:$G$565,6)","v":"text(8)"},{"$f":"IF(VLOOKUP(UPPER(A405),Items!$B$2:$H$565,7,FALSE)<>0,VLOOKUP(UPPER(A405),Items!$B$2:$H$565,7,FALSE),\"\")","v":""},"Distributor BSC Party Id"]
[{"$f":"VLOOKUP(UPPER(M406),Items!$A$2:$B$565,2,FALSE)","v":"N0081"},"D",null,null,1,null,null,null,null,null,{"$f":"VLOOKUP(UPPER(A406),Items!$B$2:$G$565,6)","v":"date"},{"$f":"IF(VLOOKUP(UPPER(A406),Items!$B$2:$H$565,7,FALSE)<>0,VLOOKUP(UPPER(A406),Items!$B$2:$H$565,7,FALSE),\"\")","v":""},"Effective From Date"]
[{"$f":"VLOOKUP(UPPER(M407),Items!$A$2:$B$565,2,FALSE)","v":"N0083"},"D",null,null,"O",null,null,null,null,null,{"$f":"VLOOKUP(UPPER(A407),Items!$B$2:$G$565,6)","v":"date"},{"$f":"IF(VLOOKUP(UPPER(A407),Items!$B$2:$H$565,7,FALSE)<>0,VLOOKUP(UPPER(A407),Items!$B$2:$H$565,7,FALSE),\"\")","v":""},"Effective To Date"]
[]
["R0151",{"$f":"IF(LEN(K409)>0,\"D\",IF(LEN(A409)=5,\"F\",IF(LEN(A409)=3,\"R\",\" \")))","v":"F"},"003",null,null,null,null,null,null,null,null,null,"CRA-I015: BM Unit Interconnector and GSP Group Registration Details (sub-flow 1)"]
[]
["POL","R","0-*","G",null,null,null,null,null,null,null,null,"Proportion Of Losses Data"]
[{"$f":"VLOOKUP(UPPER(M412),Items!$A$2:$B$565,2,FALSE)","v":"N0339"},"D",null,null,"O",null,null,null,null,null,{"$f":"VLOOKUP(UPPER(A412),Items!$B$2:$G$565,6)","v":"text(9)"},{"$f":"IF(VLOOKUP(UPPER(A412),Items!$B$2:$H$565,7,FALSE)<>0,VLOOKUP(UPPER(A412),Items!$B$2:$H$565,7,FALSE),\"\")","v":""},"Action Code"]
[{"$f":"VLOOKUP(UPPER(M413),Items!$A$2:$B$565,2,FALSE)","v":"N0178"},"D",null,null,1,null,null,null,null,null,{"$f":"VLOOKUP(UPPER(A413),Items!$B$2:$G$565,6)","v":"decimal(8,7)"},{"$f":"IF(VLOOKUP(UPPER(A413),Items!$B$2:$H$565,7,FALSE)<>0,VLOOKUP(UPPER(A413),Items!$B$2:$H$565,7,FALSE),\"\")","v":""},"Proportion of Losses"]
[{"$f":"VLOOKUP(UPPER(M414),Items!$A$2:$B$565,2,FALSE)","v":"N0081"},"D",null,null,1,null,null,null,null,null,{"$f":"VLOOKUP(UPPER(A414),Items!$B$2:$G$565,6)","v":"date"},{"$f":"IF(VLOOKUP(UPPER(A414),Items!$B$2:$H$565,7,FALSE)<>0,VLOOKUP(UPPER(A414),Items!$B$2:$H$565,7,FALSE),\"\")","v":""},"Effective From Date"]
["TUR","R","0-*","G",null,null,null,null,null,null,null,null,"Trading Unit Registration"]
[{"$f":"VLOOKUP(UPPER(M416),Items!$A$2:$B$565,2,FALSE)","v":"N0339"},"D",null,null,"O",null,null,null,null,null,{"$f":"VLOOKUP(UPPER(A416),Items!$B$2:$G$565,6)","v":"text(9)"},{"$f":"IF(VLOOKUP(UPPER(A416),Items!$B$2:$H$565,7,FALSE)<>0,VLOOKUP(UPPER(A416),Items!$B$2:$H$565,7,FALSE),\"\")","v":""},"Action Code"]
[{"$f":"VLOOKUP(UPPER(M417),Items!$A$2:$B$565,2,FALSE)","v":"N0232"},"D",null,null,1,null,null,null,null,null,{"$f":"VLOOKUP(UPPER(A417),Items!$B$2:$G$565,6)","v":"text(30)"},{"$f":"IF(VLOOKUP(UPPER(A417),Items!$B$2:$H$565,7,FALSE)<>0,VLOOKUP(UPPER(A417),Items!$B$2:$H$565,7,FALSE),\"\")","v":""},"Trading Unit Name"]
["BU9","R","0-*",null,"G",null,null,null,null,null,null,null,"BM Unit Details"]
[{"$f":"VLOOKUP(UPPER(M419),Items!$A$2:$B$565,2,FALSE)","v":"N0339"},"D",null,null,null,"O",null,null,null,null,{"$f":"VLOOKUP(UPPER(A419),Items!$B$2:$G$565,6)","v":"text(9)"},{"$f":"IF(VLOOKUP(UPPER(A419),Items!$B$2:$H$565,7,FALSE)<>0,VLOOKUP(UPPER(A419),Items!$B$2:$H$565,7,FALSE),\"\")","v":""},"Action Code"]
[{"$f":"VLOOKUP(UPPER(M420),Items!$A$2:$B$565,2,FALSE)","v":"N0034"},"D",null,null,null,1,null,null,null,null,{"$f":"VLOOKUP(UPPER(A420),Items!$B$2:$G$565,6)","v":"text(11)"},{"$f":"IF(VLOOKUP(UPPER(A420),Items!$B$2:$H$565,7,FALSE)<>0,VLOOKUP(UPPER(A420),Items!$B$2:$H$565,7,FALSE),\"\")","v":""},"BM Unit Id"]
[{"$f":"VLOOKUP(UPPER(M421),Items!$A$2:$B$565,2,FALSE)","v":"N0081"},"D",null,null,null,1,null,null,null,null,{"$f":"VLOOKUP(UPPER(A421),Items!$B$2:$G$565,6)","v":"date"},{"$f":"IF(VLOOKUP(UPPER(A421),Items!$B$2:$H$565,7,FALSE)<>0,VLOOKUP(UPPER(A421),Items!$B$2:$H$565,7,FALSE),\"\")","v":""},"Effective From Date"]
[{"$f":"VLOOKUP(UPPER(M422),Items!$A$2:$B$565,2,FALSE)","v":"N0083"},"D",null,null,null,"O",null,null,null,null,{"$f":"VLOOKUP(UPPER(A422),Items!$B$2:$G$565,6)","v":"date"},{"$f":"IF(VLOOKUP(UPPER(A422),Items!$B$2:$H$565,7,FALSE)<>0,VLOOKUP(UPPER(A422),Items!$B$2:$H$565,7,FALSE),\"\")","v":""},"Effective To Date"]
["BUR","R","0-*","G",null,null,null,null,null,null,null,null,"BM Unit Registration"]
[{"$f":"VLOOKUP(UPPER(M424),Items!$A$2:$B$565,2,FALSE)","v":"N0339"},"D",null,null,"O",null,null,null,null,null,{"$f":"VLOOKUP(UPPER(A424),Items!$B$2:$G$565,6)","v":"text(9)"},{"$f":"IF(VLOOKUP(UPPER(A424),Items!$B$2:$H$565,7,FALSE)<>0,VLOOKUP(UPPER(A424),Items!$B$2:$H$565,7,FALSE),\"\")","v":""},"Action Code"]
[{"$f":"VLOOKUP(UPPER(M425),Items!$A$2:$B$565,2,FALSE)","v":"N0036"},"D",null,null,1,null,null,null,null,null,{"$f":"VLOOKUP(UPPER(A425),Items!$B$2:$G$565,6)","v":"text(30)"},{"$f":"IF(VLOOKUP(UPPER(A425),Items!$B$2:$H$565,7,FALSE)<>0,VLOOKUP(UPPER(A425),Items!$B$2:$H$565,7,FALSE),\"\")","v":""},"BM Unit Name"]
[{"$f":"VLOOKUP(UPPER(M426),Items!$A$2:$B$565,2,FALSE)","v":"N0034"},"D",null,null,1,null,null,null,null,null,{"$f":"VLOOKUP(UPPER(A426),Items!$B$2:$G$565,6)","v":"text(11)"},{"$f":"IF(VLOOKUP(UPPER(A426),Items!$B$2:$H$565,7,FALSE)<>0,VLOOKUP(UPPER(A426),Items!$B$2:$H$565,7,FALSE),\"\")","v":""},"BM Unit Id"]
[{"$f":"VLOOKUP(UPPER(M427),Items!$A$2:$B$565,2,FALSE)","v":"N0038"},"D",null,null,"O",null,null,null,null,null,{"$f":"VLOOKUP(UPPER(A427),Items!$B$2:$G$565,6)","v":"char"},{"$f":"IF(VLOOKUP(UPPER(A427),Items!$B$2:$H$565,7,FALSE)<>0,VLOOKUP(UPPER(A427),Items!$B$2:$H$565,7,FALSE),\"\")","v":"BM Unit Type"},"BM Unit Type"]
[{"$f":"VLOOKUP(UPPER(M428),Items!$A$2:$B$565,2,FALSE)","v":"N0127"},"D",null,null,"O",null,null,null,null,null,{"$f":"VLOOKUP(UPPER(A428),Items!$B$2:$G$565,6)","v":"text(8)"},{"$f":"IF(VLOOKUP(UPPER(A428),Items!$B$2:$H$565,7,FALSE)<>0,VLOOKUP(UPPER(A428),Items!$B$2:$H$565,7,FALSE),\"\")","v":""},"Lead Party Id"]
[{"$f":"VLOOKUP(UPPER(M429),Items!$A$2:$B$565,2,FALSE)","v":"N0150"},"D",null," ","O",null,null,null,null,null,{"$f":"VLOOKUP(UPPER(A429),Items!$B$2:$G$565,6)","v":"text(9)"},{"$f":"IF(VLOOKUP(UPPER(A429),Items!$B$2:$H$565,7,FALSE)<>0,VLOOKUP(UPPER(A429),Items!$B$2:$H$565,7,FALSE),\"\")","v":""},"NGC BM Unit Name"]
[{"$f":"VLOOKUP(UPPER(M430),Items!$A$2:$B$565,2,FALSE)","v":"N0115"},"D",null,null,"O",null,null,null,null,null,{"$f":"VLOOKUP(UPPER(A430),Items!$B$2:$G$565,6)","v":"decimal(13,3)"},{"$f":"IF(VLOOKUP(UPPER(A430),Items!$B$2:$H$565,7,FALSE)<>0,VLOOKUP(UPPER(A430),Items!$B$2:$H$565,7,FALSE),\"\")","v":""},"Generation Capacity"]
[{"$f":"VLOOKUP(UPPER(M431),Items!$A$2:$B$565,2,FALSE)","v":"N0064"},"D",null,null,"O",null,null,null,null,null,{"$f":"VLOOKUP(UPPER(A431),Items!$B$2:$G$565,6)","v":"decimal(13,3)"},{"$f":"IF(VLOOKUP(UPPER(A431),Items!$B$2:$H$565,7,FALSE)<>0,VLOOKUP(UPPER(A431),Items!$B$2:$H$565,7,FALSE),\"\")","v":""},"Demand Capacity"]
[{"$f":"VLOOKUP(UPPER(M432),Items!$A$2:$B$565,2,FALSE)","v":"N0177"},"D",null,null,"O",null,null,null,null,null,{"$f":"VLOOKUP(UPPER(A432),Items!$B$2:$G$565,6)","v":"char"},{"$f":"IF(VLOOKUP(UPPER(A432),Items!$B$2:$H$565,7,FALSE)<>0,VLOOKUP(UPPER(A432),Items!$B$2:$H$565,7,FALSE),\"\")","v":"P/C Flag"},"Production/Consumption Flag"]
[{"$f":"VLOOKUP(UPPER(M433),Items!$A$2:$B$565,2,FALSE)","v":"N0233"},"D",null,null,"O",null,null,null,null,null,{"$f":"VLOOKUP(UPPER(A433),Items!$B$2:$G$565,6)","v":"decimal(8,7)"},{"$f":"IF(VLOOKUP(UPPER(A433),Items!$B$2:$H$565,7,FALSE)<>0,VLOOKUP(UPPER(A433),Items!$B$2:$H$565,7,FALSE),\"\")","v":""},"Transmission Loss Factor"]
[{"$f":"VLOOKUP(UPPER(M434),Items!$A$2:$B$565,2,FALSE)","v":"N0582"},"D",null,null,"O",null,null,null,null,null,{"$f":"VLOOKUP(UPPER(A434),Items!$B$2:$G$565,6)","v":"decimal(7,3)"},{"$f":"IF(VLOOKUP(UPPER(A434),Items!$B$2:$H$565,7,FALSE)<>0,VLOOKUP(UPPER(A434),Items!$B$2:$H$565,7,FALSE),\"\")","v":""},"Working Day Credit assessment Import Capability"]
[{"$f":"VLOOKUP(UPPER(M435),Items!$A$2:$B$565,2,FALSE)","v":"N0584"},"D",null,null,"O",null,null,null,null,null,{"$f":"VLOOKUP(UPPER(A435),Items!$B$2:$G$565,6)","v":"decimal(7,3)"},{"$f":"IF(VLOOKUP(UPPER(A435),Items!$B$2:$H$565,7,FALSE)<>0,VLOOKUP(UPPER(A435),Items!$B$2:$H$565,7,FALSE),\"\")","v":""},"Non-Working Day Credit Assessment Import Capability"]
[{"$f":"VLOOKUP(UPPER(M436),Items!$A$2:$B$565,2,FALSE)","v":"N0581"},"D",null,null,"O",null,null,null,null,null,{"$f":"VLOOKUP(UPPER(A436),Items!$B$2:$G$565,6)","v":"decimal(7,3)"},{"$f":"IF(VLOOKUP(UPPER(A436),Items!$B$2:$H$565,7,FALSE)<>0,VLOOKUP(UPPER(A436),Items!$B$2:$H$565,7,FALSE),\"\")","v":""},"Working Day Credit Assessment Export Capability"]
[{"$f":"VLOOKUP(UPPER(M437),Items!$A$2:$B$565,2,FALSE)","v":"N0583"},"D",null,null,"O",null,null,null,null,null,{"$f":"VLOOKUP(UPPER(A437),Items!$B$2:$G$565,6)","v":"decimal(7,3)"},{"$f":"IF(VLOOKUP(UPPER(A437),Items!$B$2:$H$565,7,FALSE)<>0,VLOOKUP(UPPER(A437),Items!$B$2:$H$565,7,FALSE),\"\")","v":""},"Non-Working Day Credit Assessment Export Capability"]
[{"$f":"VLOOKUP(UPPER(M438),Items!$A$2:$B$565,2,FALSE)","v":"N0081"},"D",null,null,1,null,null,null,null,null,{"$f":"VLOOKUP(UPPER(A438),Items!$B$2:$G$565,6)","v":"date"},{"$f":"IF(VLOOKUP(UPPER(A438),Items!$B$2:$H$565,7,FALSE)<>0,VLOOKUP(UPPER(A438),Items!$B$2:$H$565,7,FALSE),\"\")","v":""},"Effective From Date"]
[{"$f":"VLOOKUP(UPPER(M439),Items!$A$2:$B$565,2,FALSE)","v":"N0083"},"D",null,null,"O",null,null,null,null,null,{"$f":"VLOOKUP(UPPER(A439),Items!$B$2:$G$565,6)","v":"date"},{"$f":"IF(VLOOKUP(UPPER(A439),Items!$B$2:$H$565,7,FALSE)<>0,VLOOKUP(UPPER(A439),Items!$B$2:$H$565,7,FALSE),\"\")","v":""},"Effective To Date"]
[{"$f":"VLOOKUP(UPPER(M440),Items!$A$2:$B$565,2,FALSE)","v":"N0110"},"D",null,null,"O",null,null,null,null,null,{"$f":"VLOOKUP(UPPER(A440),Items!$B$2:$G$565,6)","v":"boolean"},{"$f":"IF(VLOOKUP(UPPER(A440),Items!$B$2:$H$565,7,FALSE)<>0,VLOOKUP(UPPER(A440),Items!$B$2:$H$565,7,FALSE),\"\")","v":""},"FPN Flag"]
[{"$f":"VLOOKUP(UPPER(M441),Items!$A$2:$B$565,2,FALSE)","v":"N0512"},"D",null,null,"O",null,null,null,null,null,{"$f":"VLOOKUP(UPPER(A441),Items!$B$2:$G$565,6)","v":"boolean"},{"$f":"IF(VLOOKUP(UPPER(A441),Items!$B$2:$H$565,7,FALSE)<>0,VLOOKUP(UPPER(A441),Items!$B$2:$H$565,7,FALSE),\"\")","v":""},"Credit Qualifying Status"]
[{"$f":"VLOOKUP(UPPER(M442),Items!$A$2:$B$565,2,FALSE)","v":"N0513"},"D",null,null,"O",null,null,null,null,null,{"$f":"VLOOKUP(UPPER(A442),Items!$B$2:$G$565,6)","v":"boolean"},{"$f":"IF(VLOOKUP(UPPER(A442),Items!$B$2:$H$565,7,FALSE)<>0,VLOOKUP(UPPER(A442),Items!$B$2:$H$565,7,FALSE),\"\")","v":""},"Demand in Production Flag"]
[{"$f":"VLOOKUP(UPPER(M443),Items!$A$2:$B$565,2,FALSE)","v":"N0116"},"D",null,null,"O",null,null,null,null,null,{"$f":"VLOOKUP(UPPER(A443),Items!$B$2:$G$565,6)","v":"text(2)"},{"$f":"IF(VLOOKUP(UPPER(A443),Items!$B$2:$H$565,7,FALSE)<>0,VLOOKUP(UPPER(A443),Items!$B$2:$H$565,7,FALSE),\"\")","v":""},"GSP Group Id"]
[{"$f":"VLOOKUP(UPPER(M444),Items!$A$2:$B$565,2,FALSE)","v":"N0117"},"D",null,null,"O",null,null,null,null,null,{"$f":"VLOOKUP(UPPER(A444),Items!$B$2:$G$565,6)","v":"text(30)"},{"$f":"IF(VLOOKUP(UPPER(A444),Items!$B$2:$H$565,7,FALSE)<>0,VLOOKUP(UPPER(A444),Items!$B$2:$H$565,7,FALSE),\"\")","v":""},"GSP Group Name"]
[{"$f":"VLOOKUP(UPPER(M445),Items!$A$2:$B$565,2,FALSE)","v":"N0098"},"D",null,null,"O",null,null,null,null,null,{"$f":"VLOOKUP(UPPER(A445),Items!$B$2:$G$565,6)","v":"text(10)"},{"$f":"IF(VLOOKUP(UPPER(A445),Items!$B$2:$H$565,7,FALSE)<>0,VLOOKUP(UPPER(A445),Items!$B$2:$H$565,7,FALSE),\"\")","v":""},"Interconnector Id"]
["JBU","R","0-*","G",null,null,null,null,null,null,null,null,"BM Unit Group Details"]
[{"$f":"VLOOKUP(UPPER(M447),Items!$A$2:$B$565,2,FALSE)","v":"N0339"},"D",null,null,"O",null,null,null,null,null,{"$f":"VLOOKUP(UPPER(A447),Items!$B$2:$G$565,6)","v":"text(9)"},{"$f":"IF(VLOOKUP(UPPER(A447),Items!$B$2:$H$565,7,FALSE)<>0,VLOOKUP(UPPER(A447),Items!$B$2:$H$565,7,FALSE),\"\")","v":""},"Action Code"]
[{"$f":"VLOOKUP(UPPER(M448),Items!$A$2:$B$565,2,FALSE)","v":"N0126"},"D",null,null,1,null,null,null,null,null,{"$f":"VLOOKUP(UPPER(A448),Items!$B$2:$G$565,6)","v":"text(11)"},{"$f":"IF(VLOOKUP(UPPER(A448),Items!$B$2:$H$565,7,FALSE)<>0,VLOOKUP(UPPER(A448),Items!$B$2:$H$565,7,FALSE),\"\")","v":""},"Joint BM Unit Id"]
[{"$f":"VLOOKUP(UPPER(M449),Items!$A$2:$B$565,2,FALSE)","v":"N0081"},"D",null,null,1,null,null,null,null,null,{"$f":"VLOOKUP(UPPER(A449),Items!$B$2:$G$565,6)","v":"date"},{"$f":"IF(VLOOKUP(UPPER(A449),Items!$B$2:$H$565,7,FALSE)<>0,VLOOKUP(UPPER(A449),Items!$B$2:$H$565,7,FALSE),\"\")","v":""},"Effective From Date"]
[{"$f":"VLOOKUP(UPPER(M450),Items!$A$2:$B$565,2,FALSE)","v":"N0083"},"D",null,null,"O",null,null,null,null,null,{"$f":"VLOOKUP(UPPER(A450),Items!$B$2:$G$565,6)","v":"date"},{"$f":"IF(VLOOKUP(UPPER(A450),Items!$B$2:$H$565,7,FALSE)<>0,VLOOKUP(UPPER(A450),Items!$B$2:$H$565,7,FALSE),\"\")","v":""},"Effective To Date"]
["JB3","R","0-*",null,"G",null,null,null,null,null,null,null,"BM Unit Group Member"]
[{"$f":"VLOOKUP(UPPER(M452),Items!$A$2:$B$565,2,FALSE)","v":"N0339"},"D",null,null,null,"O",null,null,null,null,{"$f":"VLOOKUP(UPPER(A452),Items!$B$2:$G$565,6)","v":"text(9)"},{"$f":"IF(VLOOKUP(UPPER(A452),Items!$B$2:$H$565,7,FALSE)<>0,VLOOKUP(UPPER(A452),Items!$B$2:$H$565,7,FALSE),\"\")","v":""},"Action Code"]
[{"$f":"VLOOKUP(UPPER(M453),Items!$A$2:$B$565,2,FALSE)","v":"N0034"},"D",null,null,null,1,null,null,null,null,{"$f":"VLOOKUP(UPPER(A453),Items!$B$2:$G$565,6)","v":"text(11)"},{"$f":"IF(VLOOKUP(UPPER(A453),Items!$B$2:$H$565,7,FALSE)<>0,VLOOKUP(UPPER(A453),Items!$B$2:$H$565,7,FALSE),\"\")","v":""},"BM Unit Id"]
["IRD","R","0-*","G",null,null,null,null,null,null,null,null,"Interconnector Registration Details"]
[{"$f":"VLOOKUP(UPPER(M455),Items!$A$2:$B$565,2,FALSE)","v":"N0339"},"D",null,null,"O",null,null,null,null,null,{"$f":"VLOOKUP(UPPER(A455),Items!$B$2:$G$565,6)","v":"text(9)"},{"$f":"IF(VLOOKUP(UPPER(A455),Items!$B$2:$H$565,7,FALSE)<>0,VLOOKUP(UPPER(A455),Items!$B$2:$H$565,7,FALSE),\"\")","v":""},"Action Code"]
[{"$f":"VLOOKUP(UPPER(M456),Items!$A$2:$B$565,2,FALSE)","v":"N0098"},"D",null,null,1,null,null,null,null,null,{"$f":"VLOOKUP(UPPER(A456),Items!$B$2:$G$565,6)","v":"text(10)"},{"$f":"IF(VLOOKUP(UPPER(A456),Items!$B$2:$H$565,7,FALSE)<>0,VLOOKUP(UPPER(A456),Items!$B$2:$H$565,7,FALSE),\"\")","v":""},"Interconnector Id"]
[{"$f":"VLOOKUP(UPPER(M457),Items!$A$2:$B$565,2,FALSE)","v":"N0095"},"D",null,null,1,null,null,null,null,null,{"$f":"VLOOKUP(UPPER(A457),Items!$B$2:$G$565,6)","v":"text(8)"},{"$f":"IF(VLOOKUP(UPPER(A457),Items!$B$2:$H$565,7,FALSE)<>0,VLOOKUP(UPPER(A457),Items!$B$2:$H$565,7,FALSE),\"\")","v":""},"Interconnector Administrator Id"]
[{"$f":"VLOOKUP(UPPER(M458),Items!$A$2:$B$565,2,FALSE)","v":"N0097"},"D",null,null,"O",null,null,null,null,null,{"$f":"VLOOKUP(UPPER(A458),Items!$B$2:$G$565,6)","v":"text(8)"},{"$f":"IF(VLOOKUP(UPPER(A458),Items!$B$2:$H$565,7,FALSE)<>0,VLOOKUP(UPPER(A458),Items!$B$2:$H$565,7,FALSE),\"\")","v":""},"Interconnector Error Administrator Id"]
[{"$f":"VLOOKUP(UPPER(M459),Items!$A$2:$B$565,2,FALSE)","v":"N0081"},"D",null,null,1,null,null,null,null,null,{"$f":"VLOOKUP(UPPER(A459),Items!$B$2:$G$565,6)","v":"date"},{"$f":"IF(VLOOKUP(UPPER(A459),Items!$B$2:$H$565,7,FALSE)<>0,VLOOKUP(UPPER(A459),Items!$B$2:$H$565,7,FALSE),\"\")","v":""},"Effective From Date"]
[{"$f":"VLOOKUP(UPPER(M460),Items!$A$2:$B$565,2,FALSE)","v":"N0083"},"D",null,null,"O",null,null,null,null,null,{"$f":"VLOOKUP(UPPER(A460),Items!$B$2:$G$565,6)","v":"date"},{"$f":"IF(VLOOKUP(UPPER(A460),Items!$B$2:$H$565,7,FALSE)<>0,VLOOKUP(UPPER(A460),Items!$B$2:$H$565,7,FALSE),\"\")","v":""},"Effective To Date"]
["GGR","R","0-*","G",null,null,null,null,null,null,null,null,"GSP Group Registration"]
[{"$f":"VLOOKUP(UPPER(M462),Items!$A$2:$B$565,2,FALSE)","v":"N0339"},"D",null,null,"O",null,null,null,null,null,{"$f":"VLOOKUP(UPPER(A462),Items!$B$2:$G$565,6)","v":"text(9)"},{"$f":"IF(VLOOKUP(UPPER(A462),Items!$B$2:$H$565,7,FALSE)<>0,VLOOKUP(UPPER(A462),Items!$B$2:$H$565,7,FALSE),\"\")","v":""},"Action Code"]
[{"$f":"VLOOKUP(UPPER(M463),Items!$A$2:$B$565,2,FALSE)","v":"N0116"},"D",null,null,1,null,null,null,null,null,{"$f":"VLOOKUP(UPPER(A463),Items!$B$2:$G$565,6)","v":"text(2)"},{"$f":"IF(VLOOKUP(UPPER(A463),Items!$B$2:$H$565,7,FALSE)<>0,VLOOKUP(UPPER(A463),Items!$B$2:$H$565,7,FALSE),\"\")","v":""},"GSP Group Id"]
[{"$f":"VLOOKUP(UPPER(M464),Items!$A$2:$B$565,2,FALSE)","v":"N0117"},"D",null,null,1,null,null,null,null,null,{"$f":"VLOOKUP(UPPER(A464),Items!$B$2:$G$565,6)","v":"text(30)"},{"$f":"IF(VLOOKUP(UPPER(A464),Items!$B$2:$H$565,7,FALSE)<>0,VLOOKUP(UPPER(A464),Items!$B$2:$H$565,7,FALSE),\"\")","v":""},"GSP Group Name"]
[{"$f":"VLOOKUP(UPPER(M465),Items!$A$2:$B$565,2,FALSE)","v":"N0066"},"D",null,null,1,null,null,null,null,null,{"$f":"VLOOKUP(UPPER(A465),Items!$B$2:$G$565,6)","v":"text(8)"},{"$f":"IF(VLOOKUP(UPPER(A465),Items!$B$2:$H$565,7,FALSE)<>0,VLOOKUP(UPPER(A465),Items!$B$2:$H$565,7,FALSE),\"\")","v":""},"Distributor BSC Party Id"]
[{"$f":"VLOOKUP(UPPER(M466),Items!$A$2:$B$565,2,FALSE)","v":"N0081"},"D",null,null,1,null,null,null,null,null,{"$f":"VLOOKUP(UPPER(A466),Items!$B$2:$G$565,6)","v":"date"},{"$f":"IF(VLOOKUP(UPPER(A466),Items!$B$2:$H$565,7,FALSE)<>0,VLOOKUP(UPPER(A466),Items!$B$2:$H$565,7,FALSE),\"\")","v":""},"Effective From Date"]
[{"$f":"VLOOKUP(UPPER(M467),Items!$A$2:$B$565,2,FALSE)","v":"N0083"},"D",null,null,"O",null,null,null,null,null,{"$f":"VLOOKUP(UPPER(A467),Items!$B$2:$G$565,6)","v":"date"},{"$f":"IF(VLOOKUP(UPPER(A467),Items!$B$2:$H$565,7,FALSE)<>0,VLOOKUP(UPPER(A467),Items!$B$2:$H$565,7,FALSE),\"\")","v":""},"Effective To Date"]
[]
[]
["R0201",{"$f":"IF(LEN(K470)>0,\"D\",IF(LEN(A470)=5,\"F\",IF(LEN(A470)=3,\"R\",\" \")))","v":"F"},"002",null,null,null,null,null,null,null,null,null,"CRA-I020 - Operations Registration Report"]
[]
["POL",{"$f":"IF(LEN(K472)>0,\"D\",IF(LEN(A472)=5,\"F\",IF(LEN(A472)=3,\"R\",\" \")))","v":"R"},"0-*","G",null,null,null,null,null,null,null,null,"Proportion Of Losses Data"]
[{"$f":"VLOOKUP(UPPER(M473),Items!$A$2:$B$525,2,FALSE)","v":"N0339"},"D",null,null,"O",null,null,null,null,null,{"$f":"VLOOKUP(UPPER(A473),Items!$B$2:$G$525,6)","v":"text(9)"},{"$f":"IF(VLOOKUP(UPPER(A473),Items!$B$2:$H$525,7,FALSE)<>0,VLOOKUP(UPPER(A473),Items!$B$2:$H$525,7,FALSE),\"\")","v":""},"Action Code"]
[{"$f":"VLOOKUP(UPPER(M474),Items!$A$2:$B$525,2,FALSE)","v":"N0178"},"D",null,null,1,null,null,null,null,null,{"$f":"VLOOKUP(UPPER(A474),Items!$B$2:$G$525,6)","v":"decimal(8,7)"},{"$f":"IF(VLOOKUP(UPPER(A474),Items!$B$2:$H$525,7,FALSE)<>0,VLOOKUP(UPPER(A474),Items!$B$2:$H$525,7,FALSE),\"\")","v":""},"Proportion of Losses"]
[{"$f":"VLOOKUP(UPPER(M475),Items!$A$2:$B$525,2,FALSE)","v":"N0081"},"D",null,null,1,null,null,null,null,null,{"$f":"VLOOKUP(UPPER(A475),Items!$B$2:$G$525,6)","v":"date"},{"$f":"IF(VLOOKUP(UPPER(A475),Items!$B$2:$H$525,7,FALSE)<>0,VLOOKUP(UPPER(A475),Items!$B$2:$H$525,7,FALSE),\"\")","v":""},"Effective From Date"]
["TU2","R","0-*","G",null,null,null,null,null,null,null,null,"Trading Unit Registration"]
[{"$f":"VLOOKUP(UPPER(M477),Items!$A$2:$B$525,2,FALSE)","v":"N0339"},"D",null,null,"O",null,null,null,null,null,{"$f":"VLOOKUP(UPPER(A477),Items!$B$2:$G$525,6)","v":"text(9)"},{"$f":"IF(VLOOKUP(UPPER(A477),Items!$B$2:$H$525,7,FALSE)<>0,VLOOKUP(UPPER(A477),Items!$B$2:$H$525,7,FALSE),\"\")","v":""},"Action Code"]
[{"$f":"VLOOKUP(UPPER(M478),Items!$A$2:$B$525,2,FALSE)","v":"N0232"},"D",null,null,1,null,null,null,null,null,{"$f":"VLOOKUP(UPPER(A478),Items!$B$2:$G$525,6)","v":"text(30)"},{"$f":"IF(VLOOKUP(UPPER(A478),Items!$B$2:$H$525,7,FALSE)<>0,VLOOKUP(UPPER(A478),Items!$B$2:$H$525,7,FALSE),\"\")","v":""},"Trading Unit Name"]
["BR3","R","0-*","G",null,null,null,null,null,null,null,null,"BM Unit Registration"]
[{"$f":"VLOOKUP(UPPER(M480),Items!$A$2:$B$525,2,FALSE)","v":"N0339"},"D",null,null,"O",null,null,null,null,null,{"$f":"VLOOKUP(UPPER(A480),Items!$B$2:$G$525,6)","v":"text(9)"},{"$f":"IF(VLOOKUP(UPPER(A480),Items!$B$2:$H$525,7,FALSE)<>0,VLOOKUP(UPPER(A480),Items!$B$2:$H$525,7,FALSE),\"\")","v":""},"Action Code"]
[{"$f":"VLOOKUP(UPPER(M481),Items!$A$2:$B$525,2,FALSE)","v":"N0034"},"D",null,null,1,null,null,null,null,null,{"$f":"VLOOKUP(UPPER(A481),Items!$B$2:$G$525,6)","v":"text(11)"},{"$f":"IF(VLOOKUP(UPPER(A481),Items!$B$2:$H$525,7,FALSE)<>0,VLOOKUP(UPPER(A481),Items!$B$2:$H$525,7,FALSE),\"\")","v":""},"BM Unit Id"]
[{"$f":"VLOOKUP(UPPER(M482),Items!$A$2:$B$525,2,FALSE)","v":"N0038"},"D",null,null,"O",null,null,null,null,null,{"$f":"VLOOKUP(UPPER(A482),Items!$B$2:$G$525,6)","v":"char"},{"$f":"IF(VLOOKUP(UPPER(A482),Items!$B$2:$H$525,7,FALSE)<>0,VLOOKUP(UPPER(A482),Items!$B$2:$H$525,7,FALSE),\"\")","v":"BM Unit Type"},"BM Unit Type"]
[{"$f":"VLOOKUP(UPPER(M483),Items!$A$2:$B$525,2,FALSE)","v":"N0127"},"D",null,null,"O",null,null,null,null,null,{"$f":"VLOOKUP(UPPER(A483),Items!$B$2:$G$525,6)","v":"text(8)"},{"$f":"IF(VLOOKUP(UPPER(A483),Items!$B$2:$H$525,7,FALSE)<>0,VLOOKUP(UPPER(A483),Items!$B$2:$H$525,7,FALSE),\"\")","v":""},"Lead Party Id"]
[{"$f":"VLOOKUP(UPPER(M484),Items!$A$2:$B$525,2,FALSE)","v":"N0150"},"D",null,null,"O",null,null,null,null,null,{"$f":"VLOOKUP(UPPER(A484),Items!$B$2:$G$525,6)","v":"text(9)"},{"$f":"IF(VLOOKUP(UPPER(A484),Items!$B$2:$H$525,7,FALSE)<>0,VLOOKUP(UPPER(A484),Items!$B$2:$H$525,7,FALSE),\"\")","v":""},"NGC BM Unit Name"]
[{"$f":"VLOOKUP(UPPER(M485),Items!$A$2:$B$525,2,FALSE)","v":"N0036"},"D",null,null,1,null,null,null,null,null,{"$f":"VLOOKUP(UPPER(A485),Items!$B$2:$G$525,6)","v":"text(30)"},{"$f":"IF(VLOOKUP(UPPER(A485),Items!$B$2:$H$525,7,FALSE)<>0,VLOOKUP(UPPER(A485),Items!$B$2:$H$525,7,FALSE),\"\")","v":""},"BM Unit Name"]
[{"$f":"VLOOKUP(UPPER(M486),Items!$A$2:$B$525,2,FALSE)","v":"N0116"},"D",null,null,"O",null,null,null,null,null,{"$f":"VLOOKUP(UPPER(A486),Items!$B$2:$G$525,6)","v":"text(2)"},{"$f":"IF(VLOOKUP(UPPER(A486),Items!$B$2:$H$525,7,FALSE)<>0,VLOOKUP(UPPER(A486),Items!$B$2:$H$525,7,FALSE),\"\")","v":""},"GSP Group Id","If BM Unit Type is 'E' or 'G' or 'S'"]
[{"$f":"VLOOKUP(UPPER(M487),Items!$A$2:$B$525,2,FALSE)","v":"N0117"},"D",null,null,"O",null,null,null,null,null,{"$f":"VLOOKUP(UPPER(A487),Items!$B$2:$G$525,6)","v":"text(30)"},{"$f":"IF(VLOOKUP(UPPER(A487),Items!$B$2:$H$525,7,FALSE)<>0,VLOOKUP(UPPER(A487),Items!$B$2:$H$525,7,FALSE),\"\")","v":""},"GSP Group Name"]
[{"$f":"VLOOKUP(UPPER(M488),Items!$A$2:$B$525,2,FALSE)","v":"N0232"},"D",null,null,"O",null,null,null,null,null,{"$f":"VLOOKUP(UPPER(A488),Items!$B$2:$G$525,6)","v":"text(30)"},{"$f":"IF(VLOOKUP(UPPER(A488),Items!$B$2:$H$525,7,FALSE)<>0,VLOOKUP(UPPER(A488),Items!$B$2:$H$525,7,FALSE),\"\")","v":""},"Trading Unit Name"]
[{"$f":"VLOOKUP(UPPER(M489),Items!$A$2:$B$525,2,FALSE)","v":"N0115"},"D",null,null,"O",null,null,null,null,null,{"$f":"VLOOKUP(UPPER(A489),Items!$B$2:$G$525,6)","v":"decimal(13,3)"},{"$f":"IF(VLOOKUP(UPPER(A489),Items!$B$2:$H$525,7,FALSE)<>0,VLOOKUP(UPPER(A489),Items!$B$2:$H$525,7,FALSE),\"\")","v":""},"Generation Capacity","MW"]
[{"$f":"VLOOKUP(UPPER(M490),Items!$A$2:$B$525,2,FALSE)","v":"N0064"},"D",null,null,"O",null,null,null,null,null,{"$f":"VLOOKUP(UPPER(A490),Items!$B$2:$G$525,6)","v":"decimal(13,3)"},{"$f":"IF(VLOOKUP(UPPER(A490),Items!$B$2:$H$525,7,FALSE)<>0,VLOOKUP(UPPER(A490),Items!$B$2:$H$525,7,FALSE),\"\")","v":""},"Demand Capacity","MW"]
[{"$f":"VLOOKUP(UPPER(M491),Items!$A$2:$B$525,2,FALSE)","v":"N0471"},"D",null,null,"O",null,null,null,null,null,{"$f":"VLOOKUP(UPPER(A491),Items!$B$2:$G$525,6)","v":"decimal(11,7)"},{"$f":"IF(VLOOKUP(UPPER(A491),Items!$B$2:$H$525,7,FALSE)<>0,VLOOKUP(UPPER(A491),Items!$B$2:$H$525,7,FALSE),\"\")","v":""},"Credit Assessment Load Factor","Reported as 0.0 for Interconnectors CALF value in business table is decimal(11,7) and capped in flow to decimal(8,7)."]
[{"$f":"VLOOKUP(UPPER(M492),Items!$A$2:$B$525,2,FALSE)","v":"N0033"},"D",null,null,"O",null,null,null,null,null,{"$f":"VLOOKUP(UPPER(A492),Items!$B$2:$G$525,6)","v":"decimal(13,3)"},{"$f":"IF(VLOOKUP(UPPER(A492),Items!$B$2:$H$525,7,FALSE)<>0,VLOOKUP(UPPER(A492),Items!$B$2:$H$525,7,FALSE),\"\")","v":""},"BM Unit Credit Assessment Import Capability"]
[{"$f":"VLOOKUP(UPPER(M493),Items!$A$2:$B$525,2,FALSE)","v":"N0032"},"D",null,null,"O",null,null,null,null,null,{"$f":"VLOOKUP(UPPER(A493),Items!$B$2:$G$525,6)","v":"decimal(13,3)"},{"$f":"IF(VLOOKUP(UPPER(A493),Items!$B$2:$H$525,7,FALSE)<>0,VLOOKUP(UPPER(A493),Items!$B$2:$H$525,7,FALSE),\"\")","v":""},"BM Unit Credit Assessment Export Capability"]
[{"$f":"VLOOKUP(UPPER(M494),Items!$A$2:$B$525,2,FALSE)","v":"N0177"},"D",null,null,"O",null,null,null,null,null,{"$f":"VLOOKUP(UPPER(A494),Items!$B$2:$G$525,6)","v":"char"},{"$f":"IF(VLOOKUP(UPPER(A494),Items!$B$2:$H$525,7,FALSE)<>0,VLOOKUP(UPPER(A494),Items!$B$2:$H$525,7,FALSE),\"\")","v":"P/C Flag"},"Production/Consumption Flag"]
[{"$f":"VLOOKUP(UPPER(M495),Items!$A$2:$B$525,2,FALSE)","v":"N0472"},"D",null,null,"O",null,null,null,null,null,{"$f":"VLOOKUP(UPPER(A495),Items!$B$2:$G$525,6)","v":"char"},{"$f":"IF(VLOOKUP(UPPER(A495),Items!$B$2:$H$525,7,FALSE)<>0,VLOOKUP(UPPER(A495),Items!$B$2:$H$525,7,FALSE),\"\")","v":"P/C Status"},"Production/Consumption Status"]
[{"$f":"VLOOKUP(UPPER(M496),Items!$A$2:$B$525,2,FALSE)","v":"N0470"},"D",null,null,"O",null,null,null,null,null,{"$f":"VLOOKUP(UPPER(A496),Items!$B$2:$G$525,6)","v":"boolean"},{"$f":"IF(VLOOKUP(UPPER(A496),Items!$B$2:$H$525,7,FALSE)<>0,VLOOKUP(UPPER(A496),Items!$B$2:$H$525,7,FALSE),\"\")","v":""},"Exempt Export Flag"]
[{"$f":"VLOOKUP(UPPER(M497),Items!$A$2:$B$525,2,FALSE)","v":"N0469"},"D",null,null,"O",null,null,null,null,null,{"$f":"VLOOKUP(UPPER(A497),Items!$B$2:$G$525,6)","v":"boolean"},{"$f":"IF(VLOOKUP(UPPER(A497),Items!$B$2:$H$525,7,FALSE)<>0,VLOOKUP(UPPER(A497),Items!$B$2:$H$525,7,FALSE),\"\")","v":""},"Base TU Flag"]
[{"$f":"VLOOKUP(UPPER(M498),Items!$A$2:$B$525,2,FALSE)","v":"N0233"},"D",null,null,"O",null,null,null,null,null,{"$f":"VLOOKUP(UPPER(A498),Items!$B$2:$G$525,6)","v":"decimal(8,7)"},{"$f":"IF(VLOOKUP(UPPER(A498),Items!$B$2:$H$525,7,FALSE)<>0,VLOOKUP(UPPER(A498),Items!$B$2:$H$525,7,FALSE),\"\")","v":""},"Transmission Loss Factor"]
[{"$f":"VLOOKUP(UPPER(M499),Items!$A$2:$B$525,2,FALSE)","v":"N0110"},"D",null,null,"O",null,null,null,null,null,{"$f":"VLOOKUP(UPPER(A499),Items!$B$2:$G$525,6)","v":"boolean"},{"$f":"IF(VLOOKUP(UPPER(A499),Items!$B$2:$H$525,7,FALSE)<>0,VLOOKUP(UPPER(A499),Items!$B$2:$H$525,7,FALSE),\"\")","v":""},"FPN Flag"]
[{"$f":"VLOOKUP(UPPER(M500),Items!$A$2:$B$525,2,FALSE)","v":"N0098"},"D",null,null,"O",null,null,null,null,null,{"$f":"VLOOKUP(UPPER(A500),Items!$B$2:$G$525,6)","v":"text(10)"},{"$f":"IF(VLOOKUP(UPPER(A500),Items!$B$2:$H$525,7,FALSE)<>0,VLOOKUP(UPPER(A500),Items!$B$2:$H$525,7,FALSE),\"\")","v":""},"Interconnector Id","If BM Unit Type is 'I'"]
[{"$f":"VLOOKUP(UPPER(M501),Items!$A$2:$B$525,2,FALSE)","v":"N0081"},"D",null,null,1,null,null,null,null,null,{"$f":"VLOOKUP(UPPER(A501),Items!$B$2:$G$525,6)","v":"date"},{"$f":"IF(VLOOKUP(UPPER(A501),Items!$B$2:$H$525,7,FALSE)<>0,VLOOKUP(UPPER(A501),Items!$B$2:$H$525,7,FALSE),\"\")","v":""},"Effective From Date"]
[{"$f":"VLOOKUP(UPPER(M502),Items!$A$2:$B$525,2,FALSE)","v":"N0083"},"D",null,null,"O",null,null,null,null,null,{"$f":"VLOOKUP(UPPER(A502),Items!$B$2:$G$525,6)","v":"date"},{"$f":"IF(VLOOKUP(UPPER(A502),Items!$B$2:$H$525,7,FALSE)<>0,VLOOKUP(UPPER(A502),Items!$B$2:$H$525,7,FALSE),\"\")","v":""},"Effective To Date"]
["JBU","R","0-*","G",null,null,null,null,null,null,null,null,"BM Unit Group Details"]
[{"$f":"VLOOKUP(UPPER(M504),Items!$A$2:$B$525,2,FALSE)","v":"N0339"},"D",null,null,"O",null,null,null,null,null,{"$f":"VLOOKUP(UPPER(A504),Items!$B$2:$G$525,6)","v":"text(9)"},{"$f":"IF(VLOOKUP(UPPER(A504),Items!$B$2:$H$525,7,FALSE)<>0,VLOOKUP(UPPER(A504),Items!$B$2:$H$525,7,FALSE),\"\")","v":""},"Action Code"]
[{"$f":"VLOOKUP(UPPER(M505),Items!$A$2:$B$525,2,FALSE)","v":"N0126"},"D",null,null,1,null,null,null,null,null,{"$f":"VLOOKUP(UPPER(A505),Items!$B$2:$G$525,6)","v":"text(11)"},{"$f":"IF(VLOOKUP(UPPER(A505),Items!$B$2:$H$525,7,FALSE)<>0,VLOOKUP(UPPER(A505),Items!$B$2:$H$525,7,FALSE),\"\")","v":""},"Joint BM Unit Id"]
[{"$f":"VLOOKUP(UPPER(M506),Items!$A$2:$B$525,2,FALSE)","v":"N0081"},"D",null,null,1,null,null,null,null,null,{"$f":"VLOOKUP(UPPER(A506),Items!$B$2:$G$525,6)","v":"date"},{"$f":"IF(VLOOKUP(UPPER(A506),Items!$B$2:$H$525,7,FALSE)<>0,VLOOKUP(UPPER(A506),Items!$B$2:$H$525,7,FALSE),\"\")","v":""},"Effective From Date"]
[{"$f":"VLOOKUP(UPPER(M507),Items!$A$2:$B$525,2,FALSE)","v":"N0083"},"D",null,null,"O",null,null,null,null,null,{"$f":"VLOOKUP(UPPER(A507),Items!$B$2:$G$525,6)","v":"date"},{"$f":"IF(VLOOKUP(UPPER(A507),Items!$B$2:$H$525,7,FALSE)<>0,VLOOKUP(UPPER(A507),Items!$B$2:$H$525,7,FALSE),\"\")","v":""},"Effective To Date"]
["JB3","R","0-*",null,"G",null,null,null,null,null,null,null,"BM Unit Group Member"]
[{"$f":"VLOOKUP(UPPER(M509),Items!$A$2:$B$525,2,FALSE)","v":"N0339"},"D",null,null,null,"O",null,null,null,null,{"$f":"VLOOKUP(UPPER(A509),Items!$B$2:$G$525,6)","v":"text(9)"},{"$f":"IF(VLOOKUP(UPPER(A509),Items!$B$2:$H$525,7,FALSE)<>0,VLOOKUP(UPPER(A509),Items!$B$2:$H$525,7,FALSE),\"\")","v":""},"Action Code"]
[{"$f":"VLOOKUP(UPPER(M510),Items!$A$2:$B$525,2,FALSE)","v":"N0034"},"D",null,null,null,1,null,null,null,null,{"$f":"VLOOKUP(UPPER(A510),Items!$B$2:$G$525,6)","v":"text(11)"},{"$f":"IF(VLOOKUP(UPPER(A510),Items!$B$2:$H$525,7,FALSE)<>0,VLOOKUP(UPPER(A510),Items!$B$2:$H$525,7,FALSE),\"\")","v":""},"BM Unit Id"]
["IRD","R","0-*","G",null,null,null,null,null,null,null,null,"Interconnector Registration Details"]
[{"$f":"VLOOKUP(UPPER(M512),Items!$A$2:$B$525,2,FALSE)","v":"N0339"},"D",null,null,"O",null,null,null,null,null,{"$f":"VLOOKUP(UPPER(A512),Items!$B$2:$G$525,6)","v":"text(9)"},{"$f":"IF(VLOOKUP(UPPER(A512),Items!$B$2:$H$525,7,FALSE)<>0,VLOOKUP(UPPER(A512),Items!$B$2:$H$525,7,FALSE),\"\")","v":""},"Action Code"]
[{"$f":"VLOOKUP(UPPER(M513),Items!$A$2:$B$525,2,FALSE)","v":"N0098"},"D",null,null,1,null,null,null,null,null,{"$f":"VLOOKUP(UPPER(A513),Items!$B$2:$G$525,6)","v":"text(10)"},{"$f":"IF(VLOOKUP(UPPER(A513),Items!$B$2:$H$525,7,FALSE)<>0,VLOOKUP(UPPER(A513),Items!$B$2:$H$525,7,FALSE),\"\")","v":""},"Interconnector Id"]
[{"$f":"VLOOKUP(UPPER(M514),Items!$A$2:$B$525,2,FALSE)","v":"N0095"},"D",null,null,1,null,null,null,null,null,{"$f":"VLOOKUP(UPPER(A514),Items!$B$2:$G$525,6)","v":"text(8)"},{"$f":"IF(VLOOKUP(UPPER(A514),Items!$B$2:$H$525,7,FALSE)<>0,VLOOKUP(UPPER(A514),Items!$B$2:$H$525,7,FALSE),\"\")","v":""},"Interconnector Administrator Id"]
[{"$f":"VLOOKUP(UPPER(M515),Items!$A$2:$B$525,2,FALSE)","v":"N0097"},"D",null,null,"O",null,null,null,null,null,{"$f":"VLOOKUP(UPPER(A515),Items!$B$2:$G$525,6)","v":"text(8)"},{"$f":"IF(VLOOKUP(UPPER(A515),Items!$B$2:$H$525,7,FALSE)<>0,VLOOKUP(UPPER(A515),Items!$B$2:$H$525,7,FALSE),\"\")","v":""},"Interconnector Error Administrator Id"]
[{"$f":"VLOOKUP(UPPER(M516),Items!$A$2:$B$525,2,FALSE)","v":"N0081"},"D",null,null,1,null,null,null,null,null,{"$f":"VLOOKUP(UPPER(A516),Items!$B$2:$G$525,6)","v":"date"},{"$f":"IF(VLOOKUP(UPPER(A516),Items!$B$2:$H$525,7,FALSE)<>0,VLOOKUP(UPPER(A516),Items!$B$2:$H$525,7,FALSE),\"\")","v":""},"Effective From Date"]
[{"$f":"VLOOKUP(UPPER(M517),Items!$A$2:$B$525,2,FALSE)","v":"N0083"},"D",null,null,"O",null,null,null,null,null,{"$f":"VLOOKUP(UPPER(A517),Items!$B$2:$G$525,6)","v":"date"},{"$f":"IF(VLOOKUP(UPPER(A517),Items!$B$2:$H$525,7,FALSE)<>0,VLOOKUP(UPPER(A517),Items!$B$2:$H$525,7,FALSE),\"\")","v":""},"Effective To Date"]
[]
["R0201",{"$f":"IF(LEN(K519)>0,\"D\",IF(LEN(A519)=5,\"F\",IF(LEN(A519)=3,\"R\",\" \")))","v":"F"},"003",null,null,null,null,null,null,null,null,null,"CRA-I020 - Operations Registration Report"]
[]
["POL","R","0-*","G",null,null,null,null,null,null,null,null,"Proportion Of Losses Data"]
[{"$f":"VLOOKUP(UPPER(M522),Items!$A$2:$B$565,2,FALSE)","v":"N0339"},"D",null,null,"O",null,null,null,null,null,{"$f":"VLOOKUP(UPPER(A522),Items!$B$2:$G$565,6)","v":"text(9)"},"","Action Code"]
[{"$f":"VLOOKUP(UPPER(M523),Items!$A$2:$B$565,2,FALSE)","v":"N0178"},"D",null,null,1,null,null,null,null,null,{"$f":"VLOOKUP(UPPER(A523),Items!$B$2:$G$565,6)","v":"decimal(8,7)"},"","Proportion of Losses"]
[{"$f":"VLOOKUP(UPPER(M524),Items!$A$2:$B$565,2,FALSE)","v":"N0081"},"D",null,null,1,null,null,null,null,null,{"$f":"VLOOKUP(UPPER(A524),Items!$B$2:$G$565,6)","v":"date"},"","Effective From Date"]
["TU2","R","0-*","G",null,null,null,null,null,null,null,null,"Trading Unit Registration"]
[{"$f":"VLOOKUP(UPPER(M526),Items!$A$2:$B$565,2,FALSE)","v":"N0339"},"D",null,null,"O",null,null,null,null,null,{"$f":"VLOOKUP(UPPER(A526),Items!$B$2:$G$565,6)","v":"text(9)"},"","Action Code"]
[{"$f":"VLOOKUP(UPPER(M527),Items!$A$2:$B$565,2,FALSE)","v":"N0232"},"D",null,null,1,null,null,null,null,null,{"$f":"VLOOKUP(UPPER(A527),Items!$B$2:$G$565,6)","v":"text(30)"},"","Trading Unit Name"]
["BR3","R","0-*","G",null,null,null,null,null,null,null,null,"BM Unit Registration"]
[{"$f":"VLOOKUP(UPPER(M529),Items!$A$2:$B$565,2,FALSE)","v":"N0339"},"D",null,null,"O",null,null,null,null,null,{"$f":"VLOOKUP(UPPER(A529),Items!$B$2:$G$565,6)","v":"text(9)"},{"$f":"IF(VLOOKUP(UPPER(A529),Items!$B$2:$H$525,7,FALSE)<>0,VLOOKUP(UPPER(A529),Items!$B$2:$H$525,7,FALSE),\"\")","v":""},"Action Code"]
[{"$f":"VLOOKUP(UPPER(M530),Items!$A$2:$B$565,2,FALSE)","v":"N0034"},"D",null,null,1,null,null,null,null,null,{"$f":"VLOOKUP(UPPER(A530),Items!$B$2:$G$565,6)","v":"text(11)"},{"$f":"IF(VLOOKUP(UPPER(A530),Items!$B$2:$H$525,7,FALSE)<>0,VLOOKUP(UPPER(A530),Items!$B$2:$H$525,7,FALSE),\"\")","v":""},"BM Unit Id"]
[{"$f":"VLOOKUP(UPPER(M531),Items!$A$2:$B$565,2,FALSE)","v":"N0038"},"D",null,null,"O",null,null,null,null,null,{"$f":"VLOOKUP(UPPER(A531),Items!$B$2:$G$565,6)","v":"char"},{"$f":"IF(VLOOKUP(UPPER(A531),Items!$B$2:$H$525,7,FALSE)<>0,VLOOKUP(UPPER(A531),Items!$B$2:$H$525,7,FALSE),\"\")","v":"BM Unit Type"},"BM Unit Type"]
[{"$f":"VLOOKUP(UPPER(M532),Items!$A$2:$B$565,2,FALSE)","v":"N0127"},"D",null,null,"O",null,null,null,null,null,{"$f":"VLOOKUP(UPPER(A532),Items!$B$2:$G$565,6)","v":"text(8)"},{"$f":"IF(VLOOKUP(UPPER(A532),Items!$B$2:$H$525,7,FALSE)<>0,VLOOKUP(UPPER(A532),Items!$B$2:$H$525,7,FALSE),\"\")","v":""},"Lead Party Id"]
[{"$f":"VLOOKUP(UPPER(M533),Items!$A$2:$B$565,2,FALSE)","v":"N0150"},"D",null,null,"O",null,null,null,null,null,{"$f":"VLOOKUP(UPPER(A533),Items!$B$2:$G$565,6)","v":"text(9)"},{"$f":"IF(VLOOKUP(UPPER(A533),Items!$B$2:$H$525,7,FALSE)<>0,VLOOKUP(UPPER(A533),Items!$B$2:$H$525,7,FALSE),\"\")","v":""},"NGC BM Unit Name"]
[{"$f":"VLOOKUP(UPPER(M534),Items!$A$2:$B$565,2,FALSE)","v":"N0036"},"D",null,null,1,null,null,null,null,null,{"$f":"VLOOKUP(UPPER(A534),Items!$B$2:$G$565,6)","v":"text(30)"},{"$f":"IF(VLOOKUP(UPPER(A534),Items!$B$2:$H$525,7,FALSE)<>0,VLOOKUP(UPPER(A534),Items!$B$2:$H$525,7,FALSE),\"\")","v":""},"BM Unit Name"]
[{"$f":"VLOOKUP(UPPER(M535),Items!$A$2:$B$565,2,FALSE)","v":"N0116"},"D",null,null,"O",null,null,null,null,null,{"$f":"VLOOKUP(UPPER(A535),Items!$B$2:$G$565,6)","v":"text(2)"},{"$f":"IF(VLOOKUP(UPPER(A535),Items!$B$2:$H$525,7,FALSE)<>0,VLOOKUP(UPPER(A535),Items!$B$2:$H$525,7,FALSE),\"\")","v":""},"GSP Group Id","If BM Unit Type is 'E' or 'G' or 'S'"]
[{"$f":"VLOOKUP(UPPER(M536),Items!$A$2:$B$565,2,FALSE)","v":"N0117"},"D",null,null,"O",null,null,null,null,null,{"$f":"VLOOKUP(UPPER(A536),Items!$B$2:$G$565,6)","v":"text(30)"},{"$f":"IF(VLOOKUP(UPPER(A536),Items!$B$2:$H$525,7,FALSE)<>0,VLOOKUP(UPPER(A536),Items!$B$2:$H$525,7,FALSE),\"\")","v":""},"GSP Group Name"]
[{"$f":"VLOOKUP(UPPER(M537),Items!$A$2:$B$565,2,FALSE)","v":"N0232"},"D",null,null,"O",null,null,null,null,null,{"$f":"VLOOKUP(UPPER(A537),Items!$B$2:$G$565,6)","v":"text(30)"},{"$f":"IF(VLOOKUP(UPPER(A537),Items!$B$2:$H$525,7,FALSE)<>0,VLOOKUP(UPPER(A537),Items!$B$2:$H$525,7,FALSE),\"\")","v":""},"Trading Unit Name"]
[{"$f":"VLOOKUP(UPPER(M538),Items!$A$2:$B$565,2,FALSE)","v":"N0115"},"D",null,null,"O",null,null,null,null,null,{"$f":"VLOOKUP(UPPER(A538),Items!$B$2:$G$565,6)","v":"decimal(13,3)"},{"$f":"IF(VLOOKUP(UPPER(A538),Items!$B$2:$H$525,7,FALSE)<>0,VLOOKUP(UPPER(A538),Items!$B$2:$H$525,7,FALSE),\"\")","v":""},"Generation Capacity","MW"]
[{"$f":"VLOOKUP(UPPER(M539),Items!$A$2:$B$565,2,FALSE)","v":"N0064"},"D",null,null,"O",null,null,null,null,null,{"$f":"VLOOKUP(UPPER(A539),Items!$B$2:$G$565,6)","v":"decimal(13,3)"},{"$f":"IF(VLOOKUP(UPPER(A539),Items!$B$2:$H$525,7,FALSE)<>0,VLOOKUP(UPPER(A539),Items!$B$2:$H$525,7,FALSE),\"\")","v":""},"Demand Capacity","MW"]
[{"$f":"VLOOKUP(UPPER(M540),Items!$A$2:$B$565,2,FALSE)","v":"N0471"},"D",null,null,"O",null,null,null,null,null,{"$f":"VLOOKUP(UPPER(A540),Items!$B$2:$G$565,6)","v":"decimal(11,7)"},{"$f":"IF(VLOOKUP(UPPER(A540),Items!$B$2:$H$525,7,FALSE)<>0,VLOOKUP(UPPER(A540),Items!$B$2:$H$525,7,FALSE),\"\")","v":""},"Credit Assessment Load Factor","Reported as 0.0 for Interconnectors CALF value in business table is decimal(11,7) and capped in flow to decimal(8,7)."]
[{"$f":"VLOOKUP(UPPER(M541),Items!$A$2:$B$565,2,FALSE)","v":"N0033"},"D",null,null,"O",null,null,null,null,null,{"$f":"VLOOKUP(UPPER(A541),Items!$B$2:$G$565,6)","v":"decimal(13,3)"},{"$f":"IF(VLOOKUP(UPPER(A541),Items!$B$2:$H$525,7,FALSE)<>0,VLOOKUP(UPPER(A541),Items!$B$2:$H$525,7,FALSE),\"\")","v":""},"BM Unit Credit Assessment Import Capability"]
[{"$f":"VLOOKUP(UPPER(M542),Items!$A$2:$B$565,2,FALSE)","v":"N0032"},"D",null,null,"O",null,null,null,null,null,{"$f":"VLOOKUP(UPPER(A542),Items!$B$2:$G$565,6)","v":"decimal(13,3)"},{"$f":"IF(VLOOKUP(UPPER(A542),Items!$B$2:$H$525,7,FALSE)<>0,VLOOKUP(UPPER(A542),Items!$B$2:$H$525,7,FALSE),\"\")","v":""},"BM Unit Credit Assessment Export Capability"]
[{"$f":"VLOOKUP(UPPER(M543),Items!$A$2:$B$565,2,FALSE)","v":"N0177"},"D",null,null,"O",null,null,null,null,null,{"$f":"VLOOKUP(UPPER(A543),Items!$B$2:$G$565,6)","v":"char"},{"$f":"IF(VLOOKUP(UPPER(A543),Items!$B$2:$H$525,7,FALSE)<>0,VLOOKUP(UPPER(A543),Items!$B$2:$H$525,7,FALSE),\"\")","v":"P/C Flag"},"Production/Consumption Flag"]
[{"$f":"VLOOKUP(UPPER(M544),Items!$A$2:$B$565,2,FALSE)","v":"N0472"},"D",null,null,"O",null,null,null,null,null,{"$f":"VLOOKUP(UPPER(A544),Items!$B$2:$G$565,6)","v":"char"},{"$f":"IF(VLOOKUP(UPPER(A544),Items!$B$2:$H$525,7,FALSE)<>0,VLOOKUP(UPPER(A544),Items!$B$2:$H$525,7,FALSE),\"\")","v":"P/C Status"},"Production/Consumption Status"]
[{"$f":"VLOOKUP(UPPER(M545),Items!$A$2:$B$565,2,FALSE)","v":"N0470"},"D",null,null,"O",null,null,null,null,null,{"$f":"VLOOKUP(UPPER(A545),Items!$B$2:$G$565,6)","v":"boolean"},{"$f":"IF(VLOOKUP(UPPER(A545),Items!$B$2:$H$525,7,FALSE)<>0,VLOOKUP(UPPER(A545),Items!$B$2:$H$525,7,FALSE),\"\")","v":""},"Exempt Export Flag"]
[{"$f":"VLOOKUP(UPPER(M546),Items!$A$2:$B$565,2,FALSE)","v":"N0469"},"D",null,null,"O",null,null,null,null,null,{"$f":"VLOOKUP(UPPER(A546),Items!$B$2:$G$565,6)","v":"boolean"},{"$f":"IF(VLOOKUP(UPPER(A546),Items!$B$2:$H$525,7,FALSE)<>0,VLOOKUP(UPPER(A546),Items!$B$2:$H$525,7,FALSE),\"\")","v":""},"Base TU Flag"]
[{"$f":"VLOOKUP(UPPER(M547),Items!$A$2:$B$565,2,FALSE)","v":"N0233"},"D",null,null,"O",null,null,null,null,null,{"$f":"VLOOKUP(UPPER(A547),Items!$B$2:$G$565,6)","v":"decimal(8,7)"},{"$f":"IF(VLOOKUP(UPPER(A547),Items!$B$2:$H$525,7,FALSE)<>0,VLOOKUP(UPPER(A547),Items!$B$2:$H$525,7,FALSE),\"\")","v":""},"Transmission Loss Factor"]
[{"$f":"VLOOKUP(UPPER(M548),Items!$A$2:$B$565,2,FALSE)","v":"N0110"},"D",null,null,"O",null,null,null,null,null,{"$f":"VLOOKUP(UPPER(A548),Items!$B$2:$G$565,6)","v":"boolean"},{"$f":"IF(VLOOKUP(UPPER(A548),Items!$B$2:$H$525,7,FALSE)<>0,VLOOKUP(UPPER(A548),Items!$B$2:$H$525,7,FALSE),\"\")","v":""},"FPN Flag"]
[{"$f":"VLOOKUP(UPPER(M549),Items!$A$2:$B$565,2,FALSE)","v":"N0511"},"D",null,null,"O",null,null,null,null,null,{"$f":"VLOOKUP(UPPER(A549),Items!$B$2:$G$565,6)","v":"boolean"},null,"Manual Credit Qualifying Flag"]
[{"$f":"VLOOKUP(UPPER(M550),Items!$A$2:$B$565,2,FALSE)","v":"N0512"},"D",null,null,"O",null,null,null,null,null,{"$f":"VLOOKUP(UPPER(A550),Items!$B$2:$G$565,6)","v":"boolean"},null,"Credit Qualifying Status"]
[{"$f":"VLOOKUP(UPPER(M551),Items!$A$2:$B$565,2,FALSE)","v":"N0098"},"D",null,null,"O",null,null,null,null,null,{"$f":"VLOOKUP(UPPER(A551),Items!$B$2:$G$565,6)","v":"text(10)"},{"$f":"IF(VLOOKUP(UPPER(A551),Items!$B$2:$H$525,7,FALSE)<>0,VLOOKUP(UPPER(A551),Items!$B$2:$H$525,7,FALSE),\"\")","v":""},"Interconnector Id","If BM Unit Type is 'I'"]
[{"$f":"VLOOKUP(UPPER(M552),Items!$A$2:$B$565,2,FALSE)","v":"N0081"},"D",null,null,1,null,null,null,null,null,{"$f":"VLOOKUP(UPPER(A552),Items!$B$2:$G$565,6)","v":"date"},{"$f":"IF(VLOOKUP(UPPER(A552),Items!$B$2:$H$525,7,FALSE)<>0,VLOOKUP(UPPER(A552),Items!$B$2:$H$525,7,FALSE),\"\")","v":""},"Effective From Date"]
[{"$f":"VLOOKUP(UPPER(M553),Items!$A$2:$B$565,2,FALSE)","v":"N0083"},"D",null,null,"O",null,null,null,null,null,{"$f":"VLOOKUP(UPPER(A553),Items!$B$2:$G$565,6)","v":"date"},{"$f":"IF(VLOOKUP(UPPER(A553),Items!$B$2:$H$525,7,FALSE)<>0,VLOOKUP(UPPER(A553),Items!$B$2:$H$525,7,FALSE),\"\")","v":""},"Effective To Date"]
["JBU","R","0-*","G",null,null,null,null,null,null,null,null,"BM Unit Group Details"]
[{"$f":"VLOOKUP(UPPER(M555),Items!$A$2:$B$565,2,FALSE)","v":"N0339"},"D",null,null,"O",null,null,null,null,null,{"$f":"VLOOKUP(UPPER(A555),Items!$B$2:$G$565,6)","v":"text(9)"},{"$f":"IF(VLOOKUP(UPPER(A555),Items!$B$2:$H$525,7,FALSE)<>0,VLOOKUP(UPPER(A555),Items!$B$2:$H$525,7,FALSE),\"\")","v":""},"Action Code"]
[{"$f":"VLOOKUP(UPPER(M556),Items!$A$2:$B$565,2,FALSE)","v":"N0126"},"D",null,null,1,null,null,null,null,null,{"$f":"VLOOKUP(UPPER(A556),Items!$B$2:$G$565,6)","v":"text(11)"},{"$f":"IF(VLOOKUP(UPPER(A556),Items!$B$2:$H$525,7,FALSE)<>0,VLOOKUP(UPPER(A556),Items!$B$2:$H$525,7,FALSE),\"\")","v":""},"Joint BM Unit Id"]
[{"$f":"VLOOKUP(UPPER(M557),Items!$A$2:$B$565,2,FALSE)","v":"N0081"},"D",null,null,1,null,null,null,null,null,{"$f":"VLOOKUP(UPPER(A557),Items!$B$2:$G$565,6)","v":"date"},{"$f":"IF(VLOOKUP(UPPER(A557),Items!$B$2:$H$525,7,FALSE)<>0,VLOOKUP(UPPER(A557),Items!$B$2:$H$525,7,FALSE),\"\")","v":""},"Effective From Date"]
[{"$f":"VLOOKUP(UPPER(M558),Items!$A$2:$B$565,2,FALSE)","v":"N0083"},"D",null,null,"O",null,null,null,null,null,{"$f":"VLOOKUP(UPPER(A558),Items!$B$2:$G$565,6)","v":"date"},{"$f":"IF(VLOOKUP(UPPER(A558),Items!$B$2:$H$525,7,FALSE)<>0,VLOOKUP(UPPER(A558),Items!$B$2:$H$525,7,FALSE),\"\")","v":""},"Effective To Date"]
["JB3","R","0-*",null,"G",null,null,null,null,null,null,null,"BM Unit Group Member"]
[{"$f":"VLOOKUP(UPPER(M560),Items!$A$2:$B$565,2,FALSE)","v":"N0339"},"D",null,null,null,"O",null,null,null,null,{"$f":"VLOOKUP(UPPER(A560),Items!$B$2:$G$565,6)","v":"text(9)"},{"$f":"IF(VLOOKUP(UPPER(A560),Items!$B$2:$H$525,7,FALSE)<>0,VLOOKUP(UPPER(A560),Items!$B$2:$H$525,7,FALSE),\"\")","v":""},"Action Code"]
[{"$f":"VLOOKUP(UPPER(M561),Items!$A$2:$B$565,2,FALSE)","v":"N0034"},"D",null,null,null,1,null,null,null,null,{"$f":"VLOOKUP(UPPER(A561),Items!$B$2:$G$565,6)","v":"text(11)"},{"$f":"IF(VLOOKUP(UPPER(A561),Items!$B$2:$H$525,7,FALSE)<>0,VLOOKUP(UPPER(A561),Items!$B$2:$H$525,7,FALSE),\"\")","v":""},"BM Unit Id"]
["IRD","R","0-*","G",null,null,null,null,null,null,null,null,"Interconnector Registration Details"]
[{"$f":"VLOOKUP(UPPER(M563),Items!$A$2:$B$565,2,FALSE)","v":"N0339"},"D",null,null,"O",null,null,null,null,null,{"$f":"VLOOKUP(UPPER(A563),Items!$B$2:$G$565,6)","v":"text(9)"},{"$f":"IF(VLOOKUP(UPPER(A563),Items!$B$2:$H$525,7,FALSE)<>0,VLOOKUP(UPPER(A563),Items!$B$2:$H$525,7,FALSE),\"\")","v":""},"Action Code"]
[{"$f":"VLOOKUP(UPPER(M564),Items!$A$2:$B$565,2,FALSE)","v":"N0098"},"D",null,null,1,null,null,null,null,null,{"$f":"VLOOKUP(UPPER(A564),Items!$B$2:$G$565,6)","v":"text(10)"},{"$f":"IF(VLOOKUP(UPPER(A564),Items!$B$2:$H$525,7,FALSE)<>0,VLOOKUP(UPPER(A564),Items!$B$2:$H$525,7,FALSE),\"\")","v":""},"Interconnector Id"]
[{"$f":"VLOOKUP(UPPER(M565),Items!$A$2:$B$565,2,FALSE)","v":"N0095"},"D",null,null,1,null,null,null,null,null,{"$f":"VLOOKUP(UPPER(A565),Items!$B$2:$G$565,6)","v":"text(8)"},{"$f":"IF(VLOOKUP(UPPER(A565),Items!$B$2:$H$525,7,FALSE)<>0,VLOOKUP(UPPER(A565),Items!$B$2:$H$525,7,FALSE),\"\")","v":""},"Interconnector Administrator Id"]
[{"$f":"VLOOKUP(UPPER(M566),Items!$A$2:$B$565,2,FALSE)","v":"N0097"},"D",null,null,"O",null,null,null,null,null,{"$f":"VLOOKUP(UPPER(A566),Items!$B$2:$G$565,6)","v":"text(8)"},{"$f":"IF(VLOOKUP(UPPER(A566),Items!$B$2:$H$525,7,FALSE)<>0,VLOOKUP(UPPER(A566),Items!$B$2:$H$525,7,FALSE),\"\")","v":""},"Interconnector Error Administrator Id"]
[{"$f":"VLOOKUP(UPPER(M567),Items!$A$2:$B$565,2,FALSE)","v":"N0081"},"D",null,null,1,null,null,null,null,null,{"$f":"VLOOKUP(UPPER(A567),Items!$B$2:$G$565,6)","v":"date"},{"$f":"IF(VLOOKUP(UPPER(A567),Items!$B$2:$H$525,7,FALSE)<>0,VLOOKUP(UPPER(A567),Items!$B$2:$H$525,7,FALSE),\"\")","v":""},"Effective From Date"]
[{"$f":"VLOOKUP(UPPER(M568),Items!$A$2:$B$565,2,FALSE)","v":"N0083"},"D",null,null,"O",null,null,null,null,null,{"$f":"VLOOKUP(UPPER(A568),Items!$B$2:$G$565,6)","v":"date"},{"$f":"IF(VLOOKUP(UPPER(A568),Items!$B$2:$H$525,7,FALSE)<>0,VLOOKUP(UPPER(A568),Items!$B$2:$H$525,7,FALSE),\"\")","v":""},"Effective To Date"]
[]
[]
["R0201",{"$f":"IF(LEN(K571)>0,\"D\",IF(LEN(A571)=5,\"F\",IF(LEN(A571)=3,\"R\",\" \")))","v":"F"},"004",null,null,null,null,null,null,null,null,null,"CRA-I020 - Operations Registration Report"]
[]
["POL","R","0-*","G",null,null,null,null,null,null,null,null,"Proportion Of Losses Data"]
[{"$f":"VLOOKUP(UPPER(M574),Items!$A$2:$B$565,2,FALSE)","v":"N0339"},"D",null,null,"O",null,null,null,null,null,{"$f":"VLOOKUP(UPPER(A574),Items!$B$2:$G$565,6)","v":"text(9)"},"","Action Code"]
[{"$f":"VLOOKUP(UPPER(M575),Items!$A$2:$B$565,2,FALSE)","v":"N0178"},"D",null,null,1,null,null,null,null,null,{"$f":"VLOOKUP(UPPER(A575),Items!$B$2:$G$565,6)","v":"decimal(8,7)"},"","Proportion of Losses"]
[{"$f":"VLOOKUP(UPPER(M576),Items!$A$2:$B$565,2,FALSE)","v":"N0081"},"D",null,null,1,null,null,null,null,null,{"$f":"VLOOKUP(UPPER(A576),Items!$B$2:$G$565,6)","v":"date"},"","Effective From Date"]
["TU2","R","0-*","G",null,null,null,null,null,null,null,null,"Trading Unit Registration"]
[{"$f":"VLOOKUP(UPPER(M578),Items!$A$2:$B$565,2,FALSE)","v":"N0339"},"D",null,null,"O",null,null,null,null,null,{"$f":"VLOOKUP(UPPER(A578),Items!$B$2:$G$565,6)","v":"text(9)"},"","Action Code"]
[{"$f":"VLOOKUP(UPPER(M579),Items!$A$2:$B$565,2,FALSE)","v":"N0232"},"D",null,null,1,null,null,null,null,null,{"$f":"VLOOKUP(UPPER(A579),Items!$B$2:$G$565,6)","v":"text(30)"},"","Trading Unit Name"]
["BR3","R","0-*","G",null,null,null,null,null,null,null,null,"BM Unit Registration"]
[{"$f":"VLOOKUP(UPPER(M581),Items!$A$2:$B$565,2,FALSE)","v":"N0339"},"D",null,null,"O",null,null,null,null,null,{"$f":"VLOOKUP(UPPER(A581),Items!$B$2:$G$565,6)","v":"text(9)"},{"$f":"IF(VLOOKUP(UPPER(A581),Items!$B$2:$H$525,7,FALSE)<>0,VLOOKUP(UPPER(A581),Items!$B$2:$H$525,7,FALSE),\"\")","v":""},"Action Code"]
[{"$f":"VLOOKUP(UPPER(M582),Items!$A$2:$B$565,2,FALSE)","v":"N0034"},"D",null,null,1,null,null,null,null,null,{"$f":"VLOOKUP(UPPER(A582),Items!$B$2:$G$565,6)","v":"text(11)"},{"$f":"IF(VLOOKUP(UPPER(A582),Items!$B$2:$H$525,7,FALSE)<>0,VLOOKUP(UPPER(A582),Items!$B$2:$H$525,7,FALSE),\"\")","v":""},"BM Unit Id"]
[{"$f":"VLOOKUP(UPPER(M583),Items!$A$2:$B$565,2,FALSE)","v":"N0038"},"D",null,null,"O",null,null,null,null,null,{"$f":"VLOOKUP(UPPER(A583),Items!$B$2:$G$565,6)","v":"char"},{"$f":"IF(VLOOKUP(UPPER(A583),Items!$B$2:$H$525,7,FALSE)<>0,VLOOKUP(UPPER(A583),Items!$B$2:$H$525,7,FALSE),\"\")","v":"BM Unit Type"},"BM Unit Type"]
[{"$f":"VLOOKUP(UPPER(M584),Items!$A$2:$B$565,2,FALSE)","v":"N0127"},"D",null,null,"O",null,null,null,null,null,{"$f":"VLOOKUP(UPPER(A584),Items!$B$2:$G$565,6)","v":"text(8)"},{"$f":"IF(VLOOKUP(UPPER(A584),Items!$B$2:$H$525,7,FALSE)<>0,VLOOKUP(UPPER(A584),Items!$B$2:$H$525,7,FALSE),\"\")","v":""},"Lead Party Id"]
[{"$f":"VLOOKUP(UPPER(M585),Items!$A$2:$B$565,2,FALSE)","v":"N0150"},"D",null,null,"O",null,null,null,null,null,{"$f":"VLOOKUP(UPPER(A585),Items!$B$2:$G$565,6)","v":"text(9)"},{"$f":"IF(VLOOKUP(UPPER(A585),Items!$B$2:$H$525,7,FALSE)<>0,VLOOKUP(UPPER(A585),Items!$B$2:$H$525,7,FALSE),\"\")","v":""},"NGC BM Unit Name"]
[{"$f":"VLOOKUP(UPPER(M586),Items!$A$2:$B$565,2,FALSE)","v":"N0036"},"D",null,null,1,null,null,null,null,null,{"$f":"VLOOKUP(UPPER(A586),Items!$B$2:$G$565,6)","v":"text(30)"},{"$f":"IF(VLOOKUP(UPPER(A586),Items!$B$2:$H$525,7,FALSE)<>0,VLOOKUP(UPPER(A586),Items!$B$2:$H$525,7,FALSE),\"\")","v":""},"BM Unit Name"]
[{"$f":"VLOOKUP(UPPER(M587),Items!$A$2:$B$565,2,FALSE)","v":"N0116"},"D",null,null,"O",null,null,null,null,null,{"$f":"VLOOKUP(UPPER(A587),Items!$B$2:$G$565,6)","v":"text(2)"},{"$f":"IF(VLOOKUP(UPPER(A587),Items!$B$2:$H$525,7,FALSE)<>0,VLOOKUP(UPPER(A587),Items!$B$2:$H$525,7,FALSE),\"\")","v":""},"GSP Group Id","If BM Unit Type is 'E' or 'G' or 'S'"]
[{"$f":"VLOOKUP(UPPER(M588),Items!$A$2:$B$565,2,FALSE)","v":"N0117"},"D",null,null,"O",null,null,null,null,null,{"$f":"VLOOKUP(UPPER(A588),Items!$B$2:$G$565,6)","v":"text(30)"},{"$f":"IF(VLOOKUP(UPPER(A588),Items!$B$2:$H$525,7,FALSE)<>0,VLOOKUP(UPPER(A588),Items!$B$2:$H$525,7,FALSE),\"\")","v":""},"GSP Group Name"]
[{"$f":"VLOOKUP(UPPER(M589),Items!$A$2:$B$565,2,FALSE)","v":"N0232"},"D",null,null,"O",null,null,null,null,null,{"$f":"VLOOKUP(UPPER(A589),Items!$B$2:$G$565,6)","v":"text(30)"},{"$f":"IF(VLOOKUP(UPPER(A589),Items!$B$2:$H$525,7,FALSE)<>0,VLOOKUP(UPPER(A589),Items!$B$2:$H$525,7,FALSE),\"\")","v":""},"Trading Unit Name"]
[{"$f":"VLOOKUP(UPPER(M590),Items!$A$2:$B$565,2,FALSE)","v":"N0115"},"D",null,null,"O",null,null,null,null,null,{"$f":"VLOOKUP(UPPER(A590),Items!$B$2:$G$565,6)","v":"decimal(13,3)"},{"$f":"IF(VLOOKUP(UPPER(A590),Items!$B$2:$H$525,7,FALSE)<>0,VLOOKUP(UPPER(A590),Items!$B$2:$H$525,7,FALSE),\"\")","v":""},"Generation Capacity","MW"]
[{"$f":"VLOOKUP(UPPER(M591),Items!$A$2:$B$565,2,FALSE)","v":"N0064"},"D",null,null,"O",null,null,null,null,null,{"$f":"VLOOKUP(UPPER(A591),Items!$B$2:$G$565,6)","v":"decimal(13,3)"},{"$f":"IF(VLOOKUP(UPPER(A591),Items!$B$2:$H$525,7,FALSE)<>0,VLOOKUP(UPPER(A591),Items!$B$2:$H$525,7,FALSE),\"\")","v":""},"Demand Capacity","MW"]
[{"$f":"VLOOKUP(UPPER(M592),Items!$A$2:$B$565,2,FALSE)","v":"N0471"},"D",null,null,"O",null,null,null,null,null,{"$f":"VLOOKUP(UPPER(A592),Items!$B$2:$G$565,6)","v":"decimal(11,7)"},{"$f":"IF(VLOOKUP(UPPER(A592),Items!$B$2:$H$525,7,FALSE)<>0,VLOOKUP(UPPER(A592),Items!$B$2:$H$525,7,FALSE),\"\")","v":""},"Credit Assessment Load Factor","Reported as 0.0 for Interconnectors CALF value in business table is decimal(11,7) and capped in flow to decimal(8,7)."]
[{"$f":"VLOOKUP(UPPER(M593),Items!$A$2:$B$529,2,FALSE)","v":"N0555"},"D",null,null,"O",null,null,null,null,null,{"$f":"VLOOKUP(UPPER(A593),Items!$B$2:$G$529,6)","v":"decimal(11,7)"},{"$f":"IF(VLOOKUP(UPPER(A593),Items!$B$2:$H$529,7,FALSE)<>0,VLOOKUP(UPPER(A593),Items!$B$2:$H$529,7,FALSE),\"\")","v":""},"Supplier Export Credit Assessment Load Factor","SECALF value in business table is decimal(11,7) and capped in flow to decimal(8,7)."]
[{"$f":"VLOOKUP(UPPER(M594),Items!$A$2:$B$565,2,FALSE)","v":"N0033"},"D",null,null,"O",null,null,null,null,null,{"$f":"VLOOKUP(UPPER(A594),Items!$B$2:$G$565,6)","v":"decimal(13,3)"},{"$f":"IF(VLOOKUP(UPPER(A594),Items!$B$2:$H$525,7,FALSE)<>0,VLOOKUP(UPPER(A594),Items!$B$2:$H$525,7,FALSE),\"\")","v":""},"BM Unit Credit Assessment Import Capability"]
[{"$f":"VLOOKUP(UPPER(M595),Items!$A$2:$B$565,2,FALSE)","v":"N0032"},"D",null,null,"O",null,null,null,null,null,{"$f":"VLOOKUP(UPPER(A595),Items!$B$2:$G$565,6)","v":"decimal(13,3)"},{"$f":"IF(VLOOKUP(UPPER(A595),Items!$B$2:$H$525,7,FALSE)<>0,VLOOKUP(UPPER(A595),Items!$B$2:$H$525,7,FALSE),\"\")","v":""},"BM Unit Credit Assessment Export Capability"]
[{"$f":"VLOOKUP(UPPER(M596),Items!$A$2:$B$565,2,FALSE)","v":"N0177"},"D",null,null,"O",null,null,null,null,null,{"$f":"VLOOKUP(UPPER(A596),Items!$B$2:$G$565,6)","v":"char"},{"$f":"IF(VLOOKUP(UPPER(A596),Items!$B$2:$H$525,7,FALSE)<>0,VLOOKUP(UPPER(A596),Items!$B$2:$H$525,7,FALSE),\"\")","v":"P/C Flag"},"Production/Consumption Flag"]
[{"$f":"VLOOKUP(UPPER(M597),Items!$A$2:$B$565,2,FALSE)","v":"N0472"},"D",null,null,"O",null,null,null,null,null,{"$f":"VLOOKUP(UPPER(A597),Items!$B$2:$G$565,6)","v":"char"},{"$f":"IF(VLOOKUP(UPPER(A597),Items!$B$2:$H$525,7,FALSE)<>0,VLOOKUP(UPPER(A597),Items!$B$2:$H$525,7,FALSE),\"\")","v":"P/C Status"},"Production/Consumption Status"]
[{"$f":"VLOOKUP(UPPER(M598),Items!$A$2:$B$565,2,FALSE)","v":"N0470"},"D",null,null,"O",null,null,null,null,null,{"$f":"VLOOKUP(UPPER(A598),Items!$B$2:$G$565,6)","v":"boolean"},{"$f":"IF(VLOOKUP(UPPER(A598),Items!$B$2:$H$525,7,FALSE)<>0,VLOOKUP(UPPER(A598),Items!$B$2:$H$525,7,FALSE),\"\")","v":""},"Exempt Export Flag"]
[{"$f":"VLOOKUP(UPPER(M599),Items!$A$2:$B$565,2,FALSE)","v":"N0469"},"D",null,null,"O",null,null,null,null,null,{"$f":"VLOOKUP(UPPER(A599),Items!$B$2:$G$565,6)","v":"boolean"},{"$f":"IF(VLOOKUP(UPPER(A599),Items!$B$2:$H$525,7,FALSE)<>0,VLOOKUP(UPPER(A599),Items!$B$2:$H$525,7,FALSE),\"\")","v":""},"Base TU Flag"]
[{"$f":"VLOOKUP(UPPER(M600),Items!$A$2:$B$565,2,FALSE)","v":"N0233"},"D",null,null,"O",null,null,null,null,null,{"$f":"VLOOKUP(UPPER(A600),Items!$B$2:$G$565,6)","v":"decimal(8,7)"},{"$f":"IF(VLOOKUP(UPPER(A600),Items!$B$2:$H$525,7,FALSE)<>0,VLOOKUP(UPPER(A600),Items!$B$2:$H$525,7,FALSE),\"\")","v":""},"Transmission Loss Factor"]
[{"$f":"VLOOKUP(UPPER(M601),Items!$A$2:$B$565,2,FALSE)","v":"N0110"},"D",null,null,"O",null,null,null,null,null,{"$f":"VLOOKUP(UPPER(A601),Items!$B$2:$G$565,6)","v":"boolean"},{"$f":"IF(VLOOKUP(UPPER(A601),Items!$B$2:$H$525,7,FALSE)<>0,VLOOKUP(UPPER(A601),Items!$B$2:$H$525,7,FALSE),\"\")","v":""},"FPN Flag"]
[{"$f":"VLOOKUP(UPPER(M602),Items!$A$2:$B$565,2,FALSE)","v":"N0511"},"D",null,null,"O",null,null,null,null,null,{"$f":"VLOOKUP(UPPER(A602),Items!$B$2:$G$565,6)","v":"boolean"},null,"Manual Credit Qualifying Flag"]
[{"$f":"VLOOKUP(UPPER(M603),Items!$A$2:$B$565,2,FALSE)","v":"N0512"},"D",null,null,"O",null,null,null,null,null,{"$f":"VLOOKUP(UPPER(A603),Items!$B$2:$G$565,6)","v":"boolean"},null,"Credit Qualifying Status"]
[{"$f":"VLOOKUP(UPPER(M604),Items!$A$2:$B$565,2,FALSE)","v":"N0098"},"D",null,null,"O",null,null,null,null,null,{"$f":"VLOOKUP(UPPER(A604),Items!$B$2:$G$565,6)","v":"text(10)"},{"$f":"IF(VLOOKUP(UPPER(A604),Items!$B$2:$H$525,7,FALSE)<>0,VLOOKUP(UPPER(A604),Items!$B$2:$H$525,7,FALSE),\"\")","v":""},"Interconnector Id","If BM Unit Type is 'I'"]
[{"$f":"VLOOKUP(UPPER(M605),Items!$A$2:$B$565,2,FALSE)","v":"N0081"},"D",null,null,1,null,null,null,null,null,{"$f":"VLOOKUP(UPPER(A605),Items!$B$2:$G$565,6)","v":"date"},{"$f":"IF(VLOOKUP(UPPER(A605),Items!$B$2:$H$525,7,FALSE)<>0,VLOOKUP(UPPER(A605),Items!$B$2:$H$525,7,FALSE),\"\")","v":""},"Effective From Date"]
[{"$f":"VLOOKUP(UPPER(M606),Items!$A$2:$B$565,2,FALSE)","v":"N0083"},"D",null,null,"O",null,null,null,null,null,{"$f":"VLOOKUP(UPPER(A606),Items!$B$2:$G$565,6)","v":"date"},{"$f":"IF(VLOOKUP(UPPER(A606),Items!$B$2:$H$525,7,FALSE)<>0,VLOOKUP(UPPER(A606),Items!$B$2:$H$525,7,FALSE),\"\")","v":""},"Effective To Date"]
["JBU","R","0-*","G",null,null,null,null,null,null,null,null,"BM Unit Group Details"]
[{"$f":"VLOOKUP(UPPER(M608),Items!$A$2:$B$565,2,FALSE)","v":"N0339"},"D",null,null,"O",null,null,null,null,null,{"$f":"VLOOKUP(UPPER(A608),Items!$B$2:$G$565,6)","v":"text(9)"},{"$f":"IF(VLOOKUP(UPPER(A608),Items!$B$2:$H$525,7,FALSE)<>0,VLOOKUP(UPPER(A608),Items!$B$2:$H$525,7,FALSE),\"\")","v":""},"Action Code"]
[{"$f":"VLOOKUP(UPPER(M609),Items!$A$2:$B$565,2,FALSE)","v":"N0126"},"D",null,null,1,null,null,null,null,null,{"$f":"VLOOKUP(UPPER(A609),Items!$B$2:$G$565,6)","v":"text(11)"},{"$f":"IF(VLOOKUP(UPPER(A609),Items!$B$2:$H$525,7,FALSE)<>0,VLOOKUP(UPPER(A609),Items!$B$2:$H$525,7,FALSE),\"\")","v":""},"Joint BM Unit Id"]
[{"$f":"VLOOKUP(UPPER(M610),Items!$A$2:$B$565,2,FALSE)","v":"N0081"},"D",null,null,1,null,null,null,null,null,{"$f":"VLOOKUP(UPPER(A610),Items!$B$2:$G$565,6)","v":"date"},{"$f":"IF(VLOOKUP(UPPER(A610),Items!$B$2:$H$525,7,FALSE)<>0,VLOOKUP(UPPER(A610),Items!$B$2:$H$525,7,FALSE),\"\")","v":""},"Effective From Date"]
[{"$f":"VLOOKUP(UPPER(M611),Items!$A$2:$B$565,2,FALSE)","v":"N0083"},"D",null,null,"O",null,null,null,null,null,{"$f":"VLOOKUP(UPPER(A611),Items!$B$2:$G$565,6)","v":"date"},{"$f":"IF(VLOOKUP(UPPER(A611),Items!$B$2:$H$525,7,FALSE)<>0,VLOOKUP(UPPER(A611),Items!$B$2:$H$525,7,FALSE),\"\")","v":""},"Effective To Date"]
["JB3","R","0-*",null,"G",null,null,null,null,null,null,null,"BM Unit Group Member"]
[{"$f":"VLOOKUP(UPPER(M613),Items!$A$2:$B$565,2,FALSE)","v":"N0339"},"D",null,null,null,"O",null,null,null,null,{"$f":"VLOOKUP(UPPER(A613),Items!$B$2:$G$565,6)","v":"text(9)"},{"$f":"IF(VLOOKUP(UPPER(A613),Items!$B$2:$H$525,7,FALSE)<>0,VLOOKUP(UPPER(A613),Items!$B$2:$H$525,7,FALSE),\"\")","v":""},"Action Code"]
[{"$f":"VLOOKUP(UPPER(M614),Items!$A$2:$B$565,2,FALSE)","v":"N0034"},"D",null,null,null,1,null,null,null,null,{"$f":"VLOOKUP(UPPER(A614),Items!$B$2:$G$565,6)","v":"text(11)"},{"$f":"IF(VLOOKUP(UPPER(A614),Items!$B$2:$H$525,7,FALSE)<>0,VLOOKUP(UPPER(A614),Items!$B$2:$H$525,7,FALSE),\"\")","v":""},"BM Unit Id"]
["IRD","R","0-*","G",null,null,null,null,null,null,null,null,"Interconnector Registration Details"]
[{"$f":"VLOOKUP(UPPER(M616),Items!$A$2:$B$565,2,FALSE)","v":"N0339"},"D",null,null,"O",null,null,null,null,null,{"$f":"VLOOKUP(UPPER(A616),Items!$B$2:$G$565,6)","v":"text(9)"},{"$f":"IF(VLOOKUP(UPPER(A616),Items!$B$2:$H$525,7,FALSE)<>0,VLOOKUP(UPPER(A616),Items!$B$2:$H$525,7,FALSE),\"\")","v":""},"Action Code"]
[{"$f":"VLOOKUP(UPPER(M617),Items!$A$2:$B$565,2,FALSE)","v":"N0098"},"D",null,null,1,null,null,null,null,null,{"$f":"VLOOKUP(UPPER(A617),Items!$B$2:$G$565,6)","v":"text(10)"},{"$f":"IF(VLOOKUP(UPPER(A617),Items!$B$2:$H$525,7,FALSE)<>0,VLOOKUP(UPPER(A617),Items!$B$2:$H$525,7,FALSE),\"\")","v":""},"Interconnector Id"]
[{"$f":"VLOOKUP(UPPER(M618),Items!$A$2:$B$565,2,FALSE)","v":"N0095"},"D",null,null,1,null,null,null,null,null,{"$f":"VLOOKUP(UPPER(A618),Items!$B$2:$G$565,6)","v":"text(8)"},{"$f":"IF(VLOOKUP(UPPER(A618),Items!$B$2:$H$525,7,FALSE)<>0,VLOOKUP(UPPER(A618),Items!$B$2:$H$525,7,FALSE),\"\")","v":""},"Interconnector Administrator Id"]
[{"$f":"VLOOKUP(UPPER(M619),Items!$A$2:$B$565,2,FALSE)","v":"N0097"},"D",null,null,"O",null,null,null,null,null,{"$f":"VLOOKUP(UPPER(A619),Items!$B$2:$G$565,6)","v":"text(8)"},{"$f":"IF(VLOOKUP(UPPER(A619),Items!$B$2:$H$525,7,FALSE)<>0,VLOOKUP(UPPER(A619),Items!$B$2:$H$525,7,FALSE),\"\")","v":""},"Interconnector Error Administrator Id"]
[{"$f":"VLOOKUP(UPPER(M620),Items!$A$2:$B$565,2,FALSE)","v":"N0081"},"D",null,null,1,null,null,null,null,null,{"$f":"VLOOKUP(UPPER(A620),Items!$B$2:$G$565,6)","v":"date"},{"$f":"IF(VLOOKUP(UPPER(A620),Items!$B$2:$H$525,7,FALSE)<>0,VLOOKUP(UPPER(A620),Items!$B$2:$H$525,7,FALSE),\"\")","v":""},"Effective From Date"]
[{"$f":"VLOOKUP(UPPER(M621),Items!$A$2:$B$565,2,FALSE)","v":"N0083"},"D",null,null,"O",null,null,null,null,null,{"$f":"VLOOKUP(UPPER(A621),Items!$B$2:$G$565,6)","v":"date"},{"$f":"IF(VLOOKUP(UPPER(A621),Items!$B$2:$H$525,7,FALSE)<>0,VLOOKUP(UPPER(A621),Items!$B$2:$H$525,7,FALSE),\"\")","v":""},"Effective To Date"]
[]
["R0201",{"$f":"IF(LEN(K623)>0,\"D\",IF(LEN(A623)=5,\"F\",IF(LEN(A623)=3,\"R\",\" \")))","v":"F"},"005",null,null,null,null,null,null,null,null,null,"CRA-I020 - Operations Registration Report"]
[]
["POL","R","0-*","G",null,null,null,null,null,null,null,null,"Proportion Of Losses Data"]
[{"$f":"VLOOKUP(UPPER(M626),Items!$A$2:$B$565,2,FALSE)","v":"N0339"},"D",null,null,"O",null,null,null,null,null,{"$f":"VLOOKUP(UPPER(A626),Items!$B$2:$G$565,6)","v":"text(9)"},"","Action Code"]
[{"$f":"VLOOKUP(UPPER(M627),Items!$A$2:$B$565,2,FALSE)","v":"N0178"},"D",null,null,1,null,null,null,null,null,{"$f":"VLOOKUP(UPPER(A627),Items!$B$2:$G$565,6)","v":"decimal(8,7)"},"","Proportion of Losses"]
[{"$f":"VLOOKUP(UPPER(M628),Items!$A$2:$B$565,2,FALSE)","v":"N0081"},"D",null,null,1,null,null,null,null,null,{"$f":"VLOOKUP(UPPER(A628),Items!$B$2:$G$565,6)","v":"date"},"","Effective From Date"]
["TU2","R","0-*","G",null,null,null,null,null,null,null,null,"Trading Unit Registration"]
[{"$f":"VLOOKUP(UPPER(M630),Items!$A$2:$B$565,2,FALSE)","v":"N0339"},"D",null,null,"O",null,null,null,null,null,{"$f":"VLOOKUP(UPPER(A630),Items!$B$2:$G$565,6)","v":"text(9)"},"","Action Code"]
[{"$f":"VLOOKUP(UPPER(M631),Items!$A$2:$B$565,2,FALSE)","v":"N0232"},"D",null,null,1,null,null,null,null,null,{"$f":"VLOOKUP(UPPER(A631),Items!$B$2:$G$565,6)","v":"text(30)"},"","Trading Unit Name"]
["BR3","R","0-*","G",null,null,null,null,null,null,null,null,"BM Unit Registration"]
[{"$f":"VLOOKUP(UPPER(M633),Items!$A$2:$B$565,2,FALSE)","v":"N0339"},"D",null,null,"O",null,null,null,null,null,{"$f":"VLOOKUP(UPPER(A633),Items!$B$2:$G$565,6)","v":"text(9)"},{"$f":"IF(VLOOKUP(UPPER(A633),Items!$B$2:$H$525,7,FALSE)<>0,VLOOKUP(UPPER(A633),Items!$B$2:$H$525,7,FALSE),\"\")","v":""},"Action Code"]
[{"$f":"VLOOKUP(UPPER(M634),Items!$A$2:$B$565,2,FALSE)","v":"N0034"},"D",null,null,1,null,null,null,null,null,{"$f":"VLOOKUP(UPPER(A634),Items!$B$2:$G$565,6)","v":"text(11)"},{"$f":"IF(VLOOKUP(UPPER(A634),Items!$B$2:$H$525,7,FALSE)<>0,VLOOKUP(UPPER(A634),Items!$B$2:$H$525,7,FALSE),\"\")","v":""},"BM Unit Id"]
[{"$f":"VLOOKUP(UPPER(M635),Items!$A$2:$B$565,2,FALSE)","v":"N0038"},"D",null,null,"O",null,null,null,null,null,{"$f":"VLOOKUP(UPPER(A635),Items!$B$2:$G$565,6)","v":"char"},{"$f":"IF(VLOOKUP(UPPER(A635),Items!$B$2:$H$525,7,FALSE)<>0,VLOOKUP(UPPER(A635),Items!$B$2:$H$525,7,FALSE),\"\")","v":"BM Unit Type"},"BM Unit Type"]
[{"$f":"VLOOKUP(UPPER(M636),Items!$A$2:$B$565,2,FALSE)","v":"N0127"},"D",null,null,"O",null,null,null,null,null,{"$f":"VLOOKUP(UPPER(A636),Items!$B$2:$G$565,6)","v":"text(8)"},{"$f":"IF(VLOOKUP(UPPER(A636),Items!$B$2:$H$525,7,FALSE)<>0,VLOOKUP(UPPER(A636),Items!$B$2:$H$525,7,FALSE),\"\")","v":""},"Lead Party Id"]
[{"$f":"VLOOKUP(UPPER(M637),Items!$A$2:$B$565,2,FALSE)","v":"N0150"},"D",null,null,"O",null,null,null,null,null,{"$f":"VLOOKUP(UPPER(A637),Items!$B$2:$G$565,6)","v":"text(9)"},{"$f":"IF(VLOOKUP(UPPER(A637),Items!$B$2:$H$525,7,FALSE)<>0,VLOOKUP(UPPER(A637),Items!$B$2:$H$525,7,FALSE),\"\")","v":""},"NGC BM Unit Name"]
[{"$f":"VLOOKUP(UPPER(M638),Items!$A$2:$B$565,2,FALSE)","v":"N0036"},"D",null,null,1,null,null,null,null,null,{"$f":"VLOOKUP(UPPER(A638),Items!$B$2:$G$565,6)","v":"text(30)"},{"$f":"IF(VLOOKUP(UPPER(A638),Items!$B$2:$H$525,7,FALSE)<>0,VLOOKUP(UPPER(A638),Items!$B$2:$H$525,7,FALSE),\"\")","v":""},"BM Unit Name"]
[{"$f":"VLOOKUP(UPPER(M639),Items!$A$2:$B$565,2,FALSE)","v":"N0116"},"D",null,null,"O",null,null,null,null,null,{"$f":"VLOOKUP(UPPER(A639),Items!$B$2:$G$565,6)","v":"text(2)"},{"$f":"IF(VLOOKUP(UPPER(A639),Items!$B$2:$H$525,7,FALSE)<>0,VLOOKUP(UPPER(A639),Items!$B$2:$H$525,7,FALSE),\"\")","v":""},"GSP Group Id","If BM Unit Type is 'E' or 'G' or 'S'"]
[{"$f":"VLOOKUP(UPPER(M640),Items!$A$2:$B$565,2,FALSE)","v":"N0117"},"D",null,null,"O",null,null,null,null,null,{"$f":"VLOOKUP(UPPER(A640),Items!$B$2:$G$565,6)","v":"text(30)"},{"$f":"IF(VLOOKUP(UPPER(A640),Items!$B$2:$H$525,7,FALSE)<>0,VLOOKUP(UPPER(A640),Items!$B$2:$H$525,7,FALSE),\"\")","v":""},"GSP Group Name"]
[{"$f":"VLOOKUP(UPPER(M641),Items!$A$2:$B$565,2,FALSE)","v":"N0232"},"D",null,null,"O",null,null,null,null,null,{"$f":"VLOOKUP(UPPER(A641),Items!$B$2:$G$565,6)","v":"text(30)"},{"$f":"IF(VLOOKUP(UPPER(A641),Items!$B$2:$H$525,7,FALSE)<>0,VLOOKUP(UPPER(A641),Items!$B$2:$H$525,7,FALSE),\"\")","v":""},"Trading Unit Name"]
[{"$f":"VLOOKUP(UPPER(M642),Items!$A$2:$B$565,2,FALSE)","v":"N0115"},"D",null,null,"O",null,null,null,null,null,{"$f":"VLOOKUP(UPPER(A642),Items!$B$2:$G$565,6)","v":"decimal(13,3)"},{"$f":"IF(VLOOKUP(UPPER(A642),Items!$B$2:$H$525,7,FALSE)<>0,VLOOKUP(UPPER(A642),Items!$B$2:$H$525,7,FALSE),\"\")","v":""},"Generation Capacity","MW"]
[{"$f":"VLOOKUP(UPPER(M643),Items!$A$2:$B$565,2,FALSE)","v":"N0064"},"D",null,null,"O",null,null,null,null,null,{"$f":"VLOOKUP(UPPER(A643),Items!$B$2:$G$565,6)","v":"decimal(13,3)"},{"$f":"IF(VLOOKUP(UPPER(A643),Items!$B$2:$H$525,7,FALSE)<>0,VLOOKUP(UPPER(A643),Items!$B$2:$H$525,7,FALSE),\"\")","v":""},"Demand Capacity","MW"]
[{"$f":"VLOOKUP(UPPER(M644),Items!$A$2:$B$565,2,FALSE)","v":"N0577"},"D",null,null,"O",null,null,null,null,null,{"$f":"VLOOKUP(UPPER(A644),Items!$B$2:$G$565,6)","v":"decimal(11,7)"},{"$f":"IF(VLOOKUP(UPPER(A644),Items!$B$2:$H$565,7,FALSE)<>0,VLOOKUP(UPPER(A644),Items!$B$2:$H$565,7,FALSE),\"\")","v":""},"Working Day Credit Assessment Load Factor","Reported as 0.0 for Interconnectors WDCALF value in business table is decimal(11,7) and capped in flow to decimal(8,7)."]
[{"$f":"VLOOKUP(UPPER(M645),Items!$A$2:$B$565,2,FALSE)","v":"N0580"},"D",null,null,"O",null,null,null,null,null,{"$f":"VLOOKUP(UPPER(A645),Items!$B$2:$G$565,6)","v":"decimal(11,7)"},{"$f":"IF(VLOOKUP(UPPER(A645),Items!$B$2:$H$565,7,FALSE)<>0,VLOOKUP(UPPER(A645),Items!$B$2:$H$565,7,FALSE),\"\")","v":""},"Non-Working Day Credit Assessment Load Factor","Reported as 0.0 for Interconnectors NWDCALF value in business table is decimal(11,7) and capped in flow to decimal(8,7)."]
[{"$f":"VLOOKUP(UPPER(M646),Items!$A$2:$B$529,2,FALSE)","v":"N0555"},"D",null,null,"O",null,null,null,null,null,{"$f":"VLOOKUP(UPPER(A646),Items!$B$2:$G$529,6)","v":"decimal(11,7)"},{"$f":"IF(VLOOKUP(UPPER(A646),Items!$B$2:$H$529,7,FALSE)<>0,VLOOKUP(UPPER(A646),Items!$B$2:$H$529,7,FALSE),\"\")","v":""},"Supplier Export Credit Assessment Load Factor","SECALF value in business table is decimal(11,7) and capped in flow to decimal(8,7)."]
[{"$f":"VLOOKUP(UPPER(M647),Items!$A$2:$B$565,2,FALSE)","v":"N0576"},"D",null,null,"O",null,null,null,null,null,{"$f":"VLOOKUP(UPPER(A647),Items!$B$2:$G$565,6)","v":"decimal(8,3)"},{"$f":"IF(VLOOKUP(UPPER(A647),Items!$B$2:$H$565,7,FALSE)<>0,VLOOKUP(UPPER(A647),Items!$B$2:$H$565,7,FALSE),\"\")","v":""},"Working Day Bm Unit Credit Assessment Import Capability"]
[{"$f":"VLOOKUP(UPPER(M648),Items!$A$2:$B$565,2,FALSE)","v":"N0579"},"D",null,null,"O",null,null,null,null,null,{"$f":"VLOOKUP(UPPER(A648),Items!$B$2:$G$565,6)","v":"decimal(8,3)"},{"$f":"IF(VLOOKUP(UPPER(A648),Items!$B$2:$H$565,7,FALSE)<>0,VLOOKUP(UPPER(A648),Items!$B$2:$H$565,7,FALSE),\"\")","v":""},"Non-Working Day Bm Unit Credit Assessment Import Capability"]
[{"$f":"VLOOKUP(UPPER(M649),Items!$A$2:$B$565,2,FALSE)","v":"N0575"},"D",null,null,"O",null,null,null,null,null,{"$f":"VLOOKUP(UPPER(A649),Items!$B$2:$G$565,6)","v":"decimal(8,3)"},{"$f":"IF(VLOOKUP(UPPER(A649),Items!$B$2:$H$565,7,FALSE)<>0,VLOOKUP(UPPER(A649),Items!$B$2:$H$565,7,FALSE),\"\")","v":""},"Working Day Bm Unit Credit Assessment Export Capability"]
[{"$f":"VLOOKUP(UPPER(M650),Items!$A$2:$B$565,2,FALSE)","v":"N0578"},"D",null,null,"O",null,null,null,null,null,{"$f":"VLOOKUP(UPPER(A650),Items!$B$2:$G$565,6)","v":"decimal(8,3)"},{"$f":"IF(VLOOKUP(UPPER(A650),Items!$B$2:$H$565,7,FALSE)<>0,VLOOKUP(UPPER(A650),Items!$B$2:$H$565,7,FALSE),\"\")","v":""},"Non-Working Day Bm Unit Credit Assessment Export Capability"]
[{"$f":"VLOOKUP(UPPER(M651),Items!$A$2:$B$565,2,FALSE)","v":"N0177"},"D",null,null,"O",null,null,null,null,null,{"$f":"VLOOKUP(UPPER(A651),Items!$B$2:$G$565,6)","v":"char"},{"$f":"IF(VLOOKUP(UPPER(A651),Items!$B$2:$H$525,7,FALSE)<>0,VLOOKUP(UPPER(A651),Items!$B$2:$H$525,7,FALSE),\"\")","v":"P/C Flag"},"Production/Consumption Flag"]
[{"$f":"VLOOKUP(UPPER(M652),Items!$A$2:$B$565,2,FALSE)","v":"N0472"},"D",null,null,"O",null,null,null,null,null,{"$f":"VLOOKUP(UPPER(A652),Items!$B$2:$G$565,6)","v":"char"},{"$f":"IF(VLOOKUP(UPPER(A652),Items!$B$2:$H$525,7,FALSE)<>0,VLOOKUP(UPPER(A652),Items!$B$2:$H$525,7,FALSE),\"\")","v":"P/C Status"},"Production/Consumption Status"]
[{"$f":"VLOOKUP(UPPER(M653),Items!$A$2:$B$565,2,FALSE)","v":"N0470"},"D",null,null,"O",null,null,null,null,null,{"$f":"VLOOKUP(UPPER(A653),Items!$B$2:$G$565,6)","v":"boolean"},{"$f":"IF(VLOOKUP(UPPER(A653),Items!$B$2:$H$525,7,FALSE)<>0,VLOOKUP(UPPER(A653),Items!$B$2:$H$525,7,FALSE),\"\")","v":""},"Exempt Export Flag"]
[{"$f":"VLOOKUP(UPPER(M654),Items!$A$2:$B$565,2,FALSE)","v":"N0469"},"D",null,null,"O",null,null,null,null,null,{"$f":"VLOOKUP(UPPER(A654),Items!$B$2:$G$565,6)","v":"boolean"},{"$f":"IF(VLOOKUP(UPPER(A654),Items!$B$2:$H$525,7,FALSE)<>0,VLOOKUP(UPPER(A654),Items!$B$2:$H$525,7,FALSE),\"\")","v":""},"Base TU Flag"]
[{"$f":"VLOOKUP(UPPER(M655),Items!$A$2:$B$565,2,FALSE)","v":"N0233"},"D",null,null,"O",null,null,null,null,null,{"$f":"VLOOKUP(UPPER(A655),Items!$B$2:$G$565,6)","v":"decimal(8,7)"},{"$f":"IF(VLOOKUP(UPPER(A655),Items!$B$2:$H$525,7,FALSE)<>0,VLOOKUP(UPPER(A655),Items!$B$2:$H$525,7,FALSE),\"\")","v":""},"Transmission Loss Factor"]
[{"$f":"VLOOKUP(UPPER(M656),Items!$A$2:$B$565,2,FALSE)","v":"N0110"},"D",null,null,"O",null,null,null,null,null,{"$f":"VLOOKUP(UPPER(A656),Items!$B$2:$G$565,6)","v":"boolean"},{"$f":"IF(VLOOKUP(UPPER(A656),Items!$B$2:$H$525,7,FALSE)<>0,VLOOKUP(UPPER(A656),Items!$B$2:$H$525,7,FALSE),\"\")","v":""},"FPN Flag"]
[{"$f":"VLOOKUP(UPPER(M657),Items!$A$2:$B$565,2,FALSE)","v":"N0511"},"D",null,null,"O",null,null,null,null,null,{"$f":"VLOOKUP(UPPER(A657),Items!$B$2:$G$565,6)","v":"boolean"},null,"Manual Credit Qualifying Flag"]
[{"$f":"VLOOKUP(UPPER(M658),Items!$A$2:$B$565,2,FALSE)","v":"N0512"},"D",null,null,"O",null,null,null,null,null,{"$f":"VLOOKUP(UPPER(A658),Items!$B$2:$G$565,6)","v":"boolean"},null,"Credit Qualifying Status"]
[{"$f":"VLOOKUP(UPPER(M659),Items!$A$2:$B$565,2,FALSE)","v":"N0098"},"D",null,null,"O",null,null,null,null,null,{"$f":"VLOOKUP(UPPER(A659),Items!$B$2:$G$565,6)","v":"text(10)"},{"$f":"IF(VLOOKUP(UPPER(A659),Items!$B$2:$H$525,7,FALSE)<>0,VLOOKUP(UPPER(A659),Items!$B$2:$H$525,7,FALSE),\"\")","v":""},"Interconnector Id","If BM Unit Type is 'I'"]
[{"$f":"VLOOKUP(UPPER(M660),Items!$A$2:$B$565,2,FALSE)","v":"N0081"},"D",null,null,1,null,null,null,null,null,{"$f":"VLOOKUP(UPPER(A660),Items!$B$2:$G$565,6)","v":"date"},{"$f":"IF(VLOOKUP(UPPER(A660),Items!$B$2:$H$525,7,FALSE)<>0,VLOOKUP(UPPER(A660),Items!$B$2:$H$525,7,FALSE),\"\")","v":""},"Effective From Date"]
[{"$f":"VLOOKUP(UPPER(M661),Items!$A$2:$B$565,2,FALSE)","v":"N0083"},"D",null,null,"O",null,null,null,null,null,{"$f":"VLOOKUP(UPPER(A661),Items!$B$2:$G$565,6)","v":"date"},{"$f":"IF(VLOOKUP(UPPER(A661),Items!$B$2:$H$525,7,FALSE)<>0,VLOOKUP(UPPER(A661),Items!$B$2:$H$525,7,FALSE),\"\")","v":""},"Effective To Date"]
["JBU","R","0-*","G",null,null,null,null,null,null,null,null,"BM Unit Group Details"]
[{"$f":"VLOOKUP(UPPER(M663),Items!$A$2:$B$565,2,FALSE)","v":"N0339"},"D",null,null,"O",null,null,null,null,null,{"$f":"VLOOKUP(UPPER(A663),Items!$B$2:$G$565,6)","v":"text(9)"},{"$f":"IF(VLOOKUP(UPPER(A663),Items!$B$2:$H$525,7,FALSE)<>0,VLOOKUP(UPPER(A663),Items!$B$2:$H$525,7,FALSE),\"\")","v":""},"Action Code"]
[{"$f":"VLOOKUP(UPPER(M664),Items!$A$2:$B$565,2,FALSE)","v":"N0126"},"D",null,null,1,null,null,null,null,null,{"$f":"VLOOKUP(UPPER(A664),Items!$B$2:$G$565,6)","v":"text(11)"},{"$f":"IF(VLOOKUP(UPPER(A664),Items!$B$2:$H$525,7,FALSE)<>0,VLOOKUP(UPPER(A664),Items!$B$2:$H$525,7,FALSE),\"\")","v":""},"Joint BM Unit Id"]
[{"$f":"VLOOKUP(UPPER(M665),Items!$A$2:$B$565,2,FALSE)","v":"N0081"},"D",null,null,1,null,null,null,null,null,{"$f":"VLOOKUP(UPPER(A665),Items!$B$2:$G$565,6)","v":"date"},{"$f":"IF(VLOOKUP(UPPER(A665),Items!$B$2:$H$525,7,FALSE)<>0,VLOOKUP(UPPER(A665),Items!$B$2:$H$525,7,FALSE),\"\")","v":""},"Effective From Date"]
[{"$f":"VLOOKUP(UPPER(M666),Items!$A$2:$B$565,2,FALSE)","v":"N0083"},"D",null,null,"O",null,null,null,null,null,{"$f":"VLOOKUP(UPPER(A666),Items!$B$2:$G$565,6)","v":"date"},{"$f":"IF(VLOOKUP(UPPER(A666),Items!$B$2:$H$525,7,FALSE)<>0,VLOOKUP(UPPER(A666),Items!$B$2:$H$525,7,FALSE),\"\")","v":""},"Effective To Date"]
["JB3","R","0-*",null,"G",null,null,null,null,null,null,null,"BM Unit Group Member"]
[{"$f":"VLOOKUP(UPPER(M668),Items!$A$2:$B$565,2,FALSE)","v":"N0339"},"D",null,null,null,"O",null,null,null,null,{"$f":"VLOOKUP(UPPER(A668),Items!$B$2:$G$565,6)","v":"text(9)"},{"$f":"IF(VLOOKUP(UPPER(A668),Items!$B$2:$H$525,7,FALSE)<>0,VLOOKUP(UPPER(A668),Items!$B$2:$H$525,7,FALSE),\"\")","v":""},"Action Code"]
[{"$f":"VLOOKUP(UPPER(M669),Items!$A$2:$B$565,2,FALSE)","v":"N0034"},"D",null,null,null,1,null,null,null,null,{"$f":"VLOOKUP(UPPER(A669),Items!$B$2:$G$565,6)","v":"text(11)"},{"$f":"IF(VLOOKUP(UPPER(A669),Items!$B$2:$H$525,7,FALSE)<>0,VLOOKUP(UPPER(A669),Items!$B$2:$H$525,7,FALSE),\"\")","v":""},"BM Unit Id"]
["IRD","R","0-*","G",null,null,null,null,null,null,null,null,"Interconnector Registration Details"]
[{"$f":"VLOOKUP(UPPER(M671),Items!$A$2:$B$565,2,FALSE)","v":"N0339"},"D",null,null,"O",null,null,null,null,null,{"$f":"VLOOKUP(UPPER(A671),Items!$B$2:$G$565,6)","v":"text(9)"},{"$f":"IF(VLOOKUP(UPPER(A671),Items!$B$2:$H$525,7,FALSE)<>0,VLOOKUP(UPPER(A671),Items!$B$2:$H$525,7,FALSE),\"\")","v":""},"Action Code"]
[{"$f":"VLOOKUP(UPPER(M672),Items!$A$2:$B$565,2,FALSE)","v":"N0098"},"D",null,null,1,null,null,null,null,null,{"$f":"VLOOKUP(UPPER(A672),Items!$B$2:$G$565,6)","v":"text(10)"},{"$f":"IF(VLOOKUP(UPPER(A672),Items!$B$2:$H$525,7,FALSE)<>0,VLOOKUP(UPPER(A672),Items!$B$2:$H$525,7,FALSE),\"\")","v":""},"Interconnector Id"]
[{"$f":"VLOOKUP(UPPER(M673),Items!$A$2:$B$565,2,FALSE)","v":"N0095"},"D",null,null,1,null,null,null,null,null,{"$f":"VLOOKUP(UPPER(A673),Items!$B$2:$G$565,6)","v":"text(8)"},{"$f":"IF(VLOOKUP(UPPER(A673),Items!$B$2:$H$525,7,FALSE)<>0,VLOOKUP(UPPER(A673),Items!$B$2:$H$525,7,FALSE),\"\")","v":""},"Interconnector Administrator Id"]
[{"$f":"VLOOKUP(UPPER(M674),Items!$A$2:$B$565,2,FALSE)","v":"N0097"},"D",null,null,"O",null,null,null,null,null,{"$f":"VLOOKUP(UPPER(A674),Items!$B$2:$G$565,6)","v":"text(8)"},{"$f":"IF(VLOOKUP(UPPER(A674),Items!$B$2:$H$525,7,FALSE)<>0,VLOOKUP(UPPER(A674),Items!$B$2:$H$525,7,FALSE),\"\")","v":""},"Interconnector Error Administrator Id"]
[{"$f":"VLOOKUP(UPPER(M675),Items!$A$2:$B$565,2,FALSE)","v":"N0081"},"D",null,null,1,null,null,null,null,null,{"$f":"VLOOKUP(UPPER(A675),Items!$B$2:$G$565,6)","v":"date"},{"$f":"IF(VLOOKUP(UPPER(A675),Items!$B$2:$H$525,7,FALSE)<>0,VLOOKUP(UPPER(A675),Items!$B$2:$H$525,7,FALSE),\"\")","v":""},"Effective From Date"]
[{"$f":"VLOOKUP(UPPER(M676),Items!$A$2:$B$565,2,FALSE)","v":"N0083"},"D",null,null,"O",null,null,null,null,null,{"$f":"VLOOKUP(UPPER(A676),Items!$B$2:$G$565,6)","v":"date"},{"$f":"IF(VLOOKUP(UPPER(A676),Items!$B$2:$H$525,7,FALSE)<>0,VLOOKUP(UPPER(A676),Items!$B$2:$H$525,7,FALSE),\"\")","v":""},"Effective To Date"]
[]
["R0281",{"$f":"IF(LEN(K678)>0,\"D\",IF(LEN(A678)=5,\"F\",IF(LEN(A678)=3,\"R\",\" \")))","v":"F"},"001",null,null,null,null,null,null,null,null,null,"CRA-I028: NGC Standing Data Report"]
[]
["PD7",{"$f":"IF(LEN(K680)>0,\"D\",IF(LEN(A680)=5,\"F\",IF(LEN(A680)=3,\"R\",\" \")))","v":"R"},"0-*","G",null,null,null,null,null,null,null,null,"BSC Party Details"]
[{"$f":"VLOOKUP(UPPER(M681),Items!$A$2:$B$525,2,FALSE)","v":"N0045"},"D",null,null,1,null,null,null,null,null,{"$f":"VLOOKUP(UPPER(A681),Items!$B$2:$G$525,6)","v":"text(8)"},{"$f":"IF(VLOOKUP(UPPER(A681),Items!$B$2:$H$525,7,FALSE)<>0,VLOOKUP(UPPER(A681),Items!$B$2:$H$525,7,FALSE),\"\")","v":""},"BSC Party Id"]
[{"$f":"VLOOKUP(UPPER(M682),Items!$A$2:$B$525,2,FALSE)","v":"N0046"},"D",null,null,1,null,null,null,null,null,{"$f":"VLOOKUP(UPPER(A682),Items!$B$2:$G$525,6)","v":"text(30)"},{"$f":"IF(VLOOKUP(UPPER(A682),Items!$B$2:$H$525,7,FALSE)<>0,VLOOKUP(UPPER(A682),Items!$B$2:$H$525,7,FALSE),\"\")","v":""},"BSC Party Name"]
["BU4","R","0-*","G",null,null,null,null,null,null,null,null,"BM Unit Details"]
[{"$f":"VLOOKUP(UPPER(M684),Items!$A$2:$B$525,2,FALSE)","v":"N0034"},"D",null,null,1,null,null,null,null,null,{"$f":"VLOOKUP(UPPER(A684),Items!$B$2:$G$525,6)","v":"text(11)"},{"$f":"IF(VLOOKUP(UPPER(A684),Items!$B$2:$H$525,7,FALSE)<>0,VLOOKUP(UPPER(A684),Items!$B$2:$H$525,7,FALSE),\"\")","v":""},"BM Unit Id"]
[{"$f":"VLOOKUP(UPPER(M685),Items!$A$2:$B$525,2,FALSE)","v":"N0036"},"D",null,null,1,null,null,null,null,null,{"$f":"VLOOKUP(UPPER(A685),Items!$B$2:$G$525,6)","v":"text(30)"},{"$f":"IF(VLOOKUP(UPPER(A685),Items!$B$2:$H$525,7,FALSE)<>0,VLOOKUP(UPPER(A685),Items!$B$2:$H$525,7,FALSE),\"\")","v":""},"BM Unit Name"]
[{"$f":"VLOOKUP(UPPER(M686),Items!$A$2:$B$525,2,FALSE)","v":"N0150"},"D",null,null,"O",null,null,null,null,null,{"$f":"VLOOKUP(UPPER(A686),Items!$B$2:$G$525,6)","v":"text(9)"},{"$f":"IF(VLOOKUP(UPPER(A686),Items!$B$2:$H$525,7,FALSE)<>0,VLOOKUP(UPPER(A686),Items!$B$2:$H$525,7,FALSE),\"\")","v":""},"NGC BM Unit Name"]
["GG4","R","0-*","G",null,null,null,null,null,null,null,null,"GSP Group Details"]
[{"$f":"VLOOKUP(UPPER(M688),Items!$A$2:$B$525,2,FALSE)","v":"N0116"},"D",null,null,1,null,null,null,null,null,{"$f":"VLOOKUP(UPPER(A688),Items!$B$2:$G$525,6)","v":"text(2)"},{"$f":"IF(VLOOKUP(UPPER(A688),Items!$B$2:$H$525,7,FALSE)<>0,VLOOKUP(UPPER(A688),Items!$B$2:$H$525,7,FALSE),\"\")","v":""},"GSP Group Id"]
[{"$f":"VLOOKUP(UPPER(M689),Items!$A$2:$B$525,2,FALSE)","v":"N0117"},"D",null,null,1,null,null,null,null,null,{"$f":"VLOOKUP(UPPER(A689),Items!$B$2:$G$525,6)","v":"text(30)"},{"$f":"IF(VLOOKUP(UPPER(A689),Items!$B$2:$H$525,7,FALSE)<>0,VLOOKUP(UPPER(A689),Items!$B$2:$H$525,7,FALSE),\"\")","v":""},"GSP Group Name"]
["GP3","R","0-*","G",null,null,null,null,null,null,null,null,"GSP Details"]
[{"$f":"VLOOKUP(UPPER(M691),Items!$A$2:$B$525,2,FALSE)","v":"N0119"},"D",null,null,1,null,null,null,null,null,{"$f":"VLOOKUP(UPPER(A691),Items!$B$2:$G$525,6)","v":"text(10)"},{"$f":"IF(VLOOKUP(UPPER(A691),Items!$B$2:$H$525,7,FALSE)<>0,VLOOKUP(UPPER(A691),Items!$B$2:$H$525,7,FALSE),\"\")","v":""},"GSP Id"]
["IG3","R","0-*","G",null,null,null,null,null,null,null,null,"Inter-GSP-Group Connection Details"]
[{"$f":"VLOOKUP(UPPER(M693),Items!$A$2:$B$417,2,FALSE)","v":"N0298"},"D",null,null,1,null,null,null,null,null,{"$f":"VLOOKUP(UPPER(A693),Items!$B$2:$G$525,6)","v":"text(10)"},{"$f":"IF(VLOOKUP(UPPER(A693),Items!$B$2:$H$525,7,FALSE)<>0,VLOOKUP(UPPER(A693),Items!$B$2:$H$525,7,FALSE),\"\")","v":""},"Inter-GSP-Group Connection Id"]
["BYD","R","0-*","G",null,null,null,null,null,null,null,null,"Point Details"]
[{"$f":"VLOOKUP(UPPER(M695),Items!$A$2:$B$525,2,FALSE)","v":"N0039"},"D",null,null,1,null,null,null,null,null,{"$f":"VLOOKUP(UPPER(A695),Items!$B$2:$G$525,6)","v":"text(10)"},{"$f":"IF(VLOOKUP(UPPER(A695),Items!$B$2:$H$525,7,FALSE)<>0,VLOOKUP(UPPER(A695),Items!$B$2:$H$525,7,FALSE),\"\")","v":""},"Point Id"]
["MS4","R","0-*","G",null,null,null,null,null,null,null,null,"Metering System Details"]
[{"$f":"VLOOKUP(UPPER(M697),Items!$A$2:$B$525,2,FALSE)","v":"N0142"},"D",null,null,1,null,null,null,null,null,{"$f":"VLOOKUP(UPPER(A697),Items!$B$2:$G$525,6)","v":"text(13)"},null,"Metering System Id"]
[]
["E0161",{"$f":"IF(LEN(K699)>0,\"D\",IF(LEN(A699)=5,\"F\",IF(LEN(A699)=3,\"R\",\" \")))","v":"F"},"001",null,null,null,null,null,null,null,null,null,"ECVAA-I016: ECVAA Data Exception Report"]
[null," "]
["EXC","R","0-*","G",null,null,null,null,null,null,null,null,"Exception report"]
[{"$f":"VLOOKUP(UPPER(M702),Items!$A$2:$B$525,2,FALSE)","v":"N0094"},"D",null,null,1,null,null,null,null,null,{"$f":"VLOOKUP(UPPER(A702),Items!$B$2:$G$525,6)","v":"char"},{"$f":"IF(VLOOKUP(UPPER(A702),Items!$B$2:$H$525,7,FALSE)<>0,VLOOKUP(UPPER(A702),Items!$B$2:$H$525,7,FALSE),\"\")","v":"BMRA Exception Type"},"Exception Type"]
[{"$f":"VLOOKUP(UPPER(M703),Items!$A$2:$B$525,2,FALSE)","v":"N0093"},"D",null,null,1,null,null,null,null,null,{"$f":"VLOOKUP(UPPER(A703),Items!$B$2:$G$525,6)","v":"text(255)"},{"$f":"IF(VLOOKUP(UPPER(A703),Items!$B$2:$H$525,7,FALSE)<>0,VLOOKUP(UPPER(A703),Items!$B$2:$H$525,7,FALSE),\"\")","v":""},"Exception Description"]
["EXH","R",1,"G",null,null,null,null,null,null,null,null,"Exception Report - header of file being processed"]
[{"$f":"VLOOKUP(UPPER(M705),Items!$A$2:$B$525,2,FALSE)","v":"N0102"},"D",null,null,1,null,null,null,null,null,{"$f":"VLOOKUP(UPPER(A705),Items!$B$2:$G$525,6)","v":"text(8)"},{"$f":"IF(VLOOKUP(UPPER(A705),Items!$B$2:$H$525,7,FALSE)<>0,VLOOKUP(UPPER(A705),Items!$B$2:$H$525,7,FALSE),\"\")","v":""},"File Type"]
[{"$f":"VLOOKUP(UPPER(M706),Items!$A$2:$B$525,2,FALSE)","v":"N0058"},"D",null,null,1,null,null,null,null,null,{"$f":"VLOOKUP(UPPER(A706),Items!$B$2:$G$525,6)","v":"datetime"},{"$f":"IF(VLOOKUP(UPPER(A706),Items!$B$2:$H$525,7,FALSE)<>0,VLOOKUP(UPPER(A706),Items!$B$2:$H$525,7,FALSE),\"\")","v":""},"Creation Time"]
[{"$f":"VLOOKUP(UPPER(M707),Items!$A$2:$B$525,2,FALSE)","v":"N0114"},"D",null,null,1,null,null,null,null,null,{"$f":"VLOOKUP(UPPER(A707),Items!$B$2:$G$525,6)","v":"text(2)"},{"$f":"IF(VLOOKUP(UPPER(A707),Items!$B$2:$H$525,7,FALSE)<>0,VLOOKUP(UPPER(A707),Items!$B$2:$H$525,7,FALSE),\"\")","v":""},"From Role Code"]
[{"$f":"VLOOKUP(UPPER(M708),Items!$A$2:$B$525,2,FALSE)","v":"N0113"},"D",null,null,1,null,null,null,null,null,{"$f":"VLOOKUP(UPPER(A708),Items!$B$2:$G$525,6)","v":"text(8)"},{"$f":"IF(VLOOKUP(UPPER(A708),Items!$B$2:$H$525,7,FALSE)<>0,VLOOKUP(UPPER(A708),Items!$B$2:$H$525,7,FALSE),\"\")","v":""},"From Participant Id"]
[{"$f":"VLOOKUP(UPPER(M709),Items!$A$2:$B$525,2,FALSE)","v":"N0223"},"D",null,null,1,null,null,null,null,null,{"$f":"VLOOKUP(UPPER(A709),Items!$B$2:$G$525,6)","v":"text(2)"},{"$f":"IF(VLOOKUP(UPPER(A709),Items!$B$2:$H$525,7,FALSE)<>0,VLOOKUP(UPPER(A709),Items!$B$2:$H$525,7,FALSE),\"\")","v":""},"To Role Code"]
[{"$f":"VLOOKUP(UPPER(M710),Items!$A$2:$B$525,2,FALSE)","v":"N0222"},"D",null,null,1,null,null,null,null,null,{"$f":"VLOOKUP(UPPER(A710),Items!$B$2:$G$525,6)","v":"text(8)"},{"$f":"IF(VLOOKUP(UPPER(A710),Items!$B$2:$H$525,7,FALSE)<>0,VLOOKUP(UPPER(A710),Items!$B$2:$H$525,7,FALSE),\"\")","v":""},"To Participant Id"]
[{"$f":"VLOOKUP(UPPER(M711),Items!$A$2:$B$525,2,FALSE)","v":"N0198"},"D",null,null,1,null,null,null,null,null,{"$f":"VLOOKUP(UPPER(A711),Items!$B$2:$G$525,6)","v":"integer(9)"},{"$f":"IF(VLOOKUP(UPPER(A711),Items!$B$2:$H$525,7,FALSE)<>0,VLOOKUP(UPPER(A711),Items!$B$2:$H$525,7,FALSE),\"\")","v":""},"Sequence Number"]
[{"$f":"VLOOKUP(UPPER(M712),Items!$A$2:$B$525,2,FALSE)","v":"N0219"},"D",null,null,1,null,null,null,null,null,{"$f":"VLOOKUP(UPPER(A712),Items!$B$2:$G$525,6)","v":"text(4)"},{"$f":"IF(VLOOKUP(UPPER(A712),Items!$B$2:$H$525,7,FALSE)<>0,VLOOKUP(UPPER(A712),Items!$B$2:$H$525,7,FALSE),\"\")","v":""},"Test Data Flag"]
[null," "]
[]
[]
[]
[]
[]
[]
[]
[]
[]
[]
[]
[]
[]
[]
[]
[]
[]
[]
[]
[]
[]
[]
[]
[]
[]
[]
[]
[]
[]
[]
[]
[]
[]
[]
[]
[]
[]
[]
[]
[]
[]
[]
[]
[]
[]
[]
[]
[]
[]
[]
[]
[]
[]
[]
[]
[]
[]
[]
[]
[]
[]
[]
[]
[]
[]
[]
[]
[]
[]
[]
[]
[]
[]
[]
[]
[]
[]
[]
[]
[]
[]
[]
[]
[]
[]
[]
[]
[]
[]
[]
[]
[]
[]
[]
[]
[]
[]
[]
[]
[]
[]
[]
[]
[]
[]
[]
[]
[]
[]
[]
[]
[]
[]
[]
[]
[]
[]
[]
[]
[]
[]
[]
[]
[]
[]
[]
[]
[]
[]
[]
[]
[]
[]
[]
[]
[]
[]
[]
[]
[]
[]
[]
[]
[]
[]
[]
[]
[]
[]
[]
[]
[]
[]
[]
[]
[]
[]
[]
[]
[]
[]
[]
[]
[]
[]
[]
[]
[]
[]
[]
[]
[]
[]
[]
[]
[]
[]
[]
[]
[]
[]
[]
[]
[]
[]
[]
[]
[]
[]
[]
[]
[]
[]
[]
[]
[]
[]
[]
[]
[]
[]
[]
[]
[]
[]
[]
[]
[]
[]
[]
[]
[]
[]
[]
[]
[]
[]
[]
[]
[]
[]
[]
[]
[]
[]
[]
[]
[]
[]
[]
[]
[]
[]
[]
[]
[]
[]
[]
[]
[]
[]
[]
[]
[]
[]
[]
[]
[]
[]
[]
[]
[]
[]
[]
[]
[]
[]
[]
[]
[]
[]
[]
[]
[]
[]
[]
[]
[]
[]
[]
[]
[]
[]
[]
[]
[]
[]
[]
[]
[]
[]
[]
[]
[]
[]
[]
[]
[]
[]
[]
[]
[]
[]
[]
[]
[]
[]
[]
[]
[]
[]
[]
[]
[]
[]
[]
[]
["CHECKS"]
[]
["Total Col A",null,{"$f":"COUNTIF($A$3:$A$1017,\"<>\")","v":679},null,null,null,null,null,null,null,null,"All OK?"]
["Total Col B",null,{"$f":"C1025+C1026+C1027","v":679},{"$f":"IF(C1023=C1024,\"OK\", \"Problem\")","v":"OK"},null,null,null,null,null,null,null,{"$f":"AND(D1024=\"OK\",D1028=\"OK\",D1029=\"OK\",D1030=\"OK\",D1031=\"OK\",D1032=\"OK\")","v":true}]
[null,"\"F\"",{"$f":"COUNTIF($B$3:$B$1017,\"F\")","v":14}]
[null,"\"R\"",{"$f":"COUNTIF($B$3:$B$1017,\"R\")","v":101}]
[null,"\"D\"",{"$f":"COUNTIF($B$3:$B$1017,\"D\")","v":564}]
["Total Col C",null,{"$f":"COUNTIF($C$3:$C$1017,\"<>\")","v":115},{"$f":"IF(C1026+C1025=C1028,\"OK\",\"Problem\")","v":"OK"}]
["Total G",null,{"$f":"COUNTIF($D$3:$J$1017,\"G\")","v":101},{"$f":"IF(C1026=C1029,\"OK\",\"Problem\")","v":"OK"}]
["Total 1 /  O",null,{"$f":"COUNTIF($D$3:$J$1017,\"1\")+COUNTIF($D$3:$J$1017,\"O\")","v":564},{"$f":"IF(C1027=C1030,\"OK\",\"Problem\")","v":"OK"}]
["Total Col K",null,{"$f":"COUNTIF($K$3:$K$1017,\"<>\")","v":564},{"$f":"IF(C1027=C1031,\"OK\",\"Problem\")","v":"OK"}]
["Total Col M",null,{"$f":"COUNTIF($M$3:$M$1019,\"<>\")","v":679},{"$f":"IF(C1023=C1032,\"OK\", \"Problem\")","v":"OK"}]

{"sheet":"SO","index":1,"n_rows":1513,"n_cols":14,"rows_kept":1513,"cut":false,"hidden":false,"merged":[]}
["Id","type","flow version / range","L1","L2","L3","L4","L5","L6","L7","data type","Valid Set","item name/group description","comments"]
["C0491",{"$f":"IF(LEN(K2)>0,\"D\",IF(LEN(A2)=5,\"F\",IF(LEN(A2)=3,\"R\",\" \")))","v":"F"},"002",null,null,null,null,null,null,null,null,null,"CDCA-I049: Total Demand per GSP"]
["GG2","R","1-*","G",null,null,null,null,null,null,null,null,"GSP Group Details"]
[{"$f":"VLOOKUP(UPPER(M4),Items!$A$2:$B$525,2,FALSE)","v":"N0116"},"D",null,null,1,null,null,null,null,null,{"$f":"VLOOKUP(UPPER(A4),Items!$B$2:$G$525,6)","v":"text(2)"},{"$f":"IF(VLOOKUP(UPPER(A4),Items!$B$2:$H$525,7,FALSE)<>0,VLOOKUP(UPPER(A4),Items!$B$2:$H$525,7,FALSE),\"\")","v":""},"GSP Group Id"]
[{"$f":"VLOOKUP(UPPER(M5),Items!$A$2:$B$525,2,FALSE)","v":"N0200"},"D",null,null,1,null,null,null,null,null,{"$f":"VLOOKUP(UPPER(A5),Items!$B$2:$G$525,6)","v":"date"},{"$f":"IF(VLOOKUP(UPPER(A5),Items!$B$2:$H$525,7,FALSE)<>0,VLOOKUP(UPPER(A5),Items!$B$2:$H$525,7,FALSE),\"\")","v":""},"Settlement Date"]
[{"$f":"VLOOKUP(UPPER(M6),Items!$A$2:$B$525,2,FALSE)","v":"N0202"},"D",null,null,1,null,null,null,null,null,{"$f":"VLOOKUP(UPPER(A6),Items!$B$2:$G$525,6)","v":"text(2)"},{"$f":"IF(VLOOKUP(UPPER(A6),Items!$B$2:$H$525,7,FALSE)<>0,VLOOKUP(UPPER(A6),Items!$B$2:$H$525,7,FALSE),\"\")","v":"Run Type"},"Settlement Run Type"]
[{"$f":"VLOOKUP(UPPER(M7),Items!$A$2:$B$525,2,FALSE)","v":"N0049"},"D",null,null,1,null,null,null,null,null,{"$f":"VLOOKUP(UPPER(A7),Items!$B$2:$G$525,6)","v":"integer(2)"},{"$f":"IF(VLOOKUP(UPPER(A7),Items!$B$2:$H$525,7,FALSE)<>0,VLOOKUP(UPPER(A7),Items!$B$2:$H$525,7,FALSE),\"\")","v":""},"CDCA Run Number"]
[{"$f":"VLOOKUP(UPPER(M8),Items!$A$2:$B$525,2,FALSE)","v":"N0021"},"D",null,null,1,null,null,null,null,null,{"$f":"VLOOKUP(UPPER(A8),Items!$B$2:$G$525,6)","v":"date"},{"$f":"IF(VLOOKUP(UPPER(A8),Items!$B$2:$H$525,7,FALSE)<>0,VLOOKUP(UPPER(A8),Items!$B$2:$H$525,7,FALSE),\"\")","v":""},"Aggregation Date"]
["GSP","R","1-*",null,"G",null,null,null,null,null,null,null,"GSP Details"]
[{"$f":"VLOOKUP(UPPER(M10),Items!$A$2:$B$525,2,FALSE)","v":"N0119"},"D",null,null,null,1,null,null,null,null,{"$f":"VLOOKUP(UPPER(A10),Items!$B$2:$G$525,6)","v":"text(10)"},{"$f":"IF(VLOOKUP(UPPER(A10),Items!$B$2:$H$525,7,FALSE)<>0,VLOOKUP(UPPER(A10),Items!$B$2:$H$525,7,FALSE),\"\")","v":""},"GSP Id"]
["SPV","R","46-50",null,null,"G",null,null,null,null,null,null,"Settlement Period Volume","either 46 or 48 or 50"]
[{"$f":"VLOOKUP(UPPER(M12),Items!$A$2:$B$525,2,FALSE)","v":"N0201"},"D",null,null,null,null,1,null,null,null,{"$f":"VLOOKUP(UPPER(A12),Items!$B$2:$G$525,6)","v":"integer(2)"},{"$f":"IF(VLOOKUP(UPPER(A12),Items!$B$2:$H$525,7,FALSE)<>0,VLOOKUP(UPPER(A12),Items!$B$2:$H$525,7,FALSE),\"\")","v":""},"Settlement Period"]
[{"$f":"VLOOKUP(UPPER(M13),Items!$A$2:$B$525,2,FALSE)","v":"N0121"},"D",null,null,null,null,1,null,null,null,{"$f":"VLOOKUP(UPPER(A13),Items!$B$2:$G$525,6)","v":"char"},{"$f":"IF(VLOOKUP(UPPER(A13),Items!$B$2:$H$525,7,FALSE)<>0,VLOOKUP(UPPER(A13),Items!$B$2:$H$525,7,FALSE),\"\")","v":"I/E Flag"},"Import/Export Indicator"]
[{"$f":"VLOOKUP(UPPER(M14),Items!$A$2:$B$525,2,FALSE)","v":"N0090"},"D",null,null,null,null,1,null,null,null,{"$f":"VLOOKUP(UPPER(A14),Items!$B$2:$G$525,6)","v":"boolean"},{"$f":"IF(VLOOKUP(UPPER(A14),Items!$B$2:$H$525,7,FALSE)<>0,VLOOKUP(UPPER(A14),Items!$B$2:$H$525,7,FALSE),\"\")","v":""},"Estimate Indicator"]
[{"$f":"VLOOKUP(UPPER(M15),Items!$A$2:$B$525,2,FALSE)","v":"N0139"},"D",null,null,null,null,1,null,null,null,{"$f":"VLOOKUP(UPPER(A15),Items!$B$2:$G$525,6)","v":"decimal(10,3)"},{"$f":"IF(VLOOKUP(UPPER(A15),Items!$B$2:$H$525,7,FALSE)<>0,VLOOKUP(UPPER(A15),Items!$B$2:$H$525,7,FALSE),\"\")","v":""},"Meter Volume"]
[null," "]
["S0142","F","006",null,null,null,null,null,null,null,null,{"$f":"IF(B17=\"D\",IF(VLOOKUP(UPPER(A17),Items!$B$2:$H$748,7,FALSE)<>0,VLOOKUP(UPPER(A17),Items!$B$2:$H$748,7,FALSE),\"\"),\"\")","v":""},"SAA-I014: Settlement Report: sub-flow 2"]
[null," ",null,null,null,null,null,null,null,null,null,{"$f":"IF(B18=\"D\",IF(VLOOKUP(UPPER(A18),Items!$B$2:$H$748,7,FALSE)<>0,VLOOKUP(UPPER(A18),Items!$B$2:$H$748,7,FALSE),\"\"),\"\")","v":""}]
["SRH","R",1,"G",null,null,null,null,null,null,null,null,"Settlement Report Header"]
[{"$f":"VLOOKUP(UPPER(M20),Items!$A$2:$B$525,2,FALSE)","v":"N0200"},"D",null,null,1,null,null,null,null,null,{"$f":"VLOOKUP(UPPER(A20),Items!$B$2:$G$525,6)","v":"date"},null,"Settlement Date"]
[{"$f":"VLOOKUP(UPPER(M21),Items!$A$2:$B$525,2,FALSE)","v":"N0202"},"D",null,null,1,null,null,null,null,null,{"$f":"VLOOKUP(UPPER(A21),Items!$B$2:$G$525,6)","v":"text(2)"},{"$f":"IF(B21=\"D\",IF(VLOOKUP(UPPER(A21),Items!$B$2:$H$748,7,FALSE)<>0,VLOOKUP(UPPER(A21),Items!$B$2:$H$748,7,FALSE),\"\"),\"\")","v":"Run Type"},"Settlement Run Type"]
[{"$f":"VLOOKUP(UPPER(M22),Items!$A$2:$B$639,2,FALSE)","v":"N0304"},"D",null,null,1,null,null,null,null,null,{"$f":"VLOOKUP(UPPER(A22),Items!$B$2:$G$525,6)","v":"integer(2)"},{"$f":"IF(B22=\"D\",IF(VLOOKUP(UPPER(A22),Items!$B$2:$H$748,7,FALSE)<>0,VLOOKUP(UPPER(A22),Items!$B$2:$H$748,7,FALSE),\"\"),\"\")","v":""},"SAA Run Number"]
[{"$f":"VLOOKUP(UPPER(M23),Items!$A$2:$B$639,2,FALSE)","v":"N0385"},"D",null,null,1,null,null,null,null,null,{"$f":"VLOOKUP(UPPER(A23),Items!$B$2:$G$525,6)","v":"integer(2)"},{"$f":"IF(B23=\"D\",IF(VLOOKUP(UPPER(A23),Items!$B$2:$H$748,7,FALSE)<>0,VLOOKUP(UPPER(A23),Items!$B$2:$H$748,7,FALSE),\"\"),\"\")","v":""},"SAA CDCA Run Number","CDCA run which generated volumes used directly by SAA"]
[{"$f":"VLOOKUP(UPPER(M24),Items!$A$2:$B$525,2,FALSE)","v":"N0383"},"D",null,null,1,null,null,null,null,null,{"$f":"VLOOKUP(UPPER(A24),Items!$B$2:$G$525,6)","v":"date"},{"$f":"IF(B24=\"D\",IF(VLOOKUP(UPPER(A24),Items!$B$2:$H$748,7,FALSE)<>0,VLOOKUP(UPPER(A24),Items!$B$2:$H$748,7,FALSE),\"\"),\"\")","v":""},"SVAA CDCA Settlement Date","CDCA settlement date from which GSP group take was used by SVAA"]
[{"$f":"VLOOKUP(UPPER(M25),Items!$A$2:$B$525,2,FALSE)","v":"N0384"},"D",null,null,1,null,null,null,null,null,{"$f":"VLOOKUP(UPPER(A25),Items!$B$2:$G$525,6)","v":"integer(2)"},{"$f":"IF(B25=\"D\",IF(VLOOKUP(UPPER(A25),Items!$B$2:$H$748,7,FALSE)<>0,VLOOKUP(UPPER(A25),Items!$B$2:$H$748,7,FALSE),\"\"),\"\")","v":""},"SVAA CDCA Run Number","CDCA run number from which GSP group take was used by SVAA"]
[{"$f":"VLOOKUP(UPPER(M26),Items!$A$2:$B$525,2,FALSE)","v":"N0211"},"D",null,null,1,null,null,null,null,null,{"$f":"VLOOKUP(UPPER(A26),Items!$B$2:$G$525,6)","v":"integer(7)"},{"$f":"IF(B26=\"D\",IF(VLOOKUP(UPPER(A26),Items!$B$2:$H$748,7,FALSE)<>0,VLOOKUP(UPPER(A26),Items!$B$2:$H$748,7,FALSE),\"\"),\"\")","v":""},"SVAA SSR Run Number"]
[{"$f":"VLOOKUP(UPPER(M27),Items!$A$2:$B$525,2,FALSE)","v":"N0045"},"D",null,null,1,null,null,null,null,null,{"$f":"VLOOKUP(UPPER(A27),Items!$B$2:$G$525,6)","v":"text(8)"},{"$f":"IF(B27=\"D\",IF(VLOOKUP(UPPER(A27),Items!$B$2:$H$748,7,FALSE)<>0,VLOOKUP(UPPER(A27),Items!$B$2:$H$748,7,FALSE),\"\"),\"\")","v":""},"BSC Party Id"]
["SPI","R","46-50","G",null,null,null,null,null,null,null,null,"Settlement Period Information","either 46 or 48 or 50"]
[{"$f":"VLOOKUP(UPPER(M29),Items!$A$2:$B$525,2,FALSE)","v":"N0201"},"D",null,null,1,null,null,null,null,null,{"$f":"VLOOKUP(UPPER(A29),Items!$B$2:$G$525,6)","v":"integer(2)"},{"$f":"IF(B29=\"D\",IF(VLOOKUP(UPPER(A29),Items!$B$2:$H$748,7,FALSE)<>0,VLOOKUP(UPPER(A29),Items!$B$2:$H$748,7,FALSE),\"\"),\"\")","v":""},"Settlement Period"]
[{"$f":"VLOOKUP(UPPER(M30),Items!$A$2:$B$525,2,FALSE)","v":"N0212"},"D",null,null,1,null,null,null,null,null,{"$f":"VLOOKUP(UPPER(A30),Items!$B$2:$G$525,6)","v":"decimal(10,5)"},{"$f":"IF(B30=\"D\",IF(VLOOKUP(UPPER(A30),Items!$B$2:$H$748,7,FALSE)<>0,VLOOKUP(UPPER(A30),Items!$B$2:$H$748,7,FALSE),\"\"),\"\")","v":""},"System Buy Price","£/MWh"]
[{"$f":"VLOOKUP(UPPER(M31),Items!$A$2:$B$525,2,FALSE)","v":"N0215"},"D",null,null,1,null,null,null,null,null,{"$f":"VLOOKUP(UPPER(A31),Items!$B$2:$G$525,6)","v":"decimal(10,5)"},{"$f":"IF(B31=\"D\",IF(VLOOKUP(UPPER(A31),Items!$B$2:$H$748,7,FALSE)<>0,VLOOKUP(UPPER(A31),Items!$B$2:$H$748,7,FALSE),\"\"),\"\")","v":""},"System Sell Price","£/MWh"]
[{"$f":"VLOOKUP(UPPER(M32),Items!$A$2:$B$525,2,FALSE)","v":"N0439"},"D",null,null,"O",null,null,null,null,null,{"$f":"VLOOKUP(UPPER(A32),Items!$B$2:$G$525,6)","v":"text(2)"},{"$f":"IF(B32=\"D\",IF(VLOOKUP(UPPER(A32),Items!$B$2:$H$748,7,FALSE)<>0,VLOOKUP(UPPER(A32),Items!$B$2:$H$748,7,FALSE),\"\"),\"\")","v":"Price Derivation Code"},"Price Derivation Code","Populated for post-P78 Settlement Dates"]
[{"$f":"VLOOKUP(UPPER(M33),Items!$A$2:$B$639,2,FALSE)","v":"N0312"},"D",null,null,1,null,null,null,null,null,{"$f":"VLOOKUP(UPPER(A33),Items!$B$2:$G$525,6)","v":"decimal(10,3)"},{"$f":"IF(B33=\"D\",IF(VLOOKUP(UPPER(A33),Items!$B$2:$H$748,7,FALSE)<>0,VLOOKUP(UPPER(A33),Items!$B$2:$H$748,7,FALSE),\"\"),\"\")","v":""},"Total Demand","MWh"]
[{"$f":"VLOOKUP(UPPER(M34),Items!$A$2:$B$639,2,FALSE)","v":"N0334"},"D",null,null,1,null,null,null,null,null,{"$f":"VLOOKUP(UPPER(A34),Items!$B$2:$G$525,6)","v":"decimal(10,3)"},{"$f":"IF(B34=\"D\",IF(VLOOKUP(UPPER(A34),Items!$B$2:$H$748,7,FALSE)<>0,VLOOKUP(UPPER(A34),Items!$B$2:$H$748,7,FALSE),\"\"),\"\")","v":""},"Total Generation","MWh"]
[{"$f":"VLOOKUP(UPPER(M35),Items!$A$2:$B$639,2,FALSE)","v":"N0438"},"D",null,null,1,null,null,null,null,null,{"$f":"VLOOKUP(UPPER(A35),Items!$B$2:$G$748,6)","v":"decimal(10,3)"},{"$f":"IF(B35=\"D\",IF(VLOOKUP(UPPER(A35),Items!$B$2:$H$748,7,FALSE)<>0,VLOOKUP(UPPER(A35),Items!$B$2:$H$748,7,FALSE),\"\"),\"\")","v":""},"Total Period Applicable Balancing Services Volume","MWh"]
[{"$f":"VLOOKUP(UPPER(M36),Items!$A$2:$B$525,2,FALSE)","v":"N0124"},"D",null,null,1,null,null,null,null,null,{"$f":"VLOOKUP(UPPER(A36),Items!$B$2:$G$525,6)","v":"decimal(10,5)"},{"$f":"IF(B36=\"D\",IF(VLOOKUP(UPPER(A36),Items!$B$2:$H$748,7,FALSE)<>0,VLOOKUP(UPPER(A36),Items!$B$2:$H$748,7,FALSE),\"\"),\"\")","v":""},"Information Imbalance Price 1","£/MWh"]
[{"$f":"VLOOKUP(UPPER(M37),Items!$A$2:$B$525,2,FALSE)","v":"N0125"},"D",null,null,1,null,null,null,null,null,{"$f":"VLOOKUP(UPPER(A37),Items!$B$2:$G$525,6)","v":"decimal(10,5)"},{"$f":"IF(B37=\"D\",IF(VLOOKUP(UPPER(A37),Items!$B$2:$H$748,7,FALSE)<>0,VLOOKUP(UPPER(A37),Items!$B$2:$H$748,7,FALSE),\"\"),\"\")","v":""},"Information Imbalance Price 2","£/MWh"]
[{"$f":"VLOOKUP(UPPER(M38),Items!$A$2:$B$639,2,FALSE)","v":"N0316"},"D",null,null,"O",null,null,null,null,null,{"$f":"VLOOKUP(UPPER(A38),Items!$B$2:$G$525,6)","v":"decimal(10,3)"},{"$f":"IF(B38=\"D\",IF(VLOOKUP(UPPER(A38),Items!$B$2:$H$748,7,FALSE)<>0,VLOOKUP(UPPER(A38),Items!$B$2:$H$748,7,FALSE),\"\"),\"\")","v":""},"Notional Reserve Limit","MW (null for settlement dates on or after the P78 effective date)"]
[{"$f":"VLOOKUP(UPPER(M39),Items!$A$2:$B$639,2,FALSE)","v":"N0431"},"D",null,null,"O",null,null,null,null,null,{"$f":"VLOOKUP(UPPER(A39),Items!$B$2:$G$525,6)","v":"decimal(10,3)"},{"$f":"IF(B39=\"D\",IF(VLOOKUP(UPPER(A39),Items!$B$2:$H$748,7,FALSE)<>0,VLOOKUP(UPPER(A39),Items!$B$2:$H$748,7,FALSE),\"\"),\"\")","v":""},"Total NIV Tagged Volume","MWh - Populated for post-P78 Settlement Dates"]
[{"$f":"VLOOKUP(UPPER(M40),Items!$A$2:$B$639,2,FALSE)","v":"N0317"},"D",null,null,1,null,null,null,null,null,{"$f":"VLOOKUP(UPPER(A40),Items!$B$2:$G$525,6)","v":"boolean"},{"$f":"IF(B40=\"D\",IF(VLOOKUP(UPPER(A40),Items!$B$2:$H$748,7,FALSE)<>0,VLOOKUP(UPPER(A40),Items!$B$2:$H$748,7,FALSE),\"\"),\"\")","v":""},"Arbitrage Flag"]
[{"$f":"VLOOKUP(UPPER(M41),Items!$A$2:$B$639,2,FALSE)","v":"N0391"},"D",null,null,1,null,null,null,null,null,{"$f":"VLOOKUP(UPPER(A41),Items!$B$2:$G$525,6)","v":"integer(2)"},{"$f":"IF(B41=\"D\",IF(VLOOKUP(UPPER(A41),Items!$B$2:$H$748,7,FALSE)<>0,VLOOKUP(UPPER(A41),Items!$B$2:$H$748,7,FALSE),\"\"),\"\")","v":""},"Continuous Acceptance Duration Limit"]
[{"$f":"VLOOKUP(UPPER(M42),Items!$A$2:$B$639,2,FALSE)","v":"N0392"},"D",null,null,1,null,null,null,null,null,{"$f":"VLOOKUP(UPPER(A42),Items!$B$2:$G$525,6)","v":"decimal(10,3)"},{"$f":"IF(B42=\"D\",IF(VLOOKUP(UPPER(A42),Items!$B$2:$H$748,7,FALSE)<>0,VLOOKUP(UPPER(A42),Items!$B$2:$H$748,7,FALSE),\"\"),\"\")","v":""},"De Minimis Acceptance Threshold"]
["N0306","D",null,null,1,null,null,null,null,null,"decimal(10,2)","","Buy-Price Cost Adjustment / Net Energy Buy-Price Cost Adjustment","£- - pre/post P78 meaning"]
["N0308","D",null,null,1,null,null,null,null,null,"decimal(10,3)","","Buy-Price Volume Adjustment / Net Energy Buy-Price Volume Adjustment","MWh- pre/post P78 meaning"]
[{"$f":"VLOOKUP(UPPER(M45),Items!$A$2:$B$639,2,FALSE)","v":"N0415"},{"$f":"IF(LEN(K45)>0,\"D\",IF(LEN(A45)=5,\"F\",IF(LEN(A45)=3,\"R\",\" \")))","v":"D"},null,null,"O",null,null,null,null,null,{"$f":"VLOOKUP(UPPER(A45),Items!$B$2:$G$525,6)","v":"decimal(10,3)"},{"$f":"IF(B45=\"D\",IF(VLOOKUP(UPPER(A45),Items!$B$2:$H$748,7,FALSE)<>0,VLOOKUP(UPPER(A45),Items!$B$2:$H$748,7,FALSE),\"\"),\"\")","v":""},"Net System Buy-Price Volume Adjustment","Populated for post-P78 Settlement Dates"]
[{"$f":"VLOOKUP(UPPER(M46),Items!$A$2:$B$639,2,FALSE)","v":"N0372"},{"$f":"IF(LEN(K46)>0,\"D\",IF(LEN(A46)=5,\"F\",IF(LEN(A46)=3,\"R\",\" \")))","v":"D"},null,null,1,null,null,null,null,null,{"$f":"VLOOKUP(UPPER(A46),Items!$B$2:$G$525,6)","v":"decimal(10,2)"},{"$f":"IF(B46=\"D\",IF(VLOOKUP(UPPER(A46),Items!$B$2:$H$748,7,FALSE)<>0,VLOOKUP(UPPER(A46),Items!$B$2:$H$748,7,FALSE),\"\"),\"\")","v":""},"Buy-Price Price Adjust","£"]
["N0305","D",null,null,1,null,null,null,null,null,"decimal(10,2)","","Sell-Price Cost Adjustment / Net Energy Sell-Price Cost Adjustment","£ - pre/post P78 meaning"]
["N0307","D",null,null,1,null,null,null,null,null,"decimal(10,3)","","Sell-Price Volume Adjustment / Net Energy Sell-Price Volume Adjustment","MWh- pre/post P78 meaning"]
[{"$f":"VLOOKUP(UPPER(M49),Items!$A$2:$B$639,2,FALSE)","v":"N0416"},{"$f":"IF(LEN(K49)>0,\"D\",IF(LEN(A49)=5,\"F\",IF(LEN(A49)=3,\"R\",\" \")))","v":"D"},null,null,"O",null,null,null,null,null,{"$f":"VLOOKUP(UPPER(A49),Items!$B$2:$G$525,6)","v":"decimal(10,3)"},{"$f":"IF(B49=\"D\",IF(VLOOKUP(UPPER(A49),Items!$B$2:$H$748,7,FALSE)<>0,VLOOKUP(UPPER(A49),Items!$B$2:$H$748,7,FALSE),\"\"),\"\")","v":""},"Net System Sell-Price Volume Adjustment","MWh - Populated for post-P78 Settlement Dates"]
[{"$f":"VLOOKUP(UPPER(M50),Items!$A$2:$B$639,2,FALSE)","v":"N0371"},"D",null,null,1,null,null,null,null,null,{"$f":"VLOOKUP(UPPER(A50),Items!$B$2:$G$525,6)","v":"decimal(10,2)"},{"$f":"IF(B50=\"D\",IF(VLOOKUP(UPPER(A50),Items!$B$2:$H$748,7,FALSE)<>0,VLOOKUP(UPPER(A50),Items!$B$2:$H$748,7,FALSE),\"\"),\"\")","v":""},"Sell-Price Price Adjust","£"]
["MD1","R","0-*",null,"G",null,null,null,null,null,null,null,"Market Index Data Period Information","Populated for post-P78 Settlement Dates"]
[{"$f":"VLOOKUP(UPPER(M52),Items!$A$2:$B$639,2,FALSE)","v":"N0423"},"D",null,null,null,1,null,null,null,null,{"$f":"VLOOKUP(UPPER(A52),Items!$B$2:$G$525,6)","v":"text(8)"},{"$f":"IF(VLOOKUP(UPPER(A52),Items!$B$2:$H$748,7,FALSE)<>0,VLOOKUP(UPPER(A52),Items!$B$2:$H$748,7,FALSE),\"\")","v":""},"Market Index Data Provider ID"]
[{"$f":"VLOOKUP(UPPER(M53),Items!$A$2:$B$639,2,FALSE)","v":"N0412"},"D",null,null,null,1,null,null,null,null,{"$f":"VLOOKUP(UPPER(A53),Items!$B$2:$G$525,6)","v":"decimal(10,3)"},{"$f":"IF(VLOOKUP(UPPER(A53),Items!$B$2:$H$748,7,FALSE)<>0,VLOOKUP(UPPER(A53),Items!$B$2:$H$748,7,FALSE),\"\")","v":""},"Individual Liquidity Threshold"]
[{"$f":"VLOOKUP(UPPER(M54),Items!$A$2:$B$639,2,FALSE)","v":"N0413"},"D",null,null,null,"O",null,null,null,null,{"$f":"VLOOKUP(UPPER(A54),Items!$B$2:$G$525,6)","v":"decimal(10,2)"},{"$f":"IF(VLOOKUP(UPPER(A54),Items!$B$2:$H$748,7,FALSE)<>0,VLOOKUP(UPPER(A54),Items!$B$2:$H$748,7,FALSE),\"\")","v":""},"Market Index Price","Null if no data provided by MIDP"]
[{"$f":"VLOOKUP(UPPER(M55),Items!$A$2:$B$639,2,FALSE)","v":"N0414"},"D",null,null,null,"O",null,null,null,null,{"$f":"VLOOKUP(UPPER(A55),Items!$B$2:$G$525,6)","v":"decimal(10,3)"},{"$f":"IF(VLOOKUP(UPPER(A55),Items!$B$2:$H$748,7,FALSE)<>0,VLOOKUP(UPPER(A55),Items!$B$2:$H$748,7,FALSE),\"\")","v":""},"Market Index Volume","Null if no data provided by MIDP"]
["TRA","R","1-*",null,"G",null,null,null,null,null,null,null,"Trading Unit Period Information"]
[{"$f":"VLOOKUP(UPPER(M57),Items!$A$2:$B$525,2,FALSE)","v":"N0232"},"D",null,null,null,1,null,null,null,null,{"$f":"VLOOKUP(UPPER(A57),Items!$B$2:$G$525,6)","v":"text(30)"},{"$f":"IF(B57=\"D\",IF(VLOOKUP(UPPER(A57),Items!$B$2:$H$748,7,FALSE)<>0,VLOOKUP(UPPER(A57),Items!$B$2:$H$748,7,FALSE),\"\"),\"\")","v":""},"Trading Unit Name"]
[{"$f":"VLOOKUP(UPPER(M58),Items!$A$2:$B$525,2,FALSE)","v":"N0231"},"D",null,null,null,1,null,null,null,null,{"$f":"VLOOKUP(UPPER(A58),Items!$B$2:$G$525,6)","v":"decimal(10,3)"},{"$f":"IF(B58=\"D\",IF(VLOOKUP(UPPER(A58),Items!$B$2:$H$748,7,FALSE)<>0,VLOOKUP(UPPER(A58),Items!$B$2:$H$748,7,FALSE),\"\"),\"\")","v":""},"Total Trading Unit Metered Volume","MWh"]
["BPI","R","1-*",null,"G",null,null,null,null,null,null,null,"BM Unit Period Information"]
[{"$f":"VLOOKUP(UPPER(M60),Items!$A$2:$B$525,2,FALSE)","v":"N0034"},"D",null,null,null,1,null,null,null,null,{"$f":"VLOOKUP(UPPER(A60),Items!$B$2:$G$525,6)","v":"text(11)"},{"$f":"IF(B60=\"D\",IF(VLOOKUP(UPPER(A60),Items!$B$2:$H$748,7,FALSE)<>0,VLOOKUP(UPPER(A60),Items!$B$2:$H$748,7,FALSE),\"\"),\"\")","v":""},"BM Unit Id"]
[{"$f":"VLOOKUP(UPPER(M61),Items!$A$2:$B$525,2,FALSE)","v":"N0232"},"D",null,null,null,"O",null,null,null,null,{"$f":"VLOOKUP(UPPER(A61),Items!$B$2:$G$525,6)","v":"text(30)"},{"$f":"IF(B61=\"D\",IF(VLOOKUP(UPPER(A61),Items!$B$2:$H$748,7,FALSE)<>0,VLOOKUP(UPPER(A61),Items!$B$2:$H$748,7,FALSE),\"\"),\"\")","v":""},"Trading Unit Name","Omit if \"default\" trading unit"]
[{"$f":"VLOOKUP(UPPER(M62),Items!$A$2:$B$525,2,FALSE)","v":"N0174"},"D",null,null,null,1,null,null,null,null,{"$f":"VLOOKUP(UPPER(A62),Items!$B$2:$G$525,6)","v":"decimal(10,3)"},{"$f":"IF(B62=\"D\",IF(VLOOKUP(UPPER(A62),Items!$B$2:$H$748,7,FALSE)<>0,VLOOKUP(UPPER(A62),Items!$B$2:$H$748,7,FALSE),\"\"),\"\")","v":""},"Period FPN","MWh"]
[{"$f":"VLOOKUP(UPPER(M63),Items!$A$2:$B$525,2,FALSE)","v":"N0035"},"D",null,null,null,1,null,null,null,null,{"$f":"VLOOKUP(UPPER(A63),Items!$B$2:$G$525,6)","v":"decimal(10,3)"},{"$f":"IF(B63=\"D\",IF(VLOOKUP(UPPER(A63),Items!$B$2:$H$748,7,FALSE)<>0,VLOOKUP(UPPER(A63),Items!$B$2:$H$748,7,FALSE),\"\"),\"\")","v":""},"BM Unit Metered Volume","MWh"]
[{"$f":"VLOOKUP(UPPER(M64),Items!$A$2:$B$525,2,FALSE)","v":"N0234"},"D",null,null,null,1,null,null,null,null,{"$f":"VLOOKUP(UPPER(A64),Items!$B$2:$G$525,6)","v":"decimal(8,7)"},{"$f":"IF(B64=\"D\",IF(VLOOKUP(UPPER(A64),Items!$B$2:$H$748,7,FALSE)<>0,VLOOKUP(UPPER(A64),Items!$B$2:$H$748,7,FALSE),\"\"),\"\")","v":""},"Transmission Loss Multiplier"]
[{"$f":"VLOOKUP(UPPER(M65),Items!$A$2:$B$639,2,FALSE)","v":"N0421"},"D",null,null,null,1,null,null,null,null,{"$f":"VLOOKUP(UPPER(A65),Items!$B$2:$G$748,6)","v":"decimal(10,3)"},{"$f":"IF(B65=\"D\",IF(VLOOKUP(UPPER(A65),Items!$B$2:$H$748,7,FALSE)<>0,VLOOKUP(UPPER(A65),Items!$B$2:$H$748,7,FALSE),\"\"),\"\")","v":""},"BM Unit Applicable Balancing Services Volume","MWh"]
["MEL","R","0-*",null,null,"G",null,null,null,null,null,null,"Maximum Export Limit Information"]
[{"$f":"VLOOKUP(UPPER(M67),Items!$A$2:$B$525,2,FALSE)","v":"N0220"},"D",null,null,null,null,1,null,null,null,{"$f":"VLOOKUP(UPPER(A67),Items!$B$2:$G$525,6)","v":"integer(2)"},{"$f":"IF(B67=\"D\",IF(VLOOKUP(UPPER(A67),Items!$B$2:$H$748,7,FALSE)<>0,VLOOKUP(UPPER(A67),Items!$B$2:$H$748,7,FALSE),\"\"),\"\")","v":""},"Time From","minutes from start of period"]
[{"$f":"VLOOKUP(UPPER(M68),Items!$A$2:$B$525,2,FALSE)","v":"N0130"},"D",null,null,null,null,"O",null,null,null,{"$f":"VLOOKUP(UPPER(A68),Items!$B$2:$G$525,6)","v":"decimal(10,3)"},{"$f":"IF(B68=\"D\",IF(VLOOKUP(UPPER(A68),Items!$B$2:$H$748,7,FALSE)<>0,VLOOKUP(UPPER(A68),Items!$B$2:$H$748,7,FALSE),\"\"),\"\")","v":""},"Level From","MW"]
[{"$f":"VLOOKUP(UPPER(M69),Items!$A$2:$B$525,2,FALSE)","v":"N0221"},"D",null,null,null,null,1,null,null,null,{"$f":"VLOOKUP(UPPER(A69),Items!$B$2:$G$525,6)","v":"integer(2)"},{"$f":"IF(B69=\"D\",IF(VLOOKUP(UPPER(A69),Items!$B$2:$H$748,7,FALSE)<>0,VLOOKUP(UPPER(A69),Items!$B$2:$H$748,7,FALSE),\"\"),\"\")","v":""},"Time To","minutes from start of period"]
[{"$f":"VLOOKUP(UPPER(M70),Items!$A$2:$B$525,2,FALSE)","v":"N0131"},"D",null,null,null,null,"O",null,null,null,{"$f":"VLOOKUP(UPPER(A70),Items!$B$2:$G$525,6)","v":"decimal(10,3)"},{"$f":"IF(B70=\"D\",IF(VLOOKUP(UPPER(A70),Items!$B$2:$H$748,7,FALSE)<>0,VLOOKUP(UPPER(A70),Items!$B$2:$H$748,7,FALSE),\"\"),\"\")","v":""},"Level To","MW"]
["MIL","R","0-*",null,null,"G",null,null,null,null,null,null,"Maximum Import Limit Information"]
[{"$f":"VLOOKUP(UPPER(M72),Items!$A$2:$B$525,2,FALSE)","v":"N0220"},"D",null,null,null,null,1,null,null,null,{"$f":"VLOOKUP(UPPER(A72),Items!$B$2:$G$525,6)","v":"integer(2)"},{"$f":"IF(B72=\"D\",IF(VLOOKUP(UPPER(A72),Items!$B$2:$H$748,7,FALSE)<>0,VLOOKUP(UPPER(A72),Items!$B$2:$H$748,7,FALSE),\"\"),\"\")","v":""},"Time From","minutes from start of period"]
[{"$f":"VLOOKUP(UPPER(M73),Items!$A$2:$B$525,2,FALSE)","v":"N0130"},"D",null,null,null,null,"O",null,null,null,{"$f":"VLOOKUP(UPPER(A73),Items!$B$2:$G$525,6)","v":"decimal(10,3)"},{"$f":"IF(B73=\"D\",IF(VLOOKUP(UPPER(A73),Items!$B$2:$H$748,7,FALSE)<>0,VLOOKUP(UPPER(A73),Items!$B$2:$H$748,7,FALSE),\"\"),\"\")","v":""},"Level From","MW"]
[{"$f":"VLOOKUP(UPPER(M74),Items!$A$2:$B$525,2,FALSE)","v":"N0221"},"D",null,null,null,null,1,null,null,null,{"$f":"VLOOKUP(UPPER(A74),Items!$B$2:$G$525,6)","v":"integer(2)"},{"$f":"IF(B74=\"D\",IF(VLOOKUP(UPPER(A74),Items!$B$2:$H$748,7,FALSE)<>0,VLOOKUP(UPPER(A74),Items!$B$2:$H$748,7,FALSE),\"\"),\"\")","v":""},"Time To","minutes from start of period"]
[{"$f":"VLOOKUP(UPPER(M75),Items!$A$2:$B$525,2,FALSE)","v":"N0131"},"D",null,null,null,null,"O",null,null,null,{"$f":"VLOOKUP(UPPER(A75),Items!$B$2:$G$525,6)","v":"decimal(10,3)"},{"$f":"IF(B75=\"D\",IF(VLOOKUP(UPPER(A75),Items!$B$2:$H$748,7,FALSE)<>0,VLOOKUP(UPPER(A75),Items!$B$2:$H$748,7,FALSE),\"\"),\"\")","v":""},"Level To","MW"]
["BPH","R","1-*","G",null,null,null,null,null,null,null,null,"BSC Party Header"]
[{"$f":"VLOOKUP(UPPER(M77),Items!$A$2:$B$525,2,FALSE)","v":"N0200"},"D",null,null,1,null,null,null,null,null,{"$f":"VLOOKUP(UPPER(A77),Items!$B$2:$G$525,6)","v":"date"},{"$f":"IF(B77=\"D\",IF(VLOOKUP(UPPER(A77),Items!$B$2:$H$748,7,FALSE)<>0,VLOOKUP(UPPER(A77),Items!$B$2:$H$748,7,FALSE),\"\"),\"\")","v":""},"Settlement Date"]
[{"$f":"VLOOKUP(UPPER(M78),Items!$A$2:$B$525,2,FALSE)","v":"N0202"},"D",null,null,1,null,null,null,null,null,{"$f":"VLOOKUP(UPPER(A78),Items!$B$2:$G$525,6)","v":"text(2)"},{"$f":"IF(B78=\"D\",IF(VLOOKUP(UPPER(A78),Items!$B$2:$H$748,7,FALSE)<>0,VLOOKUP(UPPER(A78),Items!$B$2:$H$748,7,FALSE),\"\"),\"\")","v":"Run Type"},"Settlement Run Type"]
[{"$f":"VLOOKUP(UPPER(M79),Items!$A$2:$B$525,2,FALSE)","v":"N0304"},"D",null,null,1,null,null,null,null,null,{"$f":"VLOOKUP(UPPER(A79),Items!$B$2:$G$525,6)","v":"integer(2)"},{"$f":"IF(B79=\"D\",IF(VLOOKUP(UPPER(A79),Items!$B$2:$H$748,7,FALSE)<>0,VLOOKUP(UPPER(A79),Items!$B$2:$H$748,7,FALSE),\"\"),\"\")","v":""},"SAA Run Number"]
[{"$f":"VLOOKUP(UPPER(M80),Items!$A$2:$B$525,2,FALSE)","v":"N0385"},"D",null,null,1,null,null,null,null,null,{"$f":"VLOOKUP(UPPER(A80),Items!$B$2:$G$525,6)","v":"integer(2)"},{"$f":"IF(B80=\"D\",IF(VLOOKUP(UPPER(A80),Items!$B$2:$H$748,7,FALSE)<>0,VLOOKUP(UPPER(A80),Items!$B$2:$H$748,7,FALSE),\"\"),\"\")","v":""},"SAA CDCA Run Number","CDCA run which generated volumes used directly by SAA"]
[{"$f":"VLOOKUP(UPPER(M81),Items!$A$2:$B$525,2,FALSE)","v":"N0383"},{"$f":"IF(LEN(K81)>0,\"D\",IF(LEN(A81)=5,\"F\",IF(LEN(A81)=3,\"R\",\" \")))","v":"D"},null,null,1,null,null,null,null,null,{"$f":"VLOOKUP(UPPER(A81),Items!$B$2:$G$525,6)","v":"date"},{"$f":"IF(B81=\"D\",IF(VLOOKUP(UPPER(A81),Items!$B$2:$H$748,7,FALSE)<>0,VLOOKUP(UPPER(A81),Items!$B$2:$H$748,7,FALSE),\"\"),\"\")","v":""},"SVAA CDCA Settlement Date","CDCA settlement date from which GSP group take was used by SVAA"]
[{"$f":"VLOOKUP(UPPER(M82),Items!$A$2:$B$525,2,FALSE)","v":"N0384"},"D",null,null,1,null,null,null,null,null,{"$f":"VLOOKUP(UPPER(A82),Items!$B$2:$G$525,6)","v":"integer(2)"},{"$f":"IF(B82=\"D\",IF(VLOOKUP(UPPER(A82),Items!$B$2:$H$748,7,FALSE)<>0,VLOOKUP(UPPER(A82),Items!$B$2:$H$748,7,FALSE),\"\"),\"\")","v":""},"SVAA CDCA Run Number","CDCA run number from which GSP group take was used by SVAA"]
[{"$f":"VLOOKUP(UPPER(M83),Items!$A$2:$B$525,2,FALSE)","v":"N0211"},"D",null,null,1,null,null,null,null,null,{"$f":"VLOOKUP(UPPER(A83),Items!$B$2:$G$525,6)","v":"integer(7)"},{"$f":"IF(B83=\"D\",IF(VLOOKUP(UPPER(A83),Items!$B$2:$H$748,7,FALSE)<>0,VLOOKUP(UPPER(A83),Items!$B$2:$H$748,7,FALSE),\"\"),\"\")","v":""},"SVAA SSR Run Number"]
[{"$f":"VLOOKUP(UPPER(M84),Items!$A$2:$B$525,2,FALSE)","v":"N0045"},"D",null,null,1,null,null,null,null,null,{"$f":"VLOOKUP(UPPER(A84),Items!$B$2:$G$525,6)","v":"text(8)"},{"$f":"IF(B84=\"D\",IF(VLOOKUP(UPPER(A84),Items!$B$2:$H$748,7,FALSE)<>0,VLOOKUP(UPPER(A84),Items!$B$2:$H$748,7,FALSE),\"\"),\"\")","v":""},"BSC Party Id"]
["APC","R",1,null,"G",null,null,null,null,null,null,null,"Aggregate Party Day Charges"]
[{"$f":"VLOOKUP(UPPER(M86),Items!$A$2:$B$525,2,FALSE)","v":"N0048"},"D",null,null,null,1,null,null,null,null,{"$f":"VLOOKUP(UPPER(A86),Items!$B$2:$G$525,6)","v":"decimal(10,2)"},{"$f":"IF(B86=\"D\",IF(VLOOKUP(UPPER(A86),Items!$B$2:$H$748,7,FALSE)<>0,VLOOKUP(UPPER(A86),Items!$B$2:$H$748,7,FALSE),\"\"),\"\")","v":""},"BSSC Limited Cost Allocation"]
[{"$f":"VLOOKUP(UPPER(M87),Items!$A$2:$B$525,2,FALSE)","v":"N0031"},"D",null,null,null,1,null,null,null,null,{"$f":"VLOOKUP(UPPER(A87),Items!$B$2:$G$525,6)","v":"decimal(10,2)"},{"$f":"IF(B87=\"D\",IF(VLOOKUP(UPPER(A87),Items!$B$2:$H$748,7,FALSE)<>0,VLOOKUP(UPPER(A87),Items!$B$2:$H$748,7,FALSE),\"\"),\"\")","v":""},"BM Unit Cashflow"]
[{"$f":"VLOOKUP(UPPER(M88),Items!$A$2:$B$525,2,FALSE)","v":"N0086"},"D",null,null,null,1,null,null,null,null,{"$f":"VLOOKUP(UPPER(A88),Items!$B$2:$G$525,6)","v":"decimal(10,2)"},{"$f":"IF(B88=\"D\",IF(VLOOKUP(UPPER(A88),Items!$B$2:$H$748,7,FALSE)<>0,VLOOKUP(UPPER(A88),Items!$B$2:$H$748,7,FALSE),\"\"),\"\")","v":""},"Energy Imbalance Cashflow"]
[{"$f":"VLOOKUP(UPPER(M89),Items!$A$2:$B$525,2,FALSE)","v":"N0122"},"D",null,null,null,1,null,null,null,null,{"$f":"VLOOKUP(UPPER(A89),Items!$B$2:$G$525,6)","v":"decimal(10,2)"},{"$f":"IF(B89=\"D\",IF(VLOOKUP(UPPER(A89),Items!$B$2:$H$748,7,FALSE)<>0,VLOOKUP(UPPER(A89),Items!$B$2:$H$748,7,FALSE),\"\"),\"\")","v":""},"Information Imbalance Cashflow"]
[{"$f":"VLOOKUP(UPPER(M90),Items!$A$2:$B$525,2,FALSE)","v":"N0151"},"D",null,null,null,1,null,null,null,null,{"$f":"VLOOKUP(UPPER(A90),Items!$B$2:$G$525,6)","v":"decimal(10,2)"},{"$f":"IF(B90=\"D\",IF(VLOOKUP(UPPER(A90),Items!$B$2:$H$748,7,FALSE)<>0,VLOOKUP(UPPER(A90),Items!$B$2:$H$748,7,FALSE),\"\"),\"\")","v":""},"Non-Delivery Charge"]
[{"$f":"VLOOKUP(UPPER(M91),Items!$A$2:$B$525,2,FALSE)","v":"N0194"},"D",null,null,null,1,null,null,null,null,{"$f":"VLOOKUP(UPPER(A91),Items!$B$2:$G$525,6)","v":"decimal(10,2)"},{"$f":"IF(B91=\"D\",IF(VLOOKUP(UPPER(A91),Items!$B$2:$H$748,7,FALSE)<>0,VLOOKUP(UPPER(A91),Items!$B$2:$H$748,7,FALSE),\"\"),\"\")","v":""},"Residual Cashflow Reallocation Charge"]
[{"$f":"VLOOKUP(UPPER(M92),Items!$A$2:$B$525,2,FALSE)","v":{"$error":"#N/A"}},{"$error":"#N/A"},null,null,null,1,null,null,null,null,{"$f":"VLOOKUP(UPPER(A92),Items!$B$2:$G$525,6)","v":{"$error":"#N/A"}},{"$f":"IF(B92=\"D\",IF(VLOOKUP(UPPER(A92),Items!$B$2:$H$748,7,FALSE)<>0,VLOOKUP(UPPER(A92),Items!$B$2:$H$748,7,FALSE),\"\"),\"\")","v":{"$error":"#N/A"}},"Daily System Operator BM Cashflow"]
["SP7","R","46-50",null,"G",null,null,null,null,null,null,null,"Settlement Period Header","either 46 or 48 or 50"]
[{"$f":"VLOOKUP(UPPER(M94),Items!$A$2:$B$525,2,FALSE)","v":"N0201"},"D",null,null,null,1,null,null,null,null,{"$f":"VLOOKUP(UPPER(A94),Items!$B$2:$G$525,6)","v":"integer(2)"},{"$f":"IF(B94=\"D\",IF(VLOOKUP(UPPER(A94),Items!$B$2:$H$748,7,FALSE)<>0,VLOOKUP(UPPER(A94),Items!$B$2:$H$748,7,FALSE),\"\"),\"\")","v":""},"Settlement Period"]
["PPC","R",1,null,null,"G",null,null,null,null,null,null,"Aggregate Party Period Charges"]
[{"$f":"VLOOKUP(UPPER(M96),Items!$A$2:$B$525,2,FALSE)","v":"N0048"},"D",null,null,null,null,1,null,null,null,{"$f":"VLOOKUP(UPPER(A96),Items!$B$2:$G$525,6)","v":"decimal(10,2)"},{"$f":"IF(B96=\"D\",IF(VLOOKUP(UPPER(A96),Items!$B$2:$H$748,7,FALSE)<>0,VLOOKUP(UPPER(A96),Items!$B$2:$H$748,7,FALSE),\"\"),\"\")","v":""},"BSSC Limited Cost Allocation"]
[{"$f":"VLOOKUP(UPPER(M97),Items!$A$2:$B$525,2,FALSE)","v":"N0031"},"D",null,null,null,null,1,null,null,null,{"$f":"VLOOKUP(UPPER(A97),Items!$B$2:$G$525,6)","v":"decimal(10,2)"},{"$f":"IF(B97=\"D\",IF(VLOOKUP(UPPER(A97),Items!$B$2:$H$748,7,FALSE)<>0,VLOOKUP(UPPER(A97),Items!$B$2:$H$748,7,FALSE),\"\"),\"\")","v":""},"BM Unit Cashflow"]
[{"$f":"VLOOKUP(UPPER(M98),Items!$A$2:$B$525,2,FALSE)","v":"N0086"},"D",null,null,null,null,1,null,null,null,{"$f":"VLOOKUP(UPPER(A98),Items!$B$2:$G$525,6)","v":"decimal(10,2)"},{"$f":"IF(B98=\"D\",IF(VLOOKUP(UPPER(A98),Items!$B$2:$H$748,7,FALSE)<>0,VLOOKUP(UPPER(A98),Items!$B$2:$H$748,7,FALSE),\"\"),\"\")","v":""},"Energy Imbalance Cashflow"]
[{"$f":"VLOOKUP(UPPER(M99),Items!$A$2:$B$525,2,FALSE)","v":"N0122"},"D",null,null,null,null,1,null,null,null,{"$f":"VLOOKUP(UPPER(A99),Items!$B$2:$G$525,6)","v":"decimal(10,2)"},{"$f":"IF(B99=\"D\",IF(VLOOKUP(UPPER(A99),Items!$B$2:$H$748,7,FALSE)<>0,VLOOKUP(UPPER(A99),Items!$B$2:$H$748,7,FALSE),\"\"),\"\")","v":""},"Information Imbalance Cashflow"]
[{"$f":"VLOOKUP(UPPER(M100),Items!$A$2:$B$525,2,FALSE)","v":"N0151"},"D",null,null,null,null,1,null,null,null,{"$f":"VLOOKUP(UPPER(A100),Items!$B$2:$G$525,6)","v":"decimal(10,2)"},{"$f":"IF(B100=\"D\",IF(VLOOKUP(UPPER(A100),Items!$B$2:$H$748,7,FALSE)<>0,VLOOKUP(UPPER(A100),Items!$B$2:$H$748,7,FALSE),\"\"),\"\")","v":""},"Non-Delivery Charge"]
[{"$f":"VLOOKUP(UPPER(M101),Items!$A$2:$B$525,2,FALSE)","v":"N0194"},"D",null,null,null,null,1,null,null,null,{"$f":"VLOOKUP(UPPER(A101),Items!$B$2:$G$525,6)","v":"decimal(10,2)"},{"$f":"IF(B101=\"D\",IF(VLOOKUP(UPPER(A101),Items!$B$2:$H$748,7,FALSE)<>0,VLOOKUP(UPPER(A101),Items!$B$2:$H$748,7,FALSE),\"\"),\"\")","v":""},"Residual Cashflow Reallocation Charge"]
["SSD","R",1,null,null,"G",null,null,null,null,null,null,"System Period Data"]
[{"$f":"VLOOKUP(UPPER(M103),Items!$A$2:$B$525,2,FALSE)","v":"N0172"},"D",null,null,null,null,1,null,null,null,{"$f":"VLOOKUP(UPPER(A103),Items!$B$2:$G$525,6)","v":"decimal(10,2)"},{"$f":"IF(B103=\"D\",IF(VLOOKUP(UPPER(A103),Items!$B$2:$H$748,7,FALSE)<>0,VLOOKUP(UPPER(A103),Items!$B$2:$H$748,7,FALSE),\"\"),\"\")","v":""},"Period BSSC Limited Costs"]
[{"$f":"VLOOKUP(UPPER(M104),Items!$A$2:$B$525,2,FALSE)","v":{"$error":"#N/A"}},{"$error":"#N/A"},null,null,null,null,1,null,null,null,{"$f":"VLOOKUP(UPPER(A104),Items!$B$2:$G$525,6)","v":{"$error":"#N/A"}},{"$f":"IF(B104=\"D\",IF(VLOOKUP(UPPER(A104),Items!$B$2:$H$748,7,FALSE)<>0,VLOOKUP(UPPER(A104),Items!$B$2:$H$748,7,FALSE),\"\"),\"\")","v":{"$error":"#N/A"}},"System Operator BM Cashflow"]
[{"$f":"VLOOKUP(UPPER(M105),Items!$A$2:$B$525,2,FALSE)","v":"N0124"},"D",null,null,null,null,1,null,null,null,{"$f":"VLOOKUP(UPPER(A105),Items!$B$2:$G$525,6)","v":"decimal(10,5)"},{"$f":"IF(B105=\"D\",IF(VLOOKUP(UPPER(A105),Items!$B$2:$H$748,7,FALSE)<>0,VLOOKUP(UPPER(A105),Items!$B$2:$H$748,7,FALSE),\"\"),\"\")","v":""},"Information Imbalance Price 1"]
[{"$f":"VLOOKUP(UPPER(M106),Items!$A$2:$B$525,2,FALSE)","v":"N0125"},"D",null,null,null,null,1,null,null,null,{"$f":"VLOOKUP(UPPER(A106),Items!$B$2:$G$525,6)","v":"decimal(10,5)"},{"$f":"IF(B106=\"D\",IF(VLOOKUP(UPPER(A106),Items!$B$2:$H$748,7,FALSE)<>0,VLOOKUP(UPPER(A106),Items!$B$2:$H$748,7,FALSE),\"\"),\"\")","v":""},"Information Imbalance Price 2"]
[{"$f":"VLOOKUP(UPPER(M107),Items!$A$2:$B$525,2,FALSE)","v":"N0212"},"D",null,null,null,null,1,null,null,null,{"$f":"VLOOKUP(UPPER(A107),Items!$B$2:$G$525,6)","v":"decimal(10,5)"},{"$f":"IF(B107=\"D\",IF(VLOOKUP(UPPER(A107),Items!$B$2:$H$748,7,FALSE)<>0,VLOOKUP(UPPER(A107),Items!$B$2:$H$748,7,FALSE),\"\"),\"\")","v":""},"System Buy Price"]
[{"$f":"VLOOKUP(UPPER(M108),Items!$A$2:$B$525,2,FALSE)","v":"N0215"},"D",null,null,null,null,1,null,null,null,{"$f":"VLOOKUP(UPPER(A108),Items!$B$2:$G$525,6)","v":"decimal(10,5)"},{"$f":"IF(B108=\"D\",IF(VLOOKUP(UPPER(A108),Items!$B$2:$H$748,7,FALSE)<>0,VLOOKUP(UPPER(A108),Items!$B$2:$H$748,7,FALSE),\"\"),\"\")","v":""},"System Sell Price"]
[{"$f":"VLOOKUP(UPPER(M109),Items!$A$2:$B$525,2,FALSE)","v":"N0439"},"D",null,null,null,null,"O",null,null,null,{"$f":"VLOOKUP(UPPER(A109),Items!$B$2:$G$525,6)","v":"text(2)"},{"$f":"IF(B109=\"D\",IF(VLOOKUP(UPPER(A109),Items!$B$2:$H$748,7,FALSE)<>0,VLOOKUP(UPPER(A109),Items!$B$2:$H$748,7,FALSE),\"\"),\"\")","v":"Price Derivation Code"},"Price Derivation Code","Populated for post-P78 Settlement Dates"]
[{"$f":"VLOOKUP(UPPER(M110),Items!$A$2:$B$525,2,FALSE)","v":"N0333"},"D",null,null,null,null,1,null,null,null,{"$f":"VLOOKUP(UPPER(A110),Items!$B$2:$G$525,6)","v":"decimal(10,2)"},{"$f":"IF(B110=\"D\",IF(VLOOKUP(UPPER(A110),Items!$B$2:$H$748,7,FALSE)<>0,VLOOKUP(UPPER(A110),Items!$B$2:$H$748,7,FALSE),\"\"),\"\")","v":""},"Total System BM Cashflow"]
[{"$f":"VLOOKUP(UPPER(M111),Items!$A$2:$B$525,2,FALSE)","v":"N0225"},"D",null,null,null,null,1,null,null,null,{"$f":"VLOOKUP(UPPER(A111),Items!$B$2:$G$525,6)","v":"decimal(10,2)"},{"$f":"IF(B111=\"D\",IF(VLOOKUP(UPPER(A111),Items!$B$2:$H$748,7,FALSE)<>0,VLOOKUP(UPPER(A111),Items!$B$2:$H$748,7,FALSE),\"\"),\"\")","v":""},"Total System Energy Imbalance Cashflow"]
[{"$f":"VLOOKUP(UPPER(M112),Items!$A$2:$B$525,2,FALSE)","v":"N0228"},"D",null,null,null,null,1,null,null,null,{"$f":"VLOOKUP(UPPER(A112),Items!$B$2:$G$525,6)","v":"decimal(10,2)"},{"$f":"IF(B112=\"D\",IF(VLOOKUP(UPPER(A112),Items!$B$2:$H$748,7,FALSE)<>0,VLOOKUP(UPPER(A112),Items!$B$2:$H$748,7,FALSE),\"\"),\"\")","v":""},"Total System Non-Delivery Charge"]
[{"$f":"VLOOKUP(UPPER(M113),Items!$A$2:$B$525,2,FALSE)","v":"N0216"},"D",null,null,null,null,1,null,null,null,"decimal(10,3)","","System Total Accepted Bid Volume"]
[{"$f":"VLOOKUP(UPPER(M114),Items!$A$2:$B$525,2,FALSE)","v":"N0386"},{"$f":"IF(LEN(K114)>0,\"D\",IF(LEN(A114)=5,\"F\",IF(LEN(A114)=3,\"R\",\" \")))","v":"D"},null,null,null,null,1,null,null,null,{"$f":"VLOOKUP(UPPER(A114),Items!$B$2:$G$525,6)","v":"decimal(10,3)"},{"$f":"IF(B114=\"D\",IF(VLOOKUP(UPPER(A114),Items!$B$2:$H$748,7,FALSE)<>0,VLOOKUP(UPPER(A114),Items!$B$2:$H$748,7,FALSE),\"\"),\"\")","v":""},"System Total Unpriced Accepted Bid Volume"]
[{"$f":"VLOOKUP(UPPER(M115),Items!$A$2:$B$525,2,FALSE)","v":"N0393"},{"$f":"IF(LEN(K115)>0,\"D\",IF(LEN(A115)=5,\"F\",IF(LEN(A115)=3,\"R\",\" \")))","v":"D"},null,null,null,null,1,null,null,null,{"$f":"VLOOKUP(UPPER(A115),Items!$B$2:$G$525,6)","v":"decimal(10,3)"},{"$f":"IF(B115=\"D\",IF(VLOOKUP(UPPER(A115),Items!$B$2:$H$748,7,FALSE)<>0,VLOOKUP(UPPER(A115),Items!$B$2:$H$748,7,FALSE),\"\"),\"\")","v":""},"System Total Priced Accepted Bid Volume"]
[{"$f":"VLOOKUP(UPPER(M116),Items!$A$2:$B$525,2,FALSE)","v":"N0224"},{"$f":"IF(LEN(K116)>0,\"D\",IF(LEN(A116)=5,\"F\",IF(LEN(A116)=3,\"R\",\" \")))","v":"D"},null,null,null,null,1,null,null,null,{"$f":"VLOOKUP(UPPER(A116),Items!$B$2:$G$525,6)","v":"decimal(10,3)"},{"$f":"IF(B116=\"D\",IF(VLOOKUP(UPPER(A116),Items!$B$2:$H$748,7,FALSE)<>0,VLOOKUP(UPPER(A116),Items!$B$2:$H$748,7,FALSE),\"\"),\"\")","v":""},"Total System Energy Contract Volume"]
[{"$f":"VLOOKUP(UPPER(M117),Items!$A$2:$B$748,2,FALSE)","v":"N0428"},{"$f":"IF(LEN(K117)>0,\"D\",IF(LEN(A117)=5,\"F\",IF(LEN(A117)=3,\"R\",\" \")))","v":"D"},null,null,null,null,"O",null,null,null,{"$f":"VLOOKUP(UPPER(A117),Items!$B$2:$G$525,6)","v":"decimal(10,3)"},null,"NIV Tagged System Total Unpriced Bid Volume","Populated for post-P78 Settlement Dates"]
["N0217","D",null,null,null,null,1,null,null,null,"decimal(10,3)","","System Total Accepted Offer Volume"]
[{"$f":"VLOOKUP(UPPER(M119),Items!$A$2:$B$748,2,FALSE)","v":"N0429"},{"$f":"IF(LEN(K119)>0,\"D\",IF(LEN(A119)=5,\"F\",IF(LEN(A119)=3,\"R\",\" \")))","v":"D"},null,null,null,null,"O",null,null,null,{"$f":"VLOOKUP(UPPER(A119),Items!$B$2:$G$525,6)","v":"decimal(10,3)"},null,"NIV Tagged System Total Unpriced Offer Volume","Populated for post-P78 Settlement Dates"]
[{"$f":"VLOOKUP(UPPER(M120),Items!$A$2:$B$748,2,FALSE)","v":"N0430"},"D",null,null,null,null,"O",null,null,null,{"$f":"VLOOKUP(UPPER(A120),Items!$B$2:$G$525,6)","v":"decimal(10,3)"},null,"Net Imbalance Volume","Populated for post-P78 Settlement Dates"]
[{"$f":"VLOOKUP(UPPER(M121),Items!$A$2:$B$748,2,FALSE)","v":"N0431"},"D",null,null,null,null,"O",null,null,null,{"$f":"VLOOKUP(UPPER(A121),Items!$B$2:$G$525,6)","v":"decimal(10,3)"},null,"Total NIV Tagged Volume","Populated for post-P78 Settlement Dates"]
[{"$f":"VLOOKUP(UPPER(M122),Items!$A$2:$B$748,2,FALSE)","v":"N0432"},"D",null,null,null,null,"O",null,null,null,{"$f":"VLOOKUP(UPPER(A122),Items!$B$2:$G$525,6)","v":"decimal(10,3)"},null,"NIV Tagged SBVA","Populated for post-P78 Settlement Dates"]
[{"$f":"VLOOKUP(UPPER(M123),Items!$A$2:$B$748,2,FALSE)","v":"N0433"},"D",null,null,null,null,"O",null,null,null,{"$f":"VLOOKUP(UPPER(A123),Items!$B$2:$G$525,6)","v":"decimal(10,3)"},null,"NIV Tagged SSVA","Populated for post-P78 Settlement Dates"]
[{"$f":"VLOOKUP(UPPER(M124),Items!$A$2:$B$525,2,FALSE)","v":"N0387"},"D",null,null,null,null,1,null,null,null,{"$f":"VLOOKUP(UPPER(A124),Items!$B$2:$G$525,6)","v":"decimal(10,3)"},{"$f":"IF(B124=\"D\",IF(VLOOKUP(UPPER(A124),Items!$B$2:$H$748,7,FALSE)<>0,VLOOKUP(UPPER(A124),Items!$B$2:$H$748,7,FALSE),\"\"),\"\")","v":""},"System Total Unpriced Accepted Offer Volume"]
[{"$f":"VLOOKUP(UPPER(M125),Items!$A$2:$B$525,2,FALSE)","v":"N0394"},"D",null,null,null,null,1,null,null,null,{"$f":"VLOOKUP(UPPER(A125),Items!$B$2:$G$525,6)","v":"decimal(10,3)"},{"$f":"IF(B125=\"D\",IF(VLOOKUP(UPPER(A125),Items!$B$2:$H$748,7,FALSE)<>0,VLOOKUP(UPPER(A125),Items!$B$2:$H$748,7,FALSE),\"\"),\"\")","v":""},"System Total Priced Accepted Offer Volume"]
[{"$f":"VLOOKUP(UPPER(M126),Items!$A$2:$B$525,2,FALSE)","v":"N0226"},"D",null,null,null,null,1,null,null,null,{"$f":"VLOOKUP(UPPER(A126),Items!$B$2:$G$525,6)","v":"decimal(10,3)"},{"$f":"IF(B126=\"D\",IF(VLOOKUP(UPPER(A126),Items!$B$2:$H$748,7,FALSE)<>0,VLOOKUP(UPPER(A126),Items!$B$2:$H$748,7,FALSE),\"\"),\"\")","v":""},"Total System Energy Imbalance Volume"]
[{"$f":"VLOOKUP(UPPER(M127),Items!$A$2:$B$525,2,FALSE)","v":"N0395"},"D",null,null,null,null,1,null,null,null,{"$f":"VLOOKUP(UPPER(A127),Items!$B$2:$G$525,6)","v":"decimal(10,3)"},{"$f":"IF(B127=\"D\",IF(VLOOKUP(UPPER(A127),Items!$B$2:$H$748,7,FALSE)<>0,VLOOKUP(UPPER(A127),Items!$B$2:$H$748,7,FALSE),\"\"),\"\")","v":""},"Residual Cashflow Reallocation Denominator"]
[{"$f":"VLOOKUP(UPPER(M128),Items!$A$2:$B$525,2,FALSE)","v":"N0230"},"D",null,null,null,null,1,null,null,null,{"$f":"VLOOKUP(UPPER(A128),Items!$B$2:$G$525,6)","v":"decimal(10,2)"},{"$f":"IF(B128=\"D\",IF(VLOOKUP(UPPER(A128),Items!$B$2:$H$748,7,FALSE)<>0,VLOOKUP(UPPER(A128),Items!$B$2:$H$748,7,FALSE),\"\"),\"\")","v":""},"Total System Residual Cashflow"]
[{"$f":"VLOOKUP(UPPER(M129),Items!$A$2:$B$525,2,FALSE)","v":"N0227"},"D",null,null,null,null,1,null,null,null,{"$f":"VLOOKUP(UPPER(A129),Items!$B$2:$G$525,6)","v":"decimal(10,2)"},{"$f":"IF(B129=\"D\",IF(VLOOKUP(UPPER(A129),Items!$B$2:$H$748,7,FALSE)<>0,VLOOKUP(UPPER(A129),Items!$B$2:$H$748,7,FALSE),\"\"),\"\")","v":""},"Total System Information Imbalance Charge"]
["N0305","D",null,null,null,null,1,null,null,null,"decimal(10,2)","","Sell-Price Cost Adjustment / Net Energy Sell-Price Cost Adjustment","Pre/Post P78 Settlement Date meaning"]
["N0306","D",null,null,null,null,1,null,null,null,"decimal(10,2)","","Buy-Price Cost Adjustment / Net Energy Buy-Price Cost Adjustment","Pre/Post P78 Settlement Date meaning"]
["N0307","D",null,null,null,null,1,null,null,null,"decimal(10,3)","","Sell-Price Volume Adjustment / Net Energy Sell-Price Volume Adjustment","Pre/Post P78 Settlement Date meaning"]
["N0308","D",null,null,null,null,1,null,null,null,"decimal(10,3)","","Buy-Price Volume Adjustment / Net Energy Buy-Price Volume Adjustment","Pre/Post P78 Settlement Date meaning"]
["N0416","D",null,null,null,null,"O",null,null,null,"decimal(10,3)","","Net System Sell-Price Volume Adjustment","Populated for post-P78 Settlement Dates"]
[{"$f":"VLOOKUP(UPPER(M135),Items!$A$2:$B$748,2,FALSE)","v":"N0415"},{"$f":"IF(LEN(K135)>0,\"D\",IF(LEN(A135)=5,\"F\",IF(LEN(A135)=3,\"R\",\" \")))","v":"D"},null,null,null,null,"O",null,null,null,{"$f":"VLOOKUP(UPPER(A135),Items!$B$2:$G$525,6)","v":"decimal(10,3)"},{"$f":"IF(VLOOKUP(UPPER(A135),Items!$B$2:$H$748,7,FALSE)<>0,VLOOKUP(UPPER(A135),Items!$B$2:$H$748,7,FALSE),\"\")","v":""},"Net System Buy-Price Volume Adjustment","Populated for post-P78 Settlement Dates"]
[{"$f":"VLOOKUP(UPPER(M136),Items!$A$2:$B$525,2,FALSE)","v":"N0371"},"D",null,null,null,null,1,null,null,null,{"$f":"VLOOKUP(UPPER(A136),Items!$B$2:$G$525,6)","v":"decimal(10,2)"},{"$f":"IF(B136=\"D\",IF(VLOOKUP(UPPER(A136),Items!$B$2:$H$748,7,FALSE)<>0,VLOOKUP(UPPER(A136),Items!$B$2:$H$748,7,FALSE),\"\"),\"\")","v":""},"Sell-Price Price Adjust"]
[{"$f":"VLOOKUP(UPPER(M137),Items!$A$2:$B$525,2,FALSE)","v":"N0372"},"D",null,null,null,null,1,null,null,null,{"$f":"VLOOKUP(UPPER(A137),Items!$B$2:$G$525,6)","v":"decimal(10,2)"},{"$f":"IF(B137=\"D\",IF(VLOOKUP(UPPER(A137),Items!$B$2:$H$748,7,FALSE)<>0,VLOOKUP(UPPER(A137),Items!$B$2:$H$748,7,FALSE),\"\"),\"\")","v":""},"Buy-Price Price Adjust"]
[{"$f":"VLOOKUP(UPPER(M138),Items!$A$2:$B$748,2,FALSE)","v":"N0438"},"D",null,null,null,null,1,null,null,null,{"$f":"VLOOKUP(UPPER(A138),Items!$B$2:$G$748,6)","v":"decimal(10,3)"},{"$f":"IF(B138=\"D\",IF(VLOOKUP(UPPER(A138),Items!$B$2:$H$748,7,FALSE)<>0,VLOOKUP(UPPER(A138),Items!$B$2:$H$748,7,FALSE),\"\"),\"\")","v":""},"Total Period Applicable Balancing Services Volume","MWh"]
[{"$f":"VLOOKUP(UPPER(M139),Items!$A$2:$B$525,2,FALSE)","v":"N0335"},"D",null,null,null,null,1,null,null,null,{"$f":"VLOOKUP(UPPER(A139),Items!$B$2:$G$525,6)","v":"decimal(10,3)"},{"$f":"IF(B139=\"D\",IF(VLOOKUP(UPPER(A139),Items!$B$2:$H$748,7,FALSE)<>0,VLOOKUP(UPPER(A139),Items!$B$2:$H$748,7,FALSE),\"\"),\"\")","v":""},"System Operator Production Imbalance"]
[{"$f":"VLOOKUP(UPPER(M140),Items!$A$2:$B$525,2,FALSE)","v":"N0336"},"D",null,null,null,null,1,null,null,null,{"$f":"VLOOKUP(UPPER(A140),Items!$B$2:$G$525,6)","v":"decimal(10,3)"},{"$f":"IF(B140=\"D\",IF(VLOOKUP(UPPER(A140),Items!$B$2:$H$748,7,FALSE)<>0,VLOOKUP(UPPER(A140),Items!$B$2:$H$748,7,FALSE),\"\"),\"\")","v":""},"System Operator Consumption Imbalance"]
[{"$f":"VLOOKUP(UPPER(M141),Items!$A$2:$B$609,2,FALSE)","v":"N0501"},"D",null,null,null,null,"O",null,null,null,{"$f":"VLOOKUP(UPPER(A141),Items!$B$2:$G$526,6,FALSE)","v":"decimal(10,3)"},null,"NIV Tagged Energy Buy Volume Adjustment","Populated for post-P194 Settlement Dates. These fields will be null for Settlement Dates before the P194 effective date."]
[{"$f":"VLOOKUP(UPPER(M142),Items!$A$2:$B$609,2,FALSE)","v":"N0502"},"D",null,null,null,null,"O",null,null,null,{"$f":"VLOOKUP(UPPER(A142),Items!$B$2:$G$526,6,FALSE)","v":"decimal(10,3)"},null,"NIV Tagged Energy Sell Volume Adjustment","Populated for post-P194 Settlement Dates. These fields will be null for Settlement Dates before the P194 effective date."]
[{"$f":"VLOOKUP(UPPER(M143),Items!$A$2:$B$609,2,FALSE)","v":"N0503"},"D",null,null,null,null,"O",null,null,null,{"$f":"VLOOKUP(UPPER(A143),Items!$B$2:$G$526,6,FALSE)","v":"decimal(10,3)"},null,"PAR Tagged Energy Buy Volume Adjustment","Populated for post-P194 Settlement Dates. These fields will be null for Settlement Dates before the P194 effective date."]
[{"$f":"VLOOKUP(UPPER(M144),Items!$A$2:$B$609,2,FALSE)","v":"N0504"},"D",null,null,null,null,"O",null,null,null,{"$f":"VLOOKUP(UPPER(A144),Items!$B$2:$G$526,6,FALSE)","v":"decimal(10,3)"},null,"PAR Tagged Energy Sell Volume Adjustment","Populated for post-P194 Settlement Dates. These fields will be null for Settlement Dates before the P194 effective date."]
[{"$f":"VLOOKUP(UPPER(M145),Items!$A$2:$B$748,2,FALSE)","v":"N0434"},"D",null,null,null,null,"O",null,null,null,{"$f":"VLOOKUP(UPPER(A145),Items!$B$2:$G$525,6)","v":"decimal(10,2)"},{"$f":"IF(VLOOKUP(UPPER(A145),Items!$B$2:$H$748,7,FALSE)<>0,VLOOKUP(UPPER(A145),Items!$B$2:$H$748,7,FALSE),\"\")","v":""},"Untagged EBCA","Populated for post-P78 Settlement Dates. "]
[{"$f":"VLOOKUP(UPPER(M146),Items!$A$2:$B$748,2,FALSE)","v":"N0435"},"D",null,null,null,null,"O",null,null,null,{"$f":"VLOOKUP(UPPER(A146),Items!$B$2:$G$525,6)","v":"decimal(10,3)"},{"$f":"IF(VLOOKUP(UPPER(A146),Items!$B$2:$H$748,7,FALSE)<>0,VLOOKUP(UPPER(A146),Items!$B$2:$H$748,7,FALSE),\"\")","v":""},"Untagged EBVA","Populated for post-P78 Settlement Dates"]
[{"$f":"VLOOKUP(UPPER(M147),Items!$A$2:$B$748,2,FALSE)","v":"N0436"},"D",null,null,null,null,"O",null,null,null,{"$f":"VLOOKUP(UPPER(A147),Items!$B$2:$G$525,6)","v":"decimal(10,2)"},{"$f":"IF(VLOOKUP(UPPER(A147),Items!$B$2:$H$748,7,FALSE)<>0,VLOOKUP(UPPER(A147),Items!$B$2:$H$748,7,FALSE),\"\")","v":""},"Untagged ESCA","Populated for post-P78 Settlement Dates"]
[{"$f":"VLOOKUP(UPPER(M148),Items!$A$2:$B$748,2,FALSE)","v":"N0437"},"D",null,null,null,null,"O",null,null,null,{"$f":"VLOOKUP(UPPER(A148),Items!$B$2:$G$525,6)","v":"decimal(10,3)"},{"$f":"IF(VLOOKUP(UPPER(A148),Items!$B$2:$H$748,7,FALSE)<>0,VLOOKUP(UPPER(A148),Items!$B$2:$H$748,7,FALSE),\"\")","v":""},"Untagged ESVA","Populated for post-P78 Settlement Dates"]
["MD2","R","0-*",null,null,null,"G",null,null,null,null,null,"Market Index Data Information","Populated for post-P78 Settlement Dates"]
[{"$f":"VLOOKUP(UPPER(M150),Items!$A$2:$B$748,2,FALSE)","v":"N0423"},"D",null,null,null,null,null,1,null,null,{"$f":"VLOOKUP(UPPER(A150),Items!$B$2:$G$525,6)","v":"text(8)"},{"$f":"IF(VLOOKUP(UPPER(A150),Items!$B$2:$H$748,7,FALSE)<>0,VLOOKUP(UPPER(A150),Items!$B$2:$H$748,7,FALSE),\"\")","v":""},"Market Index Data Provider ID"]
[{"$f":"VLOOKUP(UPPER(M151),Items!$A$2:$B$748,2,FALSE)","v":"N0412"},"D",null,null,null,null,null,1,null,null,{"$f":"VLOOKUP(UPPER(A151),Items!$B$2:$G$525,6)","v":"decimal(10,3)"},{"$f":"IF(VLOOKUP(UPPER(A151),Items!$B$2:$H$748,7,FALSE)<>0,VLOOKUP(UPPER(A151),Items!$B$2:$H$748,7,FALSE),\"\")","v":""},"Individual Liquidity Threshold"]
[{"$f":"VLOOKUP(UPPER(M152),Items!$A$2:$B$748,2,FALSE)","v":"N0413"},"D",null,null,null,null,null,"O",null,null,{"$f":"VLOOKUP(UPPER(A152),Items!$B$2:$G$525,6)","v":"decimal(10,2)"},{"$f":"IF(VLOOKUP(UPPER(A152),Items!$B$2:$H$748,7,FALSE)<>0,VLOOKUP(UPPER(A152),Items!$B$2:$H$748,7,FALSE),\"\")","v":""},"Market Index Price","Null if no data provided by MIDP"]
[{"$f":"VLOOKUP(UPPER(M153),Items!$A$2:$B$748,2,FALSE)","v":"N0414"},"D",null,null,null,null,null,"O",null,null,{"$f":"VLOOKUP(UPPER(A153),Items!$B$2:$G$525,6)","v":"decimal(10,3)"},{"$f":"IF(VLOOKUP(UPPER(A153),Items!$B$2:$H$748,7,FALSE)<>0,VLOOKUP(UPPER(A153),Items!$B$2:$H$748,7,FALSE),\"\")","v":""},"Market Index Volume","Null if no data provided by MIDP"]
["APD","R","2",null,null,"G",null,null,null,null,null,null,"Account Period Data"]
[{"$f":"VLOOKUP(UPPER(M155),Items!$A$2:$B$525,2,FALSE)","v":"N0177"},"D",null,null,null,null,1,null,null,null,{"$f":"VLOOKUP(UPPER(A155),Items!$B$2:$G$525,6)","v":"char"},{"$f":"IF(B155=\"D\",IF(VLOOKUP(UPPER(A155),Items!$B$2:$H$748,7,FALSE)<>0,VLOOKUP(UPPER(A155),Items!$B$2:$H$748,7,FALSE),\"\"),\"\")","v":"P/C Flag"},"Production/Consumption Flag","P/C"]
[{"$f":"VLOOKUP(UPPER(M156),Items!$A$2:$B$525,2,FALSE)","v":"N0048"},"D",null,null,null,null,1,null,null,null,{"$f":"VLOOKUP(UPPER(A156),Items!$B$2:$G$525,6)","v":"decimal(10,2)"},{"$f":"IF(B156=\"D\",IF(VLOOKUP(UPPER(A156),Items!$B$2:$H$748,7,FALSE)<>0,VLOOKUP(UPPER(A156),Items!$B$2:$H$748,7,FALSE),\"\"),\"\")","v":""},"BSSC Limited Cost Allocation"]
[{"$f":"VLOOKUP(UPPER(M157),Items!$A$2:$B$525,2,FALSE)","v":"N0087"},"D",null,null,null,null,1,null,null,null,{"$f":"VLOOKUP(UPPER(A157),Items!$B$2:$G$525,6)","v":"decimal(10,2)"},{"$f":"IF(B157=\"D\",IF(VLOOKUP(UPPER(A157),Items!$B$2:$H$748,7,FALSE)<>0,VLOOKUP(UPPER(A157),Items!$B$2:$H$748,7,FALSE),\"\"),\"\")","v":""},"Energy Imbalance Charge"]
[{"$f":"VLOOKUP(UPPER(M158),Items!$A$2:$B$525,2,FALSE)","v":"N0123"},"D",null,null,null,null,1,null,null,null,{"$f":"VLOOKUP(UPPER(A158),Items!$B$2:$G$525,6)","v":"decimal(10,2)"},{"$f":"IF(B158=\"D\",IF(VLOOKUP(UPPER(A158),Items!$B$2:$H$748,7,FALSE)<>0,VLOOKUP(UPPER(A158),Items!$B$2:$H$748,7,FALSE),\"\"),\"\")","v":""},"Information Imbalance Charge"]
[{"$f":"VLOOKUP(UPPER(M159),Items!$A$2:$B$525,2,FALSE)","v":"N0194"},"D",null,null,null,null,1,null,null,null,{"$f":"VLOOKUP(UPPER(A159),Items!$B$2:$G$525,6)","v":"decimal(10,2)"},{"$f":"IF(B159=\"D\",IF(VLOOKUP(UPPER(A159),Items!$B$2:$H$748,7,FALSE)<>0,VLOOKUP(UPPER(A159),Items!$B$2:$H$748,7,FALSE),\"\"),\"\")","v":""},"Residual Cashflow Reallocation Charge"]
[{"$f":"VLOOKUP(UPPER(M160),Items!$A$2:$B$525,2,FALSE)","v":"N0001"},"D",null,null,null,null,1,null,null,null,{"$f":"VLOOKUP(UPPER(A160),Items!$B$2:$G$525,6)","v":"decimal(10,3)"},{"$f":"IF(B160=\"D\",IF(VLOOKUP(UPPER(A160),Items!$B$2:$H$748,7,FALSE)<>0,VLOOKUP(UPPER(A160),Items!$B$2:$H$748,7,FALSE),\"\"),\"\")","v":""},"Account Bilateral Contract Volume"]
[{"$f":"VLOOKUP(UPPER(M161),Items!$A$2:$B$525,2,FALSE)","v":"N0004"},"D",null,null,null,null,1,null,null,null,{"$f":"VLOOKUP(UPPER(A161),Items!$B$2:$G$525,6)","v":"decimal(10,3)"},{"$f":"IF(B161=\"D\",IF(VLOOKUP(UPPER(A161),Items!$B$2:$H$748,7,FALSE)<>0,VLOOKUP(UPPER(A161),Items!$B$2:$H$748,7,FALSE),\"\"),\"\")","v":""},"Account Period Balancing Services Volume"]
[{"$f":"VLOOKUP(UPPER(M162),Items!$A$2:$B$525,2,FALSE)","v":"N0003"},"D",null,null,null,null,1,null,null,null,{"$f":"VLOOKUP(UPPER(A162),Items!$B$2:$G$525,6)","v":"decimal(10,3)"},{"$f":"IF(B162=\"D\",IF(VLOOKUP(UPPER(A162),Items!$B$2:$H$748,7,FALSE)<>0,VLOOKUP(UPPER(A162),Items!$B$2:$H$748,7,FALSE),\"\"),\"\")","v":""},"Account Energy Imbalance Volume"]
[{"$f":"VLOOKUP(UPPER(M163),Items!$A$2:$B$525,2,FALSE)","v":"N0002"},"D",null,null,null,null,1,null,null,null,{"$f":"VLOOKUP(UPPER(A163),Items!$B$2:$G$525,6)","v":"decimal(10,3)"},{"$f":"IF(B163=\"D\",IF(VLOOKUP(UPPER(A163),Items!$B$2:$H$748,7,FALSE)<>0,VLOOKUP(UPPER(A163),Items!$B$2:$H$748,7,FALSE),\"\"),\"\")","v":""},"Account Credited Energy Volume"]
[{"$f":"VLOOKUP(UPPER(M164),Items!$A$2:$B$525,2,FALSE)","v":"N0195"},"D",null,null,null,null,1,null,null,null,{"$f":"VLOOKUP(UPPER(A164),Items!$B$2:$G$525,6)","v":"decimal(8,7)"},{"$f":"IF(B164=\"D\",IF(VLOOKUP(UPPER(A164),Items!$B$2:$H$748,7,FALSE)<>0,VLOOKUP(UPPER(A164),Items!$B$2:$H$748,7,FALSE),\"\"),\"\")","v":""},"Residual Cashflow Reallocation Proportion"]
["APB","R","0-*",null,null,null,"G",null,null,null,null,null,"Account Period BMU Data"]
[{"$f":"VLOOKUP(UPPER(M166),Items!$A$2:$B$525,2,FALSE)","v":"N0034"},"D",null,null,null,null,null,1,null,null,{"$f":"VLOOKUP(UPPER(A166),Items!$B$2:$G$525,6)","v":"text(11)"},{"$f":"IF(B166=\"D\",IF(VLOOKUP(UPPER(A166),Items!$B$2:$H$748,7,FALSE)<>0,VLOOKUP(UPPER(A166),Items!$B$2:$H$748,7,FALSE),\"\"),\"\")","v":""},"BM Unit Id"]
[{"$f":"VLOOKUP(UPPER(M167),Items!$A$2:$B$525,2,FALSE)","v":"N0061"},{"$f":"IF(LEN(K167)>0,\"D\",IF(LEN(A167)=5,\"F\",IF(LEN(A167)=3,\"R\",\" \")))","v":"D"},null,null,null,null,null,1,null,null,{"$f":"VLOOKUP(UPPER(A167),Items!$B$2:$G$525,6)","v":"decimal(10,3)"},{"$f":"IF(B167=\"D\",IF(VLOOKUP(UPPER(A167),Items!$B$2:$H$748,7,FALSE)<>0,VLOOKUP(UPPER(A167),Items!$B$2:$H$748,7,FALSE),\"\"),\"\")","v":""},"Credited Energy Volume"]
[{"$f":"VLOOKUP(UPPER(M168),Items!$A$2:$B$525,2,FALSE)","v":"N0109"},"D",null,null,null,null,null,1,null,null,{"$f":"VLOOKUP(UPPER(A168),Items!$B$2:$G$525,6)","v":"decimal(10,3)"},{"$f":"IF(B168=\"D\",IF(VLOOKUP(UPPER(A168),Items!$B$2:$H$748,7,FALSE)<>0,VLOOKUP(UPPER(A168),Items!$B$2:$H$748,7,FALSE),\"\"),\"\")","v":""},"Fixed Metered Volume Reallocation"]
[{"$f":"VLOOKUP(UPPER(M169),Items!$A$2:$B$525,2,FALSE)","v":"N0163"},"D",null,null,null,null,null,1,null,null,{"$f":"VLOOKUP(UPPER(A169),Items!$B$2:$G$525,6)","v":"decimal(8,5)"},{"$f":"IF(B169=\"D\",IF(VLOOKUP(UPPER(A169),Items!$B$2:$H$748,7,FALSE)<>0,VLOOKUP(UPPER(A169),Items!$B$2:$H$748,7,FALSE),\"\"),\"\")","v":""},"Percentage Metered Volume Reallocation"]
["BP7","R","0-*",null,null,"G",null,null,null,null,null,null,"BM Unit Period Data"]
[{"$f":"VLOOKUP(UPPER(M171),Items!$A$2:$B$525,2,FALSE)","v":"N0034"},"D",null,null,null,null,1,null,null,null,{"$f":"VLOOKUP(UPPER(A171),Items!$B$2:$G$525,6)","v":"text(11)"},{"$f":"IF(B171=\"D\",IF(VLOOKUP(UPPER(A171),Items!$B$2:$H$748,7,FALSE)<>0,VLOOKUP(UPPER(A171),Items!$B$2:$H$748,7,FALSE),\"\"),\"\")","v":""},"BM Unit Id"]
[{"$f":"VLOOKUP(UPPER(M172),Items!$A$2:$B$525,2,FALSE)","v":"N0122"},"D",null,null,null,null,1,null,null,null,{"$f":"VLOOKUP(UPPER(A172),Items!$B$2:$G$525,6)","v":"decimal(10,2)"},{"$f":"IF(B172=\"D\",IF(VLOOKUP(UPPER(A172),Items!$B$2:$H$748,7,FALSE)<>0,VLOOKUP(UPPER(A172),Items!$B$2:$H$748,7,FALSE),\"\"),\"\")","v":""},"Information Imbalance Cashflow"]
[{"$f":"VLOOKUP(UPPER(M173),Items!$A$2:$B$525,2,FALSE)","v":"N0037"},"D",null,null,null,null,1,null,null,null,{"$f":"VLOOKUP(UPPER(A173),Items!$B$2:$G$525,6)","v":"decimal(10,2)"},{"$f":"IF(B173=\"D\",IF(VLOOKUP(UPPER(A173),Items!$B$2:$H$748,7,FALSE)<>0,VLOOKUP(UPPER(A173),Items!$B$2:$H$748,7,FALSE),\"\"),\"\")","v":""},"BM Unit Period Non-Delivery Charge"]
[{"$f":"VLOOKUP(UPPER(M174),Items!$A$2:$B$525,2,FALSE)","v":"N0174"},"D",null,null,null,null,1,null,null,null,{"$f":"VLOOKUP(UPPER(A174),Items!$B$2:$G$525,6)","v":"decimal(10,3)"},{"$f":"IF(B174=\"D\",IF(VLOOKUP(UPPER(A174),Items!$B$2:$H$748,7,FALSE)<>0,VLOOKUP(UPPER(A174),Items!$B$2:$H$748,7,FALSE),\"\"),\"\")","v":""},"Period FPN"]
[{"$f":"VLOOKUP(UPPER(M175),Items!$A$2:$B$525,2,FALSE)","v":"N0164"},"D",null,null,null,null,1,null,null,null,{"$f":"VLOOKUP(UPPER(A175),Items!$B$2:$G$525,6)","v":"decimal(10,3)"},{"$f":"IF(B175=\"D\",IF(VLOOKUP(UPPER(A175),Items!$B$2:$H$748,7,FALSE)<>0,VLOOKUP(UPPER(A175),Items!$B$2:$H$748,7,FALSE),\"\"),\"\")","v":""},"Period BM Unit Balancing Services Volume"]
[{"$f":"VLOOKUP(UPPER(M176),Items!$A$2:$B$525,2,FALSE)","v":"N0175"},"D",null,null,null,null,1,null,null,null,{"$f":"VLOOKUP(UPPER(A176),Items!$B$2:$G$525,6)","v":"decimal(10,3)"},{"$f":"IF(B176=\"D\",IF(VLOOKUP(UPPER(A176),Items!$B$2:$H$748,7,FALSE)<>0,VLOOKUP(UPPER(A176),Items!$B$2:$H$748,7,FALSE),\"\"),\"\")","v":""},"Period Information Imbalance Volume"]
[{"$f":"VLOOKUP(UPPER(M177),Items!$A$2:$B$525,2,FALSE)","v":"N0173"},"D",null,null,null,null,1,null,null,null,{"$f":"VLOOKUP(UPPER(A177),Items!$B$2:$G$525,6)","v":"decimal(10,3)"},{"$f":"IF(B177=\"D\",IF(VLOOKUP(UPPER(A177),Items!$B$2:$H$748,7,FALSE)<>0,VLOOKUP(UPPER(A177),Items!$B$2:$H$748,7,FALSE),\"\"),\"\")","v":""},"Period Expected Metered Volume"]
[{"$f":"VLOOKUP(UPPER(M178),Items!$A$2:$B$525,2,FALSE)","v":"N0035"},"D",null,null,null,null,1,null,null,null,{"$f":"VLOOKUP(UPPER(A178),Items!$B$2:$G$525,6)","v":"decimal(10,3)"},{"$f":"IF(B178=\"D\",IF(VLOOKUP(UPPER(A178),Items!$B$2:$H$748,7,FALSE)<>0,VLOOKUP(UPPER(A178),Items!$B$2:$H$748,7,FALSE),\"\"),\"\")","v":""},"BM Unit Metered Volume"]
[{"$f":"VLOOKUP(UPPER(M179),Items!$A$2:$B$525,2,FALSE)","v":"N0166"},"D",null,null,null,null,1,null,null,null,{"$f":"VLOOKUP(UPPER(A179),Items!$B$2:$G$525,6)","v":"decimal(10,3)"},{"$f":"IF(B179=\"D\",IF(VLOOKUP(UPPER(A179),Items!$B$2:$H$748,7,FALSE)<>0,VLOOKUP(UPPER(A179),Items!$B$2:$H$748,7,FALSE),\"\"),\"\")","v":""},"Period BM Unit Non-Delivered Bid Volume"]
[{"$f":"VLOOKUP(UPPER(M180),Items!$A$2:$B$525,2,FALSE)","v":"N0167"},"D",null,null,null,null,1,null,null,null,{"$f":"VLOOKUP(UPPER(A180),Items!$B$2:$G$525,6)","v":"decimal(10,3)"},{"$f":"IF(B180=\"D\",IF(VLOOKUP(UPPER(A180),Items!$B$2:$H$748,7,FALSE)<>0,VLOOKUP(UPPER(A180),Items!$B$2:$H$748,7,FALSE),\"\"),\"\")","v":""},"Period BM Unit Non-Delivered Offer Volume"]
[{"$f":"VLOOKUP(UPPER(M181),Items!$A$2:$B$525,2,FALSE)","v":"N0233"},"D",null,null,null,null,1,null,null,null,{"$f":"VLOOKUP(UPPER(A181),Items!$B$2:$G$525,6)","v":"decimal(8,7)"},{"$f":"IF(B181=\"D\",IF(VLOOKUP(UPPER(A181),Items!$B$2:$H$748,7,FALSE)<>0,VLOOKUP(UPPER(A181),Items!$B$2:$H$748,7,FALSE),\"\"),\"\")","v":""},"Transmission Loss Factor"]
[{"$f":"VLOOKUP(UPPER(M182),Items!$A$2:$B$525,2,FALSE)","v":"N0234"},"D",null,null,null,null,1,null,null,null,{"$f":"VLOOKUP(UPPER(A182),Items!$B$2:$G$525,6)","v":"decimal(8,7)"},{"$f":"IF(B182=\"D\",IF(VLOOKUP(UPPER(A182),Items!$B$2:$H$748,7,FALSE)<>0,VLOOKUP(UPPER(A182),Items!$B$2:$H$748,7,FALSE),\"\"),\"\")","v":""},"Transmission Loss Multiplier"]
[{"$f":"VLOOKUP(UPPER(M183),Items!$A$2:$B$525,2,FALSE)","v":"N0232"},"D",null,null,null,null,1,null,null,null,{"$f":"VLOOKUP(UPPER(A183),Items!$B$2:$G$525,6)","v":"text(30)"},{"$f":"IF(B183=\"D\",IF(VLOOKUP(UPPER(A183),Items!$B$2:$H$748,7,FALSE)<>0,VLOOKUP(UPPER(A183),Items!$B$2:$H$748,7,FALSE),\"\"),\"\")","v":""},"Trading Unit Name"]
[{"$f":"VLOOKUP(UPPER(M184),Items!$A$2:$B$525,2,FALSE)","v":"N0231"},"D",null,null,null,null,1,null,null,null,{"$f":"VLOOKUP(UPPER(A184),Items!$B$2:$G$525,6)","v":"decimal(10,3)"},{"$f":"IF(B184=\"D\",IF(VLOOKUP(UPPER(A184),Items!$B$2:$H$748,7,FALSE)<>0,VLOOKUP(UPPER(A184),Items!$B$2:$H$748,7,FALSE),\"\"),\"\")","v":""},"Total Trading Unit Metered Volume"]
[{"$f":"VLOOKUP(UPPER(M185),Items!$A$2:$B$748,2,FALSE)","v":"N0421"},"D",null,null,null,null,1,null,null,null,{"$f":"VLOOKUP(UPPER(A185),Items!$B$2:$G$748,6)","v":"decimal(10,3)"},{"$f":"IF(B185=\"D\",IF(VLOOKUP(UPPER(A185),Items!$B$2:$H$748,7,FALSE)<>0,VLOOKUP(UPPER(A185),Items!$B$2:$H$748,7,FALSE),\"\"),\"\")","v":""},"BM Unit Applicable Balancing Services Volume","MWh"]
["FP2","R","0-*",null,null,null,"G",null,null,null,null,null,"FPN Value Pair"]
[{"$f":"VLOOKUP(UPPER(M187),Items!$A$2:$B$525,2,FALSE)","v":"N0220"},"D",null,null,null,null,null,1,null,null,{"$f":"VLOOKUP(UPPER(A187),Items!$B$2:$G$525,6)","v":"integer(2)"},{"$f":"IF(B187=\"D\",IF(VLOOKUP(UPPER(A187),Items!$B$2:$H$748,7,FALSE)<>0,VLOOKUP(UPPER(A187),Items!$B$2:$H$748,7,FALSE),\"\"),\"\")","v":""},"Time from","minutes from start of period"]
[{"$f":"VLOOKUP(UPPER(M188),Items!$A$2:$B$525,2,FALSE)","v":"N0111"},"D",null,null,null,null,null,"O",null,null,{"$f":"VLOOKUP(UPPER(A188),Items!$B$2:$G$525,6)","v":"decimal(10,3)"},{"$f":"IF(B188=\"D\",IF(VLOOKUP(UPPER(A188),Items!$B$2:$H$748,7,FALSE)<>0,VLOOKUP(UPPER(A188),Items!$B$2:$H$748,7,FALSE),\"\"),\"\")","v":""},"FPN Value From"]
[{"$f":"VLOOKUP(UPPER(M189),Items!$A$2:$B$525,2,FALSE)","v":"N0221"},"D",null,null,null,null,null,1,null,null,{"$f":"VLOOKUP(UPPER(A189),Items!$B$2:$G$525,6)","v":"integer(2)"},{"$f":"IF(B189=\"D\",IF(VLOOKUP(UPPER(A189),Items!$B$2:$H$748,7,FALSE)<>0,VLOOKUP(UPPER(A189),Items!$B$2:$H$748,7,FALSE),\"\"),\"\")","v":""},"Time To","minutes from start of period"]
[{"$f":"VLOOKUP(UPPER(M190),Items!$A$2:$B$525,2,FALSE)","v":"N0112"},"D",null,null,null,null,null,"O",null,null,{"$f":"VLOOKUP(UPPER(A190),Items!$B$2:$G$525,6)","v":"decimal(10,3)"},{"$f":"IF(B190=\"D\",IF(VLOOKUP(UPPER(A190),Items!$B$2:$H$748,7,FALSE)<>0,VLOOKUP(UPPER(A190),Items!$B$2:$H$748,7,FALSE),\"\"),\"\")","v":""},"FPN Value To"]
["BO4","R","0-*",null,null,null,"G",null,null,null,null,null,"BMU Period Bid-Offer Data"]
[{"$f":"VLOOKUP(UPPER(M192),Items!$A$2:$B$525,2,FALSE)","v":"N0025"},"D",null,null,null,null,null,1,null,null,{"$f":"VLOOKUP(UPPER(A192),Items!$B$2:$G$525,6)","v":"integer(2)"},{"$f":"IF(B192=\"D\",IF(VLOOKUP(UPPER(A192),Items!$B$2:$H$748,7,FALSE)<>0,VLOOKUP(UPPER(A192),Items!$B$2:$H$748,7,FALSE),\"\"),\"\")","v":""},"Bid-Offer Pair Number"]
[{"$f":"VLOOKUP(UPPER(M193),Items!$A$2:$B$525,2,FALSE)","v":"N0030"},"D",null,null,null,null,null,1,null,null,{"$f":"VLOOKUP(UPPER(A193),Items!$B$2:$G$525,6)","v":"decimal(10,5)"},{"$f":"IF(B193=\"D\",IF(VLOOKUP(UPPER(A193),Items!$B$2:$H$748,7,FALSE)<>0,VLOOKUP(UPPER(A193),Items!$B$2:$H$748,7,FALSE),\"\"),\"\")","v":""},"Bid Price"]
[{"$f":"VLOOKUP(UPPER(M194),Items!$A$2:$B$525,2,FALSE)","v":"N0153"},"D",null,null,null,null,null,1,null,null,{"$f":"VLOOKUP(UPPER(A194),Items!$B$2:$G$525,6)","v":"decimal(10,5)"},{"$f":"IF(B194=\"D\",IF(VLOOKUP(UPPER(A194),Items!$B$2:$H$748,7,FALSE)<>0,VLOOKUP(UPPER(A194),Items!$B$2:$H$748,7,FALSE),\"\"),\"\")","v":""},"Offer Price"]
[{"$f":"VLOOKUP(UPPER(M195),Items!$A$2:$B$525,2,FALSE)","v":"N0169"},"D",null,null,null,null,null,1,null,null,{"$f":"VLOOKUP(UPPER(A195),Items!$B$2:$G$525,6)","v":"decimal(10,3)"},{"$f":"IF(B195=\"D\",IF(VLOOKUP(UPPER(A195),Items!$B$2:$H$748,7,FALSE)<>0,VLOOKUP(UPPER(A195),Items!$B$2:$H$748,7,FALSE),\"\"),\"\")","v":""},"Period BM Unit Total Accepted Bid Volume"]
[{"$f":"VLOOKUP(UPPER(M196),Items!$A$2:$B$525,2,FALSE)","v":"N0170"},"D",null,null,null,null,null,1,null,null,{"$f":"VLOOKUP(UPPER(A196),Items!$B$2:$G$525,6)","v":"decimal(10,3)"},{"$f":"IF(B196=\"D\",IF(VLOOKUP(UPPER(A196),Items!$B$2:$H$748,7,FALSE)<>0,VLOOKUP(UPPER(A196),Items!$B$2:$H$748,7,FALSE),\"\"),\"\")","v":""},"Period BM Unit Total Accepted Offer Volume"]
[{"$f":"VLOOKUP(UPPER(M197),Items!$A$2:$B$525,2,FALSE)","v":"N0388"},"D",null,null,null,null,null,"O",null,null,{"$f":"VLOOKUP(UPPER(A197),Items!$B$2:$G$525,6)","v":"decimal(10,3)"},{"$f":"IF(B197=\"D\",IF(VLOOKUP(UPPER(A197),Items!$B$2:$H$748,7,FALSE)<>0,VLOOKUP(UPPER(A197),Items!$B$2:$H$748,7,FALSE),\"\"),\"\")","v":""},"Period BM Unit Total Priced Accepted Bid volume","field null indicates value is same as Period BM Unit Total Accepted Bid volume"]
[{"$f":"VLOOKUP(UPPER(M198),Items!$A$2:$B$525,2,FALSE)","v":"N0389"},"D",null,null,null,null,null,"O",null,null,{"$f":"VLOOKUP(UPPER(A198),Items!$B$2:$G$525,6)","v":"decimal(10,3)"},{"$f":"IF(B198=\"D\",IF(VLOOKUP(UPPER(A198),Items!$B$2:$H$748,7,FALSE)<>0,VLOOKUP(UPPER(A198),Items!$B$2:$H$748,7,FALSE),\"\"),\"\")","v":""},"Period BM Unit Total Priced Accepted Offer volume","field null indicates value is same as Period BM Unit Total Accepted Offer volume"]
[{"$f":"VLOOKUP(UPPER(M199),Items!$A$2:$B$525,2,FALSE)","v":"N0165"},{"$f":"IF(LEN(K199)>0,\"D\",IF(LEN(A199)=5,\"F\",IF(LEN(A199)=3,\"R\",\" \")))","v":"D"},null,null,null,null,null,1,null,null,{"$f":"VLOOKUP(UPPER(A199),Items!$B$2:$G$525,6)","v":"decimal(10,2)"},{"$f":"IF(B199=\"D\",IF(VLOOKUP(UPPER(A199),Items!$B$2:$H$748,7,FALSE)<>0,VLOOKUP(UPPER(A199),Items!$B$2:$H$748,7,FALSE),\"\"),\"\")","v":""},"Period BM Unit Bid Cashflow"]
[{"$f":"VLOOKUP(UPPER(M200),Items!$A$2:$B$525,2,FALSE)","v":"N0168"},"D",null,null,null,null,null,1,null,null,{"$f":"VLOOKUP(UPPER(A200),Items!$B$2:$G$525,6)","v":"decimal(10,2)"},{"$f":"IF(B200=\"D\",IF(VLOOKUP(UPPER(A200),Items!$B$2:$H$748,7,FALSE)<>0,VLOOKUP(UPPER(A200),Items!$B$2:$H$748,7,FALSE),\"\"),\"\")","v":""},"Period BM Unit Offer Cashflow"]
["BO2","R","0-*",null,null,null,null,"G",null,null,null,null,"BMU Period Bid-Offer Value Pair"]
[{"$f":"VLOOKUP(UPPER(M202),Items!$A$2:$B$525,2,FALSE)","v":"N0220"},"D",null,null,null,null,null,null,1,null,{"$f":"VLOOKUP(UPPER(A202),Items!$B$2:$G$525,6)","v":"integer(2)"},{"$f":"IF(B202=\"D\",IF(VLOOKUP(UPPER(A202),Items!$B$2:$H$748,7,FALSE)<>0,VLOOKUP(UPPER(A202),Items!$B$2:$H$748,7,FALSE),\"\"),\"\")","v":""},"Time from","minutes from start of period"]
[{"$f":"VLOOKUP(UPPER(M203),Items!$A$2:$B$525,2,FALSE)","v":"N0028"},"D",null,null,null,null,null,null,"O",null,{"$f":"VLOOKUP(UPPER(A203),Items!$B$2:$G$525,6)","v":"decimal(10,3)"},{"$f":"IF(B203=\"D\",IF(VLOOKUP(UPPER(A203),Items!$B$2:$H$748,7,FALSE)<>0,VLOOKUP(UPPER(A203),Items!$B$2:$H$748,7,FALSE),\"\"),\"\")","v":""},"Bid Offer Volume Value From"]
[{"$f":"VLOOKUP(UPPER(M204),Items!$A$2:$B$525,2,FALSE)","v":"N0221"},"D",null,null,null,null,null,null,1,null,{"$f":"VLOOKUP(UPPER(A204),Items!$B$2:$G$525,6)","v":"integer(2)"},{"$f":"IF(B204=\"D\",IF(VLOOKUP(UPPER(A204),Items!$B$2:$H$748,7,FALSE)<>0,VLOOKUP(UPPER(A204),Items!$B$2:$H$748,7,FALSE),\"\"),\"\")","v":""},"Time To","minutes from start of period"]
[{"$f":"VLOOKUP(UPPER(M205),Items!$A$2:$B$525,2,FALSE)","v":"N0029"},"D",null,null,null,null,null,null,"O",null,{"$f":"VLOOKUP(UPPER(A205),Items!$B$2:$G$525,6)","v":"decimal(10,3)"},{"$f":"IF(B205=\"D\",IF(VLOOKUP(UPPER(A205),Items!$B$2:$H$748,7,FALSE)<>0,VLOOKUP(UPPER(A205),Items!$B$2:$H$748,7,FALSE),\"\"),\"\")","v":""},"Bid Offer Volume Value To"]
["BO3","R","0-*",null,null,null,"G",null,null,null,null,null,"BMU Period Bid-Offer Acceptance "]
[{"$f":"VLOOKUP(UPPER(M207),Items!$A$2:$B$525,2,FALSE)","v":"N0342"},"D",null,null,null,null,null,1,null,null,{"$f":"VLOOKUP(UPPER(A207),Items!$B$2:$G$525,6)","v":"integer(10)"},{"$f":"IF(B207=\"D\",IF(VLOOKUP(UPPER(A207),Items!$B$2:$H$748,7,FALSE)<>0,VLOOKUP(UPPER(A207),Items!$B$2:$H$748,7,FALSE),\"\"),\"\")","v":""},"B-O Acceptance Number"]
["N0390","D",null,null,null,null,null,"O",null,null,"boolean","","Short Continuous Acceptance Flag","True if short"]
["BO6",{"$f":"IF(LEN(K209)>0,\"D\",IF(LEN(A209)=5,\"F\",IF(LEN(A209)=3,\"R\",\" \")))","v":"R"},"0-*",null,null,null,null,"G",null,null,null,null,"BMU Period Bid-Offer Acceptance Spot Point"]
[{"$f":"VLOOKUP(UPPER(M210),Items!$A$2:$B$525,2,FALSE)","v":"N0337"},"D",null,null,null,null,null,null,1,null,{"$f":"VLOOKUP(UPPER(A210),Items!$B$2:$G$525,6)","v":"integer(3)"},{"$f":"IF(B210=\"D\",IF(VLOOKUP(UPPER(A210),Items!$B$2:$H$748,7,FALSE)<>0,VLOOKUP(UPPER(A210),Items!$B$2:$H$748,7,FALSE),\"\"),\"\")","v":""},"Acceptance From Time","minutes from start of period"]
[{"$f":"VLOOKUP(UPPER(M211),Items!$A$2:$B$525,2,FALSE)","v":"N0026"},"D",null,null,null,null,null,null,"O",null,{"$f":"VLOOKUP(UPPER(A211),Items!$B$2:$G$525,6)","v":"decimal(10,3)"},{"$f":"IF(B211=\"D\",IF(VLOOKUP(UPPER(A211),Items!$B$2:$H$748,7,FALSE)<>0,VLOOKUP(UPPER(A211),Items!$B$2:$H$748,7,FALSE),\"\"),\"\")","v":""},"Bid Offer Acceptance Volume Value From"]
[{"$f":"VLOOKUP(UPPER(M212),Items!$A$2:$B$525,2,FALSE)","v":"N0338"},"D",null,null,null,null,null,null,1,null,{"$f":"VLOOKUP(UPPER(A212),Items!$B$2:$G$525,6)","v":"integer(3)"},{"$f":"IF(B212=\"D\",IF(VLOOKUP(UPPER(A212),Items!$B$2:$H$748,7,FALSE)<>0,VLOOKUP(UPPER(A212),Items!$B$2:$H$748,7,FALSE),\"\"),\"\")","v":""},"Acceptance To Time","minutes from start of period"]
[{"$f":"VLOOKUP(UPPER(M213),Items!$A$2:$B$525,2,FALSE)","v":"N0027"},"D",null,null,null,null,null,null,"O",null,{"$f":"VLOOKUP(UPPER(A213),Items!$B$2:$G$525,6)","v":"decimal(10,3)"},{"$f":"IF(B213=\"D\",IF(VLOOKUP(UPPER(A213),Items!$B$2:$H$748,7,FALSE)<>0,VLOOKUP(UPPER(A213),Items!$B$2:$H$748,7,FALSE),\"\"),\"\")","v":""},"Bid Offer Acceptance Volume Value To"]
["MVR","R","0-*",null,null,null,"G",null,null,null,null,null,"BM Unit MVR Information"]
[{"$f":"VLOOKUP(UPPER(M215),Items!$A$2:$B$525,2,FALSE)","v":"N0045"},"D",null,null,null,null,null,1,null,null,{"$f":"VLOOKUP(UPPER(A215),Items!$B$2:$G$525,6)","v":"text(8)"},{"$f":"IF(B215=\"D\",IF(VLOOKUP(UPPER(A215),Items!$B$2:$H$748,7,FALSE)<>0,VLOOKUP(UPPER(A215),Items!$B$2:$H$748,7,FALSE),\"\"),\"\")","v":""},"BSC Party Id"]
[{"$f":"VLOOKUP(UPPER(M216),Items!$A$2:$B$525,2,FALSE)","v":"N0177"},"D",null,null,null,null,null,1,null,null,{"$f":"VLOOKUP(UPPER(A216),Items!$B$2:$G$525,6)","v":"char"},{"$f":"IF(B216=\"D\",IF(VLOOKUP(UPPER(A216),Items!$B$2:$H$748,7,FALSE)<>0,VLOOKUP(UPPER(A216),Items!$B$2:$H$748,7,FALSE),\"\"),\"\")","v":"P/C Flag"},"Production/Consumption Flag","P/C"]
[{"$f":"VLOOKUP(UPPER(M217),Items!$A$2:$B$525,2,FALSE)","v":"N0061"},"D",null,null,null,null,null,1,null,null,{"$f":"VLOOKUP(UPPER(A217),Items!$B$2:$G$525,6)","v":"decimal(10,3)"},{"$f":"IF(B217=\"D\",IF(VLOOKUP(UPPER(A217),Items!$B$2:$H$748,7,FALSE)<>0,VLOOKUP(UPPER(A217),Items!$B$2:$H$748,7,FALSE),\"\"),\"\")","v":""},"Credited Energy Volume"]
[{"$f":"VLOOKUP(UPPER(M218),Items!$A$2:$B$525,2,FALSE)","v":"N0109"},"D",null,null,null,null,null,1,null,null,{"$f":"VLOOKUP(UPPER(A218),Items!$B$2:$G$525,6)","v":"decimal(10,3)"},{"$f":"IF(B218=\"D\",IF(VLOOKUP(UPPER(A218),Items!$B$2:$H$748,7,FALSE)<>0,VLOOKUP(UPPER(A218),Items!$B$2:$H$748,7,FALSE),\"\"),\"\")","v":""},"Fixed Metered Volume Reallocation"]
[{"$f":"VLOOKUP(UPPER(M219),Items!$A$2:$B$525,2,FALSE)","v":"N0163"},"D",null,null,null,null,null,1,null,null,{"$f":"VLOOKUP(UPPER(A219),Items!$B$2:$G$525,6)","v":"decimal(8,5)"},{"$f":"IF(B219=\"D\",IF(VLOOKUP(UPPER(A219),Items!$B$2:$H$748,7,FALSE)<>0,VLOOKUP(UPPER(A219),Items!$B$2:$H$748,7,FALSE),\"\"),\"\")","v":""},"Percentage Metered Volume Reallocation"]
[]
["S0142",{"$f":"IF(LEN(K221)>0,\"D\",IF(LEN(A221)=5,\"F\",IF(LEN(A221)=3,\"R\",\" \")))","v":"F"},"007",null,null,null,null,null,null,null,null,{"$f":"IF(B221=\"D\",IF(VLOOKUP(UPPER(A221),Items!$B$2:$H$748,7,FALSE)<>0,VLOOKUP(UPPER(A221),Items!$B$2:$H$748,7,FALSE),\"\"),\"\")","v":""},"SAA-I014: Settlement Report: sub-flow 2"]
[null," ",null,null,null,null,null,null,null,null,null,{"$f":"IF(B222=\"D\",IF(VLOOKUP(UPPER(A222),Items!$B$2:$H$748,7,FALSE)<>0,VLOOKUP(UPPER(A222),Items!$B$2:$H$748,7,FALSE),\"\"),\"\")","v":""}]
["SRH","R",1,"G",null,null,null,null,null,null,null,null,"Settlement Report Header"]
[{"$f":"VLOOKUP(UPPER(M224),Items!$A$2:$B$525,2,FALSE)","v":"N0200"},"D",null,null,1,null,null,null,null,null,{"$f":"VLOOKUP(UPPER(A224),Items!$B$2:$G$525,6)","v":"date"},{"$f":"IF(B224=\"D\",IF(VLOOKUP(UPPER(A224),Items!$B$2:$H$748,7,FALSE)<>0,VLOOKUP(UPPER(A224),Items!$B$2:$H$748,7,FALSE),\"\"),\"\")","v":""},"Settlement Date"]
[{"$f":"VLOOKUP(UPPER(M225),Items!$A$2:$B$525,2,FALSE)","v":"N0202"},"D",null,null,1,null,null,null,null,null,{"$f":"VLOOKUP(UPPER(A225),Items!$B$2:$G$525,6)","v":"text(2)"},{"$f":"IF(B225=\"D\",IF(VLOOKUP(UPPER(A225),Items!$B$2:$H$748,7,FALSE)<>0,VLOOKUP(UPPER(A225),Items!$B$2:$H$748,7,FALSE),\"\"),\"\")","v":"Run Type"},"Settlement Run Type"]
[{"$f":"VLOOKUP(UPPER(M226),Items!$A$2:$B$639,2,FALSE)","v":"N0304"},"D",null,null,1,null,null,null,null,null,{"$f":"VLOOKUP(UPPER(A226),Items!$B$2:$G$525,6)","v":"integer(2)"},{"$f":"IF(B226=\"D\",IF(VLOOKUP(UPPER(A226),Items!$B$2:$H$748,7,FALSE)<>0,VLOOKUP(UPPER(A226),Items!$B$2:$H$748,7,FALSE),\"\"),\"\")","v":""},"SAA Run Number"]
[{"$f":"VLOOKUP(UPPER(M227),Items!$A$2:$B$639,2,FALSE)","v":"N0385"},"D",null,null,1,null,null,null,null,null,{"$f":"VLOOKUP(UPPER(A227),Items!$B$2:$G$525,6)","v":"integer(2)"},{"$f":"IF(B227=\"D\",IF(VLOOKUP(UPPER(A227),Items!$B$2:$H$748,7,FALSE)<>0,VLOOKUP(UPPER(A227),Items!$B$2:$H$748,7,FALSE),\"\"),\"\")","v":""},"SAA CDCA Run Number","CDCA run which generated volumes used directly by SAA"]
[{"$f":"VLOOKUP(UPPER(M228),Items!$A$2:$B$525,2,FALSE)","v":"N0383"},"D",null,null,1,null,null,null,null,null,{"$f":"VLOOKUP(UPPER(A228),Items!$B$2:$G$525,6)","v":"date"},{"$f":"IF(B228=\"D\",IF(VLOOKUP(UPPER(A228),Items!$B$2:$H$748,7,FALSE)<>0,VLOOKUP(UPPER(A228),Items!$B$2:$H$748,7,FALSE),\"\"),\"\")","v":""},"SVAA CDCA Settlement Date","CDCA settlement date from which GSP group take was used by SVAA"]
[{"$f":"VLOOKUP(UPPER(M229),Items!$A$2:$B$525,2,FALSE)","v":"N0384"},"D",null,null,1,null,null,null,null,null,{"$f":"VLOOKUP(UPPER(A229),Items!$B$2:$G$525,6)","v":"integer(2)"},{"$f":"IF(B229=\"D\",IF(VLOOKUP(UPPER(A229),Items!$B$2:$H$748,7,FALSE)<>0,VLOOKUP(UPPER(A229),Items!$B$2:$H$748,7,FALSE),\"\"),\"\")","v":""},"SVAA CDCA Run Number","CDCA run number from which GSP group take was used by SVAA"]
[{"$f":"VLOOKUP(UPPER(M230),Items!$A$2:$B$525,2,FALSE)","v":"N0211"},"D",null,null,1,null,null,null,null,null,{"$f":"VLOOKUP(UPPER(A230),Items!$B$2:$G$525,6)","v":"integer(7)"},{"$f":"IF(B230=\"D\",IF(VLOOKUP(UPPER(A230),Items!$B$2:$H$748,7,FALSE)<>0,VLOOKUP(UPPER(A230),Items!$B$2:$H$748,7,FALSE),\"\"),\"\")","v":""},"SVAA SSR Run Number"]
[{"$f":"VLOOKUP(UPPER(M231),Items!$A$2:$B$525,2,FALSE)","v":"N0045"},"D",null,null,1,null,null,null,null,null,{"$f":"VLOOKUP(UPPER(A231),Items!$B$2:$G$525,6)","v":"text(8)"},{"$f":"IF(B231=\"D\",IF(VLOOKUP(UPPER(A231),Items!$B$2:$H$748,7,FALSE)<>0,VLOOKUP(UPPER(A231),Items!$B$2:$H$748,7,FALSE),\"\"),\"\")","v":""},"BSC Party Id"]
["SPI","R","46-50","G",null,null,null,null,null,null,null,null,"Settlement Period Information","either 46 or 48 or 50"]
[{"$f":"VLOOKUP(UPPER(M233),Items!$A$2:$B$525,2,FALSE)","v":"N0201"},"D",null,null,1,null,null,null,null,null,{"$f":"VLOOKUP(UPPER(A233),Items!$B$2:$G$525,6)","v":"integer(2)"},{"$f":"IF(B233=\"D\",IF(VLOOKUP(UPPER(A233),Items!$B$2:$H$748,7,FALSE)<>0,VLOOKUP(UPPER(A233),Items!$B$2:$H$748,7,FALSE),\"\"),\"\")","v":""},"Settlement Period"]
[{"$f":"VLOOKUP(UPPER(M234),Items!$A$2:$B$525,2,FALSE)","v":"N0212"},"D",null,null,1,null,null,null,null,null,{"$f":"VLOOKUP(UPPER(A234),Items!$B$2:$G$525,6)","v":"decimal(10,5)"},{"$f":"IF(B234=\"D\",IF(VLOOKUP(UPPER(A234),Items!$B$2:$H$748,7,FALSE)<>0,VLOOKUP(UPPER(A234),Items!$B$2:$H$748,7,FALSE),\"\"),\"\")","v":""},"System Buy Price","£/MWh"]
[{"$f":"VLOOKUP(UPPER(M235),Items!$A$2:$B$525,2,FALSE)","v":"N0215"},"D",null,null,1,null,null,null,null,null,{"$f":"VLOOKUP(UPPER(A235),Items!$B$2:$G$525,6)","v":"decimal(10,5)"},{"$f":"IF(B235=\"D\",IF(VLOOKUP(UPPER(A235),Items!$B$2:$H$748,7,FALSE)<>0,VLOOKUP(UPPER(A235),Items!$B$2:$H$748,7,FALSE),\"\"),\"\")","v":""},"System Sell Price","£/MWh"]
[{"$f":"VLOOKUP(UPPER(M236),Items!$A$2:$B$525,2,FALSE)","v":"N0439"},"D",null,null,1,null,null,null,null,null,{"$f":"VLOOKUP(UPPER(A236),Items!$B$2:$G$525,6)","v":"text(2)"},{"$f":"IF(B236=\"D\",IF(VLOOKUP(UPPER(A236),Items!$B$2:$H$748,7,FALSE)<>0,VLOOKUP(UPPER(A236),Items!$B$2:$H$748,7,FALSE),\"\"),\"\")","v":"Price Derivation Code"},"Price Derivation Code"]
[{"$f":"VLOOKUP(UPPER(M237),Items!$A$2:$B$639,2,FALSE)","v":"N0312"},"D",null,null,1,null,null,null,null,null,{"$f":"VLOOKUP(UPPER(A237),Items!$B$2:$G$525,6)","v":"decimal(10,3)"},{"$f":"IF(B237=\"D\",IF(VLOOKUP(UPPER(A237),Items!$B$2:$H$748,7,FALSE)<>0,VLOOKUP(UPPER(A237),Items!$B$2:$H$748,7,FALSE),\"\"),\"\")","v":""},"Total Demand","MWh"]
[{"$f":"VLOOKUP(UPPER(M238),Items!$A$2:$B$639,2,FALSE)","v":"N0334"},"D",null,null,1,null,null,null,null,null,{"$f":"VLOOKUP(UPPER(A238),Items!$B$2:$G$525,6)","v":"decimal(10,3)"},{"$f":"IF(B238=\"D\",IF(VLOOKUP(UPPER(A238),Items!$B$2:$H$748,7,FALSE)<>0,VLOOKUP(UPPER(A238),Items!$B$2:$H$748,7,FALSE),\"\"),\"\")","v":""},"Total Generation","MWh"]
[{"$f":"VLOOKUP(UPPER(M239),Items!$A$2:$B$639,2,FALSE)","v":"N0438"},"D",null,null,1,null,null,null,null,null,{"$f":"VLOOKUP(UPPER(A239),Items!$B$2:$G$525,6)","v":"decimal(10,3)"},{"$f":"IF(B239=\"D\",IF(VLOOKUP(UPPER(A239),Items!$B$2:$H$748,7,FALSE)<>0,VLOOKUP(UPPER(A239),Items!$B$2:$H$748,7,FALSE),\"\"),\"\")","v":""},"Total Period Applicable Balancing Services Volume","MWh"]
[{"$f":"VLOOKUP(UPPER(M240),Items!$A$2:$B$525,2,FALSE)","v":"N0124"},"D",null,null,1,null,null,null,null,null,{"$f":"VLOOKUP(UPPER(A240),Items!$B$2:$G$525,6)","v":"decimal(10,5)"},{"$f":"IF(B240=\"D\",IF(VLOOKUP(UPPER(A240),Items!$B$2:$H$748,7,FALSE)<>0,VLOOKUP(UPPER(A240),Items!$B$2:$H$748,7,FALSE),\"\"),\"\")","v":""},"Information Imbalance Price 1","£/MWh"]
[{"$f":"VLOOKUP(UPPER(M241),Items!$A$2:$B$525,2,FALSE)","v":"N0125"},"D",null,null,1,null,null,null,null,null,{"$f":"VLOOKUP(UPPER(A241),Items!$B$2:$G$525,6)","v":"decimal(10,5)"},{"$f":"IF(B241=\"D\",IF(VLOOKUP(UPPER(A241),Items!$B$2:$H$748,7,FALSE)<>0,VLOOKUP(UPPER(A241),Items!$B$2:$H$748,7,FALSE),\"\"),\"\")","v":""},"Information Imbalance Price 2","£/MWh"]
[{"$f":"VLOOKUP(UPPER(M242),Items!$A$2:$B$639,2,FALSE)","v":"N0316"},"D",null,null,"O",null,null,null,null,null,{"$f":"VLOOKUP(UPPER(A242),Items!$B$2:$G$525,6)","v":"decimal(10,3)"},{"$f":"IF(B242=\"D\",IF(VLOOKUP(UPPER(A242),Items!$B$2:$H$748,7,FALSE)<>0,VLOOKUP(UPPER(A242),Items!$B$2:$H$748,7,FALSE),\"\"),\"\")","v":""},"Notional Reserve Limit","Null"]
[{"$f":"VLOOKUP(UPPER(M243),Items!$A$2:$B$639,2,FALSE)","v":"N0431"},"D",null,null,1,null,null,null,null,null,{"$f":"VLOOKUP(UPPER(A243),Items!$B$2:$G$525,6)","v":"decimal(10,3)"},{"$f":"IF(B243=\"D\",IF(VLOOKUP(UPPER(A243),Items!$B$2:$H$748,7,FALSE)<>0,VLOOKUP(UPPER(A243),Items!$B$2:$H$748,7,FALSE),\"\"),\"\")","v":""},"Total NIV Tagged Volume","MWh"]
[{"$f":"VLOOKUP(UPPER(M244),Items!$A$2:$B$639,2,FALSE)","v":"N0317"},"D",null,null,1,null,null,null,null,null,{"$f":"VLOOKUP(UPPER(A244),Items!$B$2:$G$525,6)","v":"boolean"},{"$f":"IF(B244=\"D\",IF(VLOOKUP(UPPER(A244),Items!$B$2:$H$748,7,FALSE)<>0,VLOOKUP(UPPER(A244),Items!$B$2:$H$748,7,FALSE),\"\"),\"\")","v":""},"Arbitrage Flag"]
[{"$f":"VLOOKUP(UPPER(M245),Items!$A$2:$B$639,2,FALSE)","v":"N0391"},"D",null,null,1,null,null,null,null,null,{"$f":"VLOOKUP(UPPER(A245),Items!$B$2:$G$525,6)","v":"integer(2)"},{"$f":"IF(B245=\"D\",IF(VLOOKUP(UPPER(A245),Items!$B$2:$H$748,7,FALSE)<>0,VLOOKUP(UPPER(A245),Items!$B$2:$H$748,7,FALSE),\"\"),\"\")","v":""},"Continuous Acceptance Duration Limit"]
[{"$f":"VLOOKUP(UPPER(M246),Items!$A$2:$B$639,2,FALSE)","v":"N0392"},"D",null,null,1,null,null,null,null,null,{"$f":"VLOOKUP(UPPER(A246),Items!$B$2:$G$525,6)","v":"decimal(10,3)"},{"$f":"IF(B246=\"D\",IF(VLOOKUP(UPPER(A246),Items!$B$2:$H$748,7,FALSE)<>0,VLOOKUP(UPPER(A246),Items!$B$2:$H$748,7,FALSE),\"\"),\"\")","v":""},"De Minimis Acceptance Threshold"]
[{"$f":"VLOOKUP(UPPER(M247),Items!$A$2:$B$639,2,FALSE)","v":"N0419"},"D",null,null,"O",null,null,null,null,null,{"$f":"VLOOKUP(UPPER(A247),Items!$B$2:$G$525,6)","v":"decimal(10,2)"},{"$f":"IF(B247=\"D\",IF(VLOOKUP(UPPER(A247),Items!$B$2:$H$748,7,FALSE)<>0,VLOOKUP(UPPER(A247),Items!$B$2:$H$748,7,FALSE),\"\"),\"\")","v":""},"Net Energy Buy-Price Cost Adjustment","£ - Populated for pre-P217 Settlement Dates. This field will be null for post-P217 Settlement Dates"]
[{"$f":"VLOOKUP(UPPER(M248),Items!$A$2:$B$639,2,FALSE)","v":"N0417"},"D",null,null,"O",null,null,null,null,null,{"$f":"VLOOKUP(UPPER(A248),Items!$B$2:$G$525,6)","v":"decimal(10,3)"},{"$f":"IF(B248=\"D\",IF(VLOOKUP(UPPER(A248),Items!$B$2:$H$748,7,FALSE)<>0,VLOOKUP(UPPER(A248),Items!$B$2:$H$748,7,FALSE),\"\"),\"\")","v":""},"Net Energy Buy-Price Volume Adjustment","MWh - Populated for pre-P217 Settlement Dates. This field will be null for post-P217 Settlement Dates"]
[{"$f":"VLOOKUP(UPPER(M249),Items!$A$2:$B$639,2,FALSE)","v":"N0415"},"D",null,null,"O",null,null,null,null,null,{"$f":"VLOOKUP(UPPER(A249),Items!$B$2:$G$525,6)","v":"decimal(10,3)"},{"$f":"IF(B249=\"D\",IF(VLOOKUP(UPPER(A249),Items!$B$2:$H$748,7,FALSE)<>0,VLOOKUP(UPPER(A249),Items!$B$2:$H$748,7,FALSE),\"\"),\"\")","v":""},"Net System Buy-Price Volume Adjustment","Populated for pre-P217 Settlement Dates. This field will be null for post-P217 Settlement Dates"]
[{"$f":"VLOOKUP(UPPER(M250),Items!$A$2:$B$639,2,FALSE)","v":"N0372"},"D",null,null,1,null,null,null,null,null,{"$f":"VLOOKUP(UPPER(A250),Items!$B$2:$G$525,6)","v":"decimal(10,2)"},{"$f":"IF(B250=\"D\",IF(VLOOKUP(UPPER(A250),Items!$B$2:$H$748,7,FALSE)<>0,VLOOKUP(UPPER(A250),Items!$B$2:$H$748,7,FALSE),\"\"),\"\")","v":""},"Buy-Price Price Adjust","£"]
[{"$f":"VLOOKUP(UPPER(M251),Items!$A$2:$B$639,2,FALSE)","v":"N0420"},"D",null,null,"O",null,null,null,null,null,{"$f":"VLOOKUP(UPPER(A251),Items!$B$2:$G$525,6)","v":"decimal(10,2)"},{"$f":"IF(B251=\"D\",IF(VLOOKUP(UPPER(A251),Items!$B$2:$H$748,7,FALSE)<>0,VLOOKUP(UPPER(A251),Items!$B$2:$H$748,7,FALSE),\"\"),\"\")","v":""},"Net Energy Sell-Price Cost Adjustment","£ - Populated for pre-P217 Settlement Dates. This field will be null for post-P217 Settlement Dates"]
[{"$f":"VLOOKUP(UPPER(M252),Items!$A$2:$B$639,2,FALSE)","v":"N0418"},"D",null,null,"O",null,null,null,null,null,{"$f":"VLOOKUP(UPPER(A252),Items!$B$2:$G$525,6)","v":"decimal(10,3)"},{"$f":"IF(B252=\"D\",IF(VLOOKUP(UPPER(A252),Items!$B$2:$H$748,7,FALSE)<>0,VLOOKUP(UPPER(A252),Items!$B$2:$H$748,7,FALSE),\"\"),\"\")","v":""},"Net Energy Sell-Price Volume Adjustment","MWh - Populated for pre-P217 Settlement Dates. This field will be null for post-P217 Settlement Dates"]
[{"$f":"VLOOKUP(UPPER(M253),Items!$A$2:$B$639,2,FALSE)","v":"N0416"},"D",null,null,"O",null,null,null,null,null,{"$f":"VLOOKUP(UPPER(A253),Items!$B$2:$G$525,6)","v":"decimal(10,3)"},{"$f":"IF(B253=\"D\",IF(VLOOKUP(UPPER(A253),Items!$B$2:$H$748,7,FALSE)<>0,VLOOKUP(UPPER(A253),Items!$B$2:$H$748,7,FALSE),\"\"),\"\")","v":""},"Net System Sell-Price Volume Adjustment","Populated for pre-P217 Settlement Dates. This field will be null for post-P217 Settlement Dates"]
[{"$f":"VLOOKUP(UPPER(M254),Items!$A$2:$B$639,2,FALSE)","v":"N0371"},"D",null,null,1,null,null,null,null,null,{"$f":"VLOOKUP(UPPER(A254),Items!$B$2:$G$525,6)","v":"decimal(10,2)"},{"$f":"IF(B254=\"D\",IF(VLOOKUP(UPPER(A254),Items!$B$2:$H$748,7,FALSE)<>0,VLOOKUP(UPPER(A254),Items!$B$2:$H$748,7,FALSE),\"\"),\"\")","v":""},"Sell-Price Price Adjust","£"]
[{"$f":"VLOOKUP(UPPER(M255),Items!$A$2:$B$639,2,FALSE)","v":"N0216"},"D",null,null,"O",null,null,null,null,null,"decimal(10,3)",{"$f":"IF(B255=\"D\",IF(VLOOKUP(UPPER(A255),Items!$B$2:$H$748,7,FALSE)<>0,VLOOKUP(UPPER(A255),Items!$B$2:$H$748,7,FALSE),\"\"),\"\")","v":""},"System Total Accepted Bid Volume","Populated for post-P217 Settlement Dates. This field will be null for pre-P217 Settlement Dates"]
[{"$f":"VLOOKUP(UPPER(M256),Items!$A$2:$B$639,2,FALSE)","v":"N0217"},"D",null,null,"O",null,null,null,null,null,"decimal(10,3)",{"$f":"IF(B256=\"D\",IF(VLOOKUP(UPPER(A256),Items!$B$2:$H$748,7,FALSE)<>0,VLOOKUP(UPPER(A256),Items!$B$2:$H$748,7,FALSE),\"\"),\"\")","v":""},"System Total Accepted Offer Volume","Populated for post-P217 Settlement Dates. This field will be null for pre-P217 Settlement Dates"]
[{"$f":"VLOOKUP(UPPER(M257),Items!$A$2:$B$639,2,FALSE)","v":"N0517"},{"$f":"IF(LEN(K257)>0,\"D\",IF(LEN(A257)=5,\"F\",IF(LEN(A257)=3,\"R\",\" \")))","v":"D"},null,null,"O",null,null,null,null,null,{"$f":"VLOOKUP(UPPER(A257),Items!$B$2:$G$525,6)","v":"decimal(10,3)"},{"$f":"IF(B257=\"D\",IF(VLOOKUP(UPPER(A257),Items!$B$2:$H$748,7,FALSE)<>0,VLOOKUP(UPPER(A257),Items!$B$2:$H$748,7,FALSE),\"\"),\"\")","v":""},"Total System Tagged Accepted Bid Volume","Populated for post-P217 Settlement Dates. This field will be null for pre-P217 Settlement Dates"]
[{"$f":"VLOOKUP(UPPER(M258),Items!$A$2:$B$525,2,FALSE)","v":"N0518"},"D",null,null,"O",null,null,null,null,null,{"$f":"VLOOKUP(UPPER(A258),Items!$B$2:$G$525,6)","v":"decimal(10,3)"},{"$f":"IF(B258=\"D\",IF(VLOOKUP(UPPER(A258),Items!$B$2:$H$748,7,FALSE)<>0,VLOOKUP(UPPER(A258),Items!$B$2:$H$748,7,FALSE),\"\"),\"\")","v":""},"Total System Tagged Accepted Offer Volume","Populated for post-P217 Settlement Dates. This field will be null for pre-P217 Settlement Dates"]
[{"$f":"VLOOKUP(UPPER(M259),Items!$A$2:$B$525,2,FALSE)","v":"N0519"},"D",null,null,"O",null,null,null,null,null,{"$f":"VLOOKUP(UPPER(A259),Items!$B$2:$G$525,6)","v":"decimal(10,3)"},{"$f":"IF(B259=\"D\",IF(VLOOKUP(UPPER(A259),Items!$B$2:$H$748,7,FALSE)<>0,VLOOKUP(UPPER(A259),Items!$B$2:$H$748,7,FALSE),\"\"),\"\")","v":""},"Total System Repriced Accepted Bid Volume","Populated for post-P217 Settlement Dates. This field will be null for pre-P217 Settlement Dates"]
[{"$f":"VLOOKUP(UPPER(M260),Items!$A$2:$B$639,2,FALSE)","v":"N0520"},"D",null,null,"O",null,null,null,null,null,{"$f":"VLOOKUP(UPPER(A260),Items!$B$2:$G$525,6)","v":"decimal(10,3)"},{"$f":"IF(B260=\"D\",IF(VLOOKUP(UPPER(A260),Items!$B$2:$H$748,7,FALSE)<>0,VLOOKUP(UPPER(A260),Items!$B$2:$H$748,7,FALSE),\"\"),\"\")","v":""},"Total System Repriced Accepted Offer Volume","Populated for post-P217 Settlement Dates. This field will be null for pre-P217 Settlement Dates"]
[{"$f":"VLOOKUP(UPPER(M261),Items!$A$2:$B$639,2,FALSE)","v":"N0521"},"D",null,null,"O",null,null,null,null,null,{"$f":"VLOOKUP(UPPER(A261),Items!$B$2:$G$525,6)","v":"decimal(10,3)"},{"$f":"IF(B261=\"D\",IF(VLOOKUP(UPPER(A261),Items!$B$2:$H$748,7,FALSE)<>0,VLOOKUP(UPPER(A261),Items!$B$2:$H$748,7,FALSE),\"\"),\"\")","v":""},"Total System Originally-priced Accepted Bid Volume","Populated for post-P217 Settlement Dates. This field will be null for pre-P217 Settlement Dates"]
[{"$f":"VLOOKUP(UPPER(M262),Items!$A$2:$B$639,2,FALSE)","v":"N0522"},"D",null,null,"O",null,null,null,null,null,{"$f":"VLOOKUP(UPPER(A262),Items!$B$2:$G$525,6)","v":"decimal(10,3)"},{"$f":"IF(B262=\"D\",IF(VLOOKUP(UPPER(A262),Items!$B$2:$H$748,7,FALSE)<>0,VLOOKUP(UPPER(A262),Items!$B$2:$H$748,7,FALSE),\"\"),\"\")","v":""},"Total System Originally-priced Accepted Offer Volume","Populated for post-P217 Settlement Dates. This field will be null for pre-P217 Settlement Dates"]
[{"$f":"VLOOKUP(UPPER(M263),Items!$A$2:$B$639,2,FALSE)","v":"N0523"},"D",null,null,"O",null,null,null,null,null,{"$f":"VLOOKUP(UPPER(A263),Items!$B$2:$G$525,6)","v":"decimal(10,3)"},{"$f":"IF(B263=\"D\",IF(VLOOKUP(UPPER(A263),Items!$B$2:$H$748,7,FALSE)<>0,VLOOKUP(UPPER(A263),Items!$B$2:$H$748,7,FALSE),\"\"),\"\")","v":""},"Total System Adjustment Sell Volume","Populated for post-P217 Settlement Dates. This field will be null for pre-P217 Settlement Dates"]
[{"$f":"VLOOKUP(UPPER(M264),Items!$A$2:$B$639,2,FALSE)","v":"N0524"},"D",null,null,"O",null,null,null,null,null,{"$f":"VLOOKUP(UPPER(A264),Items!$B$2:$G$525,6)","v":"decimal(10,3)"},{"$f":"IF(B264=\"D\",IF(VLOOKUP(UPPER(A264),Items!$B$2:$H$748,7,FALSE)<>0,VLOOKUP(UPPER(A264),Items!$B$2:$H$748,7,FALSE),\"\"),\"\")","v":""},"Total System Adjustment Buy Volume","Populated for post-P217 Settlement Dates. This field will be null for pre-P217 Settlement Dates"]
[{"$f":"VLOOKUP(UPPER(M265),Items!$A$2:$B$639,2,FALSE)","v":"N0525"},"D",null,null,"O",null,null,null,null,null,{"$f":"VLOOKUP(UPPER(A265),Items!$B$2:$G$525,6)","v":"decimal(10,3)"},{"$f":"IF(B265=\"D\",IF(VLOOKUP(UPPER(A265),Items!$B$2:$H$748,7,FALSE)<>0,VLOOKUP(UPPER(A265),Items!$B$2:$H$748,7,FALSE),\"\"),\"\")","v":""},"Total System Tagged Adjustment Sell Volume","Populated for post-P217 Settlement Dates. This field will be null for pre-P217 Settlement Dates"]
[{"$f":"VLOOKUP(UPPER(M266),Items!$A$2:$B$639,2,FALSE)","v":"N0526"},"D",null,null,"O",null,null,null,null,null,{"$f":"VLOOKUP(UPPER(A266),Items!$B$2:$G$525,6)","v":"decimal(10,3)"},{"$f":"IF(B266=\"D\",IF(VLOOKUP(UPPER(A266),Items!$B$2:$H$748,7,FALSE)<>0,VLOOKUP(UPPER(A266),Items!$B$2:$H$748,7,FALSE),\"\"),\"\")","v":""},"Total System Tagged Adjustment Buy Volume","Populated for post-P217 Settlement Dates. This field will be null for pre-P217 Settlement Dates"]
[{"$f":"VLOOKUP(UPPER(M267),Items!$A$2:$B$639,2,FALSE)","v":"N0527"},"D",null,null,"O",null,null,null,null,null,{"$f":"VLOOKUP(UPPER(A267),Items!$B$2:$G$525,6)","v":"decimal(10,3)"},{"$f":"IF(B267=\"D\",IF(VLOOKUP(UPPER(A267),Items!$B$2:$H$748,7,FALSE)<>0,VLOOKUP(UPPER(A267),Items!$B$2:$H$748,7,FALSE),\"\"),\"\")","v":""},"Total System Repriced Adjustment Sell Volume","Populated for post-P217 Settlement Dates. This field will be null for pre-P217 Settlement Dates"]
[{"$f":"VLOOKUP(UPPER(M268),Items!$A$2:$B$639,2,FALSE)","v":"N0528"},"D",null,null,"O",null,null,null,null,null,{"$f":"VLOOKUP(UPPER(A268),Items!$B$2:$G$525,6)","v":"decimal(10,3)"},{"$f":"IF(B268=\"D\",IF(VLOOKUP(UPPER(A268),Items!$B$2:$H$748,7,FALSE)<>0,VLOOKUP(UPPER(A268),Items!$B$2:$H$748,7,FALSE),\"\"),\"\")","v":""},"Total System Repriced Adjustment Buy Volume","Populated for post-P217 Settlement Dates. This field will be null for pre-P217 Settlement Dates"]
[{"$f":"VLOOKUP(UPPER(M269),Items!$A$2:$B$639,2,FALSE)","v":"N0529"},"D",null,null,"O",null,null,null,null,null,{"$f":"VLOOKUP(UPPER(A269),Items!$B$2:$G$525,6)","v":"decimal(10,3)"},{"$f":"IF(B269=\"D\",IF(VLOOKUP(UPPER(A269),Items!$B$2:$H$748,7,FALSE)<>0,VLOOKUP(UPPER(A269),Items!$B$2:$H$748,7,FALSE),\"\"),\"\")","v":""},"Total System Originally-priced Adjustment Sell Volume","Populated for post-P217 Settlement Dates. This field will be null for pre-P217 Settlement Dates"]
[{"$f":"VLOOKUP(UPPER(M270),Items!$A$2:$B$639,2,FALSE)","v":"N0530"},"D",null,null,"O",null,null,null,null,null,{"$f":"VLOOKUP(UPPER(A270),Items!$B$2:$G$525,6)","v":"decimal(10,3)"},{"$f":"IF(B270=\"D\",IF(VLOOKUP(UPPER(A270),Items!$B$2:$H$748,7,FALSE)<>0,VLOOKUP(UPPER(A270),Items!$B$2:$H$748,7,FALSE),\"\"),\"\")","v":""},"Total System Originally-priced Adjustment Buy Volume","Populated for post-P217 Settlement Dates. This field will be null for pre-P217 Settlement Dates"]
[{"$f":"VLOOKUP(UPPER(M271),Items!$A$2:$B$639,2,FALSE)","v":"N0531"},"D",null,null,"O",null,null,null,null,null,{"$f":"VLOOKUP(UPPER(A271),Items!$B$2:$G$525,6)","v":"decimal(10,2)"},{"$f":"IF(B271=\"D\",IF(VLOOKUP(UPPER(A271),Items!$B$2:$H$748,7,FALSE)<>0,VLOOKUP(UPPER(A271),Items!$B$2:$H$748,7,FALSE),\"\"),\"\")","v":""},"Replacement Price","Populated for post-P217 Settlement Dates. This field will be null for pre-P217 Settlement Dates"]
[{"$f":"VLOOKUP(UPPER(M272),Items!$A$2:$B$639,2,FALSE)","v":"N0532"},"D",null,null,"O",null,null,null,null,null,{"$f":"VLOOKUP(UPPER(A272),Items!$B$2:$G$525,6)","v":"decimal(10,3)"},{"$f":"IF(B272=\"D\",IF(VLOOKUP(UPPER(A272),Items!$B$2:$H$748,7,FALSE)<>0,VLOOKUP(UPPER(A272),Items!$B$2:$H$748,7,FALSE),\"\"),\"\")","v":""},"Replacement Price Calculation Volume","Populated for post-P217 Settlement Dates. This field will be null for pre-P217 Settlement Dates"]
["MD1","R","0-*",null,"G",null,null,null,null,null,null,null,"Market Index Data Period Information"]
[{"$f":"VLOOKUP(UPPER(M274),Items!$A$2:$B$639,2,FALSE)","v":"N0423"},"D",null,null,null,1,null,null,null,null,{"$f":"VLOOKUP(UPPER(A274),Items!$B$2:$G$525,6)","v":"text(8)"},{"$f":"IF(VLOOKUP(UPPER(A274),Items!$B$2:$H$748,7,FALSE)<>0,VLOOKUP(UPPER(A274),Items!$B$2:$H$748,7,FALSE),\"\")","v":""},"Market Index Data Provider ID"]
[{"$f":"VLOOKUP(UPPER(M275),Items!$A$2:$B$639,2,FALSE)","v":"N0412"},"D",null,null,null,1,null,null,null,null,{"$f":"VLOOKUP(UPPER(A275),Items!$B$2:$G$525,6)","v":"decimal(10,3)"},{"$f":"IF(VLOOKUP(UPPER(A275),Items!$B$2:$H$748,7,FALSE)<>0,VLOOKUP(UPPER(A275),Items!$B$2:$H$748,7,FALSE),\"\")","v":""},"Individual Liquidity Threshold"]
[{"$f":"VLOOKUP(UPPER(M276),Items!$A$2:$B$639,2,FALSE)","v":"N0413"},"D",null,null,null,"O",null,null,null,null,{"$f":"VLOOKUP(UPPER(A276),Items!$B$2:$G$525,6)","v":"decimal(10,2)"},{"$f":"IF(VLOOKUP(UPPER(A276),Items!$B$2:$H$748,7,FALSE)<>0,VLOOKUP(UPPER(A276),Items!$B$2:$H$748,7,FALSE),\"\")","v":""},"Market Index Price","Null if no data provided by MIDP"]
[{"$f":"VLOOKUP(UPPER(M277),Items!$A$2:$B$639,2,FALSE)","v":"N0414"},"D",null,null,null,"O",null,null,null,null,{"$f":"VLOOKUP(UPPER(A277),Items!$B$2:$G$525,6)","v":"decimal(10,3)"},{"$f":"IF(VLOOKUP(UPPER(A277),Items!$B$2:$H$748,7,FALSE)<>0,VLOOKUP(UPPER(A277),Items!$B$2:$H$748,7,FALSE),\"\")","v":""},"Market Index Volume","Null if no data provided by MIDP"]
["DB1","R","0-*",null,"G",null,null,null,null,null,null,null,"Balancing Services Adjustment Action Data"]
[{"$f":"VLOOKUP(UPPER(M279),Items!$A$2:$B$525,2,FALSE)","v":"N0533"},"D",null,null,null,1,null,null,null,null,{"$f":"VLOOKUP(UPPER(A279),Items!$B$2:$G$525,6)","v":"integer(4)"},{"$f":"IF(B279=\"D\",IF(VLOOKUP(UPPER(A279),Items!$B$2:$H$748,7,FALSE)<>0,VLOOKUP(UPPER(A279),Items!$B$2:$H$748,7,FALSE),\"\"),\"\")","v":""},"Balancing Services Adjustment Action Id"]
[{"$f":"VLOOKUP(UPPER(M280),Items!$A$2:$B$525,2,FALSE)","v":"N0534"},"D",null,null,null,"O",null,null,null,null,{"$f":"VLOOKUP(UPPER(A280),Items!$B$2:$G$525,6)","v":"decimal(10,2)"},{"$f":"IF(B280=\"D\",IF(VLOOKUP(UPPER(A280),Items!$B$2:$H$748,7,FALSE)<>0,VLOOKUP(UPPER(A280),Items!$B$2:$H$748,7,FALSE),\"\"),\"\")","v":""},"Balancing Services Adjustment Action Cost","£ Null if Action is unpriced"]
[{"$f":"VLOOKUP(UPPER(M281),Items!$A$2:$B$525,2,FALSE)","v":"N0535"},"D",null,null,null,1,null,null,null,null,{"$f":"VLOOKUP(UPPER(A281),Items!$B$2:$G$525,6)","v":"decimal(10,3)"},{"$f":"IF(B281=\"D\",IF(VLOOKUP(UPPER(A281),Items!$B$2:$H$748,7,FALSE)<>0,VLOOKUP(UPPER(A281),Items!$B$2:$H$748,7,FALSE),\"\"),\"\")","v":""},"Balancing Services Adjustment Action Volume"]
[{"$f":"VLOOKUP(UPPER(M282),Items!$A$2:$B$525,2,FALSE)","v":"N0536"},"D",null,null,null,1,null,null,null,null,{"$f":"VLOOKUP(UPPER(A282),Items!$B$2:$G$525,6)","v":"decimal(10,3)"},{"$f":"IF(B282=\"D\",IF(VLOOKUP(UPPER(A282),Items!$B$2:$H$748,7,FALSE)<>0,VLOOKUP(UPPER(A282),Items!$B$2:$H$748,7,FALSE),\"\"),\"\")","v":""},"Tagged Balancing Services Adjustment Action Volume"]
[{"$f":"VLOOKUP(UPPER(M283),Items!$A$2:$B$525,2,FALSE)","v":"N0537"},"D",null,null,null,1,null,null,null,null,{"$f":"VLOOKUP(UPPER(A283),Items!$B$2:$G$525,6)","v":"decimal(10,3)"},{"$f":"IF(B283=\"D\",IF(VLOOKUP(UPPER(A283),Items!$B$2:$H$748,7,FALSE)<>0,VLOOKUP(UPPER(A283),Items!$B$2:$H$748,7,FALSE),\"\"),\"\")","v":""},"Repriced Balancing Services Adjustment Action Volume"]
[{"$f":"VLOOKUP(UPPER(M284),Items!$A$2:$B$525,2,FALSE)","v":"N0538"},"D",null,null,null,1,null,null,null,null,{"$f":"VLOOKUP(UPPER(A284),Items!$B$2:$G$525,6)","v":"decimal(10,3)"},{"$f":"IF(B284=\"D\",IF(VLOOKUP(UPPER(A284),Items!$B$2:$H$748,7,FALSE)<>0,VLOOKUP(UPPER(A284),Items!$B$2:$H$748,7,FALSE),\"\"),\"\")","v":""},"Originally-Priced Balancing Services Adjustment Action Volume"]
[{"$f":"VLOOKUP(UPPER(M285),Items!$A$2:$B$525,2,FALSE)","v":"N0539"},"D",null,null,null,1,null,null,null,null,{"$f":"VLOOKUP(UPPER(A285),Items!$B$2:$G$525,6)","v":"boolean"},{"$f":"IF(B285=\"D\",IF(VLOOKUP(UPPER(A285),Items!$B$2:$H$748,7,FALSE)<>0,VLOOKUP(UPPER(A285),Items!$B$2:$H$748,7,FALSE),\"\"),\"\")","v":""},"Balancing Services Adjustment Action SO-Flag"]
["TRA","R","1-*",null,"G",null,null,null,null,null,null,null,"Trading Unit Period Information"]
[{"$f":"VLOOKUP(UPPER(M287),Items!$A$2:$B$525,2,FALSE)","v":"N0232"},"D",null,null,null,1,null,null,null,null,{"$f":"VLOOKUP(UPPER(A287),Items!$B$2:$G$525,6)","v":"text(30)"},{"$f":"IF(B287=\"D\",IF(VLOOKUP(UPPER(A287),Items!$B$2:$H$748,7,FALSE)<>0,VLOOKUP(UPPER(A287),Items!$B$2:$H$748,7,FALSE),\"\"),\"\")","v":""},"Trading Unit Name"]
[{"$f":"VLOOKUP(UPPER(M288),Items!$A$2:$B$525,2,FALSE)","v":"N0231"},"D",null,null,null,1,null,null,null,null,{"$f":"VLOOKUP(UPPER(A288),Items!$B$2:$G$525,6)","v":"decimal(10,3)"},{"$f":"IF(B288=\"D\",IF(VLOOKUP(UPPER(A288),Items!$B$2:$H$748,7,FALSE)<>0,VLOOKUP(UPPER(A288),Items!$B$2:$H$748,7,FALSE),\"\"),\"\")","v":""},"Total Trading Unit Metered Volume","MWh"]
["BPI",{"$f":"IF(LEN(K289)>0,\"D\",IF(LEN(A289)=5,\"F\",IF(LEN(A289)=3,\"R\",\" \")))","v":"R"},"1-*",null,"G",null,null,null,null,null,null,null,"BM Unit Period Information"]
[{"$f":"VLOOKUP(UPPER(M290),Items!$A$2:$B$525,2,FALSE)","v":"N0034"},"D",null,null,null,1,null,null,null,null,{"$f":"VLOOKUP(UPPER(A290),Items!$B$2:$G$525,6)","v":"text(11)"},{"$f":"IF(B290=\"D\",IF(VLOOKUP(UPPER(A290),Items!$B$2:$H$748,7,FALSE)<>0,VLOOKUP(UPPER(A290),Items!$B$2:$H$748,7,FALSE),\"\"),\"\")","v":""},"BM Unit Id"]
[{"$f":"VLOOKUP(UPPER(M291),Items!$A$2:$B$525,2,FALSE)","v":"N0232"},"D",null,null,null,"O",null,null,null,null,{"$f":"VLOOKUP(UPPER(A291),Items!$B$2:$G$525,6)","v":"text(30)"},{"$f":"IF(B291=\"D\",IF(VLOOKUP(UPPER(A291),Items!$B$2:$H$748,7,FALSE)<>0,VLOOKUP(UPPER(A291),Items!$B$2:$H$748,7,FALSE),\"\"),\"\")","v":""},"Trading Unit Name","Omit if \"default\" trading unit"]
[{"$f":"VLOOKUP(UPPER(M292),Items!$A$2:$B$525,2,FALSE)","v":"N0174"},"D",null,null,null,1,null,null,null,null,{"$f":"VLOOKUP(UPPER(A292),Items!$B$2:$G$525,6)","v":"decimal(10,3)"},{"$f":"IF(B292=\"D\",IF(VLOOKUP(UPPER(A292),Items!$B$2:$H$748,7,FALSE)<>0,VLOOKUP(UPPER(A292),Items!$B$2:$H$748,7,FALSE),\"\"),\"\")","v":""},"Period FPN","MWh"]
[{"$f":"VLOOKUP(UPPER(M293),Items!$A$2:$B$525,2,FALSE)","v":"N0035"},"D",null,null,null,1,null,null,null,null,{"$f":"VLOOKUP(UPPER(A293),Items!$B$2:$G$525,6)","v":"decimal(10,3)"},{"$f":"IF(B293=\"D\",IF(VLOOKUP(UPPER(A293),Items!$B$2:$H$748,7,FALSE)<>0,VLOOKUP(UPPER(A293),Items!$B$2:$H$748,7,FALSE),\"\"),\"\")","v":""},"BM Unit Metered Volume","MWh"]
[{"$f":"VLOOKUP(UPPER(M294),Items!$A$2:$B$525,2,FALSE)","v":"N0234"},"D",null,null,null,1,null,null,null,null,{"$f":"VLOOKUP(UPPER(A294),Items!$B$2:$G$525,6)","v":"decimal(8,7)"},{"$f":"IF(B294=\"D\",IF(VLOOKUP(UPPER(A294),Items!$B$2:$H$748,7,FALSE)<>0,VLOOKUP(UPPER(A294),Items!$B$2:$H$748,7,FALSE),\"\"),\"\")","v":""},"Transmission Loss Multiplier"]
[{"$f":"VLOOKUP(UPPER(M295),Items!$A$2:$B$639,2,FALSE)","v":"N0421"},"D",null,null,null,1,null,null,null,null,{"$f":"VLOOKUP(UPPER(A295),Items!$B$2:$G$748,6)","v":"decimal(10,3)"},{"$f":"IF(B295=\"D\",IF(VLOOKUP(UPPER(A295),Items!$B$2:$H$748,7,FALSE)<>0,VLOOKUP(UPPER(A295),Items!$B$2:$H$748,7,FALSE),\"\"),\"\")","v":""},"BM Unit Applicable Balancing Services Volume","MWh"]
["MEL","R","0-*",null,null,"G",null,null,null,null,null,null,"Maximum Export Limit Information"]
[{"$f":"VLOOKUP(UPPER(M297),Items!$A$2:$B$525,2,FALSE)","v":"N0220"},"D",null,null,null,null,1,null,null,null,{"$f":"VLOOKUP(UPPER(A297),Items!$B$2:$G$525,6)","v":"integer(2)"},{"$f":"IF(B297=\"D\",IF(VLOOKUP(UPPER(A297),Items!$B$2:$H$748,7,FALSE)<>0,VLOOKUP(UPPER(A297),Items!$B$2:$H$748,7,FALSE),\"\"),\"\")","v":""},"Time From","minutes from start of period"]
[{"$f":"VLOOKUP(UPPER(M298),Items!$A$2:$B$525,2,FALSE)","v":"N0130"},"D",null,null,null,null,"O",null,null,null,{"$f":"VLOOKUP(UPPER(A298),Items!$B$2:$G$525,6)","v":"decimal(10,3)"},{"$f":"IF(B298=\"D\",IF(VLOOKUP(UPPER(A298),Items!$B$2:$H$748,7,FALSE)<>0,VLOOKUP(UPPER(A298),Items!$B$2:$H$748,7,FALSE),\"\"),\"\")","v":""},"Level From","MW"]
[{"$f":"VLOOKUP(UPPER(M299),Items!$A$2:$B$525,2,FALSE)","v":"N0221"},"D",null,null,null,null,1,null,null,null,{"$f":"VLOOKUP(UPPER(A299),Items!$B$2:$G$525,6)","v":"integer(2)"},{"$f":"IF(B299=\"D\",IF(VLOOKUP(UPPER(A299),Items!$B$2:$H$748,7,FALSE)<>0,VLOOKUP(UPPER(A299),Items!$B$2:$H$748,7,FALSE),\"\"),\"\")","v":""},"Time To","minutes from start of period"]
[{"$f":"VLOOKUP(UPPER(M300),Items!$A$2:$B$525,2,FALSE)","v":"N0131"},"D",null,null,null,null,"O",null,null,null,{"$f":"VLOOKUP(UPPER(A300),Items!$B$2:$G$525,6)","v":"decimal(10,3)"},{"$f":"IF(B300=\"D\",IF(VLOOKUP(UPPER(A300),Items!$B$2:$H$748,7,FALSE)<>0,VLOOKUP(UPPER(A300),Items!$B$2:$H$748,7,FALSE),\"\"),\"\")","v":""},"Level To","MW"]
["MIL","R","0-*",null,null,"G",null,null,null,null,null,null,"Maximum Import Limit Information"]
[{"$f":"VLOOKUP(UPPER(M302),Items!$A$2:$B$525,2,FALSE)","v":"N0220"},"D",null,null,null,null,1,null,null,null,{"$f":"VLOOKUP(UPPER(A302),Items!$B$2:$G$525,6)","v":"integer(2)"},{"$f":"IF(B302=\"D\",IF(VLOOKUP(UPPER(A302),Items!$B$2:$H$748,7,FALSE)<>0,VLOOKUP(UPPER(A302),Items!$B$2:$H$748,7,FALSE),\"\"),\"\")","v":""},"Time From","minutes from start of period"]
[{"$f":"VLOOKUP(UPPER(M303),Items!$A$2:$B$525,2,FALSE)","v":"N0130"},"D",null,null,null,null,"O",null,null,null,{"$f":"VLOOKUP(UPPER(A303),Items!$B$2:$G$525,6)","v":"decimal(10,3)"},{"$f":"IF(B303=\"D\",IF(VLOOKUP(UPPER(A303),Items!$B$2:$H$748,7,FALSE)<>0,VLOOKUP(UPPER(A303),Items!$B$2:$H$748,7,FALSE),\"\"),\"\")","v":""},"Level From","MW"]
[{"$f":"VLOOKUP(UPPER(M304),Items!$A$2:$B$525,2,FALSE)","v":"N0221"},"D",null,null,null,null,1,null,null,null,{"$f":"VLOOKUP(UPPER(A304),Items!$B$2:$G$525,6)","v":"integer(2)"},{"$f":"IF(B304=\"D\",IF(VLOOKUP(UPPER(A304),Items!$B$2:$H$748,7,FALSE)<>0,VLOOKUP(UPPER(A304),Items!$B$2:$H$748,7,FALSE),\"\"),\"\")","v":""},"Time To","minutes from start of period"]
[{"$f":"VLOOKUP(UPPER(M305),Items!$A$2:$B$525,2,FALSE)","v":"N0131"},"D",null,null,null,null,"O",null,null,null,{"$f":"VLOOKUP(UPPER(A305),Items!$B$2:$G$525,6)","v":"decimal(10,3)"},{"$f":"IF(B305=\"D\",IF(VLOOKUP(UPPER(A305),Items!$B$2:$H$748,7,FALSE)<>0,VLOOKUP(UPPER(A305),Items!$B$2:$H$748,7,FALSE),\"\"),\"\")","v":""},"Level To","MW"]
["BPH","R","1-*","G",null,null,null,null,null,null,null,null,"BSC Party Header"]
[{"$f":"VLOOKUP(UPPER(M307),Items!$A$2:$B$525,2,FALSE)","v":"N0200"},"D",null,null,1,null,null,null,null,null,{"$f":"VLOOKUP(UPPER(A307),Items!$B$2:$G$525,6)","v":"date"},{"$f":"IF(B307=\"D\",IF(VLOOKUP(UPPER(A307),Items!$B$2:$H$748,7,FALSE)<>0,VLOOKUP(UPPER(A307),Items!$B$2:$H$748,7,FALSE),\"\"),\"\")","v":""},"Settlement Date"]
[{"$f":"VLOOKUP(UPPER(M308),Items!$A$2:$B$525,2,FALSE)","v":"N0202"},"D",null,null,1,null,null,null,null,null,{"$f":"VLOOKUP(UPPER(A308),Items!$B$2:$G$525,6)","v":"text(2)"},{"$f":"IF(B308=\"D\",IF(VLOOKUP(UPPER(A308),Items!$B$2:$H$748,7,FALSE)<>0,VLOOKUP(UPPER(A308),Items!$B$2:$H$748,7,FALSE),\"\"),\"\")","v":"Run Type"},"Settlement Run Type"]
[{"$f":"VLOOKUP(UPPER(M309),Items!$A$2:$B$525,2,FALSE)","v":"N0304"},"D",null,null,1,null,null,null,null,null,{"$f":"VLOOKUP(UPPER(A309),Items!$B$2:$G$525,6)","v":"integer(2)"},{"$f":"IF(B309=\"D\",IF(VLOOKUP(UPPER(A309),Items!$B$2:$H$748,7,FALSE)<>0,VLOOKUP(UPPER(A309),Items!$B$2:$H$748,7,FALSE),\"\"),\"\")","v":""},"SAA Run Number"]
[{"$f":"VLOOKUP(UPPER(M310),Items!$A$2:$B$525,2,FALSE)","v":"N0385"},"D",null,null,1,null,null,null,null,null,{"$f":"VLOOKUP(UPPER(A310),Items!$B$2:$G$525,6)","v":"integer(2)"},{"$f":"IF(B310=\"D\",IF(VLOOKUP(UPPER(A310),Items!$B$2:$H$748,7,FALSE)<>0,VLOOKUP(UPPER(A310),Items!$B$2:$H$748,7,FALSE),\"\"),\"\")","v":""},"SAA CDCA Run Number","CDCA run which generated volumes used directly by SAA"]
[{"$f":"VLOOKUP(UPPER(M311),Items!$A$2:$B$525,2,FALSE)","v":"N0383"},"D",null,null,1,null,null,null,null,null,{"$f":"VLOOKUP(UPPER(A311),Items!$B$2:$G$525,6)","v":"date"},{"$f":"IF(B311=\"D\",IF(VLOOKUP(UPPER(A311),Items!$B$2:$H$748,7,FALSE)<>0,VLOOKUP(UPPER(A311),Items!$B$2:$H$748,7,FALSE),\"\"),\"\")","v":""},"SVAA CDCA Settlement Date","CDCA settlement date from which GSP group take was used by SVAA"]
[{"$f":"VLOOKUP(UPPER(M312),Items!$A$2:$B$525,2,FALSE)","v":"N0384"},"D",null,null,1,null,null,null,null,null,{"$f":"VLOOKUP(UPPER(A312),Items!$B$2:$G$525,6)","v":"integer(2)"},{"$f":"IF(B312=\"D\",IF(VLOOKUP(UPPER(A312),Items!$B$2:$H$748,7,FALSE)<>0,VLOOKUP(UPPER(A312),Items!$B$2:$H$748,7,FALSE),\"\"),\"\")","v":""},"SVAA CDCA Run Number","CDCA run number from which GSP group take was used by SVAA"]
[{"$f":"VLOOKUP(UPPER(M313),Items!$A$2:$B$525,2,FALSE)","v":"N0211"},"D",null,null,1,null,null,null,null,null,{"$f":"VLOOKUP(UPPER(A313),Items!$B$2:$G$525,6)","v":"integer(7)"},{"$f":"IF(B313=\"D\",IF(VLOOKUP(UPPER(A313),Items!$B$2:$H$748,7,FALSE)<>0,VLOOKUP(UPPER(A313),Items!$B$2:$H$748,7,FALSE),\"\"),\"\")","v":""},"SVAA SSR Run Number"]
[{"$f":"VLOOKUP(UPPER(M314),Items!$A$2:$B$525,2,FALSE)","v":"N0045"},"D",null,null,1,null,null,null,null,null,{"$f":"VLOOKUP(UPPER(A314),Items!$B$2:$G$525,6)","v":"text(8)"},{"$f":"IF(B314=\"D\",IF(VLOOKUP(UPPER(A314),Items!$B$2:$H$748,7,FALSE)<>0,VLOOKUP(UPPER(A314),Items!$B$2:$H$748,7,FALSE),\"\"),\"\")","v":""},"BSC Party Id"]
["APC","R",1,null,"G",null,null,null,null,null,null,null,"Aggregate Party Day Charges"]
[{"$f":"VLOOKUP(UPPER(M316),Items!$A$2:$B$525,2,FALSE)","v":"N0048"},"D",null,null,null,1,null,null,null,null,{"$f":"VLOOKUP(UPPER(A316),Items!$B$2:$G$525,6)","v":"decimal(10,2)"},{"$f":"IF(B316=\"D\",IF(VLOOKUP(UPPER(A316),Items!$B$2:$H$748,7,FALSE)<>0,VLOOKUP(UPPER(A316),Items!$B$2:$H$748,7,FALSE),\"\"),\"\")","v":""},"BSSC Limited Cost Allocation"]
[{"$f":"VLOOKUP(UPPER(M317),Items!$A$2:$B$525,2,FALSE)","v":"N0031"},"D",null,null,null,1,null,null,null,null,{"$f":"VLOOKUP(UPPER(A317),Items!$B$2:$G$525,6)","v":"decimal(10,2)"},{"$f":"IF(B317=\"D\",IF(VLOOKUP(UPPER(A317),Items!$B$2:$H$748,7,FALSE)<>0,VLOOKUP(UPPER(A317),Items!$B$2:$H$748,7,FALSE),\"\"),\"\")","v":""},"BM Unit Cashflow"]
[{"$f":"VLOOKUP(UPPER(M318),Items!$A$2:$B$525,2,FALSE)","v":"N0086"},"D",null,null,null,1,null,null,null,null,{"$f":"VLOOKUP(UPPER(A318),Items!$B$2:$G$525,6)","v":"decimal(10,2)"},{"$f":"IF(B318=\"D\",IF(VLOOKUP(UPPER(A318),Items!$B$2:$H$748,7,FALSE)<>0,VLOOKUP(UPPER(A318),Items!$B$2:$H$748,7,FALSE),\"\"),\"\")","v":""},"Energy Imbalance Cashflow"]
[{"$f":"VLOOKUP(UPPER(M319),Items!$A$2:$B$525,2,FALSE)","v":"N0122"},"D",null,null,null,1,null,null,null,null,{"$f":"VLOOKUP(UPPER(A319),Items!$B$2:$G$525,6)","v":"decimal(10,2)"},{"$f":"IF(B319=\"D\",IF(VLOOKUP(UPPER(A319),Items!$B$2:$H$748,7,FALSE)<>0,VLOOKUP(UPPER(A319),Items!$B$2:$H$748,7,FALSE),\"\"),\"\")","v":""},"Information Imbalance Cashflow"]
[{"$f":"VLOOKUP(UPPER(M320),Items!$A$2:$B$525,2,FALSE)","v":"N0151"},"D",null,null,null,1,null,null,null,null,{"$f":"VLOOKUP(UPPER(A320),Items!$B$2:$G$525,6)","v":"decimal(10,2)"},{"$f":"IF(B320=\"D\",IF(VLOOKUP(UPPER(A320),Items!$B$2:$H$748,7,FALSE)<>0,VLOOKUP(UPPER(A320),Items!$B$2:$H$748,7,FALSE),\"\"),\"\")","v":""},"Non-Delivery Charge"]
[{"$f":"VLOOKUP(UPPER(M321),Items!$A$2:$B$525,2,FALSE)","v":"N0194"},{"$f":"IF(LEN(K321)>0,\"D\",IF(LEN(A321)=5,\"F\",IF(LEN(A321)=3,\"R\",\" \")))","v":"D"},null,null,null,1,null,null,null,null,{"$f":"VLOOKUP(UPPER(A321),Items!$B$2:$G$525,6)","v":"decimal(10,2)"},{"$f":"IF(B321=\"D\",IF(VLOOKUP(UPPER(A321),Items!$B$2:$H$748,7,FALSE)<>0,VLOOKUP(UPPER(A321),Items!$B$2:$H$748,7,FALSE),\"\"),\"\")","v":""},"Residual Cashflow Reallocation Charge"]
[{"$f":"VLOOKUP(UPPER(M322),Items!$A$2:$B$525,2,FALSE)","v":{"$error":"#N/A"}},{"$error":"#N/A"},null,null,null,1,null,null,null,null,{"$f":"VLOOKUP(UPPER(A322),Items!$B$2:$G$525,6)","v":{"$error":"#N/A"}},{"$f":"IF(B322=\"D\",IF(VLOOKUP(UPPER(A322),Items!$B$2:$H$748,7,FALSE)<>0,VLOOKUP(UPPER(A322),Items!$B$2:$H$748,7,FALSE),\"\"),\"\")","v":{"$error":"#N/A"}},"Daily System Operator BM Cashflow"]
["SP7","R","46-50",null,"G",null,null,null,null,null,null,null,"Settlement Period Header","either 46 or 48 or 50"]
[{"$f":"VLOOKUP(UPPER(M324),Items!$A$2:$B$525,2,FALSE)","v":"N0201"},"D",null,null,null,1,null,null,null,null,{"$f":"VLOOKUP(UPPER(A324),Items!$B$2:$G$525,6)","v":"integer(2)"},{"$f":"IF(B324=\"D\",IF(VLOOKUP(UPPER(A324),Items!$B$2:$H$748,7,FALSE)<>0,VLOOKUP(UPPER(A324),Items!$B$2:$H$748,7,FALSE),\"\"),\"\")","v":""},"Settlement Period"]
["PPC","R",1,null,null,"G",null,null,null,null,null,null,"Aggregate Party Period Charges"]
[{"$f":"VLOOKUP(UPPER(M326),Items!$A$2:$B$525,2,FALSE)","v":"N0048"},"D",null,null,null,null,1,null,null,null,{"$f":"VLOOKUP(UPPER(A326),Items!$B$2:$G$525,6)","v":"decimal(10,2)"},{"$f":"IF(B326=\"D\",IF(VLOOKUP(UPPER(A326),Items!$B$2:$H$748,7,FALSE)<>0,VLOOKUP(UPPER(A326),Items!$B$2:$H$748,7,FALSE),\"\"),\"\")","v":""},"BSSC Limited Cost Allocation"]
[{"$f":"VLOOKUP(UPPER(M327),Items!$A$2:$B$525,2,FALSE)","v":"N0031"},"D",null,null,null,null,1,null,null,null,{"$f":"VLOOKUP(UPPER(A327),Items!$B$2:$G$525,6)","v":"decimal(10,2)"},{"$f":"IF(B327=\"D\",IF(VLOOKUP(UPPER(A327),Items!$B$2:$H$748,7,FALSE)<>0,VLOOKUP(UPPER(A327),Items!$B$2:$H$748,7,FALSE),\"\"),\"\")","v":""},"BM Unit Cashflow"]
[{"$f":"VLOOKUP(UPPER(M328),Items!$A$2:$B$525,2,FALSE)","v":"N0086"},"D",null,null,null,null,1,null,null,null,{"$f":"VLOOKUP(UPPER(A328),Items!$B$2:$G$525,6)","v":"decimal(10,2)"},{"$f":"IF(B328=\"D\",IF(VLOOKUP(UPPER(A328),Items!$B$2:$H$748,7,FALSE)<>0,VLOOKUP(UPPER(A328),Items!$B$2:$H$748,7,FALSE),\"\"),\"\")","v":""},"Energy Imbalance Cashflow"]
[{"$f":"VLOOKUP(UPPER(M329),Items!$A$2:$B$525,2,FALSE)","v":"N0122"},"D",null,null,null,null,1,null,null,null,{"$f":"VLOOKUP(UPPER(A329),Items!$B$2:$G$525,6)","v":"decimal(10,2)"},{"$f":"IF(B329=\"D\",IF(VLOOKUP(UPPER(A329),Items!$B$2:$H$748,7,FALSE)<>0,VLOOKUP(UPPER(A329),Items!$B$2:$H$748,7,FALSE),\"\"),\"\")","v":""},"Information Imbalance Cashflow"]
[{"$f":"VLOOKUP(UPPER(M330),Items!$A$2:$B$525,2,FALSE)","v":"N0151"},"D",null,null,null,null,1,null,null,null,{"$f":"VLOOKUP(UPPER(A330),Items!$B$2:$G$525,6)","v":"decimal(10,2)"},{"$f":"IF(B330=\"D\",IF(VLOOKUP(UPPER(A330),Items!$B$2:$H$748,7,FALSE)<>0,VLOOKUP(UPPER(A330),Items!$B$2:$H$748,7,FALSE),\"\"),\"\")","v":""},"Non-Delivery Charge"]
[{"$f":"VLOOKUP(UPPER(M331),Items!$A$2:$B$525,2,FALSE)","v":"N0194"},"D",null,null,null,null,1,null,null,null,{"$f":"VLOOKUP(UPPER(A331),Items!$B$2:$G$525,6)","v":"decimal(10,2)"},{"$f":"IF(B331=\"D\",IF(VLOOKUP(UPPER(A331),Items!$B$2:$H$748,7,FALSE)<>0,VLOOKUP(UPPER(A331),Items!$B$2:$H$748,7,FALSE),\"\"),\"\")","v":""},"Residual Cashflow Reallocation Charge"]
["SSD","R",1,null,null,"G",null,null,null,null,null,null,"System Period Data"]
[{"$f":"VLOOKUP(UPPER(M333),Items!$A$2:$B$525,2,FALSE)","v":"N0172"},"D",null,null,null,null,1,null,null,null,{"$f":"VLOOKUP(UPPER(A333),Items!$B$2:$G$525,6)","v":"decimal(10,2)"},{"$f":"IF(B333=\"D\",IF(VLOOKUP(UPPER(A333),Items!$B$2:$H$748,7,FALSE)<>0,VLOOKUP(UPPER(A333),Items!$B$2:$H$748,7,FALSE),\"\"),\"\")","v":""},"Period BSSC Limited Costs"]
[{"$f":"VLOOKUP(UPPER(M334),Items!$A$2:$B$525,2,FALSE)","v":{"$error":"#N/A"}},{"$error":"#N/A"},null,null,null,null,1,null,null,null,{"$f":"VLOOKUP(UPPER(A334),Items!$B$2:$G$525,6)","v":{"$error":"#N/A"}},{"$f":"IF(B334=\"D\",IF(VLOOKUP(UPPER(A334),Items!$B$2:$H$748,7,FALSE)<>0,VLOOKUP(UPPER(A334),Items!$B$2:$H$748,7,FALSE),\"\"),\"\")","v":{"$error":"#N/A"}},"System Operator BM Cashflow"]
[{"$f":"VLOOKUP(UPPER(M335),Items!$A$2:$B$525,2,FALSE)","v":"N0124"},"D",null,null,null,null,1,null,null,null,{"$f":"VLOOKUP(UPPER(A335),Items!$B$2:$G$525,6)","v":"decimal(10,5)"},{"$f":"IF(B335=\"D\",IF(VLOOKUP(UPPER(A335),Items!$B$2:$H$748,7,FALSE)<>0,VLOOKUP(UPPER(A335),Items!$B$2:$H$748,7,FALSE),\"\"),\"\")","v":""},"Information Imbalance Price 1"]
[{"$f":"VLOOKUP(UPPER(M336),Items!$A$2:$B$525,2,FALSE)","v":"N0125"},"D",null,null,null,null,1,null,null,null,{"$f":"VLOOKUP(UPPER(A336),Items!$B$2:$G$525,6)","v":"decimal(10,5)"},{"$f":"IF(B336=\"D\",IF(VLOOKUP(UPPER(A336),Items!$B$2:$H$748,7,FALSE)<>0,VLOOKUP(UPPER(A336),Items!$B$2:$H$748,7,FALSE),\"\"),\"\")","v":""},"Information Imbalance Price 2"]
[{"$f":"VLOOKUP(UPPER(M337),Items!$A$2:$B$525,2,FALSE)","v":"N0212"},"D",null,null,null,null,1,null,null,null,{"$f":"VLOOKUP(UPPER(A337),Items!$B$2:$G$525,6)","v":"decimal(10,5)"},{"$f":"IF(B337=\"D\",IF(VLOOKUP(UPPER(A337),Items!$B$2:$H$748,7,FALSE)<>0,VLOOKUP(UPPER(A337),Items!$B$2:$H$748,7,FALSE),\"\"),\"\")","v":""},"System Buy Price"]
[{"$f":"VLOOKUP(UPPER(M338),Items!$A$2:$B$525,2,FALSE)","v":"N0215"},"D",null,null,null,null,1,null,null,null,{"$f":"VLOOKUP(UPPER(A338),Items!$B$2:$G$525,6)","v":"decimal(10,5)"},{"$f":"IF(B338=\"D\",IF(VLOOKUP(UPPER(A338),Items!$B$2:$H$748,7,FALSE)<>0,VLOOKUP(UPPER(A338),Items!$B$2:$H$748,7,FALSE),\"\"),\"\")","v":""},"System Sell Price"]
[{"$f":"VLOOKUP(UPPER(M339),Items!$A$2:$B$525,2,FALSE)","v":"N0439"},"D",null,null,null,null,1,null,null,null,{"$f":"VLOOKUP(UPPER(A339),Items!$B$2:$G$525,6)","v":"text(2)"},{"$f":"IF(B339=\"D\",IF(VLOOKUP(UPPER(A339),Items!$B$2:$H$748,7,FALSE)<>0,VLOOKUP(UPPER(A339),Items!$B$2:$H$748,7,FALSE),\"\"),\"\")","v":"Price Derivation Code"},"Price Derivation Code"]
[{"$f":"VLOOKUP(UPPER(M340),Items!$A$2:$B$525,2,FALSE)","v":"N0333"},"D",null,null,null,null,1,null,null,null,{"$f":"VLOOKUP(UPPER(A340),Items!$B$2:$G$525,6)","v":"decimal(10,2)"},{"$f":"IF(B340=\"D\",IF(VLOOKUP(UPPER(A340),Items!$B$2:$H$748,7,FALSE)<>0,VLOOKUP(UPPER(A340),Items!$B$2:$H$748,7,FALSE),\"\"),\"\")","v":""},"Total System BM Cashflow"]
[{"$f":"VLOOKUP(UPPER(M341),Items!$A$2:$B$525,2,FALSE)","v":"N0225"},"D",null,null,null,null,1,null,null,null,{"$f":"VLOOKUP(UPPER(A341),Items!$B$2:$G$525,6)","v":"decimal(10,2)"},{"$f":"IF(B341=\"D\",IF(VLOOKUP(UPPER(A341),Items!$B$2:$H$748,7,FALSE)<>0,VLOOKUP(UPPER(A341),Items!$B$2:$H$748,7,FALSE),\"\"),\"\")","v":""},"Total System Energy Imbalance Cashflow"]
[{"$f":"VLOOKUP(UPPER(M342),Items!$A$2:$B$525,2,FALSE)","v":"N0228"},"D",null,null,null,null,1,null,null,null,{"$f":"VLOOKUP(UPPER(A342),Items!$B$2:$G$525,6)","v":"decimal(10,2)"},{"$f":"IF(B342=\"D\",IF(VLOOKUP(UPPER(A342),Items!$B$2:$H$748,7,FALSE)<>0,VLOOKUP(UPPER(A342),Items!$B$2:$H$748,7,FALSE),\"\"),\"\")","v":""},"Total System Non-Delivery Charge"]
[{"$f":"VLOOKUP(UPPER(M343),Items!$A$2:$B$525,2,FALSE)","v":"N0216"},"D",null,null,null,null,1,null,null,null,"decimal(10,3)",{"$f":"IF(B343=\"D\",IF(VLOOKUP(UPPER(A343),Items!$B$2:$H$748,7,FALSE)<>0,VLOOKUP(UPPER(A343),Items!$B$2:$H$748,7,FALSE),\"\"),\"\")","v":""},"System Total Accepted Bid Volume"]
[{"$f":"VLOOKUP(UPPER(M344),Items!$A$2:$B$525,2,FALSE)","v":"N0386"},{"$f":"IF(LEN(K344)>0,\"D\",IF(LEN(A344)=5,\"F\",IF(LEN(A344)=3,\"R\",\" \")))","v":"D"},null,null,null,null,"O",null,null,null,{"$f":"VLOOKUP(UPPER(A344),Items!$B$2:$G$525,6)","v":"decimal(10,3)"},{"$f":"IF(B344=\"D\",IF(VLOOKUP(UPPER(A344),Items!$B$2:$H$748,7,FALSE)<>0,VLOOKUP(UPPER(A344),Items!$B$2:$H$748,7,FALSE),\"\"),\"\")","v":""},"System Total Unpriced Accepted Bid Volume","Populated for pre-P217 Settlement Dates. This field will be null for post-P217 Settlement Dates"]
[{"$f":"VLOOKUP(UPPER(M345),Items!$A$2:$B$525,2,FALSE)","v":"N0393"},{"$f":"IF(LEN(K345)>0,\"D\",IF(LEN(A345)=5,\"F\",IF(LEN(A345)=3,\"R\",\" \")))","v":"D"},null,null,null,null,1,null,null,null,{"$f":"VLOOKUP(UPPER(A345),Items!$B$2:$G$525,6)","v":"decimal(10,3)"},{"$f":"IF(B345=\"D\",IF(VLOOKUP(UPPER(A345),Items!$B$2:$H$748,7,FALSE)<>0,VLOOKUP(UPPER(A345),Items!$B$2:$H$748,7,FALSE),\"\"),\"\")","v":""},"System Total Priced Accepted Bid Volume"]
[{"$f":"VLOOKUP(UPPER(M346),Items!$A$2:$B$525,2,FALSE)","v":"N0224"},{"$f":"IF(LEN(K346)>0,\"D\",IF(LEN(A346)=5,\"F\",IF(LEN(A346)=3,\"R\",\" \")))","v":"D"},null,null,null,null,1,null,null,null,{"$f":"VLOOKUP(UPPER(A346),Items!$B$2:$G$525,6)","v":"decimal(10,3)"},{"$f":"IF(B346=\"D\",IF(VLOOKUP(UPPER(A346),Items!$B$2:$H$748,7,FALSE)<>0,VLOOKUP(UPPER(A346),Items!$B$2:$H$748,7,FALSE),\"\"),\"\")","v":""},"Total System Energy Contract Volume"]
[{"$f":"VLOOKUP(UPPER(M347),Items!$A$2:$B$748,2,FALSE)","v":"N0428"},{"$f":"IF(LEN(K347)>0,\"D\",IF(LEN(A347)=5,\"F\",IF(LEN(A347)=3,\"R\",\" \")))","v":"D"},null,null,null,null,"O",null,null,null,{"$f":"VLOOKUP(UPPER(A347),Items!$B$2:$G$525,6)","v":"decimal(10,3)"},null,"NIV Tagged System Total Unpriced Bid Volume","Populated for pre-P217 Settlement Dates. This field will be null for post-P217 Settlement Dates"]
["N0217","D",null,null,null,null,1,null,null,null,"decimal(10,3)",{"$f":"IF(B348=\"D\",IF(VLOOKUP(UPPER(A348),Items!$B$2:$H$748,7,FALSE)<>0,VLOOKUP(UPPER(A348),Items!$B$2:$H$748,7,FALSE),\"\"),\"\")","v":""},"Total System Accepted Offer Volume"]
[{"$f":"VLOOKUP(UPPER(M349),Items!$A$2:$B$748,2,FALSE)","v":"N0429"},{"$f":"IF(LEN(K349)>0,\"D\",IF(LEN(A349)=5,\"F\",IF(LEN(A349)=3,\"R\",\" \")))","v":"D"},null,null,null,null,"O",null,null,null,{"$f":"VLOOKUP(UPPER(A349),Items!$B$2:$G$525,6)","v":"decimal(10,3)"},null,"NIV Tagged System Total Unpriced Offer Volume","Populated for pre-P217 Settlement Dates. This field will be null for post-P217 Settlement Dates"]
[{"$f":"VLOOKUP(UPPER(M350),Items!$A$2:$B$748,2,FALSE)","v":"N0430"},"D",null,null,null,null,1,null,null,null,{"$f":"VLOOKUP(UPPER(A350),Items!$B$2:$G$525,6)","v":"decimal(10,3)"},null,"Net Imbalance Volume"]
[{"$f":"VLOOKUP(UPPER(M351),Items!$A$2:$B$748,2,FALSE)","v":"N0431"},"D",null,null,null,null,1,null,null,null,{"$f":"VLOOKUP(UPPER(A351),Items!$B$2:$G$525,6)","v":"decimal(10,3)"},null,"Total NIV Tagged Volume"]
[{"$f":"VLOOKUP(UPPER(M352),Items!$A$2:$B$748,2,FALSE)","v":"N0432"},"D",null,null,null,null,"O",null,null,null,{"$f":"VLOOKUP(UPPER(A352),Items!$B$2:$G$525,6)","v":"decimal(10,3)"},null,"NIV Tagged SBVA","Populated for pre-P217 Settlement Dates. This field will be null for post-P217 Settlement Dates"]
[{"$f":"VLOOKUP(UPPER(M353),Items!$A$2:$B$748,2,FALSE)","v":"N0433"},"D",null,null,null,null,"O",null,null,null,{"$f":"VLOOKUP(UPPER(A353),Items!$B$2:$G$525,6)","v":"decimal(10,3)"},null,"NIV Tagged SSVA","Populated for pre-P217 Settlement Dates. This field will be null for post-P217 Settlement Dates"]
[{"$f":"VLOOKUP(UPPER(M354),Items!$A$2:$B$525,2,FALSE)","v":"N0387"},"D",null,null,null,null,"O",null,null,null,{"$f":"VLOOKUP(UPPER(A354),Items!$B$2:$G$525,6)","v":"decimal(10,3)"},{"$f":"IF(B354=\"D\",IF(VLOOKUP(UPPER(A354),Items!$B$2:$H$748,7,FALSE)<>0,VLOOKUP(UPPER(A354),Items!$B$2:$H$748,7,FALSE),\"\"),\"\")","v":""},"System Total Unpriced Accepted Offer Volume","Populated for pre-P217 Settlement Dates. This field will be null for post-P217 Settlement Dates"]
[{"$f":"VLOOKUP(UPPER(M355),Items!$A$2:$B$525,2,FALSE)","v":"N0394"},"D",null,null,null,null,1,null,null,null,{"$f":"VLOOKUP(UPPER(A355),Items!$B$2:$G$525,6)","v":"decimal(10,3)"},{"$f":"IF(B355=\"D\",IF(VLOOKUP(UPPER(A355),Items!$B$2:$H$748,7,FALSE)<>0,VLOOKUP(UPPER(A355),Items!$B$2:$H$748,7,FALSE),\"\"),\"\")","v":""},"System Total Priced Accepted Offer Volume"]
[{"$f":"VLOOKUP(UPPER(M356),Items!$A$2:$B$525,2,FALSE)","v":"N0226"},"D",null,null,null,null,1,null,null,null,{"$f":"VLOOKUP(UPPER(A356),Items!$B$2:$G$525,6)","v":"decimal(10,3)"},{"$f":"IF(B356=\"D\",IF(VLOOKUP(UPPER(A356),Items!$B$2:$H$748,7,FALSE)<>0,VLOOKUP(UPPER(A356),Items!$B$2:$H$748,7,FALSE),\"\"),\"\")","v":""},"Total System Energy Imbalance Volume"]
[{"$f":"VLOOKUP(UPPER(M357),Items!$A$2:$B$525,2,FALSE)","v":"N0395"},"D",null,null,null,null,1,null,null,null,{"$f":"VLOOKUP(UPPER(A357),Items!$B$2:$G$525,6)","v":"decimal(10,3)"},{"$f":"IF(B357=\"D\",IF(VLOOKUP(UPPER(A357),Items!$B$2:$H$748,7,FALSE)<>0,VLOOKUP(UPPER(A357),Items!$B$2:$H$748,7,FALSE),\"\"),\"\")","v":""},"Residual Cashflow Reallocation Denominator"]
[{"$f":"VLOOKUP(UPPER(M358),Items!$A$2:$B$525,2,FALSE)","v":"N0230"},"D",null,null,null,null,1,null,null,null,{"$f":"VLOOKUP(UPPER(A358),Items!$B$2:$G$525,6)","v":"decimal(10,2)"},{"$f":"IF(B358=\"D\",IF(VLOOKUP(UPPER(A358),Items!$B$2:$H$748,7,FALSE)<>0,VLOOKUP(UPPER(A358),Items!$B$2:$H$748,7,FALSE),\"\"),\"\")","v":""},"Total System Residual Cashflow"]
[{"$f":"VLOOKUP(UPPER(M359),Items!$A$2:$B$525,2,FALSE)","v":"N0227"},"D",null,null,null,null,1,null,null,null,{"$f":"VLOOKUP(UPPER(A359),Items!$B$2:$G$525,6)","v":"decimal(10,2)"},{"$f":"IF(B359=\"D\",IF(VLOOKUP(UPPER(A359),Items!$B$2:$H$748,7,FALSE)<>0,VLOOKUP(UPPER(A359),Items!$B$2:$H$748,7,FALSE),\"\"),\"\")","v":""},"Total System Information Imbalance Charge"]
[{"$f":"VLOOKUP(UPPER(M360),Items!$A$2:$B$525,2,FALSE)","v":"N0420"},"D",null,null,null,null,"O",null,null,null,{"$f":"VLOOKUP(UPPER(A360),Items!$B$2:$G$525,6)","v":"decimal(10,2)"},{"$f":"IF(B360=\"D\",IF(VLOOKUP(UPPER(A360),Items!$B$2:$H$748,7,FALSE)<>0,VLOOKUP(UPPER(A360),Items!$B$2:$H$748,7,FALSE),\"\"),\"\")","v":""},"Net Energy Sell-Price Cost Adjustment","Populated for pre-P217 Settlement Dates. This field will be null for post-P217 Settlement Dates"]
[{"$f":"VLOOKUP(UPPER(M361),Items!$A$2:$B$525,2,FALSE)","v":"N0419"},"D",null,null,null,null,"O",null,null,null,{"$f":"VLOOKUP(UPPER(A361),Items!$B$2:$G$525,6)","v":"decimal(10,2)"},{"$f":"IF(B361=\"D\",IF(VLOOKUP(UPPER(A361),Items!$B$2:$H$748,7,FALSE)<>0,VLOOKUP(UPPER(A361),Items!$B$2:$H$748,7,FALSE),\"\"),\"\")","v":""},"Net Energy Buy-Price Cost Adjustment","Populated for pre-P217 Settlement Dates. This field will be null for post-P217 Settlement Dates"]
[{"$f":"VLOOKUP(UPPER(M362),Items!$A$2:$B$525,2,FALSE)","v":"N0418"},"D",null,null,null,null,"O",null,null,null,{"$f":"VLOOKUP(UPPER(A362),Items!$B$2:$G$525,6)","v":"decimal(10,3)"},{"$f":"IF(B362=\"D\",IF(VLOOKUP(UPPER(A362),Items!$B$2:$H$748,7,FALSE)<>0,VLOOKUP(UPPER(A362),Items!$B$2:$H$748,7,FALSE),\"\"),\"\")","v":""},"Net Energy Sell-Price Volume Adjustment","Populated for pre-P217 Settlement Dates. This field will be null for post-P217 Settlement Dates"]
[{"$f":"VLOOKUP(UPPER(M363),Items!$A$2:$B$525,2,FALSE)","v":"N0417"},"D",null,null,null,null,"O",null,null,null,{"$f":"VLOOKUP(UPPER(A363),Items!$B$2:$G$525,6)","v":"decimal(10,3)"},{"$f":"IF(B363=\"D\",IF(VLOOKUP(UPPER(A363),Items!$B$2:$H$748,7,FALSE)<>0,VLOOKUP(UPPER(A363),Items!$B$2:$H$748,7,FALSE),\"\"),\"\")","v":""},"Net Energy Buy-Price Volume Adjustment","Populated for pre-P217 Settlement Dates. This field will be null for post-P217 Settlement Dates"]
[{"$f":"VLOOKUP(UPPER(M364),Items!$A$2:$B$748,2,FALSE)","v":"N0416"},"D",null,null,null,null,"O",null,null,null,{"$f":"VLOOKUP(UPPER(A364),Items!$B$2:$G$525,6)","v":"decimal(10,3)"},{"$f":"IF(VLOOKUP(UPPER(A364),Items!$B$2:$H$748,7,FALSE)<>0,VLOOKUP(UPPER(A364),Items!$B$2:$H$748,7,FALSE),\"\")","v":""},"Net System Sell-Price Volume Adjustment","Populated for pre-P217 Settlement Dates. This field will be null for post-P217 Settlement Dates"]
[{"$f":"VLOOKUP(UPPER(M365),Items!$A$2:$B$748,2,FALSE)","v":"N0415"},"D",null,null,null,null,"O",null,null,null,{"$f":"VLOOKUP(UPPER(A365),Items!$B$2:$G$525,6)","v":"decimal(10,3)"},{"$f":"IF(VLOOKUP(UPPER(A365),Items!$B$2:$H$748,7,FALSE)<>0,VLOOKUP(UPPER(A365),Items!$B$2:$H$748,7,FALSE),\"\")","v":""},"Net System Buy-Price Volume Adjustment","Populated for pre-P217 Settlement Dates. This field will be null for post-P217 Settlement Dates"]
[{"$f":"VLOOKUP(UPPER(M366),Items!$A$2:$B$525,2,FALSE)","v":"N0371"},"D",null,null,null,null,1,null,null,null,{"$f":"VLOOKUP(UPPER(A366),Items!$B$2:$G$525,6)","v":"decimal(10,2)"},{"$f":"IF(B366=\"D\",IF(VLOOKUP(UPPER(A366),Items!$B$2:$H$748,7,FALSE)<>0,VLOOKUP(UPPER(A366),Items!$B$2:$H$748,7,FALSE),\"\"),\"\")","v":""},"Sell-Price Price Adjust"]
[{"$f":"VLOOKUP(UPPER(M367),Items!$A$2:$B$525,2,FALSE)","v":"N0372"},"D",null,null,null,null,1,null,null,null,{"$f":"VLOOKUP(UPPER(A367),Items!$B$2:$G$525,6)","v":"decimal(10,2)"},{"$f":"IF(B367=\"D\",IF(VLOOKUP(UPPER(A367),Items!$B$2:$H$748,7,FALSE)<>0,VLOOKUP(UPPER(A367),Items!$B$2:$H$748,7,FALSE),\"\"),\"\")","v":""},"Buy-Price Price Adjust"]
[{"$f":"VLOOKUP(UPPER(M368),Items!$A$2:$B$748,2,FALSE)","v":"N0438"},"D",null,null,null,null,1,null,null,null,{"$f":"VLOOKUP(UPPER(A368),Items!$B$2:$G$748,6)","v":"decimal(10,3)"},{"$f":"IF(B368=\"D\",IF(VLOOKUP(UPPER(A368),Items!$B$2:$H$748,7,FALSE)<>0,VLOOKUP(UPPER(A368),Items!$B$2:$H$748,7,FALSE),\"\"),\"\")","v":""},"Total Period Applicable Balancing Services Volume","MWh"]
[{"$f":"VLOOKUP(UPPER(M369),Items!$A$2:$B$525,2,FALSE)","v":"N0335"},"D",null,null,null,null,1,null,null,null,{"$f":"VLOOKUP(UPPER(A369),Items!$B$2:$G$525,6)","v":"decimal(10,3)"},{"$f":"IF(B369=\"D\",IF(VLOOKUP(UPPER(A369),Items!$B$2:$H$748,7,FALSE)<>0,VLOOKUP(UPPER(A369),Items!$B$2:$H$748,7,FALSE),\"\"),\"\")","v":""},"System Operator Production Imbalance"]
[{"$f":"VLOOKUP(UPPER(M370),Items!$A$2:$B$525,2,FALSE)","v":"N0336"},"D",null,null,null,null,1,null,null,null,{"$f":"VLOOKUP(UPPER(A370),Items!$B$2:$G$525,6)","v":"decimal(10,3)"},{"$f":"IF(B370=\"D\",IF(VLOOKUP(UPPER(A370),Items!$B$2:$H$748,7,FALSE)<>0,VLOOKUP(UPPER(A370),Items!$B$2:$H$748,7,FALSE),\"\"),\"\")","v":""},"System Operator Consumption Imbalance"]
[{"$f":"VLOOKUP(UPPER(M371),Items!$A$2:$B$609,2,FALSE)","v":"N0501"},"D",null,null,null,null,"O",null,null,null,{"$f":"VLOOKUP(UPPER(A371),Items!$B$2:$G$526,6,FALSE)","v":"decimal(10,3)"},null,"NIV Tagged Energy Buy Volume Adjustment","Populated for post-P194/pre-P217 Settlement Dates. These fields will be null for all other Settlement Dates before the P194 effective date."]
[{"$f":"VLOOKUP(UPPER(M372),Items!$A$2:$B$609,2,FALSE)","v":"N0502"},"D",null,null,null,null,"O",null,null,null,{"$f":"VLOOKUP(UPPER(A372),Items!$B$2:$G$526,6,FALSE)","v":"decimal(10,3)"},null,"NIV Tagged Energy Sell Volume Adjustment","Populated for post-P194/pre-P217 Settlement Dates. These fields will be null for all other Settlement Dates before the P194 effective date."]
[{"$f":"VLOOKUP(UPPER(M373),Items!$A$2:$B$609,2,FALSE)","v":"N0503"},"D",null,null,null,null,"O",null,null,null,{"$f":"VLOOKUP(UPPER(A373),Items!$B$2:$G$526,6,FALSE)","v":"decimal(10,3)"},null,"PAR Tagged Energy Buy Volume Adjustment","Populated for post-P194/pre-P217 Settlement Dates. These fields will be null for all other Settlement Dates before the P194 effective date."]
[{"$f":"VLOOKUP(UPPER(M374),Items!$A$2:$B$609,2,FALSE)","v":"N0504"},"D",null,null,null,null,"O",null,null,null,{"$f":"VLOOKUP(UPPER(A374),Items!$B$2:$G$526,6,FALSE)","v":"decimal(10,3)"},null,"PAR Tagged Energy Sell Volume Adjustment","Populated for post-P194/pre-P217 Settlement Dates. These fields will be null for all other Settlement Dates before the P194 effective date."]
[{"$f":"VLOOKUP(UPPER(M375),Items!$A$2:$B$748,2,FALSE)","v":"N0434"},"D",null,null,null,null,"O",null,null,null,{"$f":"VLOOKUP(UPPER(A375),Items!$B$2:$G$525,6)","v":"decimal(10,2)"},{"$f":"IF(VLOOKUP(UPPER(A375),Items!$B$2:$H$748,7,FALSE)<>0,VLOOKUP(UPPER(A375),Items!$B$2:$H$748,7,FALSE),\"\")","v":""},"Untagged EBCA","Populated for pre-P217 Settlement Dates. This field will be null for post-P217 Settlement Dates"]
[{"$f":"VLOOKUP(UPPER(M376),Items!$A$2:$B$748,2,FALSE)","v":"N0435"},"D",null,null,null,null,"O",null,null,null,{"$f":"VLOOKUP(UPPER(A376),Items!$B$2:$G$525,6)","v":"decimal(10,3)"},{"$f":"IF(VLOOKUP(UPPER(A376),Items!$B$2:$H$748,7,FALSE)<>0,VLOOKUP(UPPER(A376),Items!$B$2:$H$748,7,FALSE),\"\")","v":""},"Untagged EBVA","Populated for pre-P217 Settlement Dates. This field will be null for post-P217 Settlement Dates"]
[{"$f":"VLOOKUP(UPPER(M377),Items!$A$2:$B$748,2,FALSE)","v":"N0436"},"D",null,null,null,null,"O",null,null,null,{"$f":"VLOOKUP(UPPER(A377),Items!$B$2:$G$525,6)","v":"decimal(10,2)"},{"$f":"IF(VLOOKUP(UPPER(A377),Items!$B$2:$H$748,7,FALSE)<>0,VLOOKUP(UPPER(A377),Items!$B$2:$H$748,7,FALSE),\"\")","v":""},"Untagged ESCA","Populated for pre-P217 Settlement Dates. This field will be null for post-P217 Settlement Dates"]
[{"$f":"VLOOKUP(UPPER(M378),Items!$A$2:$B$748,2,FALSE)","v":"N0437"},"D",null,null,null,null,"O",null,null,null,{"$f":"VLOOKUP(UPPER(A378),Items!$B$2:$G$525,6)","v":"decimal(10,3)"},{"$f":"IF(VLOOKUP(UPPER(A378),Items!$B$2:$H$748,7,FALSE)<>0,VLOOKUP(UPPER(A378),Items!$B$2:$H$748,7,FALSE),\"\")","v":""},"Untagged ESVA","Populated for pre-P217 Settlement Dates. This field will be null for post-P217 Settlement Dates"]
[{"$f":"VLOOKUP(UPPER(M379),Items!$A$2:$B$525,2,FALSE)","v":"N0517"},"D",null,null,null,null,"O",null,null,null,{"$f":"VLOOKUP(UPPER(A379),Items!$B$2:$G$525,6)","v":"decimal(10,3)"},{"$f":"IF(B379=\"D\",IF(VLOOKUP(UPPER(A379),Items!$B$2:$H$748,7,FALSE)<>0,VLOOKUP(UPPER(A379),Items!$B$2:$H$748,7,FALSE),\"\"),\"\")","v":""},"Total System Tagged Accepted Bid Volume","Populated for post-P217 Settlement Dates. This field will be null for pre-P217 Settlement Dates"]
[{"$f":"VLOOKUP(UPPER(M380),Items!$A$2:$B$748,2,FALSE)","v":"N0518"},"D",null,null,null,null,"O",null,null,null,{"$f":"VLOOKUP(UPPER(A380),Items!$B$2:$G$525,6)","v":"decimal(10,3)"},{"$f":"IF(VLOOKUP(UPPER(A380),Items!$B$2:$H$748,7,FALSE)<>0,VLOOKUP(UPPER(A380),Items!$B$2:$H$748,7,FALSE),\"\")","v":""},"Total System Tagged Accepted Offer Volume","Populated for post-P217 Settlement Dates. This field will be null for pre-P217 Settlement Dates"]
[{"$f":"VLOOKUP(UPPER(M381),Items!$A$2:$B$748,2,FALSE)","v":"N0519"},{"$f":"IF(LEN(K381)>0,\"D\",IF(LEN(A381)=5,\"F\",IF(LEN(A381)=3,\"R\",\" \")))","v":"D"},null,null,null,null,"O",null,null,null,{"$f":"VLOOKUP(UPPER(A381),Items!$B$2:$G$525,6)","v":"decimal(10,3)"},{"$f":"IF(VLOOKUP(UPPER(A381),Items!$B$2:$H$748,7,FALSE)<>0,VLOOKUP(UPPER(A381),Items!$B$2:$H$748,7,FALSE),\"\")","v":""},"Total System Repriced Accepted Bid Volume","Populated for post-P217 Settlement Dates. This field will be null for pre-P217 Settlement Dates"]
[{"$f":"VLOOKUP(UPPER(M382),Items!$A$2:$B$525,2,FALSE)","v":"N0520"},"D",null,null,null,null,"O",null,null,null,{"$f":"VLOOKUP(UPPER(A382),Items!$B$2:$G$525,6)","v":"decimal(10,3)"},{"$f":"IF(B382=\"D\",IF(VLOOKUP(UPPER(A382),Items!$B$2:$H$748,7,FALSE)<>0,VLOOKUP(UPPER(A382),Items!$B$2:$H$748,7,FALSE),\"\"),\"\")","v":""},"Total System Repriced Accepted Offer Volume","Populated for post-P217 Settlement Dates. This field will be null for pre-P217 Settlement Dates"]
[{"$f":"VLOOKUP(UPPER(M383),Items!$A$2:$B$525,2,FALSE)","v":"N0521"},"D",null,null,null,null,"O",null,null,null,{"$f":"VLOOKUP(UPPER(A383),Items!$B$2:$G$525,6)","v":"decimal(10,3)"},{"$f":"IF(B383=\"D\",IF(VLOOKUP(UPPER(A383),Items!$B$2:$H$748,7,FALSE)<>0,VLOOKUP(UPPER(A383),Items!$B$2:$H$748,7,FALSE),\"\"),\"\")","v":""},"Total System Originally-priced Accepted Bid Volume","Populated for post-P217 Settlement Dates. This field will be null for pre-P217 Settlement Dates"]
[{"$f":"VLOOKUP(UPPER(M384),Items!$A$2:$B$748,2,FALSE)","v":"N0522"},"D",null,null,null,null,"O",null,null,null,{"$f":"VLOOKUP(UPPER(A384),Items!$B$2:$G$748,6)","v":"decimal(10,3)"},{"$f":"IF(B384=\"D\",IF(VLOOKUP(UPPER(A384),Items!$B$2:$H$748,7,FALSE)<>0,VLOOKUP(UPPER(A384),Items!$B$2:$H$748,7,FALSE),\"\"),\"\")","v":""},"Total System Originally-priced Accepted Offer Volume","Populated for post-P217 Settlement Dates. This field will be null for pre-P217 Settlement Dates"]
[{"$f":"VLOOKUP(UPPER(M385),Items!$A$2:$B$525,2,FALSE)","v":"N0523"},"D",null,null,null,null,"O",null,null,null,{"$f":"VLOOKUP(UPPER(A385),Items!$B$2:$G$525,6)","v":"decimal(10,3)"},{"$f":"IF(B385=\"D\",IF(VLOOKUP(UPPER(A385),Items!$B$2:$H$748,7,FALSE)<>0,VLOOKUP(UPPER(A385),Items!$B$2:$H$748,7,FALSE),\"\"),\"\")","v":""},"Total System Adjustment Sell Volume","Populated for post-P217 Settlement Dates. This field will be null for pre-P217 Settlement Dates"]
[{"$f":"VLOOKUP(UPPER(M386),Items!$A$2:$B$525,2,FALSE)","v":"N0524"},"D",null,null,null,null,"O",null,null,null,{"$f":"VLOOKUP(UPPER(A386),Items!$B$2:$G$525,6)","v":"decimal(10,3)"},{"$f":"IF(B386=\"D\",IF(VLOOKUP(UPPER(A386),Items!$B$2:$H$748,7,FALSE)<>0,VLOOKUP(UPPER(A386),Items!$B$2:$H$748,7,FALSE),\"\"),\"\")","v":""},"Total System Adjustment Buy Volume","Populated for post-P217 Settlement Dates. This field will be null for pre-P217 Settlement Dates"]
[{"$f":"VLOOKUP(UPPER(M387),Items!$A$2:$B$609,2,FALSE)","v":"N0525"},"D",null,null,null,null,"O",null,null,null,{"$f":"VLOOKUP(UPPER(A387),Items!$B$2:$G$526,6,FALSE)","v":"decimal(10,3)"},null,"Total System Tagged Adjustment Sell Volume","Populated for post-P217 Settlement Dates. This field will be null for pre-P217 Settlement Dates"]
[{"$f":"VLOOKUP(UPPER(M388),Items!$A$2:$B$609,2,FALSE)","v":"N0526"},"D",null,null,null,null,"O",null,null,null,{"$f":"VLOOKUP(UPPER(A388),Items!$B$2:$G$526,6,FALSE)","v":"decimal(10,3)"},null,"Total System Tagged Adjustment Buy Volume","Populated for post-P217 Settlement Dates. This field will be null for pre-P217 Settlement Dates"]
[{"$f":"VLOOKUP(UPPER(M389),Items!$A$2:$B$609,2,FALSE)","v":"N0527"},"D",null,null,null,null,"O",null,null,null,{"$f":"VLOOKUP(UPPER(A389),Items!$B$2:$G$526,6,FALSE)","v":"decimal(10,3)"},null,"Total System Repriced Adjustment Sell Volume","Populated for post-P217 Settlement Dates. This field will be null for pre-P217 Settlement Dates"]
[{"$f":"VLOOKUP(UPPER(M390),Items!$A$2:$B$609,2,FALSE)","v":"N0528"},"D",null,null,null,null,"O",null,null,null,{"$f":"VLOOKUP(UPPER(A390),Items!$B$2:$G$526,6,FALSE)","v":"decimal(10,3)"},null,"Total System Repriced Adjustment Buy Volume","Populated for post-P217 Settlement Dates. This field will be null for pre-P217 Settlement Dates"]
[{"$f":"VLOOKUP(UPPER(M391),Items!$A$2:$B$748,2,FALSE)","v":"N0529"},"D",null,null,null,null,"O",null,null,null,{"$f":"VLOOKUP(UPPER(A391),Items!$B$2:$G$525,6)","v":"decimal(10,3)"},{"$f":"IF(VLOOKUP(UPPER(A391),Items!$B$2:$H$748,7,FALSE)<>0,VLOOKUP(UPPER(A391),Items!$B$2:$H$748,7,FALSE),\"\")","v":""},"Total System Originally-priced Adjustment Sell Volume","Populated for post-P217 Settlement Dates. This field will be null for pre-P217 Settlement Dates"]
[{"$f":"VLOOKUP(UPPER(M392),Items!$A$2:$B$748,2,FALSE)","v":"N0530"},"D",null,null,null,null,"O",null,null,null,{"$f":"VLOOKUP(UPPER(A392),Items!$B$2:$G$525,6)","v":"decimal(10,3)"},{"$f":"IF(VLOOKUP(UPPER(A392),Items!$B$2:$H$748,7,FALSE)<>0,VLOOKUP(UPPER(A392),Items!$B$2:$H$748,7,FALSE),\"\")","v":""},"Total System Originally-priced Adjustment Buy Volume","Populated for post-P217 Settlement Dates. This field will be null for pre-P217 Settlement Dates"]
[{"$f":"VLOOKUP(UPPER(M393),Items!$A$2:$B$748,2,FALSE)","v":"N0531"},"D",null,null,null,null,"O",null,null,null,{"$f":"VLOOKUP(UPPER(A393),Items!$B$2:$G$525,6)","v":"decimal(10,2)"},{"$f":"IF(VLOOKUP(UPPER(A393),Items!$B$2:$H$748,7,FALSE)<>0,VLOOKUP(UPPER(A393),Items!$B$2:$H$748,7,FALSE),\"\")","v":""},"Replacement Price","Populated for post-P217 Settlement Dates. This field will be null for pre-P217 Settlement Dates"]
[{"$f":"VLOOKUP(UPPER(M394),Items!$A$2:$B$748,2,FALSE)","v":"N0532"},"D",null,null,null,null,"O",null,null,null,{"$f":"VLOOKUP(UPPER(A394),Items!$B$2:$G$525,6)","v":"decimal(10,3)"},{"$f":"IF(VLOOKUP(UPPER(A394),Items!$B$2:$H$748,7,FALSE)<>0,VLOOKUP(UPPER(A394),Items!$B$2:$H$748,7,FALSE),\"\")","v":""},"Replacement Price Calculation Volume","Populated for post-P217 Settlement Dates. This field will be null for pre-P217 Settlement Dates"]
["MD2","R","0-*",null,null,null,"G",null,null,null,null,null,"Market Index Data Information"]
[{"$f":"VLOOKUP(UPPER(M396),Items!$A$2:$B$748,2,FALSE)","v":"N0423"},"D",null,null,null,null,null,1,null,null,{"$f":"VLOOKUP(UPPER(A396),Items!$B$2:$G$525,6)","v":"text(8)"},{"$f":"IF(VLOOKUP(UPPER(A396),Items!$B$2:$H$748,7,FALSE)<>0,VLOOKUP(UPPER(A396),Items!$B$2:$H$748,7,FALSE),\"\")","v":""},"Market Index Data Provider ID"]
[{"$f":"VLOOKUP(UPPER(M397),Items!$A$2:$B$748,2,FALSE)","v":"N0412"},"D",null,null,null,null,null,1,null,null,{"$f":"VLOOKUP(UPPER(A397),Items!$B$2:$G$525,6)","v":"decimal(10,3)"},{"$f":"IF(VLOOKUP(UPPER(A397),Items!$B$2:$H$748,7,FALSE)<>0,VLOOKUP(UPPER(A397),Items!$B$2:$H$748,7,FALSE),\"\")","v":""},"Individual Liquidity Threshold"]
[{"$f":"VLOOKUP(UPPER(M398),Items!$A$2:$B$748,2,FALSE)","v":"N0413"},"D",null,null,null,null,null,"O",null,null,{"$f":"VLOOKUP(UPPER(A398),Items!$B$2:$G$525,6)","v":"decimal(10,2)"},{"$f":"IF(VLOOKUP(UPPER(A398),Items!$B$2:$H$748,7,FALSE)<>0,VLOOKUP(UPPER(A398),Items!$B$2:$H$748,7,FALSE),\"\")","v":""},"Market Index Price","Null if no data provided by MIDP"]
[{"$f":"VLOOKUP(UPPER(M399),Items!$A$2:$B$748,2,FALSE)","v":"N0414"},"D",null,null,null,null,null,"O",null,null,{"$f":"VLOOKUP(UPPER(A399),Items!$B$2:$G$525,6)","v":"decimal(10,3)"},{"$f":"IF(VLOOKUP(UPPER(A399),Items!$B$2:$H$748,7,FALSE)<>0,VLOOKUP(UPPER(A399),Items!$B$2:$H$748,7,FALSE),\"\")","v":""},"Market Index Volume","Null if no data provided by MIDP"]
["DB2","R","0-*",null,null,"G",null,null,null,null,null,null,"Balancing Services Adjustment Action Data"]
[{"$f":"VLOOKUP(UPPER(M401),Items!$A$2:$B$525,2,FALSE)","v":"N0533"},"D",null,null,null,null,1,null,null,null,{"$f":"VLOOKUP(UPPER(A401),Items!$B$2:$G$525,6)","v":"integer(4)"},{"$f":"IF(B401=\"D\",IF(VLOOKUP(UPPER(A401),Items!$B$2:$H$748,7,FALSE)<>0,VLOOKUP(UPPER(A401),Items!$B$2:$H$748,7,FALSE),\"\"),\"\")","v":""},"Balancing Services Adjustment Action Id"]
[{"$f":"VLOOKUP(UPPER(M402),Items!$A$2:$B$525,2,FALSE)","v":"N0534"},"D",null,null,null,null,"O",null,null,null,{"$f":"VLOOKUP(UPPER(A402),Items!$B$2:$G$525,6)","v":"decimal(10,2)"},{"$f":"IF(B402=\"D\",IF(VLOOKUP(UPPER(A402),Items!$B$2:$H$748,7,FALSE)<>0,VLOOKUP(UPPER(A402),Items!$B$2:$H$748,7,FALSE),\"\"),\"\")","v":""},"Balancing Services Adjustment Action Cost","£ Null if Action is unpriced"]
[{"$f":"VLOOKUP(UPPER(M403),Items!$A$2:$B$525,2,FALSE)","v":"N0535"},"D",null,null,null,null,1,null,null,null,{"$f":"VLOOKUP(UPPER(A403),Items!$B$2:$G$525,6)","v":"decimal(10,3)"},{"$f":"IF(B403=\"D\",IF(VLOOKUP(UPPER(A403),Items!$B$2:$H$748,7,FALSE)<>0,VLOOKUP(UPPER(A403),Items!$B$2:$H$748,7,FALSE),\"\"),\"\")","v":""},"Balancing Services Adjustment Action Volume"]
[{"$f":"VLOOKUP(UPPER(M404),Items!$A$2:$B$525,2,FALSE)","v":"N0536"},"D",null,null,null,null,1,null,null,null,{"$f":"VLOOKUP(UPPER(A404),Items!$B$2:$G$525,6)","v":"decimal(10,3)"},{"$f":"IF(B404=\"D\",IF(VLOOKUP(UPPER(A404),Items!$B$2:$H$748,7,FALSE)<>0,VLOOKUP(UPPER(A404),Items!$B$2:$H$748,7,FALSE),\"\"),\"\")","v":""},"Tagged Balancing Services Adjustment Action Volume"]
[{"$f":"VLOOKUP(UPPER(M405),Items!$A$2:$B$525,2,FALSE)","v":"N0537"},"D",null,null,null,null,1,null,null,null,{"$f":"VLOOKUP(UPPER(A405),Items!$B$2:$G$525,6)","v":"decimal(10,3)"},{"$f":"IF(B405=\"D\",IF(VLOOKUP(UPPER(A405),Items!$B$2:$H$748,7,FALSE)<>0,VLOOKUP(UPPER(A405),Items!$B$2:$H$748,7,FALSE),\"\"),\"\")","v":""},"Repriced Balancing Services Adjustment Action Volume"]
[{"$f":"VLOOKUP(UPPER(M406),Items!$A$2:$B$525,2,FALSE)","v":"N0538"},"D",null,null,null,null,1,null,null,null,{"$f":"VLOOKUP(UPPER(A406),Items!$B$2:$G$525,6)","v":"decimal(10,3)"},{"$f":"IF(B406=\"D\",IF(VLOOKUP(UPPER(A406),Items!$B$2:$H$748,7,FALSE)<>0,VLOOKUP(UPPER(A406),Items!$B$2:$H$748,7,FALSE),\"\"),\"\")","v":""},"Originally-Priced Balancing Services Adjustment Action Volume"]
[{"$f":"VLOOKUP(UPPER(M407),Items!$A$2:$B$525,2,FALSE)","v":"N0539"},"D",null,null,null,null,1,null,null,null,{"$f":"VLOOKUP(UPPER(A407),Items!$B$2:$G$525,6)","v":"boolean"},{"$f":"IF(B407=\"D\",IF(VLOOKUP(UPPER(A407),Items!$B$2:$H$748,7,FALSE)<>0,VLOOKUP(UPPER(A407),Items!$B$2:$H$748,7,FALSE),\"\"),\"\")","v":""},"Balancing Services Adjustment Action SO-Flag"]
["APD","R","2",null,null,"G",null,null,null,null,null,null,"Account Period Data"]
[{"$f":"VLOOKUP(UPPER(M409),Items!$A$2:$B$525,2,FALSE)","v":"N0177"},"D",null,null,null,null,1,null,null,null,{"$f":"VLOOKUP(UPPER(A409),Items!$B$2:$G$525,6)","v":"char"},{"$f":"IF(B409=\"D\",IF(VLOOKUP(UPPER(A409),Items!$B$2:$H$748,7,FALSE)<>0,VLOOKUP(UPPER(A409),Items!$B$2:$H$748,7,FALSE),\"\"),\"\")","v":"P/C Flag"},"Production/Consumption Flag","P/C"]
[{"$f":"VLOOKUP(UPPER(M410),Items!$A$2:$B$525,2,FALSE)","v":"N0048"},"D",null,null,null,null,1,null,null,null,{"$f":"VLOOKUP(UPPER(A410),Items!$B$2:$G$525,6)","v":"decimal(10,2)"},{"$f":"IF(B410=\"D\",IF(VLOOKUP(UPPER(A410),Items!$B$2:$H$748,7,FALSE)<>0,VLOOKUP(UPPER(A410),Items!$B$2:$H$748,7,FALSE),\"\"),\"\")","v":""},"BSSC Limited Cost Allocation"]
[{"$f":"VLOOKUP(UPPER(M411),Items!$A$2:$B$525,2,FALSE)","v":"N0087"},"D",null,null,null,null,1,null,null,null,{"$f":"VLOOKUP(UPPER(A411),Items!$B$2:$G$525,6)","v":"decimal(10,2)"},{"$f":"IF(B411=\"D\",IF(VLOOKUP(UPPER(A411),Items!$B$2:$H$748,7,FALSE)<>0,VLOOKUP(UPPER(A411),Items!$B$2:$H$748,7,FALSE),\"\"),\"\")","v":""},"Energy Imbalance Charge"]
[{"$f":"VLOOKUP(UPPER(M412),Items!$A$2:$B$525,2,FALSE)","v":"N0123"},"D",null,null,null,null,1,null,null,null,{"$f":"VLOOKUP(UPPER(A412),Items!$B$2:$G$525,6)","v":"decimal(10,2)"},{"$f":"IF(B412=\"D\",IF(VLOOKUP(UPPER(A412),Items!$B$2:$H$748,7,FALSE)<>0,VLOOKUP(UPPER(A412),Items!$B$2:$H$748,7,FALSE),\"\"),\"\")","v":""},"Information Imbalance Charge"]
[{"$f":"VLOOKUP(UPPER(M413),Items!$A$2:$B$525,2,FALSE)","v":"N0194"},{"$f":"IF(LEN(K413)>0,\"D\",IF(LEN(A413)=5,\"F\",IF(LEN(A413)=3,\"R\",\" \")))","v":"D"},null,null,null,null,1,null,null,null,{"$f":"VLOOKUP(UPPER(A413),Items!$B$2:$G$525,6)","v":"decimal(10,2)"},{"$f":"IF(B413=\"D\",IF(VLOOKUP(UPPER(A413),Items!$B$2:$H$748,7,FALSE)<>0,VLOOKUP(UPPER(A413),Items!$B$2:$H$748,7,FALSE),\"\"),\"\")","v":""},"Residual Cashflow Reallocation Charge"]
[{"$f":"VLOOKUP(UPPER(M414),Items!$A$2:$B$525,2,FALSE)","v":"N0001"},"D",null,null,null,null,1,null,null,null,{"$f":"VLOOKUP(UPPER(A414),Items!$B$2:$G$525,6)","v":"decimal(10,3)"},{"$f":"IF(B414=\"D\",IF(VLOOKUP(UPPER(A414),Items!$B$2:$H$748,7,FALSE)<>0,VLOOKUP(UPPER(A414),Items!$B$2:$H$748,7,FALSE),\"\"),\"\")","v":""},"Account Bilateral Contract Volume"]
[{"$f":"VLOOKUP(UPPER(M415),Items!$A$2:$B$525,2,FALSE)","v":"N0004"},"D",null,null,null,null,1,null,null,null,{"$f":"VLOOKUP(UPPER(A415),Items!$B$2:$G$525,6)","v":"decimal(10,3)"},{"$f":"IF(B415=\"D\",IF(VLOOKUP(UPPER(A415),Items!$B$2:$H$748,7,FALSE)<>0,VLOOKUP(UPPER(A415),Items!$B$2:$H$748,7,FALSE),\"\"),\"\")","v":""},"Account Period Balancing Services Volume"]
[{"$f":"VLOOKUP(UPPER(M416),Items!$A$2:$B$525,2,FALSE)","v":"N0003"},"D",null,null,null,null,1,null,null,null,{"$f":"VLOOKUP(UPPER(A416),Items!$B$2:$G$525,6)","v":"decimal(10,3)"},{"$f":"IF(B416=\"D\",IF(VLOOKUP(UPPER(A416),Items!$B$2:$H$748,7,FALSE)<>0,VLOOKUP(UPPER(A416),Items!$B$2:$H$748,7,FALSE),\"\"),\"\")","v":""},"Account Energy Imbalance Volume"]
[{"$f":"VLOOKUP(UPPER(M417),Items!$A$2:$B$525,2,FALSE)","v":"N0002"},"D",null,null,null,null,1,null,null,null,{"$f":"VLOOKUP(UPPER(A417),Items!$B$2:$G$525,6)","v":"decimal(10,3)"},{"$f":"IF(B417=\"D\",IF(VLOOKUP(UPPER(A417),Items!$B$2:$H$748,7,FALSE)<>0,VLOOKUP(UPPER(A417),Items!$B$2:$H$748,7,FALSE),\"\"),\"\")","v":""},"Account Credited Energy Volume"]
[{"$f":"VLOOKUP(UPPER(M418),Items!$A$2:$B$525,2,FALSE)","v":"N0195"},"D",null,null,null,null,1,null,null,null,{"$f":"VLOOKUP(UPPER(A418),Items!$B$2:$G$525,6)","v":"decimal(8,7)"},{"$f":"IF(B418=\"D\",IF(VLOOKUP(UPPER(A418),Items!$B$2:$H$748,7,FALSE)<>0,VLOOKUP(UPPER(A418),Items!$B$2:$H$748,7,FALSE),\"\"),\"\")","v":""},"Residual Cashflow Reallocation Proportion"]
["APB","R","0-*",null,null,null,"G",null,null,null,null,null,"Account Period BMU Data"]
[{"$f":"VLOOKUP(UPPER(M420),Items!$A$2:$B$525,2,FALSE)","v":"N0034"},"D",null,null,null,null,null,1,null,null,{"$f":"VLOOKUP(UPPER(A420),Items!$B$2:$G$525,6)","v":"text(11)"},{"$f":"IF(B420=\"D\",IF(VLOOKUP(UPPER(A420),Items!$B$2:$H$748,7,FALSE)<>0,VLOOKUP(UPPER(A420),Items!$B$2:$H$748,7,FALSE),\"\"),\"\")","v":""},"BM Unit Id"]
[{"$f":"VLOOKUP(UPPER(M421),Items!$A$2:$B$525,2,FALSE)","v":"N0061"},"D",null,null,null,null,null,1,null,null,{"$f":"VLOOKUP(UPPER(A421),Items!$B$2:$G$525,6)","v":"decimal(10,3)"},{"$f":"IF(B421=\"D\",IF(VLOOKUP(UPPER(A421),Items!$B$2:$H$748,7,FALSE)<>0,VLOOKUP(UPPER(A421),Items!$B$2:$H$748,7,FALSE),\"\"),\"\")","v":""},"Credited Energy Volume"]
[{"$f":"VLOOKUP(UPPER(M422),Items!$A$2:$B$525,2,FALSE)","v":"N0109"},"D",null,null,null,null,null,1,null,null,{"$f":"VLOOKUP(UPPER(A422),Items!$B$2:$G$525,6)","v":"decimal(10,3)"},{"$f":"IF(B422=\"D\",IF(VLOOKUP(UPPER(A422),Items!$B$2:$H$748,7,FALSE)<>0,VLOOKUP(UPPER(A422),Items!$B$2:$H$748,7,FALSE),\"\"),\"\")","v":""},"Fixed Metered Volume Reallocation"]
[{"$f":"VLOOKUP(UPPER(M423),Items!$A$2:$B$525,2,FALSE)","v":"N0163"},"D",null,null,null,null,null,1,null,null,{"$f":"VLOOKUP(UPPER(A423),Items!$B$2:$G$525,6)","v":"decimal(8,5)"},{"$f":"IF(B423=\"D\",IF(VLOOKUP(UPPER(A423),Items!$B$2:$H$748,7,FALSE)<>0,VLOOKUP(UPPER(A423),Items!$B$2:$H$748,7,FALSE),\"\"),\"\")","v":""},"Percentage Metered Volume Reallocation"]
["BP7","R","0-*",null,null,"G",null,null,null,null,null,null,"BM Unit Period Data"]
[{"$f":"VLOOKUP(UPPER(M425),Items!$A$2:$B$525,2,FALSE)","v":"N0034"},"D",null,null,null,null,1,null,null,null,{"$f":"VLOOKUP(UPPER(A425),Items!$B$2:$G$525,6)","v":"text(11)"},{"$f":"IF(B425=\"D\",IF(VLOOKUP(UPPER(A425),Items!$B$2:$H$748,7,FALSE)<>0,VLOOKUP(UPPER(A425),Items!$B$2:$H$748,7,FALSE),\"\"),\"\")","v":""},"BM Unit Id"]
[{"$f":"VLOOKUP(UPPER(M426),Items!$A$2:$B$525,2,FALSE)","v":"N0122"},"D",null,null,null,null,1,null,null,null,{"$f":"VLOOKUP(UPPER(A426),Items!$B$2:$G$525,6)","v":"decimal(10,2)"},{"$f":"IF(B426=\"D\",IF(VLOOKUP(UPPER(A426),Items!$B$2:$H$748,7,FALSE)<>0,VLOOKUP(UPPER(A426),Items!$B$2:$H$748,7,FALSE),\"\"),\"\")","v":""},"Information Imbalance Cashflow"]
[{"$f":"VLOOKUP(UPPER(M427),Items!$A$2:$B$525,2,FALSE)","v":"N0037"},"D",null,null,null,null,1,null,null,null,{"$f":"VLOOKUP(UPPER(A427),Items!$B$2:$G$525,6)","v":"decimal(10,2)"},{"$f":"IF(B427=\"D\",IF(VLOOKUP(UPPER(A427),Items!$B$2:$H$748,7,FALSE)<>0,VLOOKUP(UPPER(A427),Items!$B$2:$H$748,7,FALSE),\"\"),\"\")","v":""},"BM Unit Period Non-Delivery Charge"]
[{"$f":"VLOOKUP(UPPER(M428),Items!$A$2:$B$525,2,FALSE)","v":"N0174"},"D",null,null,null,null,1,null,null,null,{"$f":"VLOOKUP(UPPER(A428),Items!$B$2:$G$525,6)","v":"decimal(10,3)"},{"$f":"IF(B428=\"D\",IF(VLOOKUP(UPPER(A428),Items!$B$2:$H$748,7,FALSE)<>0,VLOOKUP(UPPER(A428),Items!$B$2:$H$748,7,FALSE),\"\"),\"\")","v":""},"Period FPN"]
[{"$f":"VLOOKUP(UPPER(M429),Items!$A$2:$B$525,2,FALSE)","v":"N0164"},"D",null,null,null,null,1,null,null,null,{"$f":"VLOOKUP(UPPER(A429),Items!$B$2:$G$525,6)","v":"decimal(10,3)"},{"$f":"IF(B429=\"D\",IF(VLOOKUP(UPPER(A429),Items!$B$2:$H$748,7,FALSE)<>0,VLOOKUP(UPPER(A429),Items!$B$2:$H$748,7,FALSE),\"\"),\"\")","v":""},"Period BM Unit Balancing Services Volume"]
[{"$f":"VLOOKUP(UPPER(M430),Items!$A$2:$B$525,2,FALSE)","v":"N0175"},"D",null,null,null,null,1,null,null,null,{"$f":"VLOOKUP(UPPER(A430),Items!$B$2:$G$525,6)","v":"decimal(10,3)"},{"$f":"IF(B430=\"D\",IF(VLOOKUP(UPPER(A430),Items!$B$2:$H$748,7,FALSE)<>0,VLOOKUP(UPPER(A430),Items!$B$2:$H$748,7,FALSE),\"\"),\"\")","v":""},"Period Information Imbalance Volume"]
[{"$f":"VLOOKUP(UPPER(M431),Items!$A$2:$B$525,2,FALSE)","v":"N0173"},"D",null,null,null,null,1,null,null,null,{"$f":"VLOOKUP(UPPER(A431),Items!$B$2:$G$525,6)","v":"decimal(10,3)"},{"$f":"IF(B431=\"D\",IF(VLOOKUP(UPPER(A431),Items!$B$2:$H$748,7,FALSE)<>0,VLOOKUP(UPPER(A431),Items!$B$2:$H$748,7,FALSE),\"\"),\"\")","v":""},"Period Expected Metered Volume"]
[{"$f":"VLOOKUP(UPPER(M432),Items!$A$2:$B$525,2,FALSE)","v":"N0035"},"D",null,null,null,null,1,null,null,null,{"$f":"VLOOKUP(UPPER(A432),Items!$B$2:$G$525,6)","v":"decimal(10,3)"},{"$f":"IF(B432=\"D\",IF(VLOOKUP(UPPER(A432),Items!$B$2:$H$748,7,FALSE)<>0,VLOOKUP(UPPER(A432),Items!$B$2:$H$748,7,FALSE),\"\"),\"\")","v":""},"BM Unit Metered Volume"]
[{"$f":"VLOOKUP(UPPER(M433),Items!$A$2:$B$525,2,FALSE)","v":"N0166"},"D",null,null,null,null,1,null,null,null,{"$f":"VLOOKUP(UPPER(A433),Items!$B$2:$G$525,6)","v":"decimal(10,3)"},{"$f":"IF(B433=\"D\",IF(VLOOKUP(UPPER(A433),Items!$B$2:$H$748,7,FALSE)<>0,VLOOKUP(UPPER(A433),Items!$B$2:$H$748,7,FALSE),\"\"),\"\")","v":""},"Period BM Unit Non-Delivered Bid Volume"]
[{"$f":"VLOOKUP(UPPER(M434),Items!$A$2:$B$525,2,FALSE)","v":"N0167"},"D",null,null,null,null,1,null,null,null,{"$f":"VLOOKUP(UPPER(A434),Items!$B$2:$G$525,6)","v":"decimal(10,3)"},{"$f":"IF(B434=\"D\",IF(VLOOKUP(UPPER(A434),Items!$B$2:$H$748,7,FALSE)<>0,VLOOKUP(UPPER(A434),Items!$B$2:$H$748,7,FALSE),\"\"),\"\")","v":""},"Period BM Unit Non-Delivered Offer Volume"]
[{"$f":"VLOOKUP(UPPER(M435),Items!$A$2:$B$525,2,FALSE)","v":"N0233"},"D",null,null,null,null,1,null,null,null,{"$f":"VLOOKUP(UPPER(A435),Items!$B$2:$G$525,6)","v":"decimal(8,7)"},{"$f":"IF(B435=\"D\",IF(VLOOKUP(UPPER(A435),Items!$B$2:$H$748,7,FALSE)<>0,VLOOKUP(UPPER(A435),Items!$B$2:$H$748,7,FALSE),\"\"),\"\")","v":""},"Transmission Loss Factor"]
[{"$f":"VLOOKUP(UPPER(M436),Items!$A$2:$B$525,2,FALSE)","v":"N0234"},"D",null,null,null,null,1,null,null,null,{"$f":"VLOOKUP(UPPER(A436),Items!$B$2:$G$525,6)","v":"decimal(8,7)"},{"$f":"IF(B436=\"D\",IF(VLOOKUP(UPPER(A436),Items!$B$2:$H$748,7,FALSE)<>0,VLOOKUP(UPPER(A436),Items!$B$2:$H$748,7,FALSE),\"\"),\"\")","v":""},"Transmission Loss Multiplier"]
[{"$f":"VLOOKUP(UPPER(M437),Items!$A$2:$B$525,2,FALSE)","v":"N0232"},"D",null,null,null,null,1,null,null,null,{"$f":"VLOOKUP(UPPER(A437),Items!$B$2:$G$525,6)","v":"text(30)"},{"$f":"IF(B437=\"D\",IF(VLOOKUP(UPPER(A437),Items!$B$2:$H$748,7,FALSE)<>0,VLOOKUP(UPPER(A437),Items!$B$2:$H$748,7,FALSE),\"\"),\"\")","v":""},"Trading Unit Name"]
[{"$f":"VLOOKUP(UPPER(M438),Items!$A$2:$B$525,2,FALSE)","v":"N0231"},"D",null,null,null,null,1,null,null,null,{"$f":"VLOOKUP(UPPER(A438),Items!$B$2:$G$525,6)","v":"decimal(10,3)"},{"$f":"IF(B438=\"D\",IF(VLOOKUP(UPPER(A438),Items!$B$2:$H$748,7,FALSE)<>0,VLOOKUP(UPPER(A438),Items!$B$2:$H$748,7,FALSE),\"\"),\"\")","v":""},"Total Trading Unit Metered Volume"]
[{"$f":"VLOOKUP(UPPER(M439),Items!$A$2:$B$748,2,FALSE)","v":"N0421"},"D",null,null,null,null,1,null,null,null,{"$f":"VLOOKUP(UPPER(A439),Items!$B$2:$G$748,6)","v":"decimal(10,3)"},{"$f":"IF(B439=\"D\",IF(VLOOKUP(UPPER(A439),Items!$B$2:$H$748,7,FALSE)<>0,VLOOKUP(UPPER(A439),Items!$B$2:$H$748,7,FALSE),\"\"),\"\")","v":""},"BM Unit Applicable Balancing Services Volume","MWh"]
["FP2","R","0-*",null,null,null,"G",null,null,null,null,null,"FPN Value Pair"]
[{"$f":"VLOOKUP(UPPER(M441),Items!$A$2:$B$525,2,FALSE)","v":"N0220"},"D",null,null,null,null,null,1,null,null,{"$f":"VLOOKUP(UPPER(A441),Items!$B$2:$G$525,6)","v":"integer(2)"},{"$f":"IF(B441=\"D\",IF(VLOOKUP(UPPER(A441),Items!$B$2:$H$748,7,FALSE)<>0,VLOOKUP(UPPER(A441),Items!$B$2:$H$748,7,FALSE),\"\"),\"\")","v":""},"Time from","minutes from start of period"]
[{"$f":"VLOOKUP(UPPER(M442),Items!$A$2:$B$525,2,FALSE)","v":"N0111"},"D",null,null,null,null,null,"O",null,null,{"$f":"VLOOKUP(UPPER(A442),Items!$B$2:$G$525,6)","v":"decimal(10,3)"},{"$f":"IF(B442=\"D\",IF(VLOOKUP(UPPER(A442),Items!$B$2:$H$748,7,FALSE)<>0,VLOOKUP(UPPER(A442),Items!$B$2:$H$748,7,FALSE),\"\"),\"\")","v":""},"FPN Value From"]
[{"$f":"VLOOKUP(UPPER(M443),Items!$A$2:$B$525,2,FALSE)","v":"N0221"},"D",null,null,null,null,null,1,null,null,{"$f":"VLOOKUP(UPPER(A443),Items!$B$2:$G$525,6)","v":"integer(2)"},{"$f":"IF(B443=\"D\",IF(VLOOKUP(UPPER(A443),Items!$B$2:$H$748,7,FALSE)<>0,VLOOKUP(UPPER(A443),Items!$B$2:$H$748,7,FALSE),\"\"),\"\")","v":""},"Time To","minutes from start of period"]
[{"$f":"VLOOKUP(UPPER(M444),Items!$A$2:$B$525,2,FALSE)","v":"N0112"},"D",null,null,null,null,null,"O",null,null,{"$f":"VLOOKUP(UPPER(A444),Items!$B$2:$G$525,6)","v":"decimal(10,3)"},{"$f":"IF(B444=\"D\",IF(VLOOKUP(UPPER(A444),Items!$B$2:$H$748,7,FALSE)<>0,VLOOKUP(UPPER(A444),Items!$B$2:$H$748,7,FALSE),\"\"),\"\")","v":""},"FPN Value To"]
["BO4",{"$f":"IF(LEN(K445)>0,\"D\",IF(LEN(A445)=5,\"F\",IF(LEN(A445)=3,\"R\",\" \")))","v":"R"},"0-*",null,null,null,"G",null,null,null,null,null,"BMU Period Bid-Offer Data"]
[{"$f":"VLOOKUP(UPPER(M446),Items!$A$2:$B$525,2,FALSE)","v":"N0025"},"D",null,null,null,null,null,1,null,null,{"$f":"VLOOKUP(UPPER(A446),Items!$B$2:$G$525,6)","v":"integer(2)"},{"$f":"IF(B446=\"D\",IF(VLOOKUP(UPPER(A446),Items!$B$2:$H$748,7,FALSE)<>0,VLOOKUP(UPPER(A446),Items!$B$2:$H$748,7,FALSE),\"\"),\"\")","v":""},"Bid-Offer Pair Number"]
[{"$f":"VLOOKUP(UPPER(M447),Items!$A$2:$B$525,2,FALSE)","v":"N0030"},"D",null,null,null,null,null,1,null,null,{"$f":"VLOOKUP(UPPER(A447),Items!$B$2:$G$525,6)","v":"decimal(10,5)"},{"$f":"IF(B447=\"D\",IF(VLOOKUP(UPPER(A447),Items!$B$2:$H$748,7,FALSE)<>0,VLOOKUP(UPPER(A447),Items!$B$2:$H$748,7,FALSE),\"\"),\"\")","v":""},"Bid Price"]
[{"$f":"VLOOKUP(UPPER(M448),Items!$A$2:$B$525,2,FALSE)","v":"N0153"},"D",null,null,null,null,null,1,null,null,{"$f":"VLOOKUP(UPPER(A448),Items!$B$2:$G$525,6)","v":"decimal(10,5)"},{"$f":"IF(B448=\"D\",IF(VLOOKUP(UPPER(A448),Items!$B$2:$H$748,7,FALSE)<>0,VLOOKUP(UPPER(A448),Items!$B$2:$H$748,7,FALSE),\"\"),\"\")","v":""},"Offer Price"]
[{"$f":"VLOOKUP(UPPER(M449),Items!$A$2:$B$525,2,FALSE)","v":"N0169"},"D",null,null,null,null,null,1,null,null,{"$f":"VLOOKUP(UPPER(A449),Items!$B$2:$G$525,6)","v":"decimal(10,3)"},{"$f":"IF(B449=\"D\",IF(VLOOKUP(UPPER(A449),Items!$B$2:$H$748,7,FALSE)<>0,VLOOKUP(UPPER(A449),Items!$B$2:$H$748,7,FALSE),\"\"),\"\")","v":""},"Period BM Unit Total Accepted Bid Volume"]
[{"$f":"VLOOKUP(UPPER(M450),Items!$A$2:$B$525,2,FALSE)","v":"N0170"},"D",null,null,null,null,null,1,null,null,{"$f":"VLOOKUP(UPPER(A450),Items!$B$2:$G$525,6)","v":"decimal(10,3)"},{"$f":"IF(B450=\"D\",IF(VLOOKUP(UPPER(A450),Items!$B$2:$H$748,7,FALSE)<>0,VLOOKUP(UPPER(A450),Items!$B$2:$H$748,7,FALSE),\"\"),\"\")","v":""},"Period BM Unit Total Accepted Offer Volume"]
[{"$f":"VLOOKUP(UPPER(M451),Items!$A$2:$B$525,2,FALSE)","v":"N0388"},"D",null,null,null,null,null,"O",null,null,{"$f":"VLOOKUP(UPPER(A451),Items!$B$2:$G$525,6)","v":"decimal(10,3)"},{"$f":"IF(B451=\"D\",IF(VLOOKUP(UPPER(A451),Items!$B$2:$H$748,7,FALSE)<>0,VLOOKUP(UPPER(A451),Items!$B$2:$H$748,7,FALSE),\"\"),\"\")","v":""},"Period BM Unit Total Priced Accepted Bid volume","Populated for pre-P217 Settlement Dates. This field null indicates value is same as Period BM Unit Total Accepted Bid volume"]
[{"$f":"VLOOKUP(UPPER(M452),Items!$A$2:$B$525,2,FALSE)","v":"N0389"},"D",null,null,null,null,null,"O",null,null,{"$f":"VLOOKUP(UPPER(A452),Items!$B$2:$G$525,6)","v":"decimal(10,3)"},{"$f":"IF(B452=\"D\",IF(VLOOKUP(UPPER(A452),Items!$B$2:$H$748,7,FALSE)<>0,VLOOKUP(UPPER(A452),Items!$B$2:$H$748,7,FALSE),\"\"),\"\")","v":""},"Period BM Unit Total Priced Accepted Offer volume","Populated for pre-P217 Settlement Dates. This field null indicates value is same as Period BM Unit Total Accepted Bid volume"]
[{"$f":"VLOOKUP(UPPER(M453),Items!$A$2:$B$525,2,FALSE)","v":"N0540"},"D",null,null,null,null,null,"O",null,null,{"$f":"VLOOKUP(UPPER(A453),Items!$B$2:$G$525,6)","v":"decimal(10,3)"},{"$f":"IF(B453=\"D\",IF(VLOOKUP(UPPER(A453),Items!$B$2:$H$748,7,FALSE)<>0,VLOOKUP(UPPER(A453),Items!$B$2:$H$748,7,FALSE),\"\"),\"\")","v":""},"Period BM Unit Tagged Bid Volume","Populated for post-P217 Settlement Dates. This field will be null for pre-P217 Settlement Dates"]
[{"$f":"VLOOKUP(UPPER(M454),Items!$A$2:$B$525,2,FALSE)","v":"N0541"},"D",null,null,null,null,null,"O",null,null,{"$f":"VLOOKUP(UPPER(A454),Items!$B$2:$G$525,6)","v":"decimal(10,3)"},{"$f":"IF(B454=\"D\",IF(VLOOKUP(UPPER(A454),Items!$B$2:$H$748,7,FALSE)<>0,VLOOKUP(UPPER(A454),Items!$B$2:$H$748,7,FALSE),\"\"),\"\")","v":""},"Period BM Unit Tagged Offer Volume","Populated for post-P217 Settlement Dates. This field will be null for pre-P217 Settlement Dates"]
[{"$f":"VLOOKUP(UPPER(M455),Items!$A$2:$B$525,2,FALSE)","v":"N0542"},"D",null,null,null,null,null,"O",null,null,{"$f":"VLOOKUP(UPPER(A455),Items!$B$2:$G$525,6)","v":"decimal(10,3)"},{"$f":"IF(B455=\"D\",IF(VLOOKUP(UPPER(A455),Items!$B$2:$H$748,7,FALSE)<>0,VLOOKUP(UPPER(A455),Items!$B$2:$H$748,7,FALSE),\"\"),\"\")","v":""},"Period BM Unit Repriced Bid Volume","Populated for post-P217 Settlement Dates. This field will be null for pre-P217 Settlement Dates"]
[{"$f":"VLOOKUP(UPPER(M456),Items!$A$2:$B$525,2,FALSE)","v":"N0543"},"D",null,null,null,null,null,"O",null,null,{"$f":"VLOOKUP(UPPER(A456),Items!$B$2:$G$525,6)","v":"decimal(10,3)"},{"$f":"IF(B456=\"D\",IF(VLOOKUP(UPPER(A456),Items!$B$2:$H$748,7,FALSE)<>0,VLOOKUP(UPPER(A456),Items!$B$2:$H$748,7,FALSE),\"\"),\"\")","v":""},"Period BM Unit Repriced Offer Volume","Populated for post-P217 Settlement Dates. This field will be null for pre-P217 Settlement Dates"]
[{"$f":"VLOOKUP(UPPER(M457),Items!$A$2:$B$525,2,FALSE)","v":"N0544"},"D",null,null,null,null,null,"O",null,null,{"$f":"VLOOKUP(UPPER(A457),Items!$B$2:$G$525,6)","v":"decimal(10,3)"},{"$f":"IF(B457=\"D\",IF(VLOOKUP(UPPER(A457),Items!$B$2:$H$748,7,FALSE)<>0,VLOOKUP(UPPER(A457),Items!$B$2:$H$748,7,FALSE),\"\"),\"\")","v":""},"Period BM Unit Originally-Priced Bid Volume","Populated for post-P217 Settlement Dates. This field will be null for pre-P217 Settlement Dates"]
[{"$f":"VLOOKUP(UPPER(M458),Items!$A$2:$B$525,2,FALSE)","v":"N0545"},"D",null,null,null,null,null,"O",null,null,{"$f":"VLOOKUP(UPPER(A458),Items!$B$2:$G$525,6)","v":"decimal(10,3)"},{"$f":"IF(B458=\"D\",IF(VLOOKUP(UPPER(A458),Items!$B$2:$H$748,7,FALSE)<>0,VLOOKUP(UPPER(A458),Items!$B$2:$H$748,7,FALSE),\"\"),\"\")","v":""},"Period BM Unit Originally-Priced Offer Volume","Populated for post-P217 Settlement Dates. This field will be null for pre-P217 Settlement Dates"]
[{"$f":"VLOOKUP(UPPER(M459),Items!$A$2:$B$525,2,FALSE)","v":"N0165"},"D",null,null,null,null,null,1,null,null,{"$f":"VLOOKUP(UPPER(A459),Items!$B$2:$G$525,6)","v":"decimal(10,2)"},{"$f":"IF(B459=\"D\",IF(VLOOKUP(UPPER(A459),Items!$B$2:$H$748,7,FALSE)<>0,VLOOKUP(UPPER(A459),Items!$B$2:$H$748,7,FALSE),\"\"),\"\")","v":""},"Period BM Unit Bid Cashflow"]
[{"$f":"VLOOKUP(UPPER(M460),Items!$A$2:$B$525,2,FALSE)","v":"N0168"},"D",null,null,null,null,null,1,null,null,{"$f":"VLOOKUP(UPPER(A460),Items!$B$2:$G$525,6)","v":"decimal(10,2)"},{"$f":"IF(B460=\"D\",IF(VLOOKUP(UPPER(A460),Items!$B$2:$H$748,7,FALSE)<>0,VLOOKUP(UPPER(A460),Items!$B$2:$H$748,7,FALSE),\"\"),\"\")","v":""},"Period BM Unit Offer Cashflow"]
["BO2","R","0-*",null,null,null,null,"G",null,null,null,null,"BMU Period Bid-Offer Value Pair"]
[{"$f":"VLOOKUP(UPPER(M462),Items!$A$2:$B$525,2,FALSE)","v":"N0220"},"D",null,null,null,null,null,null,1,null,{"$f":"VLOOKUP(UPPER(A462),Items!$B$2:$G$525,6)","v":"integer(2)"},{"$f":"IF(B462=\"D\",IF(VLOOKUP(UPPER(A462),Items!$B$2:$H$748,7,FALSE)<>0,VLOOKUP(UPPER(A462),Items!$B$2:$H$748,7,FALSE),\"\"),\"\")","v":""},"Time from","minutes from start of period"]
[{"$f":"VLOOKUP(UPPER(M463),Items!$A$2:$B$525,2,FALSE)","v":"N0028"},"D",null,null,null,null,null,null,"O",null,{"$f":"VLOOKUP(UPPER(A463),Items!$B$2:$G$525,6)","v":"decimal(10,3)"},{"$f":"IF(B463=\"D\",IF(VLOOKUP(UPPER(A463),Items!$B$2:$H$748,7,FALSE)<>0,VLOOKUP(UPPER(A463),Items!$B$2:$H$748,7,FALSE),\"\"),\"\")","v":""},"Bid Offer Volume Value From"]
[{"$f":"VLOOKUP(UPPER(M464),Items!$A$2:$B$525,2,FALSE)","v":"N0221"},"D",null,null,null,null,null,null,1,null,{"$f":"VLOOKUP(UPPER(A464),Items!$B$2:$G$525,6)","v":"integer(2)"},{"$f":"IF(B464=\"D\",IF(VLOOKUP(UPPER(A464),Items!$B$2:$H$748,7,FALSE)<>0,VLOOKUP(UPPER(A464),Items!$B$2:$H$748,7,FALSE),\"\"),\"\")","v":""},"Time To","minutes from start of period"]
[{"$f":"VLOOKUP(UPPER(M465),Items!$A$2:$B$525,2,FALSE)","v":"N0029"},"D",null,null,null,null,null,null,"O",null,{"$f":"VLOOKUP(UPPER(A465),Items!$B$2:$G$525,6)","v":"decimal(10,3)"},{"$f":"IF(B465=\"D\",IF(VLOOKUP(UPPER(A465),Items!$B$2:$H$748,7,FALSE)<>0,VLOOKUP(UPPER(A465),Items!$B$2:$H$748,7,FALSE),\"\"),\"\")","v":""},"Bid Offer Volume Value To"]
["BO3","R","0-*",null,null,null,"G",null,null,null,null,null,"BMU Period Bid-Offer Acceptance "]
[{"$f":"VLOOKUP(UPPER(M467),Items!$A$2:$B$525,2,FALSE)","v":"N0342"},"D",null,null,null,null,null,1,null,null,{"$f":"VLOOKUP(UPPER(A467),Items!$B$2:$G$525,6)","v":"integer(10)"},{"$f":"IF(B467=\"D\",IF(VLOOKUP(UPPER(A467),Items!$B$2:$H$748,7,FALSE)<>0,VLOOKUP(UPPER(A467),Items!$B$2:$H$748,7,FALSE),\"\"),\"\")","v":""},"B-O Acceptance Number"]
["N0390","D",null,null,null,null,null,1,null,null,"boolean",{"$f":"IF(B468=\"D\",IF(VLOOKUP(UPPER(A468),Items!$B$2:$H$748,7,FALSE)<>0,VLOOKUP(UPPER(A468),Items!$B$2:$H$748,7,FALSE),\"\"),\"\")","v":""},"CADL Flag","True if short"]
[{"$f":"VLOOKUP(UPPER(M469),Items!$A$2:$B$525,2,FALSE)","v":"N0546"},{"$f":"IF(LEN(K469)>0,\"D\",IF(LEN(A469)=5,\"F\",IF(LEN(A469)=3,\"R\",\" \")))","v":"D"},null,null,null,null,null,"O",null,null,{"$f":"VLOOKUP(UPPER(A469),Items!$B$2:$G$525,6)","v":"boolean"},{"$f":"IF(B469=\"D\",IF(VLOOKUP(UPPER(A469),Items!$B$2:$H$748,7,FALSE)<>0,VLOOKUP(UPPER(A469),Items!$B$2:$H$748,7,FALSE),\"\"),\"\")","v":""},"Acceptance SO-Flag","Populated for post-P217 Settlement Dates. This field will be null for pre-P217 Settlement Dates"]
["BO6","R","0-*",null,null,null,null,"G",null,null,null,null,"BMU Period Bid-Offer Acceptance Spot Point"]
[{"$f":"VLOOKUP(UPPER(M471),Items!$A$2:$B$525,2,FALSE)","v":"N0337"},"D",null,null,null,null,null,null,1,null,{"$f":"VLOOKUP(UPPER(A471),Items!$B$2:$G$525,6)","v":"integer(3)"},{"$f":"IF(B471=\"D\",IF(VLOOKUP(UPPER(A471),Items!$B$2:$H$748,7,FALSE)<>0,VLOOKUP(UPPER(A471),Items!$B$2:$H$748,7,FALSE),\"\"),\"\")","v":""},"Acceptance From Time","minutes from start of period"]
[{"$f":"VLOOKUP(UPPER(M472),Items!$A$2:$B$525,2,FALSE)","v":"N0026"},"D",null,null,null,null,null,null,"O",null,{"$f":"VLOOKUP(UPPER(A472),Items!$B$2:$G$525,6)","v":"decimal(10,3)"},{"$f":"IF(B472=\"D\",IF(VLOOKUP(UPPER(A472),Items!$B$2:$H$748,7,FALSE)<>0,VLOOKUP(UPPER(A472),Items!$B$2:$H$748,7,FALSE),\"\"),\"\")","v":""},"Bid Offer Acceptance Volume Value From"]
[{"$f":"VLOOKUP(UPPER(M473),Items!$A$2:$B$525,2,FALSE)","v":"N0338"},"D",null,null,null,null,null,null,1,null,{"$f":"VLOOKUP(UPPER(A473),Items!$B$2:$G$525,6)","v":"integer(3)"},{"$f":"IF(B473=\"D\",IF(VLOOKUP(UPPER(A473),Items!$B$2:$H$748,7,FALSE)<>0,VLOOKUP(UPPER(A473),Items!$B$2:$H$748,7,FALSE),\"\"),\"\")","v":""},"Acceptance To Time","minutes from start of period"]
[{"$f":"VLOOKUP(UPPER(M474),Items!$A$2:$B$525,2,FALSE)","v":"N0027"},"D",null,null,null,null,null,null,"O",null,{"$f":"VLOOKUP(UPPER(A474),Items!$B$2:$G$525,6)","v":"decimal(10,3)"},{"$f":"IF(B474=\"D\",IF(VLOOKUP(UPPER(A474),Items!$B$2:$H$748,7,FALSE)<>0,VLOOKUP(UPPER(A474),Items!$B$2:$H$748,7,FALSE),\"\"),\"\")","v":""},"Bid Offer Acceptance Volume Value To"]
["BO7","R","0-*",null,null,null,null,"G",null,null,null,null,"BM Unit Bid-Offer Pair Acceptance Volume Data"]
[{"$f":"VLOOKUP(UPPER(M476),Items!$A$2:$B$525,2,FALSE)","v":"N0025"},"D",null,null,null,null,null,null,1,null,{"$f":"VLOOKUP(UPPER(A476),Items!$B$2:$G$525,6)","v":"integer(2)"},{"$f":"IF(B476=\"D\",IF(VLOOKUP(UPPER(A476),Items!$B$2:$H$748,7,FALSE)<>0,VLOOKUP(UPPER(A476),Items!$B$2:$H$748,7,FALSE),\"\"),\"\")","v":""},"Bid-Offer Pair Number"]
[{"$f":"VLOOKUP(UPPER(M477),Items!$A$2:$B$525,2,FALSE)","v":"N0547"},"D",null,null,null,null,null,null,"O",null,{"$f":"VLOOKUP(UPPER(A477),Items!$B$2:$G$525,6)","v":"decimal(10,3)"},{"$f":"IF(B477=\"D\",IF(VLOOKUP(UPPER(A477),Items!$B$2:$H$748,7,FALSE)<>0,VLOOKUP(UPPER(A477),Items!$B$2:$H$748,7,FALSE),\"\"),\"\")","v":""},"Bid-Offer Pair Acceptance Bid Volume"]
[{"$f":"VLOOKUP(UPPER(M478),Items!$A$2:$B$525,2,FALSE)","v":"N0548"},"D",null,null,null,null,null,null,"O",null,{"$f":"VLOOKUP(UPPER(A478),Items!$B$2:$G$525,6)","v":"decimal(10,3)"},{"$f":"IF(B478=\"D\",IF(VLOOKUP(UPPER(A478),Items!$B$2:$H$748,7,FALSE)<>0,VLOOKUP(UPPER(A478),Items!$B$2:$H$748,7,FALSE),\"\"),\"\")","v":""},"Bid-Offer Pair Acceptance Offer Volume"]
["MVR","R","0-*",null,null,null,"G",null,null,null,null,null,"BM Unit MVR Information"]
[{"$f":"VLOOKUP(UPPER(M480),Items!$A$2:$B$525,2,FALSE)","v":"N0045"},"D",null,null,null,null,null,1,null,null,{"$f":"VLOOKUP(UPPER(A480),Items!$B$2:$G$525,6)","v":"text(8)"},{"$f":"IF(B480=\"D\",IF(VLOOKUP(UPPER(A480),Items!$B$2:$H$748,7,FALSE)<>0,VLOOKUP(UPPER(A480),Items!$B$2:$H$748,7,FALSE),\"\"),\"\")","v":""},"BSC Party Id"]
[{"$f":"VLOOKUP(UPPER(M481),Items!$A$2:$B$525,2,FALSE)","v":"N0177"},"D",null,null,null,null,null,1,null,null,{"$f":"VLOOKUP(UPPER(A481),Items!$B$2:$G$525,6)","v":"char"},{"$f":"IF(B481=\"D\",IF(VLOOKUP(UPPER(A481),Items!$B$2:$H$748,7,FALSE)<>0,VLOOKUP(UPPER(A481),Items!$B$2:$H$748,7,FALSE),\"\"),\"\")","v":"P/C Flag"},"Production/Consumption Flag","P/C"]
[{"$f":"VLOOKUP(UPPER(M482),Items!$A$2:$B$525,2,FALSE)","v":"N0061"},"D",null,null,null,null,null,1,null,null,{"$f":"VLOOKUP(UPPER(A482),Items!$B$2:$G$525,6)","v":"decimal(10,3)"},{"$f":"IF(B482=\"D\",IF(VLOOKUP(UPPER(A482),Items!$B$2:$H$748,7,FALSE)<>0,VLOOKUP(UPPER(A482),Items!$B$2:$H$748,7,FALSE),\"\"),\"\")","v":""},"Credited Energy Volume"]
[{"$f":"VLOOKUP(UPPER(M483),Items!$A$2:$B$525,2,FALSE)","v":"N0109"},"D",null,null,null,null,null,1,null,null,{"$f":"VLOOKUP(UPPER(A483),Items!$B$2:$G$525,6)","v":"decimal(10,3)"},{"$f":"IF(B483=\"D\",IF(VLOOKUP(UPPER(A483),Items!$B$2:$H$748,7,FALSE)<>0,VLOOKUP(UPPER(A483),Items!$B$2:$H$748,7,FALSE),\"\"),\"\")","v":""},"Fixed Metered Volume Reallocation"]
[{"$f":"VLOOKUP(UPPER(M484),Items!$A$2:$B$525,2,FALSE)","v":"N0163"},"D",null,null,null,null,null,1,null,null,{"$f":"VLOOKUP(UPPER(A484),Items!$B$2:$G$525,6)","v":"decimal(8,5)"},{"$f":"IF(B484=\"D\",IF(VLOOKUP(UPPER(A484),Items!$B$2:$H$748,7,FALSE)<>0,VLOOKUP(UPPER(A484),Items!$B$2:$H$748,7,FALSE),\"\"),\"\")","v":""},"Percentage Metered Volume Reallocation"]
[]
["S0142",{"$f":"IF(LEN(K486)>0,\"D\",IF(LEN(A486)=5,\"F\",IF(LEN(A486)=3,\"R\",\" \")))","v":"F"},"008",null,null,null,null,null,null,null,null,{"$f":"IF(B486=\"D\",IF(VLOOKUP(UPPER(A486),Items!$B$2:$H$748,7,FALSE)<>0,VLOOKUP(UPPER(A486),Items!$B$2:$H$748,7,FALSE),\"\"),\"\")","v":""},"SAA-I014: Settlement Report: sub-flow 2"]
[null," ",null,null,null,null,null,null,null,null,null,{"$f":"IF(B487=\"D\",IF(VLOOKUP(UPPER(A487),Items!$B$2:$H$748,7,FALSE)<>0,VLOOKUP(UPPER(A487),Items!$B$2:$H$748,7,FALSE),\"\"),\"\")","v":""}]
["SRH","R",1,"G",null,null,null,null,null,null,null,null,"Settlement Report Header"]
[{"$f":"VLOOKUP(UPPER(M489),Items!$A$2:$B$525,2,FALSE)","v":"N0200"},"D",null,null,1,null,null,null,null,null,{"$f":"VLOOKUP(UPPER(A489),Items!$B$2:$G$525,6)","v":"date"},{"$f":"IF(B489=\"D\",IF(VLOOKUP(UPPER(A489),Items!$B$2:$H$748,7,FALSE)<>0,VLOOKUP(UPPER(A489),Items!$B$2:$H$748,7,FALSE),\"\"),\"\")","v":""},"Settlement Date"]
[{"$f":"VLOOKUP(UPPER(M490),Items!$A$2:$B$525,2,FALSE)","v":"N0202"},"D",null,null,1,null,null,null,null,null,{"$f":"VLOOKUP(UPPER(A490),Items!$B$2:$G$525,6)","v":"text(2)"},{"$f":"IF(B490=\"D\",IF(VLOOKUP(UPPER(A490),Items!$B$2:$H$748,7,FALSE)<>0,VLOOKUP(UPPER(A490),Items!$B$2:$H$748,7,FALSE),\"\"),\"\")","v":"Run Type"},"Settlement Run Type"]
[{"$f":"VLOOKUP(UPPER(M491),Items!$A$2:$B$639,2,FALSE)","v":"N0304"},"D",null,null,1,null,null,null,null,null,{"$f":"VLOOKUP(UPPER(A491),Items!$B$2:$G$525,6)","v":"integer(2)"},{"$f":"IF(B491=\"D\",IF(VLOOKUP(UPPER(A491),Items!$B$2:$H$748,7,FALSE)<>0,VLOOKUP(UPPER(A491),Items!$B$2:$H$748,7,FALSE),\"\"),\"\")","v":""},"SAA Run Number"]
[{"$f":"VLOOKUP(UPPER(M492),Items!$A$2:$B$639,2,FALSE)","v":"N0385"},"D",null,null,1,null,null,null,null,null,{"$f":"VLOOKUP(UPPER(A492),Items!$B$2:$G$525,6)","v":"integer(2)"},{"$f":"IF(B492=\"D\",IF(VLOOKUP(UPPER(A492),Items!$B$2:$H$748,7,FALSE)<>0,VLOOKUP(UPPER(A492),Items!$B$2:$H$748,7,FALSE),\"\"),\"\")","v":""},"SAA CDCA Run Number","CDCA run which generated volumes used directly by SAA"]
[{"$f":"VLOOKUP(UPPER(M493),Items!$A$2:$B$525,2,FALSE)","v":"N0383"},"D",null,null,1,null,null,null,null,null,{"$f":"VLOOKUP(UPPER(A493),Items!$B$2:$G$525,6)","v":"date"},{"$f":"IF(B493=\"D\",IF(VLOOKUP(UPPER(A493),Items!$B$2:$H$748,7,FALSE)<>0,VLOOKUP(UPPER(A493),Items!$B$2:$H$748,7,FALSE),\"\"),\"\")","v":""},"SVAA CDCA Settlement Date","CDCA settlement date from which GSP group take was used by SVAA"]
[{"$f":"VLOOKUP(UPPER(M494),Items!$A$2:$B$525,2,FALSE)","v":"N0384"},"D",null,null,1,null,null,null,null,null,{"$f":"VLOOKUP(UPPER(A494),Items!$B$2:$G$525,6)","v":"integer(2)"},{"$f":"IF(B494=\"D\",IF(VLOOKUP(UPPER(A494),Items!$B$2:$H$748,7,FALSE)<>0,VLOOKUP(UPPER(A494),Items!$B$2:$H$748,7,FALSE),\"\"),\"\")","v":""},"SVAA CDCA Run Number","CDCA run number from which GSP group take was used by SVAA"]
[{"$f":"VLOOKUP(UPPER(M495),Items!$A$2:$B$525,2,FALSE)","v":"N0211"},"D",null,null,1,null,null,null,null,null,{"$f":"VLOOKUP(UPPER(A495),Items!$B$2:$G$525,6)","v":"integer(7)"},{"$f":"IF(B495=\"D\",IF(VLOOKUP(UPPER(A495),Items!$B$2:$H$748,7,FALSE)<>0,VLOOKUP(UPPER(A495),Items!$B$2:$H$748,7,FALSE),\"\"),\"\")","v":""},"SVAA SSR Run Number"]
[{"$f":"VLOOKUP(UPPER(M496),Items!$A$2:$B$525,2,FALSE)","v":"N0045"},"D",null,null,1,null,null,null,null,null,{"$f":"VLOOKUP(UPPER(A496),Items!$B$2:$G$525,6)","v":"text(8)"},{"$f":"IF(B496=\"D\",IF(VLOOKUP(UPPER(A496),Items!$B$2:$H$748,7,FALSE)<>0,VLOOKUP(UPPER(A496),Items!$B$2:$H$748,7,FALSE),\"\"),\"\")","v":""},"BSC Party Id"]
["SPI","R","46-50","G",null,null,null,null,null,null,null,null,"Settlement Period Information","either 46 or 48 or 50"]
[{"$f":"VLOOKUP(UPPER(M498),Items!$A$2:$B$525,2,FALSE)","v":"N0201"},"D",null,null,1,null,null,null,null,null,{"$f":"VLOOKUP(UPPER(A498),Items!$B$2:$G$525,6)","v":"integer(2)"},{"$f":"IF(B498=\"D\",IF(VLOOKUP(UPPER(A498),Items!$B$2:$H$748,7,FALSE)<>0,VLOOKUP(UPPER(A498),Items!$B$2:$H$748,7,FALSE),\"\"),\"\")","v":""},"Settlement Period"]
[{"$f":"VLOOKUP(UPPER(M499),Items!$A$2:$B$525,2,FALSE)","v":"N0212"},"D",null,null,1,null,null,null,null,null,{"$f":"VLOOKUP(UPPER(A499),Items!$B$2:$G$525,6)","v":"decimal(10,5)"},{"$f":"IF(B499=\"D\",IF(VLOOKUP(UPPER(A499),Items!$B$2:$H$748,7,FALSE)<>0,VLOOKUP(UPPER(A499),Items!$B$2:$H$748,7,FALSE),\"\"),\"\")","v":""},"System Buy Price","£/MWh"]
[{"$f":"VLOOKUP(UPPER(M500),Items!$A$2:$B$525,2,FALSE)","v":"N0215"},"D",null,null,1,null,null,null,null,null,{"$f":"VLOOKUP(UPPER(A500),Items!$B$2:$G$525,6)","v":"decimal(10,5)"},{"$f":"IF(B500=\"D\",IF(VLOOKUP(UPPER(A500),Items!$B$2:$H$748,7,FALSE)<>0,VLOOKUP(UPPER(A500),Items!$B$2:$H$748,7,FALSE),\"\"),\"\")","v":""},"System Sell Price","£/MWh"]
[{"$f":"VLOOKUP(UPPER(M501),Items!$A$2:$B$525,2,FALSE)","v":"N0439"},"D",null,null,1,null,null,null,null,null,{"$f":"VLOOKUP(UPPER(A501),Items!$B$2:$G$525,6)","v":"text(2)"},{"$f":"IF(B501=\"D\",IF(VLOOKUP(UPPER(A501),Items!$B$2:$H$748,7,FALSE)<>0,VLOOKUP(UPPER(A501),Items!$B$2:$H$748,7,FALSE),\"\"),\"\")","v":"Price Derivation Code"},"Price Derivation Code"]
[{"$f":"VLOOKUP(UPPER(M502),Items!$A$2:$B$639,2,FALSE)","v":"N0312"},"D",null,null,1,null,null,null,null,null,{"$f":"VLOOKUP(UPPER(A502),Items!$B$2:$G$525,6)","v":"decimal(10,3)"},{"$f":"IF(B502=\"D\",IF(VLOOKUP(UPPER(A502),Items!$B$2:$H$748,7,FALSE)<>0,VLOOKUP(UPPER(A502),Items!$B$2:$H$748,7,FALSE),\"\"),\"\")","v":""},"Total Demand","MWh"]
[{"$f":"VLOOKUP(UPPER(M503),Items!$A$2:$B$639,2,FALSE)","v":"N0334"},"D",null,null,1,null,null,null,null,null,{"$f":"VLOOKUP(UPPER(A503),Items!$B$2:$G$525,6)","v":"decimal(10,3)"},{"$f":"IF(B503=\"D\",IF(VLOOKUP(UPPER(A503),Items!$B$2:$H$748,7,FALSE)<>0,VLOOKUP(UPPER(A503),Items!$B$2:$H$748,7,FALSE),\"\"),\"\")","v":""},"Total Generation","MWh"]
[{"$f":"VLOOKUP(UPPER(M504),Items!$A$2:$B$639,2,FALSE)","v":"N0438"},"D",null,null,1,null,null,null,null,null,{"$f":"VLOOKUP(UPPER(A504),Items!$B$2:$G$525,6)","v":"decimal(10,3)"},{"$f":"IF(B504=\"D\",IF(VLOOKUP(UPPER(A504),Items!$B$2:$H$748,7,FALSE)<>0,VLOOKUP(UPPER(A504),Items!$B$2:$H$748,7,FALSE),\"\"),\"\")","v":""},"Total Period Applicable Balancing Services Volume","MWh"]
[{"$f":"VLOOKUP(UPPER(M505),Items!$A$2:$B$525,2,FALSE)","v":"N0124"},"D",null,null,1,null,null,null,null,null,{"$f":"VLOOKUP(UPPER(A505),Items!$B$2:$G$525,6)","v":"decimal(10,5)"},{"$f":"IF(B505=\"D\",IF(VLOOKUP(UPPER(A505),Items!$B$2:$H$748,7,FALSE)<>0,VLOOKUP(UPPER(A505),Items!$B$2:$H$748,7,FALSE),\"\"),\"\")","v":""},"Information Imbalance Price 1","£/MWh"]
[{"$f":"VLOOKUP(UPPER(M506),Items!$A$2:$B$525,2,FALSE)","v":"N0125"},"D",null,null,1,null,null,null,null,null,{"$f":"VLOOKUP(UPPER(A506),Items!$B$2:$G$525,6)","v":"decimal(10,5)"},{"$f":"IF(B506=\"D\",IF(VLOOKUP(UPPER(A506),Items!$B$2:$H$748,7,FALSE)<>0,VLOOKUP(UPPER(A506),Items!$B$2:$H$748,7,FALSE),\"\"),\"\")","v":""},"Information Imbalance Price 2","£/MWh"]
[{"$f":"VLOOKUP(UPPER(M507),Items!$A$2:$B$639,2,FALSE)","v":"N0316"},"D",null,null,"O",null,null,null,null,null,{"$f":"VLOOKUP(UPPER(A507),Items!$B$2:$G$525,6)","v":"decimal(10,3)"},{"$f":"IF(B507=\"D\",IF(VLOOKUP(UPPER(A507),Items!$B$2:$H$748,7,FALSE)<>0,VLOOKUP(UPPER(A507),Items!$B$2:$H$748,7,FALSE),\"\"),\"\")","v":""},"Notional Reserve Limit","Null"]
[{"$f":"VLOOKUP(UPPER(M508),Items!$A$2:$B$639,2,FALSE)","v":"N0431"},"D",null,null,1,null,null,null,null,null,{"$f":"VLOOKUP(UPPER(A508),Items!$B$2:$G$525,6)","v":"decimal(10,3)"},{"$f":"IF(B508=\"D\",IF(VLOOKUP(UPPER(A508),Items!$B$2:$H$748,7,FALSE)<>0,VLOOKUP(UPPER(A508),Items!$B$2:$H$748,7,FALSE),\"\"),\"\")","v":""},"Total NIV Tagged Volume","MWh"]
[{"$f":"VLOOKUP(UPPER(M509),Items!$A$2:$B$639,2,FALSE)","v":"N0317"},"D",null,null,1,null,null,null,null,null,{"$f":"VLOOKUP(UPPER(A509),Items!$B$2:$G$525,6)","v":"boolean"},{"$f":"IF(B509=\"D\",IF(VLOOKUP(UPPER(A509),Items!$B$2:$H$748,7,FALSE)<>0,VLOOKUP(UPPER(A509),Items!$B$2:$H$748,7,FALSE),\"\"),\"\")","v":""},"Arbitrage Flag"]
[{"$f":"VLOOKUP(UPPER(M510),Items!$A$2:$B$639,2,FALSE)","v":"N0391"},"D",null,null,1,null,null,null,null,null,{"$f":"VLOOKUP(UPPER(A510),Items!$B$2:$G$525,6)","v":"integer(2)"},{"$f":"IF(B510=\"D\",IF(VLOOKUP(UPPER(A510),Items!$B$2:$H$748,7,FALSE)<>0,VLOOKUP(UPPER(A510),Items!$B$2:$H$748,7,FALSE),\"\"),\"\")","v":""},"Continuous Acceptance Duration Limit"]
[{"$f":"VLOOKUP(UPPER(M511),Items!$A$2:$B$639,2,FALSE)","v":"N0392"},"D",null,null,1,null,null,null,null,null,{"$f":"VLOOKUP(UPPER(A511),Items!$B$2:$G$525,6)","v":"decimal(10,3)"},{"$f":"IF(B511=\"D\",IF(VLOOKUP(UPPER(A511),Items!$B$2:$H$748,7,FALSE)<>0,VLOOKUP(UPPER(A511),Items!$B$2:$H$748,7,FALSE),\"\"),\"\")","v":""},"De Minimis Acceptance Threshold"]
[{"$f":"VLOOKUP(UPPER(M512),Items!$A$2:$B$639,2,FALSE)","v":"N0419"},"D",null,null,"O",null,null,null,null,null,{"$f":"VLOOKUP(UPPER(A512),Items!$B$2:$G$525,6)","v":"decimal(10,2)"},{"$f":"IF(B512=\"D\",IF(VLOOKUP(UPPER(A512),Items!$B$2:$H$748,7,FALSE)<>0,VLOOKUP(UPPER(A512),Items!$B$2:$H$748,7,FALSE),\"\"),\"\")","v":""},"Net Energy Buy-Price Cost Adjustment","£ - Populated for pre-P217 Settlement Dates. This field will be null for post-P217 Settlement Dates"]
[{"$f":"VLOOKUP(UPPER(M513),Items!$A$2:$B$639,2,FALSE)","v":"N0417"},"D",null,null,"O",null,null,null,null,null,{"$f":"VLOOKUP(UPPER(A513),Items!$B$2:$G$525,6)","v":"decimal(10,3)"},{"$f":"IF(B513=\"D\",IF(VLOOKUP(UPPER(A513),Items!$B$2:$H$748,7,FALSE)<>0,VLOOKUP(UPPER(A513),Items!$B$2:$H$748,7,FALSE),\"\"),\"\")","v":""},"Net Energy Buy-Price Volume Adjustment","MWh - Populated for pre-P217 Settlement Dates. This field will be null for post-P217 Settlement Dates"]
[{"$f":"VLOOKUP(UPPER(M514),Items!$A$2:$B$639,2,FALSE)","v":"N0415"},"D",null,null,"O",null,null,null,null,null,{"$f":"VLOOKUP(UPPER(A514),Items!$B$2:$G$525,6)","v":"decimal(10,3)"},{"$f":"IF(B514=\"D\",IF(VLOOKUP(UPPER(A514),Items!$B$2:$H$748,7,FALSE)<>0,VLOOKUP(UPPER(A514),Items!$B$2:$H$748,7,FALSE),\"\"),\"\")","v":""},"Net System Buy-Price Volume Adjustment","Populated for pre-P217 Settlement Dates. This field will be null for post-P217 Settlement Dates"]
[{"$f":"VLOOKUP(UPPER(M515),Items!$A$2:$B$639,2,FALSE)","v":"N0372"},"D",null,null,1,null,null,null,null,null,{"$f":"VLOOKUP(UPPER(A515),Items!$B$2:$G$525,6)","v":"decimal(10,2)"},{"$f":"IF(B515=\"D\",IF(VLOOKUP(UPPER(A515),Items!$B$2:$H$748,7,FALSE)<>0,VLOOKUP(UPPER(A515),Items!$B$2:$H$748,7,FALSE),\"\"),\"\")","v":""},"Buy-Price Price Adjust","£"]
[{"$f":"VLOOKUP(UPPER(M516),Items!$A$2:$B$639,2,FALSE)","v":"N0420"},"D",null,null,"O",null,null,null,null,null,{"$f":"VLOOKUP(UPPER(A516),Items!$B$2:$G$525,6)","v":"decimal(10,2)"},{"$f":"IF(B516=\"D\",IF(VLOOKUP(UPPER(A516),Items!$B$2:$H$748,7,FALSE)<>0,VLOOKUP(UPPER(A516),Items!$B$2:$H$748,7,FALSE),\"\"),\"\")","v":""},"Net Energy Sell-Price Cost Adjustment","£ - Populated for pre-P217 Settlement Dates. This field will be null for post-P217 Settlement Dates"]
[{"$f":"VLOOKUP(UPPER(M517),Items!$A$2:$B$639,2,FALSE)","v":"N0418"},"D",null,null,"O",null,null,null,null,null,{"$f":"VLOOKUP(UPPER(A517),Items!$B$2:$G$525,6)","v":"decimal(10,3)"},{"$f":"IF(B517=\"D\",IF(VLOOKUP(UPPER(A517),Items!$B$2:$H$748,7,FALSE)<>0,VLOOKUP(UPPER(A517),Items!$B$2:$H$748,7,FALSE),\"\"),\"\")","v":""},"Net Energy Sell-Price Volume Adjustment","MWh - Populated for pre-P217 Settlement Dates. This field will be null for post-P217 Settlement Dates"]
[{"$f":"VLOOKUP(UPPER(M518),Items!$A$2:$B$639,2,FALSE)","v":"N0416"},"D",null,null,"O",null,null,null,null,null,{"$f":"VLOOKUP(UPPER(A518),Items!$B$2:$G$525,6)","v":"decimal(10,3)"},{"$f":"IF(B518=\"D\",IF(VLOOKUP(UPPER(A518),Items!$B$2:$H$748,7,FALSE)<>0,VLOOKUP(UPPER(A518),Items!$B$2:$H$748,7,FALSE),\"\"),\"\")","v":""},"Net System Sell-Price Volume Adjustment","Populated for pre-P217 Settlement Dates. This field will be null for post-P217 Settlement Dates"]
[{"$f":"VLOOKUP(UPPER(M519),Items!$A$2:$B$639,2,FALSE)","v":"N0371"},"D",null,null,1,null,null,null,null,null,{"$f":"VLOOKUP(UPPER(A519),Items!$B$2:$G$525,6)","v":"decimal(10,2)"},{"$f":"IF(B519=\"D\",IF(VLOOKUP(UPPER(A519),Items!$B$2:$H$748,7,FALSE)<>0,VLOOKUP(UPPER(A519),Items!$B$2:$H$748,7,FALSE),\"\"),\"\")","v":""},"Sell-Price Price Adjust","£"]
[{"$f":"VLOOKUP(UPPER(M520),Items!$A$2:$B$639,2,FALSE)","v":"N0216"},"D",null,null,"O",null,null,null,null,null,{"$f":"VLOOKUP(UPPER(A520),Items!$B$2:$G$525,6)","v":"decimal(10,3)"},{"$f":"IF(B520=\"D\",IF(VLOOKUP(UPPER(A520),Items!$B$2:$H$748,7,FALSE)<>0,VLOOKUP(UPPER(A520),Items!$B$2:$H$748,7,FALSE),\"\"),\"\")","v":""},"System Total Accepted Bid Volume","Populated for post-P217 Settlement Dates. This field will be null for pre-P217 Settlement Dates"]
[{"$f":"VLOOKUP(UPPER(M521),Items!$A$2:$B$639,2,FALSE)","v":"N0217"},"D",null,null,"O",null,null,null,null,null,{"$f":"VLOOKUP(UPPER(A521),Items!$B$2:$G$525,6)","v":"decimal(10,3)"},{"$f":"IF(B521=\"D\",IF(VLOOKUP(UPPER(A521),Items!$B$2:$H$748,7,FALSE)<>0,VLOOKUP(UPPER(A521),Items!$B$2:$H$748,7,FALSE),\"\"),\"\")","v":""},"System Total Accepted Offer Volume","Populated for post-P217 Settlement Dates. This field will be null for pre-P217 Settlement Dates"]
[{"$f":"VLOOKUP(UPPER(M522),Items!$A$2:$B$639,2,FALSE)","v":"N0517"},{"$f":"IF(LEN(K522)>0,\"D\",IF(LEN(A522)=5,\"F\",IF(LEN(A522)=3,\"R\",\" \")))","v":"D"},null,null,"O",null,null,null,null,null,{"$f":"VLOOKUP(UPPER(A522),Items!$B$2:$G$525,6)","v":"decimal(10,3)"},{"$f":"IF(B522=\"D\",IF(VLOOKUP(UPPER(A522),Items!$B$2:$H$748,7,FALSE)<>0,VLOOKUP(UPPER(A522),Items!$B$2:$H$748,7,FALSE),\"\"),\"\")","v":""},"Total System Tagged Accepted Bid Volume","Populated for post-P217 Settlement Dates. This field will be null for pre-P217 Settlement Dates"]
[{"$f":"VLOOKUP(UPPER(M523),Items!$A$2:$B$525,2,FALSE)","v":"N0518"},"D",null,null,"O",null,null,null,null,null,{"$f":"VLOOKUP(UPPER(A523),Items!$B$2:$G$525,6)","v":"decimal(10,3)"},{"$f":"IF(B523=\"D\",IF(VLOOKUP(UPPER(A523),Items!$B$2:$H$748,7,FALSE)<>0,VLOOKUP(UPPER(A523),Items!$B$2:$H$748,7,FALSE),\"\"),\"\")","v":""},"Total System Tagged Accepted Offer Volume","Populated for post-P217 Settlement Dates. This field will be null for pre-P217 Settlement Dates"]
[{"$f":"VLOOKUP(UPPER(M524),Items!$A$2:$B$525,2,FALSE)","v":"N0519"},"D",null,null,"O",null,null,null,null,null,{"$f":"VLOOKUP(UPPER(A524),Items!$B$2:$G$525,6)","v":"decimal(10,3)"},{"$f":"IF(B524=\"D\",IF(VLOOKUP(UPPER(A524),Items!$B$2:$H$748,7,FALSE)<>0,VLOOKUP(UPPER(A524),Items!$B$2:$H$748,7,FALSE),\"\"),\"\")","v":""},"Total System Repriced Accepted Bid Volume","Populated for post-P217 Settlement Dates. This field will be null for pre-P217 Settlement Dates"]
[{"$f":"VLOOKUP(UPPER(M525),Items!$A$2:$B$639,2,FALSE)","v":"N0520"},"D",null,null,"O",null,null,null,null,null,{"$f":"VLOOKUP(UPPER(A525),Items!$B$2:$G$525,6)","v":"decimal(10,3)"},{"$f":"IF(B525=\"D\",IF(VLOOKUP(UPPER(A525),Items!$B$2:$H$748,7,FALSE)<>0,VLOOKUP(UPPER(A525),Items!$B$2:$H$748,7,FALSE),\"\"),\"\")","v":""},"Total System Repriced Accepted Offer Volume","Populated for post-P217 Settlement Dates. This field will be null for pre-P217 Settlement Dates"]
[{"$f":"VLOOKUP(UPPER(M526),Items!$A$2:$B$639,2,FALSE)","v":"N0521"},"D",null,null,"O",null,null,null,null,null,{"$f":"VLOOKUP(UPPER(A526),Items!$B$2:$G$525,6)","v":"decimal(10,3)"},{"$f":"IF(B526=\"D\",IF(VLOOKUP(UPPER(A526),Items!$B$2:$H$748,7,FALSE)<>0,VLOOKUP(UPPER(A526),Items!$B$2:$H$748,7,FALSE),\"\"),\"\")","v":""},"Total System Originally-priced Accepted Bid Volume","Populated for post-P217 Settlement Dates. This field will be null for pre-P217 Settlement Dates"]
[{"$f":"VLOOKUP(UPPER(M527),Items!$A$2:$B$639,2,FALSE)","v":"N0522"},"D",null,null,"O",null,null,null,null,null,{"$f":"VLOOKUP(UPPER(A527),Items!$B$2:$G$525,6)","v":"decimal(10,3)"},{"$f":"IF(B527=\"D\",IF(VLOOKUP(UPPER(A527),Items!$B$2:$H$748,7,FALSE)<>0,VLOOKUP(UPPER(A527),Items!$B$2:$H$748,7,FALSE),\"\"),\"\")","v":""},"Total System Originally-priced Accepted Offer Volume","Populated for post-P217 Settlement Dates. This field will be null for pre-P217 Settlement Dates"]
[{"$f":"VLOOKUP(UPPER(M528),Items!$A$2:$B$639,2,FALSE)","v":"N0523"},"D",null,null,"O",null,null,null,null,null,{"$f":"VLOOKUP(UPPER(A528),Items!$B$2:$G$525,6)","v":"decimal(10,3)"},{"$f":"IF(B528=\"D\",IF(VLOOKUP(UPPER(A528),Items!$B$2:$H$748,7,FALSE)<>0,VLOOKUP(UPPER(A528),Items!$B$2:$H$748,7,FALSE),\"\"),\"\")","v":""},"Total System Adjustment Sell Volume","Populated for post-P217 Settlement Dates. This field will be null for pre-P217 Settlement Dates"]
[{"$f":"VLOOKUP(UPPER(M529),Items!$A$2:$B$639,2,FALSE)","v":"N0524"},"D",null,null,"O",null,null,null,null,null,{"$f":"VLOOKUP(UPPER(A529),Items!$B$2:$G$525,6)","v":"decimal(10,3)"},{"$f":"IF(B529=\"D\",IF(VLOOKUP(UPPER(A529),Items!$B$2:$H$748,7,FALSE)<>0,VLOOKUP(UPPER(A529),Items!$B$2:$H$748,7,FALSE),\"\"),\"\")","v":""},"Total System Adjustment Buy Volume","Populated for post-P217 Settlement Dates. This field will be null for pre-P217 Settlement Dates"]
[{"$f":"VLOOKUP(UPPER(M530),Items!$A$2:$B$639,2,FALSE)","v":"N0525"},"D",null,null,"O",null,null,null,null,null,{"$f":"VLOOKUP(UPPER(A530),Items!$B$2:$G$525,6)","v":"decimal(10,3)"},{"$f":"IF(B530=\"D\",IF(VLOOKUP(UPPER(A530),Items!$B$2:$H$748,7,FALSE)<>0,VLOOKUP(UPPER(A530),Items!$B$2:$H$748,7,FALSE),\"\"),\"\")","v":""},"Total System Tagged Adjustment Sell Volume","Populated for post-P217 Settlement Dates. This field will be null for pre-P217 Settlement Dates"]
[{"$f":"VLOOKUP(UPPER(M531),Items!$A$2:$B$639,2,FALSE)","v":"N0526"},"D",null,null,"O",null,null,null,null,null,{"$f":"VLOOKUP(UPPER(A531),Items!$B$2:$G$525,6)","v":"decimal(10,3)"},{"$f":"IF(B531=\"D\",IF(VLOOKUP(UPPER(A531),Items!$B$2:$H$748,7,FALSE)<>0,VLOOKUP(UPPER(A531),Items!$B$2:$H$748,7,FALSE),\"\"),\"\")","v":""},"Total System Tagged Adjustment Buy Volume","Populated for post-P217 Settlement Dates. This field will be null for pre-P217 Settlement Dates"]
[{"$f":"VLOOKUP(UPPER(M532),Items!$A$2:$B$639,2,FALSE)","v":"N0527"},"D",null,null,"O",null,null,null,null,null,{"$f":"VLOOKUP(UPPER(A532),Items!$B$2:$G$525,6)","v":"decimal(10,3)"},{"$f":"IF(B532=\"D\",IF(VLOOKUP(UPPER(A532),Items!$B$2:$H$748,7,FALSE)<>0,VLOOKUP(UPPER(A532),Items!$B$2:$H$748,7,FALSE),\"\"),\"\")","v":""},"Total System Repriced Adjustment Sell Volume","Populated for post-P217 Settlement Dates. This field will be null for pre-P217 Settlement Dates"]
[{"$f":"VLOOKUP(UPPER(M533),Items!$A$2:$B$639,2,FALSE)","v":"N0528"},"D",null,null,"O",null,null,null,null,null,{"$f":"VLOOKUP(UPPER(A533),Items!$B$2:$G$525,6)","v":"decimal(10,3)"},{"$f":"IF(B533=\"D\",IF(VLOOKUP(UPPER(A533),Items!$B$2:$H$748,7,FALSE)<>0,VLOOKUP(UPPER(A533),Items!$B$2:$H$748,7,FALSE),\"\"),\"\")","v":""},"Total System Repriced Adjustment Buy Volume","Populated for post-P217 Settlement Dates. This field will be null for pre-P217 Settlement Dates"]
[{"$f":"VLOOKUP(UPPER(M534),Items!$A$2:$B$639,2,FALSE)","v":"N0529"},"D",null,null,"O",null,null,null,null,null,{"$f":"VLOOKUP(UPPER(A534),Items!$B$2:$G$525,6)","v":"decimal(10,3)"},{"$f":"IF(B534=\"D\",IF(VLOOKUP(UPPER(A534),Items!$B$2:$H$748,7,FALSE)<>0,VLOOKUP(UPPER(A534),Items!$B$2:$H$748,7,FALSE),\"\"),\"\")","v":""},"Total System Originally-priced Adjustment Sell Volume","Populated for post-P217 Settlement Dates. This field will be null for pre-P217 Settlement Dates"]
[{"$f":"VLOOKUP(UPPER(M535),Items!$A$2:$B$639,2,FALSE)","v":"N0530"},"D",null,null,"O",null,null,null,null,null,{"$f":"VLOOKUP(UPPER(A535),Items!$B$2:$G$525,6)","v":"decimal(10,3)"},{"$f":"IF(B535=\"D\",IF(VLOOKUP(UPPER(A535),Items!$B$2:$H$748,7,FALSE)<>0,VLOOKUP(UPPER(A535),Items!$B$2:$H$748,7,FALSE),\"\"),\"\")","v":""},"Total System Originally-priced Adjustment Buy Volume","Populated for post-P217 Settlement Dates. This field will be null for pre-P217 Settlement Dates"]
[{"$f":"VLOOKUP(UPPER(M536),Items!$A$2:$B$639,2,FALSE)","v":"N0531"},"D",null,null,"O",null,null,null,null,null,{"$f":"VLOOKUP(UPPER(A536),Items!$B$2:$G$525,6)","v":"decimal(10,2)"},{"$f":"IF(B536=\"D\",IF(VLOOKUP(UPPER(A536),Items!$B$2:$H$748,7,FALSE)<>0,VLOOKUP(UPPER(A536),Items!$B$2:$H$748,7,FALSE),\"\"),\"\")","v":""},"Replacement Price","Populated for post-P217 Settlement Dates. This field will be null for pre-P217 Settlement Dates"]
[{"$f":"VLOOKUP(UPPER(M537),Items!$A$2:$B$639,2,FALSE)","v":"N0532"},"D",null,null,"O",null,null,null,null,null,{"$f":"VLOOKUP(UPPER(A537),Items!$B$2:$G$525,6)","v":"decimal(10,3)"},{"$f":"IF(B537=\"D\",IF(VLOOKUP(UPPER(A537),Items!$B$2:$H$748,7,FALSE)<>0,VLOOKUP(UPPER(A537),Items!$B$2:$H$748,7,FALSE),\"\"),\"\")","v":""},"Replacement Price Calculation Volume","Populated for post-P217 Settlement Dates. This field will be null for pre-P217 Settlement Dates"]
[{"$f":"VLOOKUP(UPPER(M538),Items!$A$2:$B$639,2,FALSE)","v":"N0558"},"D",null,null,"O",null,null,null,null,null,{"$f":"VLOOKUP(UPPER(A538),Items!$B$2:$G$553,6)","v":"boolean"},{"$f":"IF(B538=\"D\",IF(VLOOKUP(UPPER(A538),Items!$B$2:$H$748,7,FALSE)<>0,VLOOKUP(UPPER(A538),Items!$B$2:$H$748,7,FALSE),\"\"),\"\")","v":""},"Stor Availability Window Flag","Populated for post-P305 Settlement Dates. This field will be null for pre-P305 Settlement Dates"]
[{"$f":"VLOOKUP(UPPER(M539),Items!$A$2:$B$639,2,FALSE)","v":"N0559"},"D",null,null,"O",null,null,null,null,null,{"$f":"VLOOKUP(UPPER(A539),Items!$B$2:$G$553,6)","v":"decimal(10,9)"},{"$f":"IF(B539=\"D\",IF(VLOOKUP(UPPER(A539),Items!$B$2:$H$748,7,FALSE)<>0,VLOOKUP(UPPER(A539),Items!$B$2:$H$748,7,FALSE),\"\"),\"\")","v":""},"Loss Of Load Probability","Populated for post-P305 Settlement Dates (but will be null if the Transmission Company does not provide a value and the BMRA/SAA does not use a default value). This field will be null for pre-P305 Settlement Dates"]
[{"$f":"VLOOKUP(UPPER(M540),Items!$A$2:$B$639,2,FALSE)","v":"N0560"},"D",null,null,"O",null,null,null,null,null,{"$f":"VLOOKUP(UPPER(A540),Items!$B$2:$G$553,6)","v":"decimal(15,7)"},{"$f":"IF(B540=\"D\",IF(VLOOKUP(UPPER(A540),Items!$B$2:$H$748,7,FALSE)<>0,VLOOKUP(UPPER(A540),Items!$B$2:$H$748,7,FALSE),\"\"),\"\")","v":""},"De-rated Margin","Populated for post-P305 Settlement Dates (but will be null if the Transmission Company does not provide a value). This field will be null for pre-P305 Settlement Dates"]
[{"$f":"VLOOKUP(UPPER(M541),Items!$A$2:$B$639,2,FALSE)","v":"N0561"},"D",null,null,"O",null,null,null,null,null,{"$f":"VLOOKUP(UPPER(A541),Items!$B$2:$G$553,6)","v":"decimal(10,2)"},{"$f":"IF(B541=\"D\",IF(VLOOKUP(UPPER(A541),Items!$B$2:$H$748,7,FALSE)<>0,VLOOKUP(UPPER(A541),Items!$B$2:$H$748,7,FALSE),\"\"),\"\")","v":""},"Value Of Lost Load","Populated for post-P305 Settlement Dates. This field will be null for pre-P305 Settlement Dates"]
[{"$f":"VLOOKUP(UPPER(M542),Items!$A$2:$B$639,2,FALSE)","v":"N0562"},"D",null,null,"O",null,null,null,null,null,{"$f":"VLOOKUP(UPPER(A542),Items!$B$2:$G$553,6)","v":"decimal(10,5)"},{"$f":"IF(B542=\"D\",IF(VLOOKUP(UPPER(A542),Items!$B$2:$H$748,7,FALSE)<>0,VLOOKUP(UPPER(A542),Items!$B$2:$H$748,7,FALSE),\"\"),\"\")","v":""},"Reserve Scarcity Price","Populated for post-P305 Settlement Dates (but will be null for any post P305 Settlement Period that is not within a STOR Availability Window). This field will be null for pre-P305 Settlement Dates"]
["MD1","R","0-*",null,"G",null,null,null,null,null,null,null,"Market Index Data Period Information"]
[{"$f":"VLOOKUP(UPPER(M544),Items!$A$2:$B$639,2,FALSE)","v":"N0423"},"D",null,null,null,1,null,null,null,null,{"$f":"VLOOKUP(UPPER(A544),Items!$B$2:$G$525,6)","v":"text(8)"},{"$f":"IF(VLOOKUP(UPPER(A544),Items!$B$2:$H$748,7,FALSE)<>0,VLOOKUP(UPPER(A544),Items!$B$2:$H$748,7,FALSE),\"\")","v":""},"Market Index Data Provider ID"]
[{"$f":"VLOOKUP(UPPER(M545),Items!$A$2:$B$639,2,FALSE)","v":"N0412"},"D",null,null,null,1,null,null,null,null,{"$f":"VLOOKUP(UPPER(A545),Items!$B$2:$G$525,6)","v":"decimal(10,3)"},{"$f":"IF(VLOOKUP(UPPER(A545),Items!$B$2:$H$748,7,FALSE)<>0,VLOOKUP(UPPER(A545),Items!$B$2:$H$748,7,FALSE),\"\")","v":""},"Individual Liquidity Threshold"]
[{"$f":"VLOOKUP(UPPER(M546),Items!$A$2:$B$639,2,FALSE)","v":"N0413"},"D",null,null,null,"O",null,null,null,null,{"$f":"VLOOKUP(UPPER(A546),Items!$B$2:$G$525,6)","v":"decimal(10,2)"},{"$f":"IF(VLOOKUP(UPPER(A546),Items!$B$2:$H$748,7,FALSE)<>0,VLOOKUP(UPPER(A546),Items!$B$2:$H$748,7,FALSE),\"\")","v":""},"Market Index Price","Null if no data provided by MIDP"]
[{"$f":"VLOOKUP(UPPER(M547),Items!$A$2:$B$639,2,FALSE)","v":"N0414"},"D",null,null,null,"O",null,null,null,null,{"$f":"VLOOKUP(UPPER(A547),Items!$B$2:$G$525,6)","v":"decimal(10,3)"},{"$f":"IF(VLOOKUP(UPPER(A547),Items!$B$2:$H$748,7,FALSE)<>0,VLOOKUP(UPPER(A547),Items!$B$2:$H$748,7,FALSE),\"\")","v":""},"Market Index Volume","Null if no data provided by MIDP"]
["DB1","R","0-*",null,"G",null,null,null,null,null,null,null,"Balancing Services Adjustment Action Data"]
[{"$f":"VLOOKUP(UPPER(M549),Items!$A$2:$B$525,2,FALSE)","v":"N0533"},"D",null,null,null,1,null,null,null,null,{"$f":"VLOOKUP(UPPER(A549),Items!$B$2:$G$525,6)","v":"integer(4)"},{"$f":"IF(B549=\"D\",IF(VLOOKUP(UPPER(A549),Items!$B$2:$H$748,7,FALSE)<>0,VLOOKUP(UPPER(A549),Items!$B$2:$H$748,7,FALSE),\"\"),\"\")","v":""},"Balancing Services Adjustment Action Id"]
[{"$f":"VLOOKUP(UPPER(M550),Items!$A$2:$B$525,2,FALSE)","v":"N0534"},"D",null,null,null,"O",null,null,null,null,{"$f":"VLOOKUP(UPPER(A550),Items!$B$2:$G$525,6)","v":"decimal(10,2)"},{"$f":"IF(B550=\"D\",IF(VLOOKUP(UPPER(A550),Items!$B$2:$H$748,7,FALSE)<>0,VLOOKUP(UPPER(A550),Items!$B$2:$H$748,7,FALSE),\"\"),\"\")","v":""},"Balancing Services Adjustment Action Cost","£ Null if Action is unpriced"]
[{"$f":"VLOOKUP(UPPER(M551),Items!$A$2:$B$525,2,FALSE)","v":"N0535"},"D",null,null,null,1,null,null,null,null,{"$f":"VLOOKUP(UPPER(A551),Items!$B$2:$G$525,6)","v":"decimal(10,3)"},{"$f":"IF(B551=\"D\",IF(VLOOKUP(UPPER(A551),Items!$B$2:$H$748,7,FALSE)<>0,VLOOKUP(UPPER(A551),Items!$B$2:$H$748,7,FALSE),\"\"),\"\")","v":""},"Balancing Services Adjustment Action Volume"]
[{"$f":"VLOOKUP(UPPER(M552),Items!$A$2:$B$525,2,FALSE)","v":"N0536"},"D",null,null,null,1,null,null,null,null,{"$f":"VLOOKUP(UPPER(A552),Items!$B$2:$G$525,6)","v":"decimal(10,3)"},{"$f":"IF(B552=\"D\",IF(VLOOKUP(UPPER(A552),Items!$B$2:$H$748,7,FALSE)<>0,VLOOKUP(UPPER(A552),Items!$B$2:$H$748,7,FALSE),\"\"),\"\")","v":""},"Tagged Balancing Services Adjustment Action Volume"]
[{"$f":"VLOOKUP(UPPER(M553),Items!$A$2:$B$525,2,FALSE)","v":"N0537"},"D",null,null,null,1,null,null,null,null,{"$f":"VLOOKUP(UPPER(A553),Items!$B$2:$G$525,6)","v":"decimal(10,3)"},{"$f":"IF(B553=\"D\",IF(VLOOKUP(UPPER(A553),Items!$B$2:$H$748,7,FALSE)<>0,VLOOKUP(UPPER(A553),Items!$B$2:$H$748,7,FALSE),\"\"),\"\")","v":""},"Repriced Balancing Services Adjustment Action Volume"]
[{"$f":"VLOOKUP(UPPER(M554),Items!$A$2:$B$525,2,FALSE)","v":"N0538"},"D",null,null,null,1,null,null,null,null,{"$f":"VLOOKUP(UPPER(A554),Items!$B$2:$G$525,6)","v":"decimal(10,3)"},{"$f":"IF(B554=\"D\",IF(VLOOKUP(UPPER(A554),Items!$B$2:$H$748,7,FALSE)<>0,VLOOKUP(UPPER(A554),Items!$B$2:$H$748,7,FALSE),\"\"),\"\")","v":""},"Originally-Priced Balancing Services Adjustment Action Volume"]
[{"$f":"VLOOKUP(UPPER(M555),Items!$A$2:$B$525,2,FALSE)","v":"N0539"},"D",null,null,null,1,null,null,null,null,{"$f":"VLOOKUP(UPPER(A555),Items!$B$2:$G$525,6)","v":"boolean"},{"$f":"IF(B555=\"D\",IF(VLOOKUP(UPPER(A555),Items!$B$2:$H$748,7,FALSE)<>0,VLOOKUP(UPPER(A555),Items!$B$2:$H$748,7,FALSE),\"\"),\"\")","v":""},"Balancing Services Adjustment Action SO-Flag"]
[{"$f":"VLOOKUP(UPPER(M556),Items!$A$2:$B$553,2,FALSE)","v":"N0563"},"D",null,null,null,"O",null,null,null,null,{"$f":"VLOOKUP(UPPER(A556),Items!$B$2:$G$553,6)","v":"boolean"},{"$f":"IF(B556=\"D\",IF(VLOOKUP(UPPER(A556),Items!$B$2:$H$748,7,FALSE)<>0,VLOOKUP(UPPER(A556),Items!$B$2:$H$748,7,FALSE),\"\"),\"\")","v":""},"Balancing Services Adjustment Action Stor Provider Flag","Populated for post-P305 Settlement Dates. This field will be null for pre-P305 Settlement Dates"]
[{"$f":"VLOOKUP(UPPER(M557),Items!$A$2:$B$553,2,FALSE)","v":"N0566"},"D",null,null,null,"O",null,null,null,null,{"$f":"VLOOKUP(UPPER(A557),Items!$B$2:$G$553,6)","v":"boolean"},{"$f":"IF(B557=\"D\",IF(VLOOKUP(UPPER(A557),Items!$B$2:$H$748,7,FALSE)<>0,VLOOKUP(UPPER(A557),Items!$B$2:$H$748,7,FALSE),\"\"),\"\")","v":""},"Reserve Scarcity Price Flag","Populated for post-P305 Settlement Dates. This field will be null for pre-P305 Settlement Dates"]
["TRA","R","1-*",null,"G",null,null,null,null,null,null,null,"Trading Unit Period Information"]
[{"$f":"VLOOKUP(UPPER(M559),Items!$A$2:$B$525,2,FALSE)","v":"N0232"},"D",null,null,null,1,null,null,null,null,{"$f":"VLOOKUP(UPPER(A559),Items!$B$2:$G$525,6)","v":"text(30)"},{"$f":"IF(B559=\"D\",IF(VLOOKUP(UPPER(A559),Items!$B$2:$H$748,7,FALSE)<>0,VLOOKUP(UPPER(A559),Items!$B$2:$H$748,7,FALSE),\"\"),\"\")","v":""},"Trading Unit Name"]
[{"$f":"VLOOKUP(UPPER(M560),Items!$A$2:$B$525,2,FALSE)","v":"N0231"},"D",null,null,null,1,null,null,null,null,{"$f":"VLOOKUP(UPPER(A560),Items!$B$2:$G$525,6)","v":"decimal(10,3)"},{"$f":"IF(B560=\"D\",IF(VLOOKUP(UPPER(A560),Items!$B$2:$H$748,7,FALSE)<>0,VLOOKUP(UPPER(A560),Items!$B$2:$H$748,7,FALSE),\"\"),\"\")","v":""},"Total Trading Unit Metered Volume","MWh"]
["BPI","R","1-*",null,"G",null,null,null,null,null,null,null,"BM Unit Period Information"]
[{"$f":"VLOOKUP(UPPER(M562),Items!$A$2:$B$525,2,FALSE)","v":"N0034"},"D",null,null,null,1,null,null,null,null,{"$f":"VLOOKUP(UPPER(A562),Items!$B$2:$G$525,6)","v":"text(11)"},{"$f":"IF(B562=\"D\",IF(VLOOKUP(UPPER(A562),Items!$B$2:$H$748,7,FALSE)<>0,VLOOKUP(UPPER(A562),Items!$B$2:$H$748,7,FALSE),\"\"),\"\")","v":""},"BM Unit Id"]
[{"$f":"VLOOKUP(UPPER(M563),Items!$A$2:$B$525,2,FALSE)","v":"N0232"},"D",null,null,null,"O",null,null,null,null,{"$f":"VLOOKUP(UPPER(A563),Items!$B$2:$G$525,6)","v":"text(30)"},{"$f":"IF(B563=\"D\",IF(VLOOKUP(UPPER(A563),Items!$B$2:$H$748,7,FALSE)<>0,VLOOKUP(UPPER(A563),Items!$B$2:$H$748,7,FALSE),\"\"),\"\")","v":""},"Trading Unit Name","Omit if \"default\" trading unit"]
[{"$f":"VLOOKUP(UPPER(M564),Items!$A$2:$B$525,2,FALSE)","v":"N0174"},"D",null,null,null,1,null,null,null,null,{"$f":"VLOOKUP(UPPER(A564),Items!$B$2:$G$525,6)","v":"decimal(10,3)"},{"$f":"IF(B564=\"D\",IF(VLOOKUP(UPPER(A564),Items!$B$2:$H$748,7,FALSE)<>0,VLOOKUP(UPPER(A564),Items!$B$2:$H$748,7,FALSE),\"\"),\"\")","v":""},"Period FPN","MWh"]
[{"$f":"VLOOKUP(UPPER(M565),Items!$A$2:$B$525,2,FALSE)","v":"N0035"},"D",null,null,null,1,null,null,null,null,{"$f":"VLOOKUP(UPPER(A565),Items!$B$2:$G$525,6)","v":"decimal(10,3)"},{"$f":"IF(B565=\"D\",IF(VLOOKUP(UPPER(A565),Items!$B$2:$H$748,7,FALSE)<>0,VLOOKUP(UPPER(A565),Items!$B$2:$H$748,7,FALSE),\"\"),\"\")","v":""},"BM Unit Metered Volume","MWh"]
[{"$f":"VLOOKUP(UPPER(M566),Items!$A$2:$B$525,2,FALSE)","v":"N0234"},"D",null,null,null,1,null,null,null,null,{"$f":"VLOOKUP(UPPER(A566),Items!$B$2:$G$525,6)","v":"decimal(8,7)"},{"$f":"IF(B566=\"D\",IF(VLOOKUP(UPPER(A566),Items!$B$2:$H$748,7,FALSE)<>0,VLOOKUP(UPPER(A566),Items!$B$2:$H$748,7,FALSE),\"\"),\"\")","v":""},"Transmission Loss Multiplier"]
[{"$f":"VLOOKUP(UPPER(M567),Items!$A$2:$B$639,2,FALSE)","v":"N0421"},"D",null,null,null,1,null,null,null,null,{"$f":"VLOOKUP(UPPER(A567),Items!$B$2:$G$525,6)","v":"decimal(10,3)"},{"$f":"IF(B567=\"D\",IF(VLOOKUP(UPPER(A567),Items!$B$2:$H$748,7,FALSE)<>0,VLOOKUP(UPPER(A567),Items!$B$2:$H$748,7,FALSE),\"\"),\"\")","v":""},"BM Unit Applicable Balancing Services Volume","MWh"]
["MEL","R","0-*",null,null,"G",null,null,null,null,null,null,"Maximum Export Limit Information"]
[{"$f":"VLOOKUP(UPPER(M569),Items!$A$2:$B$525,2,FALSE)","v":"N0220"},"D",null,null,null,null,1,null,null,null,{"$f":"VLOOKUP(UPPER(A569),Items!$B$2:$G$525,6)","v":"integer(2)"},{"$f":"IF(B569=\"D\",IF(VLOOKUP(UPPER(A569),Items!$B$2:$H$748,7,FALSE)<>0,VLOOKUP(UPPER(A569),Items!$B$2:$H$748,7,FALSE),\"\"),\"\")","v":""},"Time From","minutes from start of period"]
[{"$f":"VLOOKUP(UPPER(M570),Items!$A$2:$B$525,2,FALSE)","v":"N0130"},"D",null,null,null,null,"O",null,null,null,{"$f":"VLOOKUP(UPPER(A570),Items!$B$2:$G$525,6)","v":"decimal(10,3)"},{"$f":"IF(B570=\"D\",IF(VLOOKUP(UPPER(A570),Items!$B$2:$H$748,7,FALSE)<>0,VLOOKUP(UPPER(A570),Items!$B$2:$H$748,7,FALSE),\"\"),\"\")","v":""},"Level From","MW"]
[{"$f":"VLOOKUP(UPPER(M571),Items!$A$2:$B$525,2,FALSE)","v":"N0221"},"D",null,null,null,null,1,null,null,null,{"$f":"VLOOKUP(UPPER(A571),Items!$B$2:$G$525,6)","v":"integer(2)"},{"$f":"IF(B571=\"D\",IF(VLOOKUP(UPPER(A571),Items!$B$2:$H$748,7,FALSE)<>0,VLOOKUP(UPPER(A571),Items!$B$2:$H$748,7,FALSE),\"\"),\"\")","v":""},"Time To","minutes from start of period"]
[{"$f":"VLOOKUP(UPPER(M572),Items!$A$2:$B$525,2,FALSE)","v":"N0131"},"D",null,null,null,null,"O",null,null,null,{"$f":"VLOOKUP(UPPER(A572),Items!$B$2:$G$525,6)","v":"decimal(10,3)"},{"$f":"IF(B572=\"D\",IF(VLOOKUP(UPPER(A572),Items!$B$2:$H$748,7,FALSE)<>0,VLOOKUP(UPPER(A572),Items!$B$2:$H$748,7,FALSE),\"\"),\"\")","v":""},"Level To","MW"]
["MIL","R","0-*",null,null,"G",null,null,null,null,null,null,"Maximum Import Limit Information"]
[{"$f":"VLOOKUP(UPPER(M574),Items!$A$2:$B$525,2,FALSE)","v":"N0220"},"D",null,null,null,null,1,null,null,null,{"$f":"VLOOKUP(UPPER(A574),Items!$B$2:$G$525,6)","v":"integer(2)"},{"$f":"IF(B574=\"D\",IF(VLOOKUP(UPPER(A574),Items!$B$2:$H$748,7,FALSE)<>0,VLOOKUP(UPPER(A574),Items!$B$2:$H$748,7,FALSE),\"\"),\"\")","v":""},"Time From","minutes from start of period"]
[{"$f":"VLOOKUP(UPPER(M575),Items!$A$2:$B$525,2,FALSE)","v":"N0130"},"D",null,null,null,null,"O",null,null,null,{"$f":"VLOOKUP(UPPER(A575),Items!$B$2:$G$525,6)","v":"decimal(10,3)"},{"$f":"IF(B575=\"D\",IF(VLOOKUP(UPPER(A575),Items!$B$2:$H$748,7,FALSE)<>0,VLOOKUP(UPPER(A575),Items!$B$2:$H$748,7,FALSE),\"\"),\"\")","v":""},"Level From","MW"]
[{"$f":"VLOOKUP(UPPER(M576),Items!$A$2:$B$525,2,FALSE)","v":"N0221"},"D",null,null,null,null,1,null,null,null,{"$f":"VLOOKUP(UPPER(A576),Items!$B$2:$G$525,6)","v":"integer(2)"},{"$f":"IF(B576=\"D\",IF(VLOOKUP(UPPER(A576),Items!$B$2:$H$748,7,FALSE)<>0,VLOOKUP(UPPER(A576),Items!$B$2:$H$748,7,FALSE),\"\"),\"\")","v":""},"Time To","minutes from start of period"]
[{"$f":"VLOOKUP(UPPER(M577),Items!$A$2:$B$525,2,FALSE)","v":"N0131"},"D",null,null,null,null,"O",null,null,null,{"$f":"VLOOKUP(UPPER(A577),Items!$B$2:$G$525,6)","v":"decimal(10,3)"},{"$f":"IF(B577=\"D\",IF(VLOOKUP(UPPER(A577),Items!$B$2:$H$748,7,FALSE)<>0,VLOOKUP(UPPER(A577),Items!$B$2:$H$748,7,FALSE),\"\"),\"\")","v":""},"Level To","MW"]
["BPH","R","1-*","G",null,null,null,null,null,null,null,null,"BSC Party Header"]
[{"$f":"VLOOKUP(UPPER(M579),Items!$A$2:$B$525,2,FALSE)","v":"N0200"},"D",null,null,1,null,null,null,null,null,{"$f":"VLOOKUP(UPPER(A579),Items!$B$2:$G$525,6)","v":"date"},{"$f":"IF(B579=\"D\",IF(VLOOKUP(UPPER(A579),Items!$B$2:$H$748,7,FALSE)<>0,VLOOKUP(UPPER(A579),Items!$B$2:$H$748,7,FALSE),\"\"),\"\")","v":""},"Settlement Date"]
[{"$f":"VLOOKUP(UPPER(M580),Items!$A$2:$B$525,2,FALSE)","v":"N0202"},"D",null,null,1,null,null,null,null,null,{"$f":"VLOOKUP(UPPER(A580),Items!$B$2:$G$525,6)","v":"text(2)"},{"$f":"IF(B580=\"D\",IF(VLOOKUP(UPPER(A580),Items!$B$2:$H$748,7,FALSE)<>0,VLOOKUP(UPPER(A580),Items!$B$2:$H$748,7,FALSE),\"\"),\"\")","v":"Run Type"},"Settlement Run Type"]
[{"$f":"VLOOKUP(UPPER(M581),Items!$A$2:$B$525,2,FALSE)","v":"N0304"},"D",null,null,1,null,null,null,null,null,{"$f":"VLOOKUP(UPPER(A581),Items!$B$2:$G$525,6)","v":"integer(2)"},{"$f":"IF(B581=\"D\",IF(VLOOKUP(UPPER(A581),Items!$B$2:$H$748,7,FALSE)<>0,VLOOKUP(UPPER(A581),Items!$B$2:$H$748,7,FALSE),\"\"),\"\")","v":""},"SAA Run Number"]
[{"$f":"VLOOKUP(UPPER(M582),Items!$A$2:$B$525,2,FALSE)","v":"N0385"},"D",null,null,1,null,null,null,null,null,{"$f":"VLOOKUP(UPPER(A582),Items!$B$2:$G$525,6)","v":"integer(2)"},{"$f":"IF(B582=\"D\",IF(VLOOKUP(UPPER(A582),Items!$B$2:$H$748,7,FALSE)<>0,VLOOKUP(UPPER(A582),Items!$B$2:$H$748,7,FALSE),\"\"),\"\")","v":""},"SAA CDCA Run Number","CDCA run which generated volumes used directly by SAA"]
[{"$f":"VLOOKUP(UPPER(M583),Items!$A$2:$B$525,2,FALSE)","v":"N0383"},"D",null,null,1,null,null,null,null,null,{"$f":"VLOOKUP(UPPER(A583),Items!$B$2:$G$525,6)","v":"date"},{"$f":"IF(B583=\"D\",IF(VLOOKUP(UPPER(A583),Items!$B$2:$H$748,7,FALSE)<>0,VLOOKUP(UPPER(A583),Items!$B$2:$H$748,7,FALSE),\"\"),\"\")","v":""},"SVAA CDCA Settlement Date","CDCA settlement date from which GSP group take was used by SVAA"]
[{"$f":"VLOOKUP(UPPER(M584),Items!$A$2:$B$525,2,FALSE)","v":"N0384"},"D",null,null,1,null,null,null,null,null,{"$f":"VLOOKUP(UPPER(A584),Items!$B$2:$G$525,6)","v":"integer(2)"},{"$f":"IF(B584=\"D\",IF(VLOOKUP(UPPER(A584),Items!$B$2:$H$748,7,FALSE)<>0,VLOOKUP(UPPER(A584),Items!$B$2:$H$748,7,FALSE),\"\"),\"\")","v":""},"SVAA CDCA Run Number","CDCA run number from which GSP group take was used by SVAA"]
[{"$f":"VLOOKUP(UPPER(M585),Items!$A$2:$B$525,2,FALSE)","v":"N0211"},"D",null,null,1,null,null,null,null,null,{"$f":"VLOOKUP(UPPER(A585),Items!$B$2:$G$525,6)","v":"integer(7)"},{"$f":"IF(B585=\"D\",IF(VLOOKUP(UPPER(A585),Items!$B$2:$H$748,7,FALSE)<>0,VLOOKUP(UPPER(A585),Items!$B$2:$H$748,7,FALSE),\"\"),\"\")","v":""},"SVAA SSR Run Number"]
[{"$f":"VLOOKUP(UPPER(M586),Items!$A$2:$B$525,2,FALSE)","v":"N0045"},"D",null,null,1,null,null,null,null,null,{"$f":"VLOOKUP(UPPER(A586),Items!$B$2:$G$525,6)","v":"text(8)"},{"$f":"IF(B586=\"D\",IF(VLOOKUP(UPPER(A586),Items!$B$2:$H$748,7,FALSE)<>0,VLOOKUP(UPPER(A586),Items!$B$2:$H$748,7,FALSE),\"\"),\"\")","v":""},"BSC Party Id"]
["APC","R",1,null,"G",null,null,null,null,null,null,null,"Aggregate Party Day Charges"]
[{"$f":"VLOOKUP(UPPER(M588),Items!$A$2:$B$525,2,FALSE)","v":"N0048"},"D",null,null,null,1,null,null,null,null,{"$f":"VLOOKUP(UPPER(A588),Items!$B$2:$G$525,6)","v":"decimal(10,2)"},{"$f":"IF(B588=\"D\",IF(VLOOKUP(UPPER(A588),Items!$B$2:$H$748,7,FALSE)<>0,VLOOKUP(UPPER(A588),Items!$B$2:$H$748,7,FALSE),\"\"),\"\")","v":""},"BSSC Limited Cost Allocation"]
[{"$f":"VLOOKUP(UPPER(M589),Items!$A$2:$B$525,2,FALSE)","v":"N0031"},"D",null,null,null,1,null,null,null,null,{"$f":"VLOOKUP(UPPER(A589),Items!$B$2:$G$525,6)","v":"decimal(10,2)"},{"$f":"IF(B589=\"D\",IF(VLOOKUP(UPPER(A589),Items!$B$2:$H$748,7,FALSE)<>0,VLOOKUP(UPPER(A589),Items!$B$2:$H$748,7,FALSE),\"\"),\"\")","v":""},"BM Unit Cashflow"]
[{"$f":"VLOOKUP(UPPER(M590),Items!$A$2:$B$525,2,FALSE)","v":"N0086"},"D",null,null,null,1,null,null,null,null,{"$f":"VLOOKUP(UPPER(A590),Items!$B$2:$G$525,6)","v":"decimal(10,2)"},{"$f":"IF(B590=\"D\",IF(VLOOKUP(UPPER(A590),Items!$B$2:$H$748,7,FALSE)<>0,VLOOKUP(UPPER(A590),Items!$B$2:$H$748,7,FALSE),\"\"),\"\")","v":""},"Energy Imbalance Cashflow"]
[{"$f":"VLOOKUP(UPPER(M591),Items!$A$2:$B$525,2,FALSE)","v":"N0122"},"D",null,null,null,1,null,null,null,null,{"$f":"VLOOKUP(UPPER(A591),Items!$B$2:$G$525,6)","v":"decimal(10,2)"},{"$f":"IF(B591=\"D\",IF(VLOOKUP(UPPER(A591),Items!$B$2:$H$748,7,FALSE)<>0,VLOOKUP(UPPER(A591),Items!$B$2:$H$748,7,FALSE),\"\"),\"\")","v":""},"Information Imbalance Cashflow"]
[{"$f":"VLOOKUP(UPPER(M592),Items!$A$2:$B$525,2,FALSE)","v":"N0151"},"D",null,null,null,1,null,null,null,null,{"$f":"VLOOKUP(UPPER(A592),Items!$B$2:$G$525,6)","v":"decimal(10,2)"},{"$f":"IF(B592=\"D\",IF(VLOOKUP(UPPER(A592),Items!$B$2:$H$748,7,FALSE)<>0,VLOOKUP(UPPER(A592),Items!$B$2:$H$748,7,FALSE),\"\"),\"\")","v":""},"Non-Delivery Charge"]
[{"$f":"VLOOKUP(UPPER(M593),Items!$A$2:$B$525,2,FALSE)","v":"N0194"},{"$f":"IF(LEN(K593)>0,\"D\",IF(LEN(A593)=5,\"F\",IF(LEN(A593)=3,\"R\",\" \")))","v":"D"},null,null,null,1,null,null,null,null,{"$f":"VLOOKUP(UPPER(A593),Items!$B$2:$G$525,6)","v":"decimal(10,2)"},{"$f":"IF(B593=\"D\",IF(VLOOKUP(UPPER(A593),Items!$B$2:$H$748,7,FALSE)<>0,VLOOKUP(UPPER(A593),Items!$B$2:$H$748,7,FALSE),\"\"),\"\")","v":""},"Residual Cashflow Reallocation Charge"]
[{"$f":"VLOOKUP(UPPER(M594),Items!$A$2:$B$525,2,FALSE)","v":"N0214"},"D",null,null,null,1,null,null,null,null,{"$f":"VLOOKUP(UPPER(A594),Items!$B$2:$G$525,6)","v":"decimal(10,2)"},{"$f":"IF(B594=\"D\",IF(VLOOKUP(UPPER(A594),Items!$B$2:$H$748,7,FALSE)<>0,VLOOKUP(UPPER(A594),Items!$B$2:$H$748,7,FALSE),\"\"),\"\")","v":""},"Daily System Operator Cashflow"]
["SP7","R","46-50",null,"G",null,null,null,null,null,null,null,"Settlement Period Header","either 46 or 48 or 50"]
[{"$f":"VLOOKUP(UPPER(M596),Items!$A$2:$B$525,2,FALSE)","v":"N0201"},"D",null,null,null,1,null,null,null,null,{"$f":"VLOOKUP(UPPER(A596),Items!$B$2:$G$525,6)","v":"integer(2)"},{"$f":"IF(B596=\"D\",IF(VLOOKUP(UPPER(A596),Items!$B$2:$H$748,7,FALSE)<>0,VLOOKUP(UPPER(A596),Items!$B$2:$H$748,7,FALSE),\"\"),\"\")","v":""},"Settlement Period"]
["PPC","R",1,null,null,"G",null,null,null,null,null,null,"Aggregate Party Period Charges"]
[{"$f":"VLOOKUP(UPPER(M598),Items!$A$2:$B$525,2,FALSE)","v":"N0048"},"D",null,null,null,null,1,null,null,null,{"$f":"VLOOKUP(UPPER(A598),Items!$B$2:$G$525,6)","v":"decimal(10,2)"},{"$f":"IF(B598=\"D\",IF(VLOOKUP(UPPER(A598),Items!$B$2:$H$748,7,FALSE)<>0,VLOOKUP(UPPER(A598),Items!$B$2:$H$748,7,FALSE),\"\"),\"\")","v":""},"BSSC Limited Cost Allocation"]
[{"$f":"VLOOKUP(UPPER(M599),Items!$A$2:$B$525,2,FALSE)","v":"N0031"},"D",null,null,null,null,1,null,null,null,{"$f":"VLOOKUP(UPPER(A599),Items!$B$2:$G$525,6)","v":"decimal(10,2)"},{"$f":"IF(B599=\"D\",IF(VLOOKUP(UPPER(A599),Items!$B$2:$H$748,7,FALSE)<>0,VLOOKUP(UPPER(A599),Items!$B$2:$H$748,7,FALSE),\"\"),\"\")","v":""},"BM Unit Cashflow"]
[{"$f":"VLOOKUP(UPPER(M600),Items!$A$2:$B$525,2,FALSE)","v":"N0086"},"D",null,null,null,null,1,null,null,null,{"$f":"VLOOKUP(UPPER(A600),Items!$B$2:$G$525,6)","v":"decimal(10,2)"},{"$f":"IF(B600=\"D\",IF(VLOOKUP(UPPER(A600),Items!$B$2:$H$748,7,FALSE)<>0,VLOOKUP(UPPER(A600),Items!$B$2:$H$748,7,FALSE),\"\"),\"\")","v":""},"Energy Imbalance Cashflow"]
[{"$f":"VLOOKUP(UPPER(M601),Items!$A$2:$B$525,2,FALSE)","v":"N0122"},"D",null,null,null,null,1,null,null,null,{"$f":"VLOOKUP(UPPER(A601),Items!$B$2:$G$525,6)","v":"decimal(10,2)"},{"$f":"IF(B601=\"D\",IF(VLOOKUP(UPPER(A601),Items!$B$2:$H$748,7,FALSE)<>0,VLOOKUP(UPPER(A601),Items!$B$2:$H$748,7,FALSE),\"\"),\"\")","v":""},"Information Imbalance Cashflow"]
[{"$f":"VLOOKUP(UPPER(M602),Items!$A$2:$B$525,2,FALSE)","v":"N0151"},"D",null,null,null,null,1,null,null,null,{"$f":"VLOOKUP(UPPER(A602),Items!$B$2:$G$525,6)","v":"decimal(10,2)"},{"$f":"IF(B602=\"D\",IF(VLOOKUP(UPPER(A602),Items!$B$2:$H$748,7,FALSE)<>0,VLOOKUP(UPPER(A602),Items!$B$2:$H$748,7,FALSE),\"\"),\"\")","v":""},"Non-Delivery Charge"]
[{"$f":"VLOOKUP(UPPER(M603),Items!$A$2:$B$525,2,FALSE)","v":"N0194"},"D",null,null,null,null,1,null,null,null,{"$f":"VLOOKUP(UPPER(A603),Items!$B$2:$G$525,6)","v":"decimal(10,2)"},{"$f":"IF(B603=\"D\",IF(VLOOKUP(UPPER(A603),Items!$B$2:$H$748,7,FALSE)<>0,VLOOKUP(UPPER(A603),Items!$B$2:$H$748,7,FALSE),\"\"),\"\")","v":""},"Residual Cashflow Reallocation Charge"]
["SSD","R",1,null,null,"G",null,null,null,null,null,null,"System Period Data"]
[{"$f":"VLOOKUP(UPPER(M605),Items!$A$2:$B$525,2,FALSE)","v":"N0172"},"D",null,null,null,null,1,null,null,null,{"$f":"VLOOKUP(UPPER(A605),Items!$B$2:$G$525,6)","v":"decimal(10,2)"},{"$f":"IF(B605=\"D\",IF(VLOOKUP(UPPER(A605),Items!$B$2:$H$748,7,FALSE)<>0,VLOOKUP(UPPER(A605),Items!$B$2:$H$748,7,FALSE),\"\"),\"\")","v":""},"Period BSSC Limited Costs"]
[{"$f":"VLOOKUP(UPPER(M606),Items!$A$2:$B$525,2,FALSE)","v":"N0213"},"D",null,null,null,null,1,null,null,null,{"$f":"VLOOKUP(UPPER(A606),Items!$B$2:$G$525,6)","v":"decimal(10,2)"},{"$f":"IF(B606=\"D\",IF(VLOOKUP(UPPER(A606),Items!$B$2:$H$748,7,FALSE)<>0,VLOOKUP(UPPER(A606),Items!$B$2:$H$748,7,FALSE),\"\"),\"\")","v":""},"System Operator Cashflow"]
[{"$f":"VLOOKUP(UPPER(M607),Items!$A$2:$B$525,2,FALSE)","v":"N0124"},"D",null,null,null,null,1,null,null,null,{"$f":"VLOOKUP(UPPER(A607),Items!$B$2:$G$525,6)","v":"decimal(10,5)"},{"$f":"IF(B607=\"D\",IF(VLOOKUP(UPPER(A607),Items!$B$2:$H$748,7,FALSE)<>0,VLOOKUP(UPPER(A607),Items!$B$2:$H$748,7,FALSE),\"\"),\"\")","v":""},"Information Imbalance Price 1"]
[{"$f":"VLOOKUP(UPPER(M608),Items!$A$2:$B$525,2,FALSE)","v":"N0125"},"D",null,null,null,null,1,null,null,null,{"$f":"VLOOKUP(UPPER(A608),Items!$B$2:$G$525,6)","v":"decimal(10,5)"},{"$f":"IF(B608=\"D\",IF(VLOOKUP(UPPER(A608),Items!$B$2:$H$748,7,FALSE)<>0,VLOOKUP(UPPER(A608),Items!$B$2:$H$748,7,FALSE),\"\"),\"\")","v":""},"Information Imbalance Price 2"]
[{"$f":"VLOOKUP(UPPER(M609),Items!$A$2:$B$525,2,FALSE)","v":"N0212"},"D",null,null,null,null,1,null,null,null,{"$f":"VLOOKUP(UPPER(A609),Items!$B$2:$G$525,6)","v":"decimal(10,5)"},{"$f":"IF(B609=\"D\",IF(VLOOKUP(UPPER(A609),Items!$B$2:$H$748,7,FALSE)<>0,VLOOKUP(UPPER(A609),Items!$B$2:$H$748,7,FALSE),\"\"),\"\")","v":""},"System Buy Price"]
[{"$f":"VLOOKUP(UPPER(M610),Items!$A$2:$B$525,2,FALSE)","v":"N0215"},"D",null,null,null,null,1,null,null,null,{"$f":"VLOOKUP(UPPER(A610),Items!$B$2:$G$525,6)","v":"decimal(10,5)"},{"$f":"IF(B610=\"D\",IF(VLOOKUP(UPPER(A610),Items!$B$2:$H$748,7,FALSE)<>0,VLOOKUP(UPPER(A610),Items!$B$2:$H$748,7,FALSE),\"\"),\"\")","v":""},"System Sell Price"]
[{"$f":"VLOOKUP(UPPER(M611),Items!$A$2:$B$525,2,FALSE)","v":"N0439"},"D",null,null,null,null,1,null,null,null,{"$f":"VLOOKUP(UPPER(A611),Items!$B$2:$G$525,6)","v":"text(2)"},{"$f":"IF(B611=\"D\",IF(VLOOKUP(UPPER(A611),Items!$B$2:$H$748,7,FALSE)<>0,VLOOKUP(UPPER(A611),Items!$B$2:$H$748,7,FALSE),\"\"),\"\")","v":"Price Derivation Code"},"Price Derivation Code"]
[{"$f":"VLOOKUP(UPPER(M612),Items!$A$2:$B$525,2,FALSE)","v":"N0333"},"D",null,null,null,null,1,null,null,null,{"$f":"VLOOKUP(UPPER(A612),Items!$B$2:$G$525,6)","v":"decimal(10,2)"},{"$f":"IF(B612=\"D\",IF(VLOOKUP(UPPER(A612),Items!$B$2:$H$748,7,FALSE)<>0,VLOOKUP(UPPER(A612),Items!$B$2:$H$748,7,FALSE),\"\"),\"\")","v":""},"Total System BM Cashflow"]
[{"$f":"VLOOKUP(UPPER(M613),Items!$A$2:$B$525,2,FALSE)","v":"N0225"},"D",null,null,null,null,1,null,null,null,{"$f":"VLOOKUP(UPPER(A613),Items!$B$2:$G$525,6)","v":"decimal(10,2)"},{"$f":"IF(B613=\"D\",IF(VLOOKUP(UPPER(A613),Items!$B$2:$H$748,7,FALSE)<>0,VLOOKUP(UPPER(A613),Items!$B$2:$H$748,7,FALSE),\"\"),\"\")","v":""},"Total System Energy Imbalance Cashflow"]
[{"$f":"VLOOKUP(UPPER(M614),Items!$A$2:$B$525,2,FALSE)","v":"N0228"},"D",null,null,null,null,1,null,null,null,{"$f":"VLOOKUP(UPPER(A614),Items!$B$2:$G$525,6)","v":"decimal(10,2)"},{"$f":"IF(B614=\"D\",IF(VLOOKUP(UPPER(A614),Items!$B$2:$H$748,7,FALSE)<>0,VLOOKUP(UPPER(A614),Items!$B$2:$H$748,7,FALSE),\"\"),\"\")","v":""},"Total System Non-Delivery Charge"]
[{"$f":"VLOOKUP(UPPER(M615),Items!$A$2:$B$525,2,FALSE)","v":"N0216"},"D",null,null,null,null,1,null,null,null,{"$f":"VLOOKUP(UPPER(A615),Items!$B$2:$G$525,6)","v":"decimal(10,3)"},{"$f":"IF(B615=\"D\",IF(VLOOKUP(UPPER(A615),Items!$B$2:$H$748,7,FALSE)<>0,VLOOKUP(UPPER(A615),Items!$B$2:$H$748,7,FALSE),\"\"),\"\")","v":""},"System Total Accepted Bid Volume"]
[{"$f":"VLOOKUP(UPPER(M616),Items!$A$2:$B$525,2,FALSE)","v":"N0386"},{"$f":"IF(LEN(K616)>0,\"D\",IF(LEN(A616)=5,\"F\",IF(LEN(A616)=3,\"R\",\" \")))","v":"D"},null,null,null,null,"O",null,null,null,{"$f":"VLOOKUP(UPPER(A616),Items!$B$2:$G$525,6)","v":"decimal(10,3)"},{"$f":"IF(B616=\"D\",IF(VLOOKUP(UPPER(A616),Items!$B$2:$H$748,7,FALSE)<>0,VLOOKUP(UPPER(A616),Items!$B$2:$H$748,7,FALSE),\"\"),\"\")","v":""},"System Total Unpriced Accepted Bid Volume","Populated for pre-P217 Settlement Dates. This field will be null for post-P217 Settlement Dates"]
[{"$f":"VLOOKUP(UPPER(M617),Items!$A$2:$B$525,2,FALSE)","v":"N0393"},{"$f":"IF(LEN(K617)>0,\"D\",IF(LEN(A617)=5,\"F\",IF(LEN(A617)=3,\"R\",\" \")))","v":"D"},null,null,null,null,1,null,null,null,{"$f":"VLOOKUP(UPPER(A617),Items!$B$2:$G$525,6)","v":"decimal(10,3)"},{"$f":"IF(B617=\"D\",IF(VLOOKUP(UPPER(A617),Items!$B$2:$H$748,7,FALSE)<>0,VLOOKUP(UPPER(A617),Items!$B$2:$H$748,7,FALSE),\"\"),\"\")","v":""},"System Total Priced Accepted Bid Volume"]
[{"$f":"VLOOKUP(UPPER(M618),Items!$A$2:$B$525,2,FALSE)","v":"N0224"},{"$f":"IF(LEN(K618)>0,\"D\",IF(LEN(A618)=5,\"F\",IF(LEN(A618)=3,\"R\",\" \")))","v":"D"},null,null,null,null,1,null,null,null,{"$f":"VLOOKUP(UPPER(A618),Items!$B$2:$G$525,6)","v":"decimal(10,3)"},{"$f":"IF(B618=\"D\",IF(VLOOKUP(UPPER(A618),Items!$B$2:$H$748,7,FALSE)<>0,VLOOKUP(UPPER(A618),Items!$B$2:$H$748,7,FALSE),\"\"),\"\")","v":""},"Total System Energy Contract Volume"]
[{"$f":"VLOOKUP(UPPER(M619),Items!$A$2:$B$748,2,FALSE)","v":"N0428"},{"$f":"IF(LEN(K619)>0,\"D\",IF(LEN(A619)=5,\"F\",IF(LEN(A619)=3,\"R\",\" \")))","v":"D"},null,null,null,null,"O",null,null,null,{"$f":"VLOOKUP(UPPER(A619),Items!$B$2:$G$525,6)","v":"decimal(10,3)"},{"$f":"IF(B619=\"D\",IF(VLOOKUP(UPPER(A619),Items!$B$2:$H$748,7,FALSE)<>0,VLOOKUP(UPPER(A619),Items!$B$2:$H$748,7,FALSE),\"\"),\"\")","v":""},"NIV Tagged System Total Unpriced Bid Volume","Populated for pre-P217 Settlement Dates. This field will be null for post-P217 Settlement Dates"]
["N0217",{"$f":"IF(LEN(K620)>0,\"D\",IF(LEN(A620)=5,\"F\",IF(LEN(A620)=3,\"R\",\" \")))","v":"D"},null,null,null,null,1,null,null,null,{"$f":"VLOOKUP(UPPER(A620),Items!$B$2:$G$525,6)","v":"decimal(10,3)"},{"$f":"IF(B620=\"D\",IF(VLOOKUP(UPPER(A620),Items!$B$2:$H$748,7,FALSE)<>0,VLOOKUP(UPPER(A620),Items!$B$2:$H$748,7,FALSE),\"\"),\"\")","v":""},"Total System Accepted Offer Volume"]
[{"$f":"VLOOKUP(UPPER(M621),Items!$A$2:$B$748,2,FALSE)","v":"N0429"},{"$f":"IF(LEN(K621)>0,\"D\",IF(LEN(A621)=5,\"F\",IF(LEN(A621)=3,\"R\",\" \")))","v":"D"},null,null,null,null,"O",null,null,null,{"$f":"VLOOKUP(UPPER(A621),Items!$B$2:$G$525,6)","v":"decimal(10,3)"},{"$f":"IF(B621=\"D\",IF(VLOOKUP(UPPER(A621),Items!$B$2:$H$748,7,FALSE)<>0,VLOOKUP(UPPER(A621),Items!$B$2:$H$748,7,FALSE),\"\"),\"\")","v":""},"NIV Tagged System Total Unpriced Offer Volume","Populated for pre-P217 Settlement Dates. This field will be null for post-P217 Settlement Dates"]
[{"$f":"VLOOKUP(UPPER(M622),Items!$A$2:$B$748,2,FALSE)","v":"N0430"},"D",null,null,null,null,1,null,null,null,{"$f":"VLOOKUP(UPPER(A622),Items!$B$2:$G$525,6)","v":"decimal(10,3)"},{"$f":"IF(B622=\"D\",IF(VLOOKUP(UPPER(A622),Items!$B$2:$H$748,7,FALSE)<>0,VLOOKUP(UPPER(A622),Items!$B$2:$H$748,7,FALSE),\"\"),\"\")","v":""},"Net Imbalance Volume"]
[{"$f":"VLOOKUP(UPPER(M623),Items!$A$2:$B$748,2,FALSE)","v":"N0431"},"D",null,null,null,null,1,null,null,null,{"$f":"VLOOKUP(UPPER(A623),Items!$B$2:$G$525,6)","v":"decimal(10,3)"},{"$f":"IF(B623=\"D\",IF(VLOOKUP(UPPER(A623),Items!$B$2:$H$748,7,FALSE)<>0,VLOOKUP(UPPER(A623),Items!$B$2:$H$748,7,FALSE),\"\"),\"\")","v":""},"Total NIV Tagged Volume"]
[{"$f":"VLOOKUP(UPPER(M624),Items!$A$2:$B$748,2,FALSE)","v":"N0432"},"D",null,null,null,null,"O",null,null,null,{"$f":"VLOOKUP(UPPER(A624),Items!$B$2:$G$525,6)","v":"decimal(10,3)"},{"$f":"IF(B624=\"D\",IF(VLOOKUP(UPPER(A624),Items!$B$2:$H$748,7,FALSE)<>0,VLOOKUP(UPPER(A624),Items!$B$2:$H$748,7,FALSE),\"\"),\"\")","v":""},"NIV Tagged SBVA","Populated for pre-P217 Settlement Dates. This field will be null for post-P217 Settlement Dates"]
[{"$f":"VLOOKUP(UPPER(M625),Items!$A$2:$B$748,2,FALSE)","v":"N0433"},"D",null,null,null,null,"O",null,null,null,{"$f":"VLOOKUP(UPPER(A625),Items!$B$2:$G$525,6)","v":"decimal(10,3)"},{"$f":"IF(B625=\"D\",IF(VLOOKUP(UPPER(A625),Items!$B$2:$H$748,7,FALSE)<>0,VLOOKUP(UPPER(A625),Items!$B$2:$H$748,7,FALSE),\"\"),\"\")","v":""},"NIV Tagged SSVA","Populated for pre-P217 Settlement Dates. This field will be null for post-P217 Settlement Dates"]
[{"$f":"VLOOKUP(UPPER(M626),Items!$A$2:$B$525,2,FALSE)","v":"N0387"},"D",null,null,null,null,"O",null,null,null,{"$f":"VLOOKUP(UPPER(A626),Items!$B$2:$G$525,6)","v":"decimal(10,3)"},{"$f":"IF(B626=\"D\",IF(VLOOKUP(UPPER(A626),Items!$B$2:$H$748,7,FALSE)<>0,VLOOKUP(UPPER(A626),Items!$B$2:$H$748,7,FALSE),\"\"),\"\")","v":""},"System Total Unpriced Accepted Offer Volume","Populated for pre-P217 Settlement Dates. This field will be null for post-P217 Settlement Dates"]
[{"$f":"VLOOKUP(UPPER(M627),Items!$A$2:$B$525,2,FALSE)","v":"N0394"},"D",null,null,null,null,1,null,null,null,{"$f":"VLOOKUP(UPPER(A627),Items!$B$2:$G$525,6)","v":"decimal(10,3)"},{"$f":"IF(B627=\"D\",IF(VLOOKUP(UPPER(A627),Items!$B$2:$H$748,7,FALSE)<>0,VLOOKUP(UPPER(A627),Items!$B$2:$H$748,7,FALSE),\"\"),\"\")","v":""},"System Total Priced Accepted Offer Volume"]
[{"$f":"VLOOKUP(UPPER(M628),Items!$A$2:$B$525,2,FALSE)","v":"N0226"},"D",null,null,null,null,1,null,null,null,{"$f":"VLOOKUP(UPPER(A628),Items!$B$2:$G$525,6)","v":"decimal(10,3)"},{"$f":"IF(B628=\"D\",IF(VLOOKUP(UPPER(A628),Items!$B$2:$H$748,7,FALSE)<>0,VLOOKUP(UPPER(A628),Items!$B$2:$H$748,7,FALSE),\"\"),\"\")","v":""},"Total System Energy Imbalance Volume"]
[{"$f":"VLOOKUP(UPPER(M629),Items!$A$2:$B$525,2,FALSE)","v":"N0395"},"D",null,null,null,null,1,null,null,null,{"$f":"VLOOKUP(UPPER(A629),Items!$B$2:$G$525,6)","v":"decimal(10,3)"},{"$f":"IF(B629=\"D\",IF(VLOOKUP(UPPER(A629),Items!$B$2:$H$748,7,FALSE)<>0,VLOOKUP(UPPER(A629),Items!$B$2:$H$748,7,FALSE),\"\"),\"\")","v":""},"Residual Cashflow Reallocation Denominator"]
[{"$f":"VLOOKUP(UPPER(M630),Items!$A$2:$B$525,2,FALSE)","v":"N0230"},"D",null,null,null,null,1,null,null,null,{"$f":"VLOOKUP(UPPER(A630),Items!$B$2:$G$525,6)","v":"decimal(10,2)"},{"$f":"IF(B630=\"D\",IF(VLOOKUP(UPPER(A630),Items!$B$2:$H$748,7,FALSE)<>0,VLOOKUP(UPPER(A630),Items!$B$2:$H$748,7,FALSE),\"\"),\"\")","v":""},"Total System Residual Cashflow"]
[{"$f":"VLOOKUP(UPPER(M631),Items!$A$2:$B$525,2,FALSE)","v":"N0227"},"D",null,null,null,null,1,null,null,null,{"$f":"VLOOKUP(UPPER(A631),Items!$B$2:$G$525,6)","v":"decimal(10,2)"},{"$f":"IF(B631=\"D\",IF(VLOOKUP(UPPER(A631),Items!$B$2:$H$748,7,FALSE)<>0,VLOOKUP(UPPER(A631),Items!$B$2:$H$748,7,FALSE),\"\"),\"\")","v":""},"Total System Information Imbalance Charge"]
[{"$f":"VLOOKUP(UPPER(M632),Items!$A$2:$B$525,2,FALSE)","v":"N0420"},"D",null,null,null,null,"O",null,null,null,{"$f":"VLOOKUP(UPPER(A632),Items!$B$2:$G$525,6)","v":"decimal(10,2)"},{"$f":"IF(B632=\"D\",IF(VLOOKUP(UPPER(A632),Items!$B$2:$H$748,7,FALSE)<>0,VLOOKUP(UPPER(A632),Items!$B$2:$H$748,7,FALSE),\"\"),\"\")","v":""},"Net Energy Sell-Price Cost Adjustment","Populated for pre-P217 Settlement Dates. This field will be null for post-P217 Settlement Dates"]
[{"$f":"VLOOKUP(UPPER(M633),Items!$A$2:$B$525,2,FALSE)","v":"N0419"},"D",null,null,null,null,"O",null,null,null,{"$f":"VLOOKUP(UPPER(A633),Items!$B$2:$G$525,6)","v":"decimal(10,2)"},{"$f":"IF(B633=\"D\",IF(VLOOKUP(UPPER(A633),Items!$B$2:$H$748,7,FALSE)<>0,VLOOKUP(UPPER(A633),Items!$B$2:$H$748,7,FALSE),\"\"),\"\")","v":""},"Net Energy Buy-Price Cost Adjustment","Populated for pre-P217 Settlement Dates. This field will be null for post-P217 Settlement Dates"]
[{"$f":"VLOOKUP(UPPER(M634),Items!$A$2:$B$525,2,FALSE)","v":"N0418"},"D",null,null,null,null,"O",null,null,null,{"$f":"VLOOKUP(UPPER(A634),Items!$B$2:$G$525,6)","v":"decimal(10,3)"},{"$f":"IF(B634=\"D\",IF(VLOOKUP(UPPER(A634),Items!$B$2:$H$748,7,FALSE)<>0,VLOOKUP(UPPER(A634),Items!$B$2:$H$748,7,FALSE),\"\"),\"\")","v":""},"Net Energy Sell-Price Volume Adjustment","Populated for pre-P217 Settlement Dates. This field will be null for post-P217 Settlement Dates"]
[{"$f":"VLOOKUP(UPPER(M635),Items!$A$2:$B$525,2,FALSE)","v":"N0417"},"D",null,null,null,null,"O",null,null,null,{"$f":"VLOOKUP(UPPER(A635),Items!$B$2:$G$525,6)","v":"decimal(10,3)"},{"$f":"IF(B635=\"D\",IF(VLOOKUP(UPPER(A635),Items!$B$2:$H$748,7,FALSE)<>0,VLOOKUP(UPPER(A635),Items!$B$2:$H$748,7,FALSE),\"\"),\"\")","v":""},"Net Energy Buy-Price Volume Adjustment","Populated for pre-P217 Settlement Dates. This field will be null for post-P217 Settlement Dates"]
[{"$f":"VLOOKUP(UPPER(M636),Items!$A$2:$B$748,2,FALSE)","v":"N0416"},"D",null,null,null,null,"O",null,null,null,{"$f":"VLOOKUP(UPPER(A636),Items!$B$2:$G$525,6)","v":"decimal(10,3)"},{"$f":"IF(VLOOKUP(UPPER(A636),Items!$B$2:$H$748,7,FALSE)<>0,VLOOKUP(UPPER(A636),Items!$B$2:$H$748,7,FALSE),\"\")","v":""},"Net System Sell-Price Volume Adjustment","Populated for pre-P217 Settlement Dates. This field will be null for post-P217 Settlement Dates"]
[{"$f":"VLOOKUP(UPPER(M637),Items!$A$2:$B$748,2,FALSE)","v":"N0415"},"D",null,null,null,null,"O",null,null,null,{"$f":"VLOOKUP(UPPER(A637),Items!$B$2:$G$525,6)","v":"decimal(10,3)"},{"$f":"IF(VLOOKUP(UPPER(A637),Items!$B$2:$H$748,7,FALSE)<>0,VLOOKUP(UPPER(A637),Items!$B$2:$H$748,7,FALSE),\"\")","v":""},"Net System Buy-Price Volume Adjustment","Populated for pre-P217 Settlement Dates. This field will be null for post-P217 Settlement Dates"]
[{"$f":"VLOOKUP(UPPER(M638),Items!$A$2:$B$525,2,FALSE)","v":"N0371"},"D",null,null,null,null,1,null,null,null,{"$f":"VLOOKUP(UPPER(A638),Items!$B$2:$G$525,6)","v":"decimal(10,2)"},{"$f":"IF(B638=\"D\",IF(VLOOKUP(UPPER(A638),Items!$B$2:$H$748,7,FALSE)<>0,VLOOKUP(UPPER(A638),Items!$B$2:$H$748,7,FALSE),\"\"),\"\")","v":""},"Sell-Price Price Adjust"]
[{"$f":"VLOOKUP(UPPER(M639),Items!$A$2:$B$525,2,FALSE)","v":"N0372"},"D",null,null,null,null,1,null,null,null,{"$f":"VLOOKUP(UPPER(A639),Items!$B$2:$G$525,6)","v":"decimal(10,2)"},{"$f":"IF(B639=\"D\",IF(VLOOKUP(UPPER(A639),Items!$B$2:$H$748,7,FALSE)<>0,VLOOKUP(UPPER(A639),Items!$B$2:$H$748,7,FALSE),\"\"),\"\")","v":""},"Buy-Price Price Adjust"]
[{"$f":"VLOOKUP(UPPER(M640),Items!$A$2:$B$748,2,FALSE)","v":"N0438"},"D",null,null,null,null,1,null,null,null,{"$f":"VLOOKUP(UPPER(A640),Items!$B$2:$G$748,6)","v":"decimal(10,3)"},{"$f":"IF(B640=\"D\",IF(VLOOKUP(UPPER(A640),Items!$B$2:$H$748,7,FALSE)<>0,VLOOKUP(UPPER(A640),Items!$B$2:$H$748,7,FALSE),\"\"),\"\")","v":""},"Total Period Applicable Balancing Services Volume","MWh"]
[{"$f":"VLOOKUP(UPPER(M641),Items!$A$2:$B$525,2,FALSE)","v":"N0335"},"D",null,null,null,null,1,null,null,null,{"$f":"VLOOKUP(UPPER(A641),Items!$B$2:$G$525,6)","v":"decimal(10,3)"},{"$f":"IF(B641=\"D\",IF(VLOOKUP(UPPER(A641),Items!$B$2:$H$748,7,FALSE)<>0,VLOOKUP(UPPER(A641),Items!$B$2:$H$748,7,FALSE),\"\"),\"\")","v":""},"System Operator Production Imbalance"]
[{"$f":"VLOOKUP(UPPER(M642),Items!$A$2:$B$525,2,FALSE)","v":"N0336"},"D",null,null,null,null,1,null,null,null,{"$f":"VLOOKUP(UPPER(A642),Items!$B$2:$G$525,6)","v":"decimal(10,3)"},{"$f":"IF(B642=\"D\",IF(VLOOKUP(UPPER(A642),Items!$B$2:$H$748,7,FALSE)<>0,VLOOKUP(UPPER(A642),Items!$B$2:$H$748,7,FALSE),\"\"),\"\")","v":""},"System Operator Consumption Imbalance"]
[{"$f":"VLOOKUP(UPPER(M643),Items!$A$2:$B$609,2,FALSE)","v":"N0501"},"D",null,null,null,null,"O",null,null,null,{"$f":"VLOOKUP(UPPER(A643),Items!$B$2:$G$526,6,FALSE)","v":"decimal(10,3)"},{"$f":"IF(B643=\"D\",IF(VLOOKUP(UPPER(A643),Items!$B$2:$H$748,7,FALSE)<>0,VLOOKUP(UPPER(A643),Items!$B$2:$H$748,7,FALSE),\"\"),\"\")","v":""},"NIV Tagged Energy Buy Volume Adjustment","Populated for post-P194/pre-P217 Settlement Dates. These fields will be null for all other Settlement Dates before the P194 effective date."]
[{"$f":"VLOOKUP(UPPER(M644),Items!$A$2:$B$609,2,FALSE)","v":"N0502"},"D",null,null,null,null,"O",null,null,null,{"$f":"VLOOKUP(UPPER(A644),Items!$B$2:$G$526,6,FALSE)","v":"decimal(10,3)"},{"$f":"IF(B644=\"D\",IF(VLOOKUP(UPPER(A644),Items!$B$2:$H$748,7,FALSE)<>0,VLOOKUP(UPPER(A644),Items!$B$2:$H$748,7,FALSE),\"\"),\"\")","v":""},"NIV Tagged Energy Sell Volume Adjustment","Populated for post-P194/pre-P217 Settlement Dates. These fields will be null for all other Settlement Dates before the P194 effective date."]
[{"$f":"VLOOKUP(UPPER(M645),Items!$A$2:$B$609,2,FALSE)","v":"N0503"},"D",null,null,null,null,"O",null,null,null,{"$f":"VLOOKUP(UPPER(A645),Items!$B$2:$G$526,6,FALSE)","v":"decimal(10,3)"},{"$f":"IF(B645=\"D\",IF(VLOOKUP(UPPER(A645),Items!$B$2:$H$748,7,FALSE)<>0,VLOOKUP(UPPER(A645),Items!$B$2:$H$748,7,FALSE),\"\"),\"\")","v":""},"PAR Tagged Energy Buy Volume Adjustment","Populated for post-P194/pre-P217 Settlement Dates. These fields will be null for all other Settlement Dates before the P194 effective date."]
[{"$f":"VLOOKUP(UPPER(M646),Items!$A$2:$B$609,2,FALSE)","v":"N0504"},"D",null,null,null,null,"O",null,null,null,{"$f":"VLOOKUP(UPPER(A646),Items!$B$2:$G$526,6,FALSE)","v":"decimal(10,3)"},{"$f":"IF(B646=\"D\",IF(VLOOKUP(UPPER(A646),Items!$B$2:$H$748,7,FALSE)<>0,VLOOKUP(UPPER(A646),Items!$B$2:$H$748,7,FALSE),\"\"),\"\")","v":""},"PAR Tagged Energy Sell Volume Adjustment","Populated for post-P194/pre-P217 Settlement Dates. These fields will be null for all other Settlement Dates before the P194 effective date."]
[{"$f":"VLOOKUP(UPPER(M647),Items!$A$2:$B$748,2,FALSE)","v":"N0434"},"D",null,null,null,null,"O",null,null,null,{"$f":"VLOOKUP(UPPER(A647),Items!$B$2:$G$525,6)","v":"decimal(10,2)"},{"$f":"IF(B647=\"D\",IF(VLOOKUP(UPPER(A647),Items!$B$2:$H$748,7,FALSE)<>0,VLOOKUP(UPPER(A647),Items!$B$2:$H$748,7,FALSE),\"\"),\"\")","v":""},"Untagged EBCA","Populated for pre-P217 Settlement Dates. This field will be null for post-P217 Settlement Dates"]
[{"$f":"VLOOKUP(UPPER(M648),Items!$A$2:$B$748,2,FALSE)","v":"N0435"},"D",null,null,null,null,"O",null,null,null,{"$f":"VLOOKUP(UPPER(A648),Items!$B$2:$G$525,6)","v":"decimal(10,3)"},{"$f":"IF(B648=\"D\",IF(VLOOKUP(UPPER(A648),Items!$B$2:$H$748,7,FALSE)<>0,VLOOKUP(UPPER(A648),Items!$B$2:$H$748,7,FALSE),\"\"),\"\")","v":""},"Untagged EBVA","Populated for pre-P217 Settlement Dates. This field will be null for post-P217 Settlement Dates"]
[{"$f":"VLOOKUP(UPPER(M649),Items!$A$2:$B$748,2,FALSE)","v":"N0436"},"D",null,null,null,null,"O",null,null,null,{"$f":"VLOOKUP(UPPER(A649),Items!$B$2:$G$525,6)","v":"decimal(10,2)"},{"$f":"IF(B649=\"D\",IF(VLOOKUP(UPPER(A649),Items!$B$2:$H$748,7,FALSE)<>0,VLOOKUP(UPPER(A649),Items!$B$2:$H$748,7,FALSE),\"\"),\"\")","v":""},"Untagged ESCA","Populated for pre-P217 Settlement Dates. This field will be null for post-P217 Settlement Dates"]
[{"$f":"VLOOKUP(UPPER(M650),Items!$A$2:$B$748,2,FALSE)","v":"N0437"},"D",null,null,null,null,"O",null,null,null,{"$f":"VLOOKUP(UPPER(A650),Items!$B$2:$G$525,6)","v":"decimal(10,3)"},{"$f":"IF(B650=\"D\",IF(VLOOKUP(UPPER(A650),Items!$B$2:$H$748,7,FALSE)<>0,VLOOKUP(UPPER(A650),Items!$B$2:$H$748,7,FALSE),\"\"),\"\")","v":""},"Untagged ESVA","Populated for pre-P217 Settlement Dates. This field will be null for post-P217 Settlement Dates"]
[{"$f":"VLOOKUP(UPPER(M651),Items!$A$2:$B$525,2,FALSE)","v":"N0517"},"D",null,null,null,null,"O",null,null,null,{"$f":"VLOOKUP(UPPER(A651),Items!$B$2:$G$525,6)","v":"decimal(10,3)"},{"$f":"IF(B651=\"D\",IF(VLOOKUP(UPPER(A651),Items!$B$2:$H$748,7,FALSE)<>0,VLOOKUP(UPPER(A651),Items!$B$2:$H$748,7,FALSE),\"\"),\"\")","v":""},"Total System Tagged Accepted Bid Volume","Populated for post-P217 Settlement Dates. This field will be null for pre-P217 Settlement Dates"]
[{"$f":"VLOOKUP(UPPER(M652),Items!$A$2:$B$748,2,FALSE)","v":"N0518"},"D",null,null,null,null,"O",null,null,null,{"$f":"VLOOKUP(UPPER(A652),Items!$B$2:$G$525,6)","v":"decimal(10,3)"},{"$f":"IF(B652=\"D\",IF(VLOOKUP(UPPER(A652),Items!$B$2:$H$748,7,FALSE)<>0,VLOOKUP(UPPER(A652),Items!$B$2:$H$748,7,FALSE),\"\"),\"\")","v":""},"Total System Tagged Accepted Offer Volume","Populated for post-P217 Settlement Dates. This field will be null for pre-P217 Settlement Dates"]
[{"$f":"VLOOKUP(UPPER(M653),Items!$A$2:$B$748,2,FALSE)","v":"N0519"},"D",null,null,null,null,"O",null,null,null,{"$f":"VLOOKUP(UPPER(A653),Items!$B$2:$G$525,6)","v":"decimal(10,3)"},{"$f":"IF(B653=\"D\",IF(VLOOKUP(UPPER(A653),Items!$B$2:$H$748,7,FALSE)<>0,VLOOKUP(UPPER(A653),Items!$B$2:$H$748,7,FALSE),\"\"),\"\")","v":""},"Total System Repriced Accepted Bid Volume","Populated for post-P217 Settlement Dates. This field will be null for pre-P217 Settlement Dates"]
[{"$f":"VLOOKUP(UPPER(M654),Items!$A$2:$B$525,2,FALSE)","v":"N0520"},"D",null,null,null,null,"O",null,null,null,{"$f":"VLOOKUP(UPPER(A654),Items!$B$2:$G$525,6)","v":"decimal(10,3)"},{"$f":"IF(B654=\"D\",IF(VLOOKUP(UPPER(A654),Items!$B$2:$H$748,7,FALSE)<>0,VLOOKUP(UPPER(A654),Items!$B$2:$H$748,7,FALSE),\"\"),\"\")","v":""},"Total System Repriced Accepted Offer Volume","Populated for post-P217 Settlement Dates. This field will be null for pre-P217 Settlement Dates"]
[{"$f":"VLOOKUP(UPPER(M655),Items!$A$2:$B$525,2,FALSE)","v":"N0521"},"D",null,null,null,null,"O",null,null,null,{"$f":"VLOOKUP(UPPER(A655),Items!$B$2:$G$525,6)","v":"decimal(10,3)"},{"$f":"IF(B655=\"D\",IF(VLOOKUP(UPPER(A655),Items!$B$2:$H$748,7,FALSE)<>0,VLOOKUP(UPPER(A655),Items!$B$2:$H$748,7,FALSE),\"\"),\"\")","v":""},"Total System Originally-priced Accepted Bid Volume","Populated for post-P217 Settlement Dates. This field will be null for pre-P217 Settlement Dates"]
[{"$f":"VLOOKUP(UPPER(M656),Items!$A$2:$B$748,2,FALSE)","v":"N0522"},"D",null,null,null,null,"O",null,null,null,{"$f":"VLOOKUP(UPPER(A656),Items!$B$2:$G$748,6)","v":"decimal(10,3)"},{"$f":"IF(B656=\"D\",IF(VLOOKUP(UPPER(A656),Items!$B$2:$H$748,7,FALSE)<>0,VLOOKUP(UPPER(A656),Items!$B$2:$H$748,7,FALSE),\"\"),\"\")","v":""},"Total System Originally-priced Accepted Offer Volume","Populated for post-P217 Settlement Dates. This field will be null for pre-P217 Settlement Dates"]
[{"$f":"VLOOKUP(UPPER(M657),Items!$A$2:$B$525,2,FALSE)","v":"N0523"},"D",null,null,null,null,"O",null,null,null,{"$f":"VLOOKUP(UPPER(A657),Items!$B$2:$G$525,6)","v":"decimal(10,3)"},{"$f":"IF(B657=\"D\",IF(VLOOKUP(UPPER(A657),Items!$B$2:$H$748,7,FALSE)<>0,VLOOKUP(UPPER(A657),Items!$B$2:$H$748,7,FALSE),\"\"),\"\")","v":""},"Total System Adjustment Sell Volume","Populated for post-P217 Settlement Dates. This field will be null for pre-P217 Settlement Dates"]
[{"$f":"VLOOKUP(UPPER(M658),Items!$A$2:$B$525,2,FALSE)","v":"N0524"},"D",null,null,null,null,"O",null,null,null,{"$f":"VLOOKUP(UPPER(A658),Items!$B$2:$G$525,6)","v":"decimal(10,3)"},{"$f":"IF(B658=\"D\",IF(VLOOKUP(UPPER(A658),Items!$B$2:$H$748,7,FALSE)<>0,VLOOKUP(UPPER(A658),Items!$B$2:$H$748,7,FALSE),\"\"),\"\")","v":""},"Total System Adjustment Buy Volume","Populated for post-P217 Settlement Dates. This field will be null for pre-P217 Settlement Dates"]
[{"$f":"VLOOKUP(UPPER(M659),Items!$A$2:$B$609,2,FALSE)","v":"N0525"},"D",null,null,null,null,"O",null,null,null,{"$f":"VLOOKUP(UPPER(A659),Items!$B$2:$G$526,6,FALSE)","v":"decimal(10,3)"},null,"Total System Tagged Adjustment Sell Volume","Populated for post-P217 Settlement Dates. This field will be null for pre-P217 Settlement Dates"]
[{"$f":"VLOOKUP(UPPER(M660),Items!$A$2:$B$609,2,FALSE)","v":"N0526"},"D",null,null,null,null,"O",null,null,null,{"$f":"VLOOKUP(UPPER(A660),Items!$B$2:$G$526,6,FALSE)","v":"decimal(10,3)"},null,"Total System Tagged Adjustment Buy Volume","Populated for post-P217 Settlement Dates. This field will be null for pre-P217 Settlement Dates"]
[{"$f":"VLOOKUP(UPPER(M661),Items!$A$2:$B$609,2,FALSE)","v":"N0527"},"D",null,null,null,null,"O",null,null,null,{"$f":"VLOOKUP(UPPER(A661),Items!$B$2:$G$526,6,FALSE)","v":"decimal(10,3)"},null,"Total System Repriced Adjustment Sell Volume","Populated for post-P217 Settlement Dates. This field will be null for pre-P217 Settlement Dates"]
[{"$f":"VLOOKUP(UPPER(M662),Items!$A$2:$B$609,2,FALSE)","v":"N0528"},"D",null,null,null,null,"O",null,null,null,{"$f":"VLOOKUP(UPPER(A662),Items!$B$2:$G$526,6,FALSE)","v":"decimal(10,3)"},null,"Total System Repriced Adjustment Buy Volume","Populated for post-P217 Settlement Dates. This field will be null for pre-P217 Settlement Dates"]
[{"$f":"VLOOKUP(UPPER(M663),Items!$A$2:$B$748,2,FALSE)","v":"N0529"},"D",null,null,null,null,"O",null,null,null,{"$f":"VLOOKUP(UPPER(A663),Items!$B$2:$G$525,6)","v":"decimal(10,3)"},{"$f":"IF(VLOOKUP(UPPER(A663),Items!$B$2:$H$748,7,FALSE)<>0,VLOOKUP(UPPER(A663),Items!$B$2:$H$748,7,FALSE),\"\")","v":""},"Total System Originally-priced Adjustment Sell Volume","Populated for post-P217 Settlement Dates. This field will be null for pre-P217 Settlement Dates"]
[{"$f":"VLOOKUP(UPPER(M664),Items!$A$2:$B$748,2,FALSE)","v":"N0530"},"D",null,null,null,null,"O",null,null,null,{"$f":"VLOOKUP(UPPER(A664),Items!$B$2:$G$525,6)","v":"decimal(10,3)"},{"$f":"IF(VLOOKUP(UPPER(A664),Items!$B$2:$H$748,7,FALSE)<>0,VLOOKUP(UPPER(A664),Items!$B$2:$H$748,7,FALSE),\"\")","v":""},"Total System Originally-priced Adjustment Buy Volume","Populated for post-P217 Settlement Dates. This field will be null for pre-P217 Settlement Dates"]
[{"$f":"VLOOKUP(UPPER(M665),Items!$A$2:$B$748,2,FALSE)","v":"N0531"},"D",null,null,null,null,"O",null,null,null,{"$f":"VLOOKUP(UPPER(A665),Items!$B$2:$G$525,6)","v":"decimal(10,2)"},{"$f":"IF(VLOOKUP(UPPER(A665),Items!$B$2:$H$748,7,FALSE)<>0,VLOOKUP(UPPER(A665),Items!$B$2:$H$748,7,FALSE),\"\")","v":""},"Replacement Price","Populated for post-P217 Settlement Dates. This field will be null for pre-P217 Settlement Dates"]
[{"$f":"VLOOKUP(UPPER(M666),Items!$A$2:$B$748,2,FALSE)","v":"N0532"},"D",null,null,null,null,"O",null,null,null,{"$f":"VLOOKUP(UPPER(A666),Items!$B$2:$G$525,6)","v":"decimal(10,3)"},{"$f":"IF(VLOOKUP(UPPER(A666),Items!$B$2:$H$748,7,FALSE)<>0,VLOOKUP(UPPER(A666),Items!$B$2:$H$748,7,FALSE),\"\")","v":""},"Replacement Price Calculation Volume","Populated for post-P217 Settlement Dates. This field will be null for pre-P217 Settlement Dates"]
[{"$f":"VLOOKUP(UPPER(M667),Items!$A$2:$B$639,2,FALSE)","v":"N0558"},"D",null,null,null,null,"O",null,null,null,{"$f":"VLOOKUP(UPPER(A667),Items!$B$2:$G$553,6)","v":"boolean"},{"$f":"IF(VLOOKUP(UPPER(A667),Items!$B$2:$H$748,7,FALSE)<>0,VLOOKUP(UPPER(A667),Items!$B$2:$H$748,7,FALSE),\"\")","v":""},"Stor Availability Window Flag","Populated for post-P305 Settlement Dates. This field will be null for pre-P305 Settlement Dates"]
[{"$f":"VLOOKUP(UPPER(M668),Items!$A$2:$B$639,2,FALSE)","v":"N0559"},"D",null,null,null,null,"O",null,null,null,{"$f":"VLOOKUP(UPPER(A668),Items!$B$2:$G$553,6)","v":"decimal(10,9)"},{"$f":"IF(VLOOKUP(UPPER(A668),Items!$B$2:$H$748,7,FALSE)<>0,VLOOKUP(UPPER(A668),Items!$B$2:$H$748,7,FALSE),\"\")","v":""},"Loss Of Load Probability","Populated for post-P305 Settlement Dates (but will be null if the Transmission Company does not provide a value and the BMRA/SAA does not use a default value). This field will be null for pre-P305 Settlement Dates"]
[{"$f":"VLOOKUP(UPPER(M669),Items!$A$2:$B$639,2,FALSE)","v":"N0560"},"D",null,null,null,null,"O",null,null,null,{"$f":"VLOOKUP(UPPER(A669),Items!$B$2:$G$553,6)","v":"decimal(15,7)"},{"$f":"IF(VLOOKUP(UPPER(A669),Items!$B$2:$H$748,7,FALSE)<>0,VLOOKUP(UPPER(A669),Items!$B$2:$H$748,7,FALSE),\"\")","v":""},"De-rated Margin","Populated for post-P305 Settlement Dates (but will be null if the Transmission Company does not provide a value). This field will be null for pre-P305 Settlement Dates"]
[{"$f":"VLOOKUP(UPPER(M670),Items!$A$2:$B$639,2,FALSE)","v":"N0561"},"D",null,null,null,null,"O",null,null,null,{"$f":"VLOOKUP(UPPER(A670),Items!$B$2:$G$553,6)","v":"decimal(10,2)"},{"$f":"IF(VLOOKUP(UPPER(A670),Items!$B$2:$H$748,7,FALSE)<>0,VLOOKUP(UPPER(A670),Items!$B$2:$H$748,7,FALSE),\"\")","v":""},"Value Of Lost Load","Populated for post-P305 Settlement Dates. This field will be null for pre-P305 Settlement Dates"]
[{"$f":"VLOOKUP(UPPER(M671),Items!$A$2:$B$639,2,FALSE)","v":"N0562"},"D",null,null,null,null,"O",null,null,null,{"$f":"VLOOKUP(UPPER(A671),Items!$B$2:$G$553,6)","v":"decimal(10,5)"},{"$f":"IF(VLOOKUP(UPPER(A671),Items!$B$2:$H$748,7,FALSE)<>0,VLOOKUP(UPPER(A671),Items!$B$2:$H$748,7,FALSE),\"\")","v":""},"Reserve Scarcity Price","Populated for post-P305 Settlement Dates (but will be null for any post P305 Settlement Period that is not within a STOR Availability Window). This field will be null for pre-P305 Settlement Dates"]
["MD2","R","0-*",null,null,null,"G",null,null,null,null,null,"Market Index Data Information"]
[{"$f":"VLOOKUP(UPPER(M673),Items!$A$2:$B$748,2,FALSE)","v":"N0423"},"D",null,null,null,null,null,1,null,null,{"$f":"VLOOKUP(UPPER(A673),Items!$B$2:$G$525,6)","v":"text(8)"},{"$f":"IF(VLOOKUP(UPPER(A673),Items!$B$2:$H$748,7,FALSE)<>0,VLOOKUP(UPPER(A673),Items!$B$2:$H$748,7,FALSE),\"\")","v":""},"Market Index Data Provider ID"]
[{"$f":"VLOOKUP(UPPER(M674),Items!$A$2:$B$748,2,FALSE)","v":"N0412"},"D",null,null,null,null,null,1,null,null,{"$f":"VLOOKUP(UPPER(A674),Items!$B$2:$G$525,6)","v":"decimal(10,3)"},{"$f":"IF(VLOOKUP(UPPER(A674),Items!$B$2:$H$748,7,FALSE)<>0,VLOOKUP(UPPER(A674),Items!$B$2:$H$748,7,FALSE),\"\")","v":""},"Individual Liquidity Threshold"]
[{"$f":"VLOOKUP(UPPER(M675),Items!$A$2:$B$748,2,FALSE)","v":"N0413"},"D",null,null,null,null,null,"O",null,null,{"$f":"VLOOKUP(UPPER(A675),Items!$B$2:$G$525,6)","v":"decimal(10,2)"},{"$f":"IF(VLOOKUP(UPPER(A675),Items!$B$2:$H$748,7,FALSE)<>0,VLOOKUP(UPPER(A675),Items!$B$2:$H$748,7,FALSE),\"\")","v":""},"Market Index Price","Null if no data provided by MIDP"]
[{"$f":"VLOOKUP(UPPER(M676),Items!$A$2:$B$748,2,FALSE)","v":"N0414"},"D",null,null,null,null,null,"O",null,null,{"$f":"VLOOKUP(UPPER(A676),Items!$B$2:$G$525,6)","v":"decimal(10,3)"},{"$f":"IF(VLOOKUP(UPPER(A676),Items!$B$2:$H$748,7,FALSE)<>0,VLOOKUP(UPPER(A676),Items!$B$2:$H$748,7,FALSE),\"\")","v":""},"Market Index Volume","Null if no data provided by MIDP"]
["DB2","R","0-*",null,null,"G",null,null,null,null,null,null,"Balancing Services Adjustment Action Data"]
[{"$f":"VLOOKUP(UPPER(M678),Items!$A$2:$B$525,2,FALSE)","v":"N0533"},"D",null,null,null,null,1,null,null,null,{"$f":"VLOOKUP(UPPER(A678),Items!$B$2:$G$525,6)","v":"integer(4)"},{"$f":"IF(B678=\"D\",IF(VLOOKUP(UPPER(A678),Items!$B$2:$H$748,7,FALSE)<>0,VLOOKUP(UPPER(A678),Items!$B$2:$H$748,7,FALSE),\"\"),\"\")","v":""},"Balancing Services Adjustment Action Id"]
[{"$f":"VLOOKUP(UPPER(M679),Items!$A$2:$B$525,2,FALSE)","v":"N0534"},"D",null,null,null,null,"O",null,null,null,{"$f":"VLOOKUP(UPPER(A679),Items!$B$2:$G$525,6)","v":"decimal(10,2)"},{"$f":"IF(B679=\"D\",IF(VLOOKUP(UPPER(A679),Items!$B$2:$H$748,7,FALSE)<>0,VLOOKUP(UPPER(A679),Items!$B$2:$H$748,7,FALSE),\"\"),\"\")","v":""},"Balancing Services Adjustment Action Cost","£ Null if Action is unpriced"]
[{"$f":"VLOOKUP(UPPER(M680),Items!$A$2:$B$525,2,FALSE)","v":"N0535"},"D",null,null,null,null,1,null,null,null,{"$f":"VLOOKUP(UPPER(A680),Items!$B$2:$G$525,6)","v":"decimal(10,3)"},{"$f":"IF(B680=\"D\",IF(VLOOKUP(UPPER(A680),Items!$B$2:$H$748,7,FALSE)<>0,VLOOKUP(UPPER(A680),Items!$B$2:$H$748,7,FALSE),\"\"),\"\")","v":""},"Balancing Services Adjustment Action Volume"]
[{"$f":"VLOOKUP(UPPER(M681),Items!$A$2:$B$525,2,FALSE)","v":"N0536"},"D",null,null,null,null,1,null,null,null,{"$f":"VLOOKUP(UPPER(A681),Items!$B$2:$G$525,6)","v":"decimal(10,3)"},{"$f":"IF(B681=\"D\",IF(VLOOKUP(UPPER(A681),Items!$B$2:$H$748,7,FALSE)<>0,VLOOKUP(UPPER(A681),Items!$B$2:$H$748,7,FALSE),\"\"),\"\")","v":""},"Tagged Balancing Services Adjustment Action Volume"]
[{"$f":"VLOOKUP(UPPER(M682),Items!$A$2:$B$525,2,FALSE)","v":"N0537"},"D",null,null,null,null,1,null,null,null,{"$f":"VLOOKUP(UPPER(A682),Items!$B$2:$G$525,6)","v":"decimal(10,3)"},{"$f":"IF(B682=\"D\",IF(VLOOKUP(UPPER(A682),Items!$B$2:$H$748,7,FALSE)<>0,VLOOKUP(UPPER(A682),Items!$B$2:$H$748,7,FALSE),\"\"),\"\")","v":""},"Repriced Balancing Services Adjustment Action Volume"]
[{"$f":"VLOOKUP(UPPER(M683),Items!$A$2:$B$525,2,FALSE)","v":"N0538"},"D",null,null,null,null,1,null,null,null,{"$f":"VLOOKUP(UPPER(A683),Items!$B$2:$G$525,6)","v":"decimal(10,3)"},{"$f":"IF(B683=\"D\",IF(VLOOKUP(UPPER(A683),Items!$B$2:$H$748,7,FALSE)<>0,VLOOKUP(UPPER(A683),Items!$B$2:$H$748,7,FALSE),\"\"),\"\")","v":""},"Originally-Priced Balancing Services Adjustment Action Volume"]
[{"$f":"VLOOKUP(UPPER(M684),Items!$A$2:$B$525,2,FALSE)","v":"N0539"},"D",null,null,null,null,1,null,null,null,{"$f":"VLOOKUP(UPPER(A684),Items!$B$2:$G$525,6)","v":"boolean"},{"$f":"IF(B684=\"D\",IF(VLOOKUP(UPPER(A684),Items!$B$2:$H$748,7,FALSE)<>0,VLOOKUP(UPPER(A684),Items!$B$2:$H$748,7,FALSE),\"\"),\"\")","v":""},"Balancing Services Adjustment Action SO-Flag"]
[{"$f":"VLOOKUP(UPPER(M685),Items!$A$2:$B$553,2,FALSE)","v":"N0563"},"D",null,null,null,null,"O",null,null,null,{"$f":"VLOOKUP(UPPER(A685),Items!$B$2:$G$553,6)","v":"boolean"},{"$f":"IF(B685=\"D\",IF(VLOOKUP(UPPER(A685),Items!$B$2:$H$748,7,FALSE)<>0,VLOOKUP(UPPER(A685),Items!$B$2:$H$748,7,FALSE),\"\"),\"\")","v":""},"Balancing Services Adjustment Action Stor Provider Flag","Populated for post-P305 Settlement Dates. This field will be null for pre-P305 Settlement Dates"]
[{"$f":"VLOOKUP(UPPER(M686),Items!$A$2:$B$553,2,FALSE)","v":"N0566"},"D",null,null,null,null,"O",null,null,null,{"$f":"VLOOKUP(UPPER(A686),Items!$B$2:$G$553,6)","v":"boolean"},{"$f":"IF(B686=\"D\",IF(VLOOKUP(UPPER(A686),Items!$B$2:$H$748,7,FALSE)<>0,VLOOKUP(UPPER(A686),Items!$B$2:$H$748,7,FALSE),\"\"),\"\")","v":""},"Reserve Scarcity Price Flag","Populated for post-P305 Settlement Dates. This field will be null for pre-P305 Settlement Dates"]
["APD","R","2",null,null,"G",null,null,null,null,null,{"$f":"IF(B687=\"D\",IF(VLOOKUP(UPPER(A687),Items!$B$2:$H$748,7,FALSE)<>0,VLOOKUP(UPPER(A687),Items!$B$2:$H$748,7,FALSE),\"\"),\"\")","v":""},"Account Period Data"]
[{"$f":"VLOOKUP(UPPER(M688),Items!$A$2:$B$525,2,FALSE)","v":"N0177"},"D",null,null,null,null,1,null,null,null,{"$f":"VLOOKUP(UPPER(A688),Items!$B$2:$G$525,6)","v":"char"},{"$f":"IF(B688=\"D\",IF(VLOOKUP(UPPER(A688),Items!$B$2:$H$748,7,FALSE)<>0,VLOOKUP(UPPER(A688),Items!$B$2:$H$748,7,FALSE),\"\"),\"\")","v":"P/C Flag"},"Production/Consumption Flag","P/C"]
[{"$f":"VLOOKUP(UPPER(M689),Items!$A$2:$B$525,2,FALSE)","v":"N0048"},"D",null,null,null,null,1,null,null,null,{"$f":"VLOOKUP(UPPER(A689),Items!$B$2:$G$525,6)","v":"decimal(10,2)"},{"$f":"IF(B689=\"D\",IF(VLOOKUP(UPPER(A689),Items!$B$2:$H$748,7,FALSE)<>0,VLOOKUP(UPPER(A689),Items!$B$2:$H$748,7,FALSE),\"\"),\"\")","v":""},"BSSC Limited Cost Allocation"]
[{"$f":"VLOOKUP(UPPER(M690),Items!$A$2:$B$525,2,FALSE)","v":"N0087"},"D",null,null,null,null,1,null,null,null,{"$f":"VLOOKUP(UPPER(A690),Items!$B$2:$G$525,6)","v":"decimal(10,2)"},{"$f":"IF(B690=\"D\",IF(VLOOKUP(UPPER(A690),Items!$B$2:$H$748,7,FALSE)<>0,VLOOKUP(UPPER(A690),Items!$B$2:$H$748,7,FALSE),\"\"),\"\")","v":""},"Energy Imbalance Charge"]
[{"$f":"VLOOKUP(UPPER(M691),Items!$A$2:$B$525,2,FALSE)","v":"N0123"},"D",null,null,null,null,1,null,null,null,{"$f":"VLOOKUP(UPPER(A691),Items!$B$2:$G$525,6)","v":"decimal(10,2)"},{"$f":"IF(B691=\"D\",IF(VLOOKUP(UPPER(A691),Items!$B$2:$H$748,7,FALSE)<>0,VLOOKUP(UPPER(A691),Items!$B$2:$H$748,7,FALSE),\"\"),\"\")","v":""},"Information Imbalance Charge"]
[{"$f":"VLOOKUP(UPPER(M692),Items!$A$2:$B$525,2,FALSE)","v":"N0194"},{"$f":"IF(LEN(K692)>0,\"D\",IF(LEN(A692)=5,\"F\",IF(LEN(A692)=3,\"R\",\" \")))","v":"D"},null,null,null,null,1,null,null,null,{"$f":"VLOOKUP(UPPER(A692),Items!$B$2:$G$525,6)","v":"decimal(10,2)"},{"$f":"IF(B692=\"D\",IF(VLOOKUP(UPPER(A692),Items!$B$2:$H$748,7,FALSE)<>0,VLOOKUP(UPPER(A692),Items!$B$2:$H$748,7,FALSE),\"\"),\"\")","v":""},"Residual Cashflow Reallocation Charge"]
[{"$f":"VLOOKUP(UPPER(M693),Items!$A$2:$B$525,2,FALSE)","v":"N0001"},"D",null,null,null,null,1,null,null,null,{"$f":"VLOOKUP(UPPER(A693),Items!$B$2:$G$525,6)","v":"decimal(10,3)"},{"$f":"IF(B693=\"D\",IF(VLOOKUP(UPPER(A693),Items!$B$2:$H$748,7,FALSE)<>0,VLOOKUP(UPPER(A693),Items!$B$2:$H$748,7,FALSE),\"\"),\"\")","v":""},"Account Bilateral Contract Volume"]
[{"$f":"VLOOKUP(UPPER(M694),Items!$A$2:$B$525,2,FALSE)","v":"N0004"},"D",null,null,null,null,1,null,null,null,{"$f":"VLOOKUP(UPPER(A694),Items!$B$2:$G$525,6)","v":"decimal(10,3)"},{"$f":"IF(B694=\"D\",IF(VLOOKUP(UPPER(A694),Items!$B$2:$H$748,7,FALSE)<>0,VLOOKUP(UPPER(A694),Items!$B$2:$H$748,7,FALSE),\"\"),\"\")","v":""},"Account Period Balancing Services Volume"]
[{"$f":"VLOOKUP(UPPER(M695),Items!$A$2:$B$525,2,FALSE)","v":"N0003"},"D",null,null,null,null,1,null,null,null,{"$f":"VLOOKUP(UPPER(A695),Items!$B$2:$G$525,6)","v":"decimal(10,3)"},{"$f":"IF(B695=\"D\",IF(VLOOKUP(UPPER(A695),Items!$B$2:$H$748,7,FALSE)<>0,VLOOKUP(UPPER(A695),Items!$B$2:$H$748,7,FALSE),\"\"),\"\")","v":""},"Account Energy Imbalance Volume"]
[{"$f":"VLOOKUP(UPPER(M696),Items!$A$2:$B$525,2,FALSE)","v":"N0002"},"D",null,null,null,null,1,null,null,null,{"$f":"VLOOKUP(UPPER(A696),Items!$B$2:$G$525,6)","v":"decimal(10,3)"},{"$f":"IF(B696=\"D\",IF(VLOOKUP(UPPER(A696),Items!$B$2:$H$748,7,FALSE)<>0,VLOOKUP(UPPER(A696),Items!$B$2:$H$748,7,FALSE),\"\"),\"\")","v":""},"Account Credited Energy Volume"]
[{"$f":"VLOOKUP(UPPER(M697),Items!$A$2:$B$525,2,FALSE)","v":"N0195"},"D",null,null,null,null,1,null,null,null,{"$f":"VLOOKUP(UPPER(A697),Items!$B$2:$G$525,6)","v":"decimal(8,7)"},{"$f":"IF(B697=\"D\",IF(VLOOKUP(UPPER(A697),Items!$B$2:$H$748,7,FALSE)<>0,VLOOKUP(UPPER(A697),Items!$B$2:$H$748,7,FALSE),\"\"),\"\")","v":""},"Residual Cashflow Reallocation Proportion"]
["APB","R","0-*",null,null,null,"G",null,null,null,null,null,"Account Period BMU Data"]
[{"$f":"VLOOKUP(UPPER(M699),Items!$A$2:$B$525,2,FALSE)","v":"N0034"},"D",null,null,null,null,null,1,null,null,{"$f":"VLOOKUP(UPPER(A699),Items!$B$2:$G$525,6)","v":"text(11)"},{"$f":"IF(B699=\"D\",IF(VLOOKUP(UPPER(A699),Items!$B$2:$H$748,7,FALSE)<>0,VLOOKUP(UPPER(A699),Items!$B$2:$H$748,7,FALSE),\"\"),\"\")","v":""},"BM Unit Id"]
[{"$f":"VLOOKUP(UPPER(M700),Items!$A$2:$B$525,2,FALSE)","v":"N0061"},"D",null,null,null,null,null,1,null,null,{"$f":"VLOOKUP(UPPER(A700),Items!$B$2:$G$525,6)","v":"decimal(10,3)"},{"$f":"IF(B700=\"D\",IF(VLOOKUP(UPPER(A700),Items!$B$2:$H$748,7,FALSE)<>0,VLOOKUP(UPPER(A700),Items!$B$2:$H$748,7,FALSE),\"\"),\"\")","v":""},"Credited Energy Volume"]
[{"$f":"VLOOKUP(UPPER(M701),Items!$A$2:$B$525,2,FALSE)","v":"N0109"},"D",null,null,null,null,null,1,null,null,{"$f":"VLOOKUP(UPPER(A701),Items!$B$2:$G$525,6)","v":"decimal(10,3)"},{"$f":"IF(B701=\"D\",IF(VLOOKUP(UPPER(A701),Items!$B$2:$H$748,7,FALSE)<>0,VLOOKUP(UPPER(A701),Items!$B$2:$H$748,7,FALSE),\"\"),\"\")","v":""},"Fixed Metered Volume Reallocation"]
[{"$f":"VLOOKUP(UPPER(M702),Items!$A$2:$B$525,2,FALSE)","v":"N0163"},"D",null,null,null,null,null,1,null,null,{"$f":"VLOOKUP(UPPER(A702),Items!$B$2:$G$525,6)","v":"decimal(8,5)"},{"$f":"IF(B702=\"D\",IF(VLOOKUP(UPPER(A702),Items!$B$2:$H$748,7,FALSE)<>0,VLOOKUP(UPPER(A702),Items!$B$2:$H$748,7,FALSE),\"\"),\"\")","v":""},"Percentage Metered Volume Reallocation"]
["BP7","R","0-*",null,null,"G",null,null,null,null,null,null,"BM Unit Period Data"]
[{"$f":"VLOOKUP(UPPER(M704),Items!$A$2:$B$525,2,FALSE)","v":"N0034"},"D",null,null,null,null,1,null,null,null,{"$f":"VLOOKUP(UPPER(A704),Items!$B$2:$G$525,6)","v":"text(11)"},{"$f":"IF(B704=\"D\",IF(VLOOKUP(UPPER(A704),Items!$B$2:$H$748,7,FALSE)<>0,VLOOKUP(UPPER(A704),Items!$B$2:$H$748,7,FALSE),\"\"),\"\")","v":""},"BM Unit Id"]
[{"$f":"VLOOKUP(UPPER(M705),Items!$A$2:$B$525,2,FALSE)","v":"N0122"},"D",null,null,null,null,1,null,null,null,{"$f":"VLOOKUP(UPPER(A705),Items!$B$2:$G$525,6)","v":"decimal(10,2)"},{"$f":"IF(B705=\"D\",IF(VLOOKUP(UPPER(A705),Items!$B$2:$H$748,7,FALSE)<>0,VLOOKUP(UPPER(A705),Items!$B$2:$H$748,7,FALSE),\"\"),\"\")","v":""},"Information Imbalance Cashflow"]
[{"$f":"VLOOKUP(UPPER(M706),Items!$A$2:$B$525,2,FALSE)","v":"N0037"},"D",null,null,null,null,1,null,null,null,{"$f":"VLOOKUP(UPPER(A706),Items!$B$2:$G$525,6)","v":"decimal(10,2)"},{"$f":"IF(B706=\"D\",IF(VLOOKUP(UPPER(A706),Items!$B$2:$H$748,7,FALSE)<>0,VLOOKUP(UPPER(A706),Items!$B$2:$H$748,7,FALSE),\"\"),\"\")","v":""},"BM Unit Period Non-Delivery Charge"]
[{"$f":"VLOOKUP(UPPER(M707),Items!$A$2:$B$525,2,FALSE)","v":"N0174"},"D",null,null,null,null,1,null,null,null,{"$f":"VLOOKUP(UPPER(A707),Items!$B$2:$G$525,6)","v":"decimal(10,3)"},{"$f":"IF(B707=\"D\",IF(VLOOKUP(UPPER(A707),Items!$B$2:$H$748,7,FALSE)<>0,VLOOKUP(UPPER(A707),Items!$B$2:$H$748,7,FALSE),\"\"),\"\")","v":""},"Period FPN"]
[{"$f":"VLOOKUP(UPPER(M708),Items!$A$2:$B$525,2,FALSE)","v":"N0164"},"D",null,null,null,null,1,null,null,null,{"$f":"VLOOKUP(UPPER(A708),Items!$B$2:$G$525,6)","v":"decimal(10,3)"},{"$f":"IF(B708=\"D\",IF(VLOOKUP(UPPER(A708),Items!$B$2:$H$748,7,FALSE)<>0,VLOOKUP(UPPER(A708),Items!$B$2:$H$748,7,FALSE),\"\"),\"\")","v":""},"Period BM Unit Balancing Services Volume"]
[{"$f":"VLOOKUP(UPPER(M709),Items!$A$2:$B$525,2,FALSE)","v":"N0175"},"D",null,null,null,null,1,null,null,null,{"$f":"VLOOKUP(UPPER(A709),Items!$B$2:$G$525,6)","v":"decimal(10,3)"},{"$f":"IF(B709=\"D\",IF(VLOOKUP(UPPER(A709),Items!$B$2:$H$748,7,FALSE)<>0,VLOOKUP(UPPER(A709),Items!$B$2:$H$748,7,FALSE),\"\"),\"\")","v":""},"Period Information Imbalance Volume"]
[{"$f":"VLOOKUP(UPPER(M710),Items!$A$2:$B$525,2,FALSE)","v":"N0173"},"D",null,null,null,null,1,null,null,null,{"$f":"VLOOKUP(UPPER(A710),Items!$B$2:$G$525,6)","v":"decimal(10,3)"},{"$f":"IF(B710=\"D\",IF(VLOOKUP(UPPER(A710),Items!$B$2:$H$748,7,FALSE)<>0,VLOOKUP(UPPER(A710),Items!$B$2:$H$748,7,FALSE),\"\"),\"\")","v":""},"Period Expected Metered Volume"]
[{"$f":"VLOOKUP(UPPER(M711),Items!$A$2:$B$525,2,FALSE)","v":"N0035"},"D",null,null,null,null,1,null,null,null,{"$f":"VLOOKUP(UPPER(A711),Items!$B$2:$G$525,6)","v":"decimal(10,3)"},{"$f":"IF(B711=\"D\",IF(VLOOKUP(UPPER(A711),Items!$B$2:$H$748,7,FALSE)<>0,VLOOKUP(UPPER(A711),Items!$B$2:$H$748,7,FALSE),\"\"),\"\")","v":""},"BM Unit Metered Volume"]
[{"$f":"VLOOKUP(UPPER(M712),Items!$A$2:$B$525,2,FALSE)","v":"N0166"},"D",null,null,null,null,1,null,null,null,{"$f":"VLOOKUP(UPPER(A712),Items!$B$2:$G$525,6)","v":"decimal(10,3)"},{"$f":"IF(B712=\"D\",IF(VLOOKUP(UPPER(A712),Items!$B$2:$H$748,7,FALSE)<>0,VLOOKUP(UPPER(A712),Items!$B$2:$H$748,7,FALSE),\"\"),\"\")","v":""},"Period BM Unit Non-Delivered Bid Volume"]
[{"$f":"VLOOKUP(UPPER(M713),Items!$A$2:$B$525,2,FALSE)","v":"N0167"},"D",null,null,null,null,1,null,null,null,{"$f":"VLOOKUP(UPPER(A713),Items!$B$2:$G$525,6)","v":"decimal(10,3)"},{"$f":"IF(B713=\"D\",IF(VLOOKUP(UPPER(A713),Items!$B$2:$H$748,7,FALSE)<>0,VLOOKUP(UPPER(A713),Items!$B$2:$H$748,7,FALSE),\"\"),\"\")","v":""},"Period BM Unit Non-Delivered Offer Volume"]
[{"$f":"VLOOKUP(UPPER(M714),Items!$A$2:$B$525,2,FALSE)","v":"N0233"},"D",null,null,null,null,1,null,null,null,{"$f":"VLOOKUP(UPPER(A714),Items!$B$2:$G$525,6)","v":"decimal(8,7)"},{"$f":"IF(B714=\"D\",IF(VLOOKUP(UPPER(A714),Items!$B$2:$H$748,7,FALSE)<>0,VLOOKUP(UPPER(A714),Items!$B$2:$H$748,7,FALSE),\"\"),\"\")","v":""},"Transmission Loss Factor"]
[{"$f":"VLOOKUP(UPPER(M715),Items!$A$2:$B$525,2,FALSE)","v":"N0234"},"D",null,null,null,null,1,null,null,null,{"$f":"VLOOKUP(UPPER(A715),Items!$B$2:$G$525,6)","v":"decimal(8,7)"},{"$f":"IF(B715=\"D\",IF(VLOOKUP(UPPER(A715),Items!$B$2:$H$748,7,FALSE)<>0,VLOOKUP(UPPER(A715),Items!$B$2:$H$748,7,FALSE),\"\"),\"\")","v":""},"Transmission Loss Multiplier"]
[{"$f":"VLOOKUP(UPPER(M716),Items!$A$2:$B$525,2,FALSE)","v":"N0232"},"D",null,null,null,null,1,null,null,null,{"$f":"VLOOKUP(UPPER(A716),Items!$B$2:$G$525,6)","v":"text(30)"},{"$f":"IF(B716=\"D\",IF(VLOOKUP(UPPER(A716),Items!$B$2:$H$748,7,FALSE)<>0,VLOOKUP(UPPER(A716),Items!$B$2:$H$748,7,FALSE),\"\"),\"\")","v":""},"Trading Unit Name"]
[{"$f":"VLOOKUP(UPPER(M717),Items!$A$2:$B$525,2,FALSE)","v":"N0231"},"D",null,null,null,null,1,null,null,null,{"$f":"VLOOKUP(UPPER(A717),Items!$B$2:$G$525,6)","v":"decimal(10,3)"},{"$f":"IF(B717=\"D\",IF(VLOOKUP(UPPER(A717),Items!$B$2:$H$748,7,FALSE)<>0,VLOOKUP(UPPER(A717),Items!$B$2:$H$748,7,FALSE),\"\"),\"\")","v":""},"Total Trading Unit Metered Volume"]
[{"$f":"VLOOKUP(UPPER(M718),Items!$A$2:$B$748,2,FALSE)","v":"N0421"},"D",null,null,null,null,1,null,null,null,{"$f":"VLOOKUP(UPPER(A718),Items!$B$2:$G$748,6)","v":"decimal(10,3)"},{"$f":"IF(B718=\"D\",IF(VLOOKUP(UPPER(A718),Items!$B$2:$H$748,7,FALSE)<>0,VLOOKUP(UPPER(A718),Items!$B$2:$H$748,7,FALSE),\"\"),\"\")","v":""},"BM Unit Applicable Balancing Services Volume","MWh"]
["FP2","R","0-*",null,null,null,"G",null,null,null,null,null,"FPN Value Pair"]
[{"$f":"VLOOKUP(UPPER(M720),Items!$A$2:$B$525,2,FALSE)","v":"N0220"},"D",null,null,null,null,null,1,null,null,{"$f":"VLOOKUP(UPPER(A720),Items!$B$2:$G$525,6)","v":"integer(2)"},{"$f":"IF(B720=\"D\",IF(VLOOKUP(UPPER(A720),Items!$B$2:$H$748,7,FALSE)<>0,VLOOKUP(UPPER(A720),Items!$B$2:$H$748,7,FALSE),\"\"),\"\")","v":""},"Time from","minutes from start of period"]
[{"$f":"VLOOKUP(UPPER(M721),Items!$A$2:$B$525,2,FALSE)","v":"N0111"},"D",null,null,null,null,null,"O",null,null,{"$f":"VLOOKUP(UPPER(A721),Items!$B$2:$G$525,6)","v":"decimal(10,3)"},{"$f":"IF(B721=\"D\",IF(VLOOKUP(UPPER(A721),Items!$B$2:$H$748,7,FALSE)<>0,VLOOKUP(UPPER(A721),Items!$B$2:$H$748,7,FALSE),\"\"),\"\")","v":""},"FPN Value From"]
[{"$f":"VLOOKUP(UPPER(M722),Items!$A$2:$B$525,2,FALSE)","v":"N0221"},"D",null,null,null,null,null,1,null,null,{"$f":"VLOOKUP(UPPER(A722),Items!$B$2:$G$525,6)","v":"integer(2)"},{"$f":"IF(B722=\"D\",IF(VLOOKUP(UPPER(A722),Items!$B$2:$H$748,7,FALSE)<>0,VLOOKUP(UPPER(A722),Items!$B$2:$H$748,7,FALSE),\"\"),\"\")","v":""},"Time To","minutes from start of period"]
[{"$f":"VLOOKUP(UPPER(M723),Items!$A$2:$B$525,2,FALSE)","v":"N0112"},"D",null,null,null,null,null,"O",null,null,{"$f":"VLOOKUP(UPPER(A723),Items!$B$2:$G$525,6)","v":"decimal(10,3)"},{"$f":"IF(B723=\"D\",IF(VLOOKUP(UPPER(A723),Items!$B$2:$H$748,7,FALSE)<>0,VLOOKUP(UPPER(A723),Items!$B$2:$H$748,7,FALSE),\"\"),\"\")","v":""},"FPN Value To"]
["BO4","R","0-*",null,null,null,"G",null,null,null,null,null,"BMU Period Bid-Offer Data"]
[{"$f":"VLOOKUP(UPPER(M725),Items!$A$2:$B$525,2,FALSE)","v":"N0025"},"D",null,null,null,null,null,1,null,null,{"$f":"VLOOKUP(UPPER(A725),Items!$B$2:$G$525,6)","v":"integer(2)"},{"$f":"IF(B725=\"D\",IF(VLOOKUP(UPPER(A725),Items!$B$2:$H$748,7,FALSE)<>0,VLOOKUP(UPPER(A725),Items!$B$2:$H$748,7,FALSE),\"\"),\"\")","v":""},"Bid-Offer Pair Number"]
[{"$f":"VLOOKUP(UPPER(M726),Items!$A$2:$B$525,2,FALSE)","v":"N0030"},"D",null,null,null,null,null,1,null,null,{"$f":"VLOOKUP(UPPER(A726),Items!$B$2:$G$525,6)","v":"decimal(10,5)"},{"$f":"IF(B726=\"D\",IF(VLOOKUP(UPPER(A726),Items!$B$2:$H$748,7,FALSE)<>0,VLOOKUP(UPPER(A726),Items!$B$2:$H$748,7,FALSE),\"\"),\"\")","v":""},"Bid Price"]
[{"$f":"VLOOKUP(UPPER(M727),Items!$A$2:$B$525,2,FALSE)","v":"N0153"},"D",null,null,null,null,null,1,null,null,{"$f":"VLOOKUP(UPPER(A727),Items!$B$2:$G$525,6)","v":"decimal(10,5)"},{"$f":"IF(B727=\"D\",IF(VLOOKUP(UPPER(A727),Items!$B$2:$H$748,7,FALSE)<>0,VLOOKUP(UPPER(A727),Items!$B$2:$H$748,7,FALSE),\"\"),\"\")","v":""},"Offer Price"]
[{"$f":"VLOOKUP(UPPER(M728),Items!$A$2:$B$525,2,FALSE)","v":"N0169"},"D",null,null,null,null,null,1,null,null,{"$f":"VLOOKUP(UPPER(A728),Items!$B$2:$G$525,6)","v":"decimal(10,3)"},{"$f":"IF(B728=\"D\",IF(VLOOKUP(UPPER(A728),Items!$B$2:$H$748,7,FALSE)<>0,VLOOKUP(UPPER(A728),Items!$B$2:$H$748,7,FALSE),\"\"),\"\")","v":""},"Period BM Unit Total Accepted Bid Volume"]
[{"$f":"VLOOKUP(UPPER(M729),Items!$A$2:$B$525,2,FALSE)","v":"N0170"},"D",null,null,null,null,null,1,null,null,{"$f":"VLOOKUP(UPPER(A729),Items!$B$2:$G$525,6)","v":"decimal(10,3)"},{"$f":"IF(B729=\"D\",IF(VLOOKUP(UPPER(A729),Items!$B$2:$H$748,7,FALSE)<>0,VLOOKUP(UPPER(A729),Items!$B$2:$H$748,7,FALSE),\"\"),\"\")","v":""},"Period BM Unit Total Accepted Offer Volume"]
[{"$f":"VLOOKUP(UPPER(M730),Items!$A$2:$B$525,2,FALSE)","v":"N0388"},"D",null,null,null,null,null,"O",null,null,{"$f":"VLOOKUP(UPPER(A730),Items!$B$2:$G$525,6)","v":"decimal(10,3)"},{"$f":"IF(B730=\"D\",IF(VLOOKUP(UPPER(A730),Items!$B$2:$H$748,7,FALSE)<>0,VLOOKUP(UPPER(A730),Items!$B$2:$H$748,7,FALSE),\"\"),\"\")","v":""},"Period BM Unit Total Priced Accepted Bid volume","Populated for pre-P217 Settlement Dates. This field null indicates value is same as Period BM Unit Total Accepted Bid volume"]
[{"$f":"VLOOKUP(UPPER(M731),Items!$A$2:$B$525,2,FALSE)","v":"N0389"},"D",null,null,null,null,null,"O",null,null,{"$f":"VLOOKUP(UPPER(A731),Items!$B$2:$G$525,6)","v":"decimal(10,3)"},{"$f":"IF(B731=\"D\",IF(VLOOKUP(UPPER(A731),Items!$B$2:$H$748,7,FALSE)<>0,VLOOKUP(UPPER(A731),Items!$B$2:$H$748,7,FALSE),\"\"),\"\")","v":""},"Period BM Unit Total Priced Accepted Offer volume","Populated for pre-P217 Settlement Dates. This field null indicates value is same as Period BM Unit Total Accepted Bid volume"]
[{"$f":"VLOOKUP(UPPER(M732),Items!$A$2:$B$525,2,FALSE)","v":"N0540"},"D",null,null,null,null,null,"O",null,null,{"$f":"VLOOKUP(UPPER(A732),Items!$B$2:$G$525,6)","v":"decimal(10,3)"},{"$f":"IF(B732=\"D\",IF(VLOOKUP(UPPER(A732),Items!$B$2:$H$748,7,FALSE)<>0,VLOOKUP(UPPER(A732),Items!$B$2:$H$748,7,FALSE),\"\"),\"\")","v":""},"Period BM Unit Tagged Bid Volume","Populated for post-P217 Settlement Dates. This field will be null for pre-P217 Settlement Dates"]
[{"$f":"VLOOKUP(UPPER(M733),Items!$A$2:$B$525,2,FALSE)","v":"N0541"},"D",null,null,null,null,null,"O",null,null,{"$f":"VLOOKUP(UPPER(A733),Items!$B$2:$G$525,6)","v":"decimal(10,3)"},{"$f":"IF(B733=\"D\",IF(VLOOKUP(UPPER(A733),Items!$B$2:$H$748,7,FALSE)<>0,VLOOKUP(UPPER(A733),Items!$B$2:$H$748,7,FALSE),\"\"),\"\")","v":""},"Period BM Unit Tagged Offer Volume","Populated for post-P217 Settlement Dates. This field will be null for pre-P217 Settlement Dates"]
[{"$f":"VLOOKUP(UPPER(M734),Items!$A$2:$B$525,2,FALSE)","v":"N0542"},"D",null,null,null,null,null,"O",null,null,{"$f":"VLOOKUP(UPPER(A734),Items!$B$2:$G$525,6)","v":"decimal(10,3)"},{"$f":"IF(B734=\"D\",IF(VLOOKUP(UPPER(A734),Items!$B$2:$H$748,7,FALSE)<>0,VLOOKUP(UPPER(A734),Items!$B$2:$H$748,7,FALSE),\"\"),\"\")","v":""},"Period BM Unit Repriced Bid Volume","Populated for post-P217 Settlement Dates. This field will be null for pre-P217 Settlement Dates"]
[{"$f":"VLOOKUP(UPPER(M735),Items!$A$2:$B$525,2,FALSE)","v":"N0543"},"D",null,null,null,null,null,"O",null,null,{"$f":"VLOOKUP(UPPER(A735),Items!$B$2:$G$525,6)","v":"decimal(10,3)"},{"$f":"IF(B735=\"D\",IF(VLOOKUP(UPPER(A735),Items!$B$2:$H$748,7,FALSE)<>0,VLOOKUP(UPPER(A735),Items!$B$2:$H$748,7,FALSE),\"\"),\"\")","v":""},"Period BM Unit Repriced Offer Volume","Populated for post-P217 Settlement Dates. This field will be null for pre-P217 Settlement Dates"]
[{"$f":"VLOOKUP(UPPER(M736),Items!$A$2:$B$525,2,FALSE)","v":"N0544"},"D",null,null,null,null,null,"O",null,null,{"$f":"VLOOKUP(UPPER(A736),Items!$B$2:$G$525,6)","v":"decimal(10,3)"},{"$f":"IF(B736=\"D\",IF(VLOOKUP(UPPER(A736),Items!$B$2:$H$748,7,FALSE)<>0,VLOOKUP(UPPER(A736),Items!$B$2:$H$748,7,FALSE),\"\"),\"\")","v":""},"Period BM Unit Originally-Priced Bid Volume","Populated for post-P217 Settlement Dates. This field will be null for pre-P217 Settlement Dates"]
[{"$f":"VLOOKUP(UPPER(M737),Items!$A$2:$B$525,2,FALSE)","v":"N0545"},"D",null,null,null,null,null,"O",null,null,{"$f":"VLOOKUP(UPPER(A737),Items!$B$2:$G$525,6)","v":"decimal(10,3)"},{"$f":"IF(B737=\"D\",IF(VLOOKUP(UPPER(A737),Items!$B$2:$H$748,7,FALSE)<>0,VLOOKUP(UPPER(A737),Items!$B$2:$H$748,7,FALSE),\"\"),\"\")","v":""},"Period BM Unit Originally-Priced Offer Volume","Populated for post-P217 Settlement Dates. This field will be null for pre-P217 Settlement Dates"]
[{"$f":"VLOOKUP(UPPER(M738),Items!$A$2:$B$525,2,FALSE)","v":"N0165"},"D",null,null,null,null,null,1,null,null,{"$f":"VLOOKUP(UPPER(A738),Items!$B$2:$G$525,6)","v":"decimal(10,2)"},{"$f":"IF(B738=\"D\",IF(VLOOKUP(UPPER(A738),Items!$B$2:$H$748,7,FALSE)<>0,VLOOKUP(UPPER(A738),Items!$B$2:$H$748,7,FALSE),\"\"),\"\")","v":""},"Period BM Unit Bid Cashflow"]
[{"$f":"VLOOKUP(UPPER(M739),Items!$A$2:$B$525,2,FALSE)","v":"N0168"},"D",null,null,null,null,null,1,null,null,{"$f":"VLOOKUP(UPPER(A739),Items!$B$2:$G$525,6)","v":"decimal(10,2)"},{"$f":"IF(B739=\"D\",IF(VLOOKUP(UPPER(A739),Items!$B$2:$H$748,7,FALSE)<>0,VLOOKUP(UPPER(A739),Items!$B$2:$H$748,7,FALSE),\"\"),\"\")","v":""},"Period BM Unit Offer Cashflow"]
["BO2","R","0-*",null,null,null,null,"G",null,null,null,null,"BMU Period Bid-Offer Value Pair"]
[{"$f":"VLOOKUP(UPPER(M741),Items!$A$2:$B$525,2,FALSE)","v":"N0220"},"D",null,null,null,null,null,null,1,null,{"$f":"VLOOKUP(UPPER(A741),Items!$B$2:$G$525,6)","v":"integer(2)"},{"$f":"IF(B741=\"D\",IF(VLOOKUP(UPPER(A741),Items!$B$2:$H$748,7,FALSE)<>0,VLOOKUP(UPPER(A741),Items!$B$2:$H$748,7,FALSE),\"\"),\"\")","v":""},"Time from","minutes from start of period"]
[{"$f":"VLOOKUP(UPPER(M742),Items!$A$2:$B$525,2,FALSE)","v":"N0028"},"D",null,null,null,null,null,null,"O",null,{"$f":"VLOOKUP(UPPER(A742),Items!$B$2:$G$525,6)","v":"decimal(10,3)"},{"$f":"IF(B742=\"D\",IF(VLOOKUP(UPPER(A742),Items!$B$2:$H$748,7,FALSE)<>0,VLOOKUP(UPPER(A742),Items!$B$2:$H$748,7,FALSE),\"\"),\"\")","v":""},"Bid Offer Volume Value From"]
[{"$f":"VLOOKUP(UPPER(M743),Items!$A$2:$B$525,2,FALSE)","v":"N0221"},"D",null,null,null,null,null,null,1,null,{"$f":"VLOOKUP(UPPER(A743),Items!$B$2:$G$525,6)","v":"integer(2)"},{"$f":"IF(B743=\"D\",IF(VLOOKUP(UPPER(A743),Items!$B$2:$H$748,7,FALSE)<>0,VLOOKUP(UPPER(A743),Items!$B$2:$H$748,7,FALSE),\"\"),\"\")","v":""},"Time To","minutes from start of period"]
[{"$f":"VLOOKUP(UPPER(M744),Items!$A$2:$B$525,2,FALSE)","v":"N0029"},"D",null,null,null,null,null,null,"O",null,{"$f":"VLOOKUP(UPPER(A744),Items!$B$2:$G$525,6)","v":"decimal(10,3)"},{"$f":"IF(B744=\"D\",IF(VLOOKUP(UPPER(A744),Items!$B$2:$H$748,7,FALSE)<>0,VLOOKUP(UPPER(A744),Items!$B$2:$H$748,7,FALSE),\"\"),\"\")","v":""},"Bid Offer Volume Value To"]
["BO3","R","0-*",null,null,null,"G",null,null,null,null,null,"BMU Period Bid-Offer Acceptance "]
[{"$f":"VLOOKUP(UPPER(M746),Items!$A$2:$B$525,2,FALSE)","v":"N0342"},"D",null,null,null,null,null,1,null,null,{"$f":"VLOOKUP(UPPER(A746),Items!$B$2:$G$525,6)","v":"integer(10)"},{"$f":"IF(B746=\"D\",IF(VLOOKUP(UPPER(A746),Items!$B$2:$H$748,7,FALSE)<>0,VLOOKUP(UPPER(A746),Items!$B$2:$H$748,7,FALSE),\"\"),\"\")","v":""},"B-O Acceptance Number"]
["N0390","D",null,null,null,null,null,1,null,null,{"$f":"VLOOKUP(UPPER(A747),Items!$B$2:$G$525,6)","v":"boolean"},{"$f":"IF(B747=\"D\",IF(VLOOKUP(UPPER(A747),Items!$B$2:$H$748,7,FALSE)<>0,VLOOKUP(UPPER(A747),Items!$B$2:$H$748,7,FALSE),\"\"),\"\")","v":""},"CADL Flag","True if short"]
[{"$f":"VLOOKUP(UPPER(M748),Items!$A$2:$B$525,2,FALSE)","v":"N0546"},{"$f":"IF(LEN(K748)>0,\"D\",IF(LEN(A748)=5,\"F\",IF(LEN(A748)=3,\"R\",\" \")))","v":"D"},null,null,null,null,null,"O",null,null,{"$f":"VLOOKUP(UPPER(A748),Items!$B$2:$G$525,6)","v":"boolean"},{"$f":"IF(B748=\"D\",IF(VLOOKUP(UPPER(A748),Items!$B$2:$H$748,7,FALSE)<>0,VLOOKUP(UPPER(A748),Items!$B$2:$H$748,7,FALSE),\"\"),\"\")","v":""},"Acceptance SO-Flag","Populated for post-P217 Settlement Dates. This field will be null for pre-P217 Settlement Dates"]
[{"$f":"VLOOKUP(UPPER(M749),Items!$A$2:$B$553,2,FALSE)","v":"N0564"},"D",null,null,null,null,null,"O",null,null,{"$f":"VLOOKUP(UPPER(A749),Items!$B$2:$G$553,6)","v":"boolean"},{"$f":"IF(B749=\"D\",IF(VLOOKUP(UPPER(A749),Items!$B$2:$H$748,7,FALSE)<>0,VLOOKUP(UPPER(A749),Items!$B$2:$H$748,7,FALSE),\"\"),\"\")","v":""},"Acceptance Stor Provider Flag","Populated for post-P305 Settlement Dates. This field will be null for pre-P305 Settlement Dates"]
[{"$f":"VLOOKUP(UPPER(M750),Items!$A$2:$B$553,2,FALSE)","v":"N0566"},"D",null,null,null,null,null,"O",null,null,{"$f":"VLOOKUP(UPPER(A750),Items!$B$2:$G$553,6)","v":"boolean"},{"$f":"IF(B750=\"D\",IF(VLOOKUP(UPPER(A750),Items!$B$2:$H$748,7,FALSE)<>0,VLOOKUP(UPPER(A750),Items!$B$2:$H$748,7,FALSE),\"\"),\"\")","v":""},"Reserve Scarcity Price Flag","Populated for post-P305 Settlement Dates. This field will be null for pre-P305 Settlement Dates"]
["BO6","R","0-*",null,null,null,null,"G",null,null,null,null,"BMU Period Bid-Offer Acceptance Spot Point"]
[{"$f":"VLOOKUP(UPPER(M752),Items!$A$2:$B$525,2,FALSE)","v":"N0337"},"D",null,null,null,null,null,null,1,null,{"$f":"VLOOKUP(UPPER(A752),Items!$B$2:$G$525,6)","v":"integer(3)"},{"$f":"IF(B752=\"D\",IF(VLOOKUP(UPPER(A752),Items!$B$2:$H$748,7,FALSE)<>0,VLOOKUP(UPPER(A752),Items!$B$2:$H$748,7,FALSE),\"\"),\"\")","v":""},"Acceptance From Time","minutes from start of period"]
[{"$f":"VLOOKUP(UPPER(M753),Items!$A$2:$B$525,2,FALSE)","v":"N0026"},"D",null,null,null,null,null,null,"O",null,{"$f":"VLOOKUP(UPPER(A753),Items!$B$2:$G$525,6)","v":"decimal(10,3)"},{"$f":"IF(B753=\"D\",IF(VLOOKUP(UPPER(A753),Items!$B$2:$H$748,7,FALSE)<>0,VLOOKUP(UPPER(A753),Items!$B$2:$H$748,7,FALSE),\"\"),\"\")","v":""},"Bid Offer Acceptance Volume Value From"]
[{"$f":"VLOOKUP(UPPER(M754),Items!$A$2:$B$525,2,FALSE)","v":"N0338"},"D",null,null,null,null,null,null,1,null,{"$f":"VLOOKUP(UPPER(A754),Items!$B$2:$G$525,6)","v":"integer(3)"},{"$f":"IF(B754=\"D\",IF(VLOOKUP(UPPER(A754),Items!$B$2:$H$748,7,FALSE)<>0,VLOOKUP(UPPER(A754),Items!$B$2:$H$748,7,FALSE),\"\"),\"\")","v":""},"Acceptance To Time","minutes from start of period"]
[{"$f":"VLOOKUP(UPPER(M755),Items!$A$2:$B$525,2,FALSE)","v":"N0027"},"D",null,null,null,null,null,null,"O",null,{"$f":"VLOOKUP(UPPER(A755),Items!$B$2:$G$525,6)","v":"decimal(10,3)"},{"$f":"IF(B755=\"D\",IF(VLOOKUP(UPPER(A755),Items!$B$2:$H$748,7,FALSE)<>0,VLOOKUP(UPPER(A755),Items!$B$2:$H$748,7,FALSE),\"\"),\"\")","v":""},"Bid Offer Acceptance Volume Value To"]
["BO7","R","0-*",null,null,null,null,"G",null,null,null,null,"BM Unit Bid-Offer Pair Acceptance Volume Data"]
[{"$f":"VLOOKUP(UPPER(M757),Items!$A$2:$B$525,2,FALSE)","v":"N0025"},"D",null,null,null,null,null,null,1,null,{"$f":"VLOOKUP(UPPER(A757),Items!$B$2:$G$525,6)","v":"integer(2)"},{"$f":"IF(B757=\"D\",IF(VLOOKUP(UPPER(A757),Items!$B$2:$H$748,7,FALSE)<>0,VLOOKUP(UPPER(A757),Items!$B$2:$H$748,7,FALSE),\"\"),\"\")","v":""},"Bid-Offer Pair Number"]
[{"$f":"VLOOKUP(UPPER(M758),Items!$A$2:$B$525,2,FALSE)","v":"N0547"},"D",null,null,null,null,null,null,"O",null,{"$f":"VLOOKUP(UPPER(A758),Items!$B$2:$G$525,6)","v":"decimal(10,3)"},{"$f":"IF(B758=\"D\",IF(VLOOKUP(UPPER(A758),Items!$B$2:$H$748,7,FALSE)<>0,VLOOKUP(UPPER(A758),Items!$B$2:$H$748,7,FALSE),\"\"),\"\")","v":""},"Bid-Offer Pair Acceptance Bid Volume"]
[{"$f":"VLOOKUP(UPPER(M759),Items!$A$2:$B$525,2,FALSE)","v":"N0548"},"D",null,null,null,null,null,null,"O",null,{"$f":"VLOOKUP(UPPER(A759),Items!$B$2:$G$525,6)","v":"decimal(10,3)"},{"$f":"IF(B759=\"D\",IF(VLOOKUP(UPPER(A759),Items!$B$2:$H$748,7,FALSE)<>0,VLOOKUP(UPPER(A759),Items!$B$2:$H$748,7,FALSE),\"\"),\"\")","v":""},"Bid-Offer Pair Acceptance Offer Volume"]
["MVR","R","0-*",null,null,null,"G",null,null,null,null,null,"BM Unit MVR Information"]
[{"$f":"VLOOKUP(UPPER(M761),Items!$A$2:$B$525,2,FALSE)","v":"N0045"},"D",null,null,null,null,null,1,null,null,{"$f":"VLOOKUP(UPPER(A761),Items!$B$2:$G$525,6)","v":"text(8)"},{"$f":"IF(B761=\"D\",IF(VLOOKUP(UPPER(A761),Items!$B$2:$H$748,7,FALSE)<>0,VLOOKUP(UPPER(A761),Items!$B$2:$H$748,7,FALSE),\"\"),\"\")","v":""},"BSC Party Id"]
[{"$f":"VLOOKUP(UPPER(M762),Items!$A$2:$B$525,2,FALSE)","v":"N0177"},"D",null,null,null,null,null,1,null,null,{"$f":"VLOOKUP(UPPER(A762),Items!$B$2:$G$525,6)","v":"char"},{"$f":"IF(B762=\"D\",IF(VLOOKUP(UPPER(A762),Items!$B$2:$H$748,7,FALSE)<>0,VLOOKUP(UPPER(A762),Items!$B$2:$H$748,7,FALSE),\"\"),\"\")","v":"P/C Flag"},"Production/Consumption Flag","P/C"]
[{"$f":"VLOOKUP(UPPER(M763),Items!$A$2:$B$525,2,FALSE)","v":"N0061"},"D",null,null,null,null,null,1,null,null,{"$f":"VLOOKUP(UPPER(A763),Items!$B$2:$G$525,6)","v":"decimal(10,3)"},{"$f":"IF(B763=\"D\",IF(VLOOKUP(UPPER(A763),Items!$B$2:$H$748,7,FALSE)<>0,VLOOKUP(UPPER(A763),Items!$B$2:$H$748,7,FALSE),\"\"),\"\")","v":""},"Credited Energy Volume"]
[{"$f":"VLOOKUP(UPPER(M764),Items!$A$2:$B$525,2,FALSE)","v":"N0109"},"D",null,null,null,null,null,1,null,null,{"$f":"VLOOKUP(UPPER(A764),Items!$B$2:$G$525,6)","v":"decimal(10,3)"},{"$f":"IF(B764=\"D\",IF(VLOOKUP(UPPER(A764),Items!$B$2:$H$748,7,FALSE)<>0,VLOOKUP(UPPER(A764),Items!$B$2:$H$748,7,FALSE),\"\"),\"\")","v":""},"Fixed Metered Volume Reallocation"]
[{"$f":"VLOOKUP(UPPER(M765),Items!$A$2:$B$525,2,FALSE)","v":"N0163"},"D",null,null,null,null,null,1,null,null,{"$f":"VLOOKUP(UPPER(A765),Items!$B$2:$G$525,6)","v":"decimal(8,5)"},{"$f":"IF(B765=\"D\",IF(VLOOKUP(UPPER(A765),Items!$B$2:$H$748,7,FALSE)<>0,VLOOKUP(UPPER(A765),Items!$B$2:$H$748,7,FALSE),\"\"),\"\")","v":""},"Percentage Metered Volume Reallocation"]
[]
["S0142",{"$f":"IF(LEN(K767)>0,\"D\",IF(LEN(A767)=5,\"F\",IF(LEN(A767)=3,\"R\",\" \")))","v":"F"},"009",null,null,null,null,null,null,null,null,{"$f":"IF(B767=\"D\",IF(VLOOKUP(UPPER(A767),Items!$B$2:$H$748,7,FALSE)<>0,VLOOKUP(UPPER(A767),Items!$B$2:$H$748,7,FALSE),\"\"),\"\")","v":""},"SAA-I014: Settlement Report: sub-flow 2"]
[null," ",null,null,null,null,null,null,null,null,null,{"$f":"IF(B768=\"D\",IF(VLOOKUP(UPPER(A768),Items!$B$2:$H$748,7,FALSE)<>0,VLOOKUP(UPPER(A768),Items!$B$2:$H$748,7,FALSE),\"\"),\"\")","v":""}]
["SRH","R",1,"G",null,null,null,null,null,null,null,null,"Settlement Report Header"]
[{"$f":"VLOOKUP(UPPER(M770),Items!$A$2:$B$525,2,FALSE)","v":"N0200"},"D",null,null,1,null,null,null,null,null,{"$f":"VLOOKUP(UPPER(A770),Items!$B$2:$G$525,6)","v":"date"},{"$f":"IF(B770=\"D\",IF(VLOOKUP(UPPER(A770),Items!$B$2:$H$748,7,FALSE)<>0,VLOOKUP(UPPER(A770),Items!$B$2:$H$748,7,FALSE),\"\"),\"\")","v":""},"Settlement Date"]
[{"$f":"VLOOKUP(UPPER(M771),Items!$A$2:$B$525,2,FALSE)","v":"N0202"},"D",null,null,1,null,null,null,null,null,{"$f":"VLOOKUP(UPPER(A771),Items!$B$2:$G$525,6)","v":"text(2)"},{"$f":"IF(B771=\"D\",IF(VLOOKUP(UPPER(A771),Items!$B$2:$H$748,7,FALSE)<>0,VLOOKUP(UPPER(A771),Items!$B$2:$H$748,7,FALSE),\"\"),\"\")","v":"Run Type"},"Settlement Run Type"]
[{"$f":"VLOOKUP(UPPER(M772),Items!$A$2:$B$639,2,FALSE)","v":"N0304"},"D",null,null,1,null,null,null,null,null,{"$f":"VLOOKUP(UPPER(A772),Items!$B$2:$G$525,6)","v":"integer(2)"},{"$f":"IF(B772=\"D\",IF(VLOOKUP(UPPER(A772),Items!$B$2:$H$748,7,FALSE)<>0,VLOOKUP(UPPER(A772),Items!$B$2:$H$748,7,FALSE),\"\"),\"\")","v":""},"SAA Run Number"]
[{"$f":"VLOOKUP(UPPER(M773),Items!$A$2:$B$639,2,FALSE)","v":"N0385"},"D",null,null,1,null,null,null,null,null,{"$f":"VLOOKUP(UPPER(A773),Items!$B$2:$G$525,6)","v":"integer(2)"},{"$f":"IF(B773=\"D\",IF(VLOOKUP(UPPER(A773),Items!$B$2:$H$748,7,FALSE)<>0,VLOOKUP(UPPER(A773),Items!$B$2:$H$748,7,FALSE),\"\"),\"\")","v":""},"SAA CDCA Run Number","CDCA run which generated volumes used directly by SAA"]
[{"$f":"VLOOKUP(UPPER(M774),Items!$A$2:$B$525,2,FALSE)","v":"N0383"},"D",null,null,1,null,null,null,null,null,{"$f":"VLOOKUP(UPPER(A774),Items!$B$2:$G$525,6)","v":"date"},{"$f":"IF(B774=\"D\",IF(VLOOKUP(UPPER(A774),Items!$B$2:$H$748,7,FALSE)<>0,VLOOKUP(UPPER(A774),Items!$B$2:$H$748,7,FALSE),\"\"),\"\")","v":""},"SVAA CDCA Settlement Date","CDCA settlement date from which GSP group take was used by SVAA"]
[{"$f":"VLOOKUP(UPPER(M775),Items!$A$2:$B$525,2,FALSE)","v":"N0384"},"D",null,null,1,null,null,null,null,null,{"$f":"VLOOKUP(UPPER(A775),Items!$B$2:$G$525,6)","v":"integer(2)"},{"$f":"IF(B775=\"D\",IF(VLOOKUP(UPPER(A775),Items!$B$2:$H$748,7,FALSE)<>0,VLOOKUP(UPPER(A775),Items!$B$2:$H$748,7,FALSE),\"\"),\"\")","v":""},"SVAA CDCA Run Number","CDCA run number from which GSP group take was used by SVAA"]
[{"$f":"VLOOKUP(UPPER(M776),Items!$A$2:$B$525,2,FALSE)","v":"N0211"},"D",null,null,1,null,null,null,null,null,{"$f":"VLOOKUP(UPPER(A776),Items!$B$2:$G$525,6)","v":"integer(7)"},{"$f":"IF(B776=\"D\",IF(VLOOKUP(UPPER(A776),Items!$B$2:$H$748,7,FALSE)<>0,VLOOKUP(UPPER(A776),Items!$B$2:$H$748,7,FALSE),\"\"),\"\")","v":""},"SVAA SSR Run Number"]
[{"$f":"VLOOKUP(UPPER(M777),Items!$A$2:$B$525,2,FALSE)","v":"N0045"},"D",null,null,1,null,null,null,null,null,{"$f":"VLOOKUP(UPPER(A777),Items!$B$2:$G$525,6)","v":"text(8)"},{"$f":"IF(B777=\"D\",IF(VLOOKUP(UPPER(A777),Items!$B$2:$H$748,7,FALSE)<>0,VLOOKUP(UPPER(A777),Items!$B$2:$H$748,7,FALSE),\"\"),\"\")","v":""},"BSC Party Id"]
["SPI","R","46-50","G",null,null,null,null,null,null,null,null,"Settlement Period Information","either 46 or 48 or 50"]
[{"$f":"VLOOKUP(UPPER(M779),Items!$A$2:$B$525,2,FALSE)","v":"N0201"},"D",null,null,1,null,null,null,null,null,{"$f":"VLOOKUP(UPPER(A779),Items!$B$2:$G$525,6)","v":"integer(2)"},{"$f":"IF(B779=\"D\",IF(VLOOKUP(UPPER(A779),Items!$B$2:$H$748,7,FALSE)<>0,VLOOKUP(UPPER(A779),Items!$B$2:$H$748,7,FALSE),\"\"),\"\")","v":""},"Settlement Period"]
[{"$f":"VLOOKUP(UPPER(M780),Items!$A$2:$B$525,2,FALSE)","v":"N0212"},"D",null,null,1,null,null,null,null,null,{"$f":"VLOOKUP(UPPER(A780),Items!$B$2:$G$525,6)","v":"decimal(10,5)"},{"$f":"IF(B780=\"D\",IF(VLOOKUP(UPPER(A780),Items!$B$2:$H$748,7,FALSE)<>0,VLOOKUP(UPPER(A780),Items!$B$2:$H$748,7,FALSE),\"\"),\"\")","v":""},"System Buy Price","£/MWh"]
[{"$f":"VLOOKUP(UPPER(M781),Items!$A$2:$B$525,2,FALSE)","v":"N0215"},"D",null,null,1,null,null,null,null,null,{"$f":"VLOOKUP(UPPER(A781),Items!$B$2:$G$525,6)","v":"decimal(10,5)"},{"$f":"IF(B781=\"D\",IF(VLOOKUP(UPPER(A781),Items!$B$2:$H$748,7,FALSE)<>0,VLOOKUP(UPPER(A781),Items!$B$2:$H$748,7,FALSE),\"\"),\"\")","v":""},"System Sell Price","£/MWh"]
[{"$f":"VLOOKUP(UPPER(M782),Items!$A$2:$B$525,2,FALSE)","v":"N0439"},"D",null,null,1,null,null,null,null,null,{"$f":"VLOOKUP(UPPER(A782),Items!$B$2:$G$525,6)","v":"text(2)"},{"$f":"IF(B782=\"D\",IF(VLOOKUP(UPPER(A782),Items!$B$2:$H$748,7,FALSE)<>0,VLOOKUP(UPPER(A782),Items!$B$2:$H$748,7,FALSE),\"\"),\"\")","v":"Price Derivation Code"},"Price Derivation Code"]
[{"$f":"VLOOKUP(UPPER(M783),Items!$A$2:$B$639,2,FALSE)","v":"N0312"},"D",null,null,1,null,null,null,null,null,{"$f":"VLOOKUP(UPPER(A783),Items!$B$2:$G$525,6)","v":"decimal(10,3)"},{"$f":"IF(B783=\"D\",IF(VLOOKUP(UPPER(A783),Items!$B$2:$H$748,7,FALSE)<>0,VLOOKUP(UPPER(A783),Items!$B$2:$H$748,7,FALSE),\"\"),\"\")","v":""},"Total Demand","MWh"]
[{"$f":"VLOOKUP(UPPER(M784),Items!$A$2:$B$639,2,FALSE)","v":"N0334"},"D",null,null,1,null,null,null,null,null,{"$f":"VLOOKUP(UPPER(A784),Items!$B$2:$G$525,6)","v":"decimal(10,3)"},{"$f":"IF(B784=\"D\",IF(VLOOKUP(UPPER(A784),Items!$B$2:$H$748,7,FALSE)<>0,VLOOKUP(UPPER(A784),Items!$B$2:$H$748,7,FALSE),\"\"),\"\")","v":""},"Total Generation","MWh"]
[{"$f":"VLOOKUP(UPPER(M785),Items!$A$2:$B$639,2,FALSE)","v":"N0438"},"D",null,null,1,null,null,null,null,null,{"$f":"VLOOKUP(UPPER(A785),Items!$B$2:$G$525,6)","v":"decimal(10,3)"},{"$f":"IF(B785=\"D\",IF(VLOOKUP(UPPER(A785),Items!$B$2:$H$748,7,FALSE)<>0,VLOOKUP(UPPER(A785),Items!$B$2:$H$748,7,FALSE),\"\"),\"\")","v":""},"Total Period Applicable Balancing Services Volume","MWh"]
[{"$f":"VLOOKUP(UPPER(M786),Items!$A$2:$B$525,2,FALSE)","v":"N0124"},"D",null,null,1,null,null,null,null,null,{"$f":"VLOOKUP(UPPER(A786),Items!$B$2:$G$525,6)","v":"decimal(10,5)"},{"$f":"IF(B786=\"D\",IF(VLOOKUP(UPPER(A786),Items!$B$2:$H$748,7,FALSE)<>0,VLOOKUP(UPPER(A786),Items!$B$2:$H$748,7,FALSE),\"\"),\"\")","v":""},"Information Imbalance Price 1","£/MWh"]
[{"$f":"VLOOKUP(UPPER(M787),Items!$A$2:$B$525,2,FALSE)","v":"N0125"},"D",null,null,1,null,null,null,null,null,{"$f":"VLOOKUP(UPPER(A787),Items!$B$2:$G$525,6)","v":"decimal(10,5)"},{"$f":"IF(B787=\"D\",IF(VLOOKUP(UPPER(A787),Items!$B$2:$H$748,7,FALSE)<>0,VLOOKUP(UPPER(A787),Items!$B$2:$H$748,7,FALSE),\"\"),\"\")","v":""},"Information Imbalance Price 2","£/MWh"]
[{"$f":"VLOOKUP(UPPER(M788),Items!$A$2:$B$639,2,FALSE)","v":"N0316"},"D",null,null,"O",null,null,null,null,null,{"$f":"VLOOKUP(UPPER(A788),Items!$B$2:$G$525,6)","v":"decimal(10,3)"},{"$f":"IF(B788=\"D\",IF(VLOOKUP(UPPER(A788),Items!$B$2:$H$748,7,FALSE)<>0,VLOOKUP(UPPER(A788),Items!$B$2:$H$748,7,FALSE),\"\"),\"\")","v":""},"Notional Reserve Limit","Null"]
[{"$f":"VLOOKUP(UPPER(M789),Items!$A$2:$B$639,2,FALSE)","v":"N0431"},"D",null,null,1,null,null,null,null,null,{"$f":"VLOOKUP(UPPER(A789),Items!$B$2:$G$525,6)","v":"decimal(10,3)"},{"$f":"IF(B789=\"D\",IF(VLOOKUP(UPPER(A789),Items!$B$2:$H$748,7,FALSE)<>0,VLOOKUP(UPPER(A789),Items!$B$2:$H$748,7,FALSE),\"\"),\"\")","v":""},"Total NIV Tagged Volume","MWh"]
[{"$f":"VLOOKUP(UPPER(M790),Items!$A$2:$B$639,2,FALSE)","v":"N0317"},"D",null,null,1,null,null,null,null,null,{"$f":"VLOOKUP(UPPER(A790),Items!$B$2:$G$525,6)","v":"boolean"},{"$f":"IF(B790=\"D\",IF(VLOOKUP(UPPER(A790),Items!$B$2:$H$748,7,FALSE)<>0,VLOOKUP(UPPER(A790),Items!$B$2:$H$748,7,FALSE),\"\"),\"\")","v":""},"Arbitrage Flag"]
[{"$f":"VLOOKUP(UPPER(M791),Items!$A$2:$B$639,2,FALSE)","v":"N0391"},"D",null,null,1,null,null,null,null,null,{"$f":"VLOOKUP(UPPER(A791),Items!$B$2:$G$525,6)","v":"integer(2)"},{"$f":"IF(B791=\"D\",IF(VLOOKUP(UPPER(A791),Items!$B$2:$H$748,7,FALSE)<>0,VLOOKUP(UPPER(A791),Items!$B$2:$H$748,7,FALSE),\"\"),\"\")","v":""},"Continuous Acceptance Duration Limit"]
[{"$f":"VLOOKUP(UPPER(M792),Items!$A$2:$B$639,2,FALSE)","v":"N0392"},"D",null,null,1,null,null,null,null,null,{"$f":"VLOOKUP(UPPER(A792),Items!$B$2:$G$525,6)","v":"decimal(10,3)"},{"$f":"IF(B792=\"D\",IF(VLOOKUP(UPPER(A792),Items!$B$2:$H$748,7,FALSE)<>0,VLOOKUP(UPPER(A792),Items!$B$2:$H$748,7,FALSE),\"\"),\"\")","v":""},"De Minimis Acceptance Threshold"]
[{"$f":"VLOOKUP(UPPER(M793),Items!$A$2:$B$639,2,FALSE)","v":"N0419"},"D",null,null,"O",null,null,null,null,null,{"$f":"VLOOKUP(UPPER(A793),Items!$B$2:$G$525,6)","v":"decimal(10,2)"},{"$f":"IF(B793=\"D\",IF(VLOOKUP(UPPER(A793),Items!$B$2:$H$748,7,FALSE)<>0,VLOOKUP(UPPER(A793),Items!$B$2:$H$748,7,FALSE),\"\"),\"\")","v":""},"Net Energy Buy-Price Cost Adjustment","£ - Populated for pre-P217 Settlement Dates. This field will be null for post-P217 Settlement Dates"]
[{"$f":"VLOOKUP(UPPER(M794),Items!$A$2:$B$639,2,FALSE)","v":"N0417"},"D",null,null,"O",null,null,null,null,null,{"$f":"VLOOKUP(UPPER(A794),Items!$B$2:$G$525,6)","v":"decimal(10,3)"},{"$f":"IF(B794=\"D\",IF(VLOOKUP(UPPER(A794),Items!$B$2:$H$748,7,FALSE)<>0,VLOOKUP(UPPER(A794),Items!$B$2:$H$748,7,FALSE),\"\"),\"\")","v":""},"Net Energy Buy-Price Volume Adjustment","MWh - Populated for pre-P217 Settlement Dates. This field will be null for post-P217 Settlement Dates"]
[{"$f":"VLOOKUP(UPPER(M795),Items!$A$2:$B$639,2,FALSE)","v":"N0415"},"D",null,null,"O",null,null,null,null,null,{"$f":"VLOOKUP(UPPER(A795),Items!$B$2:$G$525,6)","v":"decimal(10,3)"},{"$f":"IF(B795=\"D\",IF(VLOOKUP(UPPER(A795),Items!$B$2:$H$748,7,FALSE)<>0,VLOOKUP(UPPER(A795),Items!$B$2:$H$748,7,FALSE),\"\"),\"\")","v":""},"Net System Buy-Price Volume Adjustment","Populated for pre-P217 Settlement Dates. This field will be null for post-P217 Settlement Dates"]
[{"$f":"VLOOKUP(UPPER(M796),Items!$A$2:$B$639,2,FALSE)","v":"N0372"},"D",null,null,1,null,null,null,null,null,{"$f":"VLOOKUP(UPPER(A796),Items!$B$2:$G$525,6)","v":"decimal(10,2)"},{"$f":"IF(B796=\"D\",IF(VLOOKUP(UPPER(A796),Items!$B$2:$H$748,7,FALSE)<>0,VLOOKUP(UPPER(A796),Items!$B$2:$H$748,7,FALSE),\"\"),\"\")","v":""},"Buy-Price Price Adjust","£"]
[{"$f":"VLOOKUP(UPPER(M797),Items!$A$2:$B$639,2,FALSE)","v":"N0420"},"D",null,null,"O",null,null,null,null,null,{"$f":"VLOOKUP(UPPER(A797),Items!$B$2:$G$525,6)","v":"decimal(10,2)"},{"$f":"IF(B797=\"D\",IF(VLOOKUP(UPPER(A797),Items!$B$2:$H$748,7,FALSE)<>0,VLOOKUP(UPPER(A797),Items!$B$2:$H$748,7,FALSE),\"\"),\"\")","v":""},"Net Energy Sell-Price Cost Adjustment","£ - Populated for pre-P217 Settlement Dates. This field will be null for post-P217 Settlement Dates"]
[{"$f":"VLOOKUP(UPPER(M798),Items!$A$2:$B$639,2,FALSE)","v":"N0418"},"D",null,null,"O",null,null,null,null,null,{"$f":"VLOOKUP(UPPER(A798),Items!$B$2:$G$525,6)","v":"decimal(10,3)"},{"$f":"IF(B798=\"D\",IF(VLOOKUP(UPPER(A798),Items!$B$2:$H$748,7,FALSE)<>0,VLOOKUP(UPPER(A798),Items!$B$2:$H$748,7,FALSE),\"\"),\"\")","v":""},"Net Energy Sell-Price Volume Adjustment","MWh - Populated for pre-P217 Settlement Dates. This field will be null for post-P217 Settlement Dates"]
[{"$f":"VLOOKUP(UPPER(M799),Items!$A$2:$B$639,2,FALSE)","v":"N0416"},"D",null,null,"O",null,null,null,null,null,{"$f":"VLOOKUP(UPPER(A799),Items!$B$2:$G$525,6)","v":"decimal(10,3)"},{"$f":"IF(B799=\"D\",IF(VLOOKUP(UPPER(A799),Items!$B$2:$H$748,7,FALSE)<>0,VLOOKUP(UPPER(A799),Items!$B$2:$H$748,7,FALSE),\"\"),\"\")","v":""},"Net System Sell-Price Volume Adjustment","Populated for pre-P217 Settlement Dates. This field will be null for post-P217 Settlement Dates"]
[{"$f":"VLOOKUP(UPPER(M800),Items!$A$2:$B$639,2,FALSE)","v":"N0371"},"D",null,null,1,null,null,null,null,null,{"$f":"VLOOKUP(UPPER(A800),Items!$B$2:$G$525,6)","v":"decimal(10,2)"},{"$f":"IF(B800=\"D\",IF(VLOOKUP(UPPER(A800),Items!$B$2:$H$748,7,FALSE)<>0,VLOOKUP(UPPER(A800),Items!$B$2:$H$748,7,FALSE),\"\"),\"\")","v":""},"Sell-Price Price Adjust","£"]
[{"$f":"VLOOKUP(UPPER(M801),Items!$A$2:$B$639,2,FALSE)","v":"N0216"},"D",null,null,"O",null,null,null,null,null,{"$f":"VLOOKUP(UPPER(A801),Items!$B$2:$G$525,6)","v":"decimal(10,3)"},{"$f":"IF(B801=\"D\",IF(VLOOKUP(UPPER(A801),Items!$B$2:$H$748,7,FALSE)<>0,VLOOKUP(UPPER(A801),Items!$B$2:$H$748,7,FALSE),\"\"),\"\")","v":""},"System Total Accepted Bid Volume","Populated for post-P217 Settlement Dates. This field will be null for pre-P217 Settlement Dates"]
[{"$f":"VLOOKUP(UPPER(M802),Items!$A$2:$B$639,2,FALSE)","v":"N0217"},"D",null,null,"O",null,null,null,null,null,{"$f":"VLOOKUP(UPPER(A802),Items!$B$2:$G$525,6)","v":"decimal(10,3)"},{"$f":"IF(B802=\"D\",IF(VLOOKUP(UPPER(A802),Items!$B$2:$H$748,7,FALSE)<>0,VLOOKUP(UPPER(A802),Items!$B$2:$H$748,7,FALSE),\"\"),\"\")","v":""},"System Total Accepted Offer Volume","Populated for post-P217 Settlement Dates. This field will be null for pre-P217 Settlement Dates"]
[{"$f":"VLOOKUP(UPPER(M803),Items!$A$2:$B$639,2,FALSE)","v":"N0517"},"D",null,null,"O",null,null,null,null,null,{"$f":"VLOOKUP(UPPER(A803),Items!$B$2:$G$525,6)","v":"decimal(10,3)"},{"$f":"IF(B803=\"D\",IF(VLOOKUP(UPPER(A803),Items!$B$2:$H$748,7,FALSE)<>0,VLOOKUP(UPPER(A803),Items!$B$2:$H$748,7,FALSE),\"\"),\"\")","v":""},"Total System Tagged Accepted Bid Volume","Populated for post-P217 Settlement Dates. This field will be null for pre-P217 Settlement Dates"]
[{"$f":"VLOOKUP(UPPER(M804),Items!$A$2:$B$525,2,FALSE)","v":"N0518"},{"$f":"IF(LEN(K804)>0,\"D\",IF(LEN(A804)=5,\"F\",IF(LEN(A804)=3,\"R\",\" \")))","v":"D"},null,null,"O",null,null,null,null,null,{"$f":"VLOOKUP(UPPER(A804),Items!$B$2:$G$525,6)","v":"decimal(10,3)"},{"$f":"IF(B804=\"D\",IF(VLOOKUP(UPPER(A804),Items!$B$2:$H$748,7,FALSE)<>0,VLOOKUP(UPPER(A804),Items!$B$2:$H$748,7,FALSE),\"\"),\"\")","v":""},"Total System Tagged Accepted Offer Volume","Populated for post-P217 Settlement Dates. This field will be null for pre-P217 Settlement Dates"]
[{"$f":"VLOOKUP(UPPER(M805),Items!$A$2:$B$525,2,FALSE)","v":"N0519"},"D",null,null,"O",null,null,null,null,null,{"$f":"VLOOKUP(UPPER(A805),Items!$B$2:$G$525,6)","v":"decimal(10,3)"},{"$f":"IF(B805=\"D\",IF(VLOOKUP(UPPER(A805),Items!$B$2:$H$748,7,FALSE)<>0,VLOOKUP(UPPER(A805),Items!$B$2:$H$748,7,FALSE),\"\"),\"\")","v":""},"Total System Repriced Accepted Bid Volume","Populated for post-P217 Settlement Dates. This field will be null for pre-P217 Settlement Dates"]
[{"$f":"VLOOKUP(UPPER(M806),Items!$A$2:$B$639,2,FALSE)","v":"N0520"},"D",null,null,"O",null,null,null,null,null,{"$f":"VLOOKUP(UPPER(A806),Items!$B$2:$G$525,6)","v":"decimal(10,3)"},{"$f":"IF(B806=\"D\",IF(VLOOKUP(UPPER(A806),Items!$B$2:$H$748,7,FALSE)<>0,VLOOKUP(UPPER(A806),Items!$B$2:$H$748,7,FALSE),\"\"),\"\")","v":""},"Total System Repriced Accepted Offer Volume","Populated for post-P217 Settlement Dates. This field will be null for pre-P217 Settlement Dates"]
[{"$f":"VLOOKUP(UPPER(M807),Items!$A$2:$B$639,2,FALSE)","v":"N0521"},"D",null,null,"O",null,null,null,null,null,{"$f":"VLOOKUP(UPPER(A807),Items!$B$2:$G$525,6)","v":"decimal(10,3)"},{"$f":"IF(B807=\"D\",IF(VLOOKUP(UPPER(A807),Items!$B$2:$H$748,7,FALSE)<>0,VLOOKUP(UPPER(A807),Items!$B$2:$H$748,7,FALSE),\"\"),\"\")","v":""},"Total System Originally-priced Accepted Bid Volume","Populated for post-P217 Settlement Dates. This field will be null for pre-P217 Settlement Dates"]
[{"$f":"VLOOKUP(UPPER(M808),Items!$A$2:$B$639,2,FALSE)","v":"N0522"},"D",null,null,"O",null,null,null,null,null,{"$f":"VLOOKUP(UPPER(A808),Items!$B$2:$G$525,6)","v":"decimal(10,3)"},{"$f":"IF(B808=\"D\",IF(VLOOKUP(UPPER(A808),Items!$B$2:$H$748,7,FALSE)<>0,VLOOKUP(UPPER(A808),Items!$B$2:$H$748,7,FALSE),\"\"),\"\")","v":""},"Total System Originally-priced Accepted Offer Volume","Populated for post-P217 Settlement Dates. This field will be null for pre-P217 Settlement Dates"]
[{"$f":"VLOOKUP(UPPER(M809),Items!$A$2:$B$639,2,FALSE)","v":"N0523"},"D",null,null,"O",null,null,null,null,null,{"$f":"VLOOKUP(UPPER(A809),Items!$B$2:$G$525,6)","v":"decimal(10,3)"},{"$f":"IF(B809=\"D\",IF(VLOOKUP(UPPER(A809),Items!$B$2:$H$748,7,FALSE)<>0,VLOOKUP(UPPER(A809),Items!$B$2:$H$748,7,FALSE),\"\"),\"\")","v":""},"Total System Adjustment Sell Volume","Populated for post-P217 Settlement Dates. This field will be null for pre-P217 Settlement Dates"]
[{"$f":"VLOOKUP(UPPER(M810),Items!$A$2:$B$639,2,FALSE)","v":"N0524"},"D",null,null,"O",null,null,null,null,null,{"$f":"VLOOKUP(UPPER(A810),Items!$B$2:$G$525,6)","v":"decimal(10,3)"},{"$f":"IF(B810=\"D\",IF(VLOOKUP(UPPER(A810),Items!$B$2:$H$748,7,FALSE)<>0,VLOOKUP(UPPER(A810),Items!$B$2:$H$748,7,FALSE),\"\"),\"\")","v":""},"Total System Adjustment Buy Volume","Populated for post-P217 Settlement Dates. This field will be null for pre-P217 Settlement Dates"]
[{"$f":"VLOOKUP(UPPER(M811),Items!$A$2:$B$639,2,FALSE)","v":"N0525"},"D",null,null,"O",null,null,null,null,null,{"$f":"VLOOKUP(UPPER(A811),Items!$B$2:$G$525,6)","v":"decimal(10,3)"},{"$f":"IF(B811=\"D\",IF(VLOOKUP(UPPER(A811),Items!$B$2:$H$748,7,FALSE)<>0,VLOOKUP(UPPER(A811),Items!$B$2:$H$748,7,FALSE),\"\"),\"\")","v":""},"Total System Tagged Adjustment Sell Volume","Populated for post-P217 Settlement Dates. This field will be null for pre-P217 Settlement Dates"]
[{"$f":"VLOOKUP(UPPER(M812),Items!$A$2:$B$639,2,FALSE)","v":"N0526"},"D",null,null,"O",null,null,null,null,null,{"$f":"VLOOKUP(UPPER(A812),Items!$B$2:$G$525,6)","v":"decimal(10,3)"},{"$f":"IF(B812=\"D\",IF(VLOOKUP(UPPER(A812),Items!$B$2:$H$748,7,FALSE)<>0,VLOOKUP(UPPER(A812),Items!$B$2:$H$748,7,FALSE),\"\"),\"\")","v":""},"Total System Tagged Adjustment Buy Volume","Populated for post-P217 Settlement Dates. This field will be null for pre-P217 Settlement Dates"]
[{"$f":"VLOOKUP(UPPER(M813),Items!$A$2:$B$639,2,FALSE)","v":"N0527"},"D",null,null,"O",null,null,null,null,null,{"$f":"VLOOKUP(UPPER(A813),Items!$B$2:$G$525,6)","v":"decimal(10,3)"},{"$f":"IF(B813=\"D\",IF(VLOOKUP(UPPER(A813),Items!$B$2:$H$748,7,FALSE)<>0,VLOOKUP(UPPER(A813),Items!$B$2:$H$748,7,FALSE),\"\"),\"\")","v":""},"Total System Repriced Adjustment Sell Volume","Populated for post-P217 Settlement Dates. This field will be null for pre-P217 Settlement Dates"]
[{"$f":"VLOOKUP(UPPER(M814),Items!$A$2:$B$639,2,FALSE)","v":"N0528"},"D",null,null,"O",null,null,null,null,null,{"$f":"VLOOKUP(UPPER(A814),Items!$B$2:$G$525,6)","v":"decimal(10,3)"},{"$f":"IF(B814=\"D\",IF(VLOOKUP(UPPER(A814),Items!$B$2:$H$748,7,FALSE)<>0,VLOOKUP(UPPER(A814),Items!$B$2:$H$748,7,FALSE),\"\"),\"\")","v":""},"Total System Repriced Adjustment Buy Volume","Populated for post-P217 Settlement Dates. This field will be null for pre-P217 Settlement Dates"]
[{"$f":"VLOOKUP(UPPER(M815),Items!$A$2:$B$639,2,FALSE)","v":"N0529"},"D",null,null,"O",null,null,null,null,null,{"$f":"VLOOKUP(UPPER(A815),Items!$B$2:$G$525,6)","v":"decimal(10,3)"},{"$f":"IF(B815=\"D\",IF(VLOOKUP(UPPER(A815),Items!$B$2:$H$748,7,FALSE)<>0,VLOOKUP(UPPER(A815),Items!$B$2:$H$748,7,FALSE),\"\"),\"\")","v":""},"Total System Originally-priced Adjustment Sell Volume","Populated for post-P217 Settlement Dates. This field will be null for pre-P217 Settlement Dates"]
[{"$f":"VLOOKUP(UPPER(M816),Items!$A$2:$B$639,2,FALSE)","v":"N0530"},"D",null,null,"O",null,null,null,null,null,{"$f":"VLOOKUP(UPPER(A816),Items!$B$2:$G$525,6)","v":"decimal(10,3)"},{"$f":"IF(B816=\"D\",IF(VLOOKUP(UPPER(A816),Items!$B$2:$H$748,7,FALSE)<>0,VLOOKUP(UPPER(A816),Items!$B$2:$H$748,7,FALSE),\"\"),\"\")","v":""},"Total System Originally-priced Adjustment Buy Volume","Populated for post-P217 Settlement Dates. This field will be null for pre-P217 Settlement Dates"]
[{"$f":"VLOOKUP(UPPER(M817),Items!$A$2:$B$639,2,FALSE)","v":"N0531"},"D",null,null,"O",null,null,null,null,null,{"$f":"VLOOKUP(UPPER(A817),Items!$B$2:$G$525,6)","v":"decimal(10,2)"},{"$f":"IF(B817=\"D\",IF(VLOOKUP(UPPER(A817),Items!$B$2:$H$748,7,FALSE)<>0,VLOOKUP(UPPER(A817),Items!$B$2:$H$748,7,FALSE),\"\"),\"\")","v":""},"Replacement Price","Populated for post-P217 Settlement Dates. This field will be null for pre-P217 Settlement Dates"]
[{"$f":"VLOOKUP(UPPER(M818),Items!$A$2:$B$639,2,FALSE)","v":"N0532"},"D",null,null,"O",null,null,null,null,null,{"$f":"VLOOKUP(UPPER(A818),Items!$B$2:$G$525,6)","v":"decimal(10,3)"},{"$f":"IF(B818=\"D\",IF(VLOOKUP(UPPER(A818),Items!$B$2:$H$748,7,FALSE)<>0,VLOOKUP(UPPER(A818),Items!$B$2:$H$748,7,FALSE),\"\"),\"\")","v":""},"Replacement Price Calculation Volume","Populated for post-P217 Settlement Dates. This field will be null for pre-P217 Settlement Dates"]
[{"$f":"VLOOKUP(UPPER(M819),Items!$A$2:$B$639,2,FALSE)","v":"N0558"},"D",null,null,"O",null,null,null,null,null,{"$f":"VLOOKUP(UPPER(A819),Items!$B$2:$G$553,6)","v":"boolean"},{"$f":"IF(B819=\"D\",IF(VLOOKUP(UPPER(A819),Items!$B$2:$H$748,7,FALSE)<>0,VLOOKUP(UPPER(A819),Items!$B$2:$H$748,7,FALSE),\"\"),\"\")","v":""},"Stor Availability Window Flag","Populated for post-P305 Settlement Dates. This field will be null for pre-P305 Settlement Dates"]
[{"$f":"VLOOKUP(UPPER(M820),Items!$A$2:$B$639,2,FALSE)","v":"N0559"},"D",null,null,"O",null,null,null,null,null,{"$f":"VLOOKUP(UPPER(A820),Items!$B$2:$G$553,6)","v":"decimal(10,9)"},{"$f":"IF(B820=\"D\",IF(VLOOKUP(UPPER(A820),Items!$B$2:$H$748,7,FALSE)<>0,VLOOKUP(UPPER(A820),Items!$B$2:$H$748,7,FALSE),\"\"),\"\")","v":""},"Loss Of Load Probability","Populated for post-P305 Settlement Dates (but will be null if the Transmission Company does not provide a value and the BMRA/SAA does not use a default value). This field will be null for pre-P305 Settlement Dates"]
[{"$f":"VLOOKUP(UPPER(M821),Items!$A$2:$B$639,2,FALSE)","v":"N0560"},"D",null,null,"O",null,null,null,null,null,{"$f":"VLOOKUP(UPPER(A821),Items!$B$2:$G$553,6)","v":"decimal(15,7)"},{"$f":"IF(B821=\"D\",IF(VLOOKUP(UPPER(A821),Items!$B$2:$H$748,7,FALSE)<>0,VLOOKUP(UPPER(A821),Items!$B$2:$H$748,7,FALSE),\"\"),\"\")","v":""},"De-rated Margin","Populated for post-P305 Settlement Dates (but will be null if the Transmission Company does not provide a value). This field will be null for pre-P305 Settlement Dates"]
[{"$f":"VLOOKUP(UPPER(M822),Items!$A$2:$B$639,2,FALSE)","v":"N0561"},"D",null,null,"O",null,null,null,null,null,{"$f":"VLOOKUP(UPPER(A822),Items!$B$2:$G$553,6)","v":"decimal(10,2)"},{"$f":"IF(B822=\"D\",IF(VLOOKUP(UPPER(A822),Items!$B$2:$H$748,7,FALSE)<>0,VLOOKUP(UPPER(A822),Items!$B$2:$H$748,7,FALSE),\"\"),\"\")","v":""},"Value Of Lost Load","Populated for post-P305 Settlement Dates. This field will be null for pre-P305 Settlement Dates"]
[{"$f":"VLOOKUP(UPPER(M823),Items!$A$2:$B$639,2,FALSE)","v":"N0562"},"D",null,null,"O",null,null,null,null,null,{"$f":"VLOOKUP(UPPER(A823),Items!$B$2:$G$553,6)","v":"decimal(10,5)"},{"$f":"IF(B823=\"D\",IF(VLOOKUP(UPPER(A823),Items!$B$2:$H$748,7,FALSE)<>0,VLOOKUP(UPPER(A823),Items!$B$2:$H$748,7,FALSE),\"\"),\"\")","v":""},"Reserve Scarcity Price","Populated for post-P305 Settlement Dates (but will be null for any post P305 Settlement Period that is not within a STOR Availability Window). This field will be null for pre-P305 Settlement Dates"]
[{"$f":"VLOOKUP(UPPER(M824),Items!$A$2:$B$639,2,FALSE)","v":"N0593"},"D",null,null,"O",null,null,null,null,null,{"$f":"VLOOKUP(UPPER(A824),Items!$B$2:$G$650,6)","v":"decimal(5,4)  "},{"$f":"IF(B824=\"D\",IF(VLOOKUP(UPPER(A824),Items!$B$2:$H$748,7,FALSE)<>0,VLOOKUP(UPPER(A824),Items!$B$2:$H$748,7,FALSE),\"\"),\"\")","v":""},"GBP-EUR Exchange Rate","Populated for post TERRE settlement dates only"]
[{"$f":"VLOOKUP(UPPER(M825),Items!$A$2:$B$639,2,FALSE)","v":"N0594"},"D",null,null,"O",null,null,null,null,null,{"$f":"VLOOKUP(UPPER(A825),Items!$B$2:$G$650,6)","v":"decimal(10,5)"},{"$f":"IF(B825=\"D\",IF(VLOOKUP(UPPER(A825),Items!$B$2:$H$748,7,FALSE)<>0,VLOOKUP(UPPER(A825),Items!$B$2:$H$748,7,FALSE),\"\"),\"\")","v":""},"Balancing Energy Deviation Price","Populated for post TERRE settlement dates only"]
[{"$f":"VLOOKUP(UPPER(M826),Items!$A$2:$B$639,2,FALSE)","v":"N0592"},"D",null,null,"O",null,null,null,null,null,{"$f":"VLOOKUP(UPPER(A826),Items!$B$2:$G$650,6)","v":"decimal(10,2)"},{"$f":"IF(B826=\"D\",IF(VLOOKUP(UPPER(A826),Items!$B$2:$H$748,7,FALSE)<>0,VLOOKUP(UPPER(A826),Items!$B$2:$H$748,7,FALSE),\"\"),\"\")","v":""},"Total System RR Cashflow","Populated for post TERRE settlement dates only"]
[{"$f":"VLOOKUP(UPPER(M827),Items!$A$2:$B$639,2,FALSE)","v":"N0596"},"D",null,null,"O",null,null,null,null,null,{"$f":"VLOOKUP(UPPER(A827),Items!$B$2:$G$650,6)","v":"decimal(10,3)  "},{"$f":"IF(B827=\"D\",IF(VLOOKUP(UPPER(A827),Items!$B$2:$H$748,7,FALSE)<>0,VLOOKUP(UPPER(A827),Items!$B$2:$H$748,7,FALSE),\"\"),\"\")","v":""},"RR Aggregated Unpriced System Buy Action Volume","Populated for post TERRE settlement dates only"]
[{"$f":"VLOOKUP(UPPER(M828),Items!$A$2:$B$639,2,FALSE)","v":"N0597"},"D",null,null,"O",null,null,null,null,null,{"$f":"VLOOKUP(UPPER(A828),Items!$B$2:$G$650,6)","v":"decimal(10,3)  "},{"$f":"IF(B828=\"D\",IF(VLOOKUP(UPPER(A828),Items!$B$2:$H$748,7,FALSE)<>0,VLOOKUP(UPPER(A828),Items!$B$2:$H$748,7,FALSE),\"\"),\"\")","v":""},"RR Aggregated Unpriced System Sell Action Volume","Populated for post TERRE settlement dates only"]
[{"$f":"VLOOKUP(UPPER(M829),Items!$A$2:$B$639,2,FALSE)","v":"N0599"},"D",null,null,"O",null,null,null,null,null,{"$f":"VLOOKUP(UPPER(A829),Items!$B$2:$G$650,6)","v":"decimal(10,3)  "},{"$f":"IF(B829=\"D\",IF(VLOOKUP(UPPER(A829),Items!$B$2:$H$748,7,FALSE)<>0,VLOOKUP(UPPER(A829),Items!$B$2:$H$748,7,FALSE),\"\"),\"\")","v":""},"Period RR Accepted Offer Volume","Populated for post TERRE settlement dates only"]
[{"$f":"VLOOKUP(UPPER(M830),Items!$A$2:$B$639,2,FALSE)","v":"N0600"},"D",null,null,"O",null,null,null,null,null,{"$f":"VLOOKUP(UPPER(A830),Items!$B$2:$G$650,6)","v":"decimal(10,3)  "},{"$f":"IF(B830=\"D\",IF(VLOOKUP(UPPER(A830),Items!$B$2:$H$748,7,FALSE)<>0,VLOOKUP(UPPER(A830),Items!$B$2:$H$748,7,FALSE),\"\"),\"\")","v":""},"Period RR Accepted Bid Volume","Populated for post TERRE settlement dates only"]
["MD1","R","0-*",null,"G",null,null,null,null,null,null,null,"Market Index Data Period Information"]
[{"$f":"VLOOKUP(UPPER(M832),Items!$A$2:$B$639,2,FALSE)","v":"N0423"},"D",null,null,null,1,null,null,null,null,{"$f":"VLOOKUP(UPPER(A832),Items!$B$2:$G$525,6)","v":"text(8)"},{"$f":"IF(VLOOKUP(UPPER(A832),Items!$B$2:$H$748,7,FALSE)<>0,VLOOKUP(UPPER(A832),Items!$B$2:$H$748,7,FALSE),\"\")","v":""},"Market Index Data Provider ID"]
[{"$f":"VLOOKUP(UPPER(M833),Items!$A$2:$B$639,2,FALSE)","v":"N0412"},"D",null,null,null,1,null,null,null,null,{"$f":"VLOOKUP(UPPER(A833),Items!$B$2:$G$525,6)","v":"decimal(10,3)"},{"$f":"IF(VLOOKUP(UPPER(A833),Items!$B$2:$H$748,7,FALSE)<>0,VLOOKUP(UPPER(A833),Items!$B$2:$H$748,7,FALSE),\"\")","v":""},"Individual Liquidity Threshold"]
[{"$f":"VLOOKUP(UPPER(M834),Items!$A$2:$B$639,2,FALSE)","v":"N0413"},"D",null,null,null,"O",null,null,null,null,{"$f":"VLOOKUP(UPPER(A834),Items!$B$2:$G$525,6)","v":"decimal(10,2)"},{"$f":"IF(VLOOKUP(UPPER(A834),Items!$B$2:$H$748,7,FALSE)<>0,VLOOKUP(UPPER(A834),Items!$B$2:$H$748,7,FALSE),\"\")","v":""},"Market Index Price","Null if no data provided by MIDP"]
[{"$f":"VLOOKUP(UPPER(M835),Items!$A$2:$B$639,2,FALSE)","v":"N0414"},"D",null,null,null,"O",null,null,null,null,{"$f":"VLOOKUP(UPPER(A835),Items!$B$2:$G$525,6)","v":"decimal(10,3)"},{"$f":"IF(VLOOKUP(UPPER(A835),Items!$B$2:$H$748,7,FALSE)<>0,VLOOKUP(UPPER(A835),Items!$B$2:$H$748,7,FALSE),\"\")","v":""},"Market Index Volume","Null if no data provided by MIDP"]
["DB1","R","0-*",null,"G",null,null,null,null,null,null,null,"Balancing Services Adjustment Action Data"]
[{"$f":"VLOOKUP(UPPER(M837),Items!$A$2:$B$525,2,FALSE)","v":"N0533"},"D",null,null,null,1,null,null,null,null,{"$f":"VLOOKUP(UPPER(A837),Items!$B$2:$G$525,6)","v":"integer(4)"},{"$f":"IF(B837=\"D\",IF(VLOOKUP(UPPER(A837),Items!$B$2:$H$748,7,FALSE)<>0,VLOOKUP(UPPER(A837),Items!$B$2:$H$748,7,FALSE),\"\"),\"\")","v":""},"Balancing Services Adjustment Action Id"]
[{"$f":"VLOOKUP(UPPER(M838),Items!$A$2:$B$525,2,FALSE)","v":"N0534"},"D",null,null,null,"O",null,null,null,null,{"$f":"VLOOKUP(UPPER(A838),Items!$B$2:$G$525,6)","v":"decimal(10,2)"},{"$f":"IF(B838=\"D\",IF(VLOOKUP(UPPER(A838),Items!$B$2:$H$748,7,FALSE)<>0,VLOOKUP(UPPER(A838),Items!$B$2:$H$748,7,FALSE),\"\"),\"\")","v":""},"Balancing Services Adjustment Action Cost","£ Null if Action is unpriced"]
[{"$f":"VLOOKUP(UPPER(M839),Items!$A$2:$B$525,2,FALSE)","v":"N0535"},"D",null,null,null,1,null,null,null,null,{"$f":"VLOOKUP(UPPER(A839),Items!$B$2:$G$525,6)","v":"decimal(10,3)"},{"$f":"IF(B839=\"D\",IF(VLOOKUP(UPPER(A839),Items!$B$2:$H$748,7,FALSE)<>0,VLOOKUP(UPPER(A839),Items!$B$2:$H$748,7,FALSE),\"\"),\"\")","v":""},"Balancing Services Adjustment Action Volume"]
[{"$f":"VLOOKUP(UPPER(M840),Items!$A$2:$B$525,2,FALSE)","v":"N0536"},"D",null,null,null,1,null,null,null,null,{"$f":"VLOOKUP(UPPER(A840),Items!$B$2:$G$525,6)","v":"decimal(10,3)"},{"$f":"IF(B840=\"D\",IF(VLOOKUP(UPPER(A840),Items!$B$2:$H$748,7,FALSE)<>0,VLOOKUP(UPPER(A840),Items!$B$2:$H$748,7,FALSE),\"\"),\"\")","v":""},"Tagged Balancing Services Adjustment Action Volume"]
[{"$f":"VLOOKUP(UPPER(M841),Items!$A$2:$B$525,2,FALSE)","v":"N0537"},"D",null,null,null,1,null,null,null,null,{"$f":"VLOOKUP(UPPER(A841),Items!$B$2:$G$525,6)","v":"decimal(10,3)"},{"$f":"IF(B841=\"D\",IF(VLOOKUP(UPPER(A841),Items!$B$2:$H$748,7,FALSE)<>0,VLOOKUP(UPPER(A841),Items!$B$2:$H$748,7,FALSE),\"\"),\"\")","v":""},"Repriced Balancing Services Adjustment Action Volume"]
[{"$f":"VLOOKUP(UPPER(M842),Items!$A$2:$B$525,2,FALSE)","v":"N0538"},"D",null,null,null,1,null,null,null,null,{"$f":"VLOOKUP(UPPER(A842),Items!$B$2:$G$525,6)","v":"decimal(10,3)"},{"$f":"IF(B842=\"D\",IF(VLOOKUP(UPPER(A842),Items!$B$2:$H$748,7,FALSE)<>0,VLOOKUP(UPPER(A842),Items!$B$2:$H$748,7,FALSE),\"\"),\"\")","v":""},"Originally-Priced Balancing Services Adjustment Action Volume"]
[{"$f":"VLOOKUP(UPPER(M843),Items!$A$2:$B$525,2,FALSE)","v":"N0539"},"D",null,null,null,1,null,null,null,null,{"$f":"VLOOKUP(UPPER(A843),Items!$B$2:$G$525,6)","v":"boolean"},{"$f":"IF(B843=\"D\",IF(VLOOKUP(UPPER(A843),Items!$B$2:$H$748,7,FALSE)<>0,VLOOKUP(UPPER(A843),Items!$B$2:$H$748,7,FALSE),\"\"),\"\")","v":""},"Balancing Services Adjustment Action SO-Flag"]
[{"$f":"VLOOKUP(UPPER(M844),Items!$A$2:$B$553,2,FALSE)","v":"N0563"},"D",null,null,null,"O",null,null,null,null,{"$f":"VLOOKUP(UPPER(A844),Items!$B$2:$G$553,6)","v":"boolean"},{"$f":"IF(B844=\"D\",IF(VLOOKUP(UPPER(A844),Items!$B$2:$H$748,7,FALSE)<>0,VLOOKUP(UPPER(A844),Items!$B$2:$H$748,7,FALSE),\"\"),\"\")","v":""},"Balancing Services Adjustment Action Stor Provider Flag","Populated for post-P305 Settlement Dates. This field will be null for pre-P305 Settlement Dates"]
[{"$f":"VLOOKUP(UPPER(M845),Items!$A$2:$B$553,2,FALSE)","v":"N0566"},"D",null,null,null,"O",null,null,null,null,{"$f":"VLOOKUP(UPPER(A845),Items!$B$2:$G$553,6)","v":"boolean"},{"$f":"IF(B845=\"D\",IF(VLOOKUP(UPPER(A845),Items!$B$2:$H$748,7,FALSE)<>0,VLOOKUP(UPPER(A845),Items!$B$2:$H$748,7,FALSE),\"\"),\"\")","v":""},"Reserve Scarcity Price Flag","Populated for post-P305 Settlement Dates. This field will be null for pre-P305 Settlement Dates"]
["TRA","R","1-*",null,"G",null,null,null,null,null,null,null,"Trading Unit Period Information"]
[{"$f":"VLOOKUP(UPPER(M847),Items!$A$2:$B$525,2,FALSE)","v":"N0232"},"D",null,null,null,1,null,null,null,null,{"$f":"VLOOKUP(UPPER(A847),Items!$B$2:$G$525,6)","v":"text(30)"},{"$f":"IF(B847=\"D\",IF(VLOOKUP(UPPER(A847),Items!$B$2:$H$748,7,FALSE)<>0,VLOOKUP(UPPER(A847),Items!$B$2:$H$748,7,FALSE),\"\"),\"\")","v":""},"Trading Unit Name"]
[{"$f":"VLOOKUP(UPPER(M848),Items!$A$2:$B$525,2,FALSE)","v":"N0231"},"D",null,null,null,1,null,null,null,null,{"$f":"VLOOKUP(UPPER(A848),Items!$B$2:$G$525,6)","v":"decimal(10,3)"},{"$f":"IF(B848=\"D\",IF(VLOOKUP(UPPER(A848),Items!$B$2:$H$748,7,FALSE)<>0,VLOOKUP(UPPER(A848),Items!$B$2:$H$748,7,FALSE),\"\"),\"\")","v":""},"Total Trading Unit Metered Volume","MWh"]
["BPI","R","1-*",null,"G",null,null,null,null,null,null,null,"BM Unit Period Information"]
[{"$f":"VLOOKUP(UPPER(M850),Items!$A$2:$B$525,2,FALSE)","v":"N0034"},"D",null,null,null,1,null,null,null,null,{"$f":"VLOOKUP(UPPER(A850),Items!$B$2:$G$525,6)","v":"text(11)"},{"$f":"IF(B850=\"D\",IF(VLOOKUP(UPPER(A850),Items!$B$2:$H$748,7,FALSE)<>0,VLOOKUP(UPPER(A850),Items!$B$2:$H$748,7,FALSE),\"\"),\"\")","v":""},"BM Unit Id"]
[{"$f":"VLOOKUP(UPPER(M851),Items!$A$2:$B$525,2,FALSE)","v":"N0232"},"D",null,null,null,"O",null,null,null,null,{"$f":"VLOOKUP(UPPER(A851),Items!$B$2:$G$525,6)","v":"text(30)"},{"$f":"IF(B851=\"D\",IF(VLOOKUP(UPPER(A851),Items!$B$2:$H$748,7,FALSE)<>0,VLOOKUP(UPPER(A851),Items!$B$2:$H$748,7,FALSE),\"\"),\"\")","v":""},"Trading Unit Name","Omit if \"default\" trading unit"]
[{"$f":"VLOOKUP(UPPER(M852),Items!$A$2:$B$525,2,FALSE)","v":"N0174"},"D",null,null,null,1,null,null,null,null,{"$f":"VLOOKUP(UPPER(A852),Items!$B$2:$G$525,6)","v":"decimal(10,3)"},{"$f":"IF(B852=\"D\",IF(VLOOKUP(UPPER(A852),Items!$B$2:$H$748,7,FALSE)<>0,VLOOKUP(UPPER(A852),Items!$B$2:$H$748,7,FALSE),\"\"),\"\")","v":""},"Period FPN","MWh"]
[{"$f":"VLOOKUP(UPPER(M853),Items!$A$2:$B$525,2,FALSE)","v":"N0035"},"D",null,null,null,1,null,null,null,null,{"$f":"VLOOKUP(UPPER(A853),Items!$B$2:$G$525,6)","v":"decimal(10,3)"},{"$f":"IF(B853=\"D\",IF(VLOOKUP(UPPER(A853),Items!$B$2:$H$748,7,FALSE)<>0,VLOOKUP(UPPER(A853),Items!$B$2:$H$748,7,FALSE),\"\"),\"\")","v":""},"BM Unit Metered Volume","MWh"]
[{"$f":"VLOOKUP(UPPER(M854),Items!$A$2:$B$525,2,FALSE)","v":"N0234"},"D",null,null,null,1,null,null,null,null,{"$f":"VLOOKUP(UPPER(A854),Items!$B$2:$G$525,6)","v":"decimal(8,7)"},{"$f":"IF(B854=\"D\",IF(VLOOKUP(UPPER(A854),Items!$B$2:$H$748,7,FALSE)<>0,VLOOKUP(UPPER(A854),Items!$B$2:$H$748,7,FALSE),\"\"),\"\")","v":""},"Transmission Loss Multiplier"]
[{"$f":"VLOOKUP(UPPER(M855),Items!$A$2:$B$639,2,FALSE)","v":"N0421"},"D",null,null,null,1,null,null,null,null,{"$f":"VLOOKUP(UPPER(A855),Items!$B$2:$G$525,6)","v":"decimal(10,3)"},{"$f":"IF(B855=\"D\",IF(VLOOKUP(UPPER(A855),Items!$B$2:$H$748,7,FALSE)<>0,VLOOKUP(UPPER(A855),Items!$B$2:$H$748,7,FALSE),\"\"),\"\")","v":""},"BM Unit Applicable Balancing Services Volume","MWh"]
[{"$f":"VLOOKUP(UPPER(M856),Items!$A$2:$B$748,2,FALSE)","v":"N0604"},"D",null,null,null,1,null,null,null,null,{"$f":"VLOOKUP(UPPER(A856),Items!$B$2:$G$748,6)","v":"decimal(10,3)  "},{"$f":"IF(B856=\"D\",IF(VLOOKUP(UPPER(A856),Items!$B$2:$H$748,7,FALSE)<>0,VLOOKUP(UPPER(A856),Items!$B$2:$H$748,7,FALSE),\"\"),\"\")","v":""},"Secondary BM Unit Demand Volume","Populated for post TERRE settlement dates only"]
["MEL","R","0-*",null,null,"G",null,null,null,null,null,null,"Maximum Export Limit Information"]
[{"$f":"VLOOKUP(UPPER(M858),Items!$A$2:$B$525,2,FALSE)","v":"N0220"},"D",null,null,null,null,1,null,null,null,{"$f":"VLOOKUP(UPPER(A858),Items!$B$2:$G$525,6)","v":"integer(2)"},{"$f":"IF(B858=\"D\",IF(VLOOKUP(UPPER(A858),Items!$B$2:$H$748,7,FALSE)<>0,VLOOKUP(UPPER(A858),Items!$B$2:$H$748,7,FALSE),\"\"),\"\")","v":""},"Time From","minutes from start of period"]
[{"$f":"VLOOKUP(UPPER(M859),Items!$A$2:$B$525,2,FALSE)","v":"N0130"},"D",null,null,null,null,"O",null,null,null,{"$f":"VLOOKUP(UPPER(A859),Items!$B$2:$G$525,6)","v":"decimal(10,3)"},{"$f":"IF(B859=\"D\",IF(VLOOKUP(UPPER(A859),Items!$B$2:$H$748,7,FALSE)<>0,VLOOKUP(UPPER(A859),Items!$B$2:$H$748,7,FALSE),\"\"),\"\")","v":""},"Level From","MW"]
[{"$f":"VLOOKUP(UPPER(M860),Items!$A$2:$B$525,2,FALSE)","v":"N0221"},"D",null,null,null,null,1,null,null,null,{"$f":"VLOOKUP(UPPER(A860),Items!$B$2:$G$525,6)","v":"integer(2)"},{"$f":"IF(B860=\"D\",IF(VLOOKUP(UPPER(A860),Items!$B$2:$H$748,7,FALSE)<>0,VLOOKUP(UPPER(A860),Items!$B$2:$H$748,7,FALSE),\"\"),\"\")","v":""},"Time To","minutes from start of period"]
[{"$f":"VLOOKUP(UPPER(M861),Items!$A$2:$B$525,2,FALSE)","v":"N0131"},"D",null,null,null,null,"O",null,null,null,{"$f":"VLOOKUP(UPPER(A861),Items!$B$2:$G$525,6)","v":"decimal(10,3)"},{"$f":"IF(B861=\"D\",IF(VLOOKUP(UPPER(A861),Items!$B$2:$H$748,7,FALSE)<>0,VLOOKUP(UPPER(A861),Items!$B$2:$H$748,7,FALSE),\"\"),\"\")","v":""},"Level To","MW"]
["MIL","R","0-*",null,null,"G",null,null,null,null,null,null,"Maximum Import Limit Information"]
[{"$f":"VLOOKUP(UPPER(M863),Items!$A$2:$B$525,2,FALSE)","v":"N0220"},"D",null,null,null,null,1,null,null,null,{"$f":"VLOOKUP(UPPER(A863),Items!$B$2:$G$525,6)","v":"integer(2)"},{"$f":"IF(B863=\"D\",IF(VLOOKUP(UPPER(A863),Items!$B$2:$H$748,7,FALSE)<>0,VLOOKUP(UPPER(A863),Items!$B$2:$H$748,7,FALSE),\"\"),\"\")","v":""},"Time From","minutes from start of period"]
[{"$f":"VLOOKUP(UPPER(M864),Items!$A$2:$B$525,2,FALSE)","v":"N0130"},"D",null,null,null,null,"O",null,null,null,{"$f":"VLOOKUP(UPPER(A864),Items!$B$2:$G$525,6)","v":"decimal(10,3)"},{"$f":"IF(B864=\"D\",IF(VLOOKUP(UPPER(A864),Items!$B$2:$H$748,7,FALSE)<>0,VLOOKUP(UPPER(A864),Items!$B$2:$H$748,7,FALSE),\"\"),\"\")","v":""},"Level From","MW"]
[{"$f":"VLOOKUP(UPPER(M865),Items!$A$2:$B$525,2,FALSE)","v":"N0221"},"D",null,null,null,null,1,null,null,null,{"$f":"VLOOKUP(UPPER(A865),Items!$B$2:$G$525,6)","v":"integer(2)"},{"$f":"IF(B865=\"D\",IF(VLOOKUP(UPPER(A865),Items!$B$2:$H$748,7,FALSE)<>0,VLOOKUP(UPPER(A865),Items!$B$2:$H$748,7,FALSE),\"\"),\"\")","v":""},"Time To","minutes from start of period"]
[{"$f":"VLOOKUP(UPPER(M866),Items!$A$2:$B$525,2,FALSE)","v":"N0131"},"D",null,null,null,null,"O",null,null,null,{"$f":"VLOOKUP(UPPER(A866),Items!$B$2:$G$525,6)","v":"decimal(10,3)"},{"$f":"IF(B866=\"D\",IF(VLOOKUP(UPPER(A866),Items!$B$2:$H$748,7,FALSE)<>0,VLOOKUP(UPPER(A866),Items!$B$2:$H$748,7,FALSE),\"\"),\"\")","v":""},"Level To","MW"]
["BPH","R","1-*","G",null,null,null,null,null,null,null,null,"BSC Party Header"]
[{"$f":"VLOOKUP(UPPER(M868),Items!$A$2:$B$525,2,FALSE)","v":"N0200"},"D",null,null,1,null,null,null,null,null,{"$f":"VLOOKUP(UPPER(A868),Items!$B$2:$G$525,6)","v":"date"},{"$f":"IF(B868=\"D\",IF(VLOOKUP(UPPER(A868),Items!$B$2:$H$748,7,FALSE)<>0,VLOOKUP(UPPER(A868),Items!$B$2:$H$748,7,FALSE),\"\"),\"\")","v":""},"Settlement Date"]
[{"$f":"VLOOKUP(UPPER(M869),Items!$A$2:$B$525,2,FALSE)","v":"N0202"},"D",null,null,1,null,null,null,null,null,{"$f":"VLOOKUP(UPPER(A869),Items!$B$2:$G$525,6)","v":"text(2)"},{"$f":"IF(B869=\"D\",IF(VLOOKUP(UPPER(A869),Items!$B$2:$H$748,7,FALSE)<>0,VLOOKUP(UPPER(A869),Items!$B$2:$H$748,7,FALSE),\"\"),\"\")","v":"Run Type"},"Settlement Run Type"]
[{"$f":"VLOOKUP(UPPER(M870),Items!$A$2:$B$525,2,FALSE)","v":"N0304"},"D",null,null,1,null,null,null,null,null,{"$f":"VLOOKUP(UPPER(A870),Items!$B$2:$G$525,6)","v":"integer(2)"},{"$f":"IF(B870=\"D\",IF(VLOOKUP(UPPER(A870),Items!$B$2:$H$748,7,FALSE)<>0,VLOOKUP(UPPER(A870),Items!$B$2:$H$748,7,FALSE),\"\"),\"\")","v":""},"SAA Run Number"]
[{"$f":"VLOOKUP(UPPER(M871),Items!$A$2:$B$525,2,FALSE)","v":"N0385"},"D",null,null,1,null,null,null,null,null,{"$f":"VLOOKUP(UPPER(A871),Items!$B$2:$G$525,6)","v":"integer(2)"},{"$f":"IF(B871=\"D\",IF(VLOOKUP(UPPER(A871),Items!$B$2:$H$748,7,FALSE)<>0,VLOOKUP(UPPER(A871),Items!$B$2:$H$748,7,FALSE),\"\"),\"\")","v":""},"SAA CDCA Run Number","CDCA run which generated volumes used directly by SAA"]
[{"$f":"VLOOKUP(UPPER(M872),Items!$A$2:$B$525,2,FALSE)","v":"N0383"},"D",null,null,1,null,null,null,null,null,{"$f":"VLOOKUP(UPPER(A872),Items!$B$2:$G$525,6)","v":"date"},{"$f":"IF(B872=\"D\",IF(VLOOKUP(UPPER(A872),Items!$B$2:$H$748,7,FALSE)<>0,VLOOKUP(UPPER(A872),Items!$B$2:$H$748,7,FALSE),\"\"),\"\")","v":""},"SVAA CDCA Settlement Date","CDCA settlement date from which GSP group take was used by SVAA"]
[{"$f":"VLOOKUP(UPPER(M873),Items!$A$2:$B$525,2,FALSE)","v":"N0384"},"D",null,null,1,null,null,null,null,null,{"$f":"VLOOKUP(UPPER(A873),Items!$B$2:$G$525,6)","v":"integer(2)"},{"$f":"IF(B873=\"D\",IF(VLOOKUP(UPPER(A873),Items!$B$2:$H$748,7,FALSE)<>0,VLOOKUP(UPPER(A873),Items!$B$2:$H$748,7,FALSE),\"\"),\"\")","v":""},"SVAA CDCA Run Number","CDCA run number from which GSP group take was used by SVAA"]
[{"$f":"VLOOKUP(UPPER(M874),Items!$A$2:$B$525,2,FALSE)","v":"N0211"},"D",null,null,1,null,null,null,null,null,{"$f":"VLOOKUP(UPPER(A874),Items!$B$2:$G$525,6)","v":"integer(7)"},{"$f":"IF(B874=\"D\",IF(VLOOKUP(UPPER(A874),Items!$B$2:$H$748,7,FALSE)<>0,VLOOKUP(UPPER(A874),Items!$B$2:$H$748,7,FALSE),\"\"),\"\")","v":""},"SVAA SSR Run Number"]
[{"$f":"VLOOKUP(UPPER(M875),Items!$A$2:$B$525,2,FALSE)","v":"N0045"},"D",null,null,1,null,null,null,null,null,{"$f":"VLOOKUP(UPPER(A875),Items!$B$2:$G$525,6)","v":"text(8)"},{"$f":"IF(B875=\"D\",IF(VLOOKUP(UPPER(A875),Items!$B$2:$H$748,7,FALSE)<>0,VLOOKUP(UPPER(A875),Items!$B$2:$H$748,7,FALSE),\"\"),\"\")","v":""},"BSC Party Id"]
["APC","R",1,null,"G",null,null,null,null,null,null,null,"Aggregate Party Day Charges"]
[{"$f":"VLOOKUP(UPPER(M877),Items!$A$2:$B$525,2,FALSE)","v":"N0048"},"D",null,null,null,1,null,null,null,null,{"$f":"VLOOKUP(UPPER(A877),Items!$B$2:$G$525,6)","v":"decimal(10,2)"},{"$f":"IF(B877=\"D\",IF(VLOOKUP(UPPER(A877),Items!$B$2:$H$748,7,FALSE)<>0,VLOOKUP(UPPER(A877),Items!$B$2:$H$748,7,FALSE),\"\"),\"\")","v":""},"BSSC Limited Cost Allocation"]
[{"$f":"VLOOKUP(UPPER(M878),Items!$A$2:$B$525,2,FALSE)","v":"N0031"},"D",null,null,null,1,null,null,null,null,{"$f":"VLOOKUP(UPPER(A878),Items!$B$2:$G$525,6)","v":"decimal(10,2)"},{"$f":"IF(B878=\"D\",IF(VLOOKUP(UPPER(A878),Items!$B$2:$H$748,7,FALSE)<>0,VLOOKUP(UPPER(A878),Items!$B$2:$H$748,7,FALSE),\"\"),\"\")","v":""},"BM Unit Cashflow"]
[{"$f":"VLOOKUP(UPPER(M879),Items!$A$2:$B$525,2,FALSE)","v":"N0086"},"D",null,null,null,1,null,null,null,null,{"$f":"VLOOKUP(UPPER(A879),Items!$B$2:$G$525,6)","v":"decimal(10,2)"},{"$f":"IF(B879=\"D\",IF(VLOOKUP(UPPER(A879),Items!$B$2:$H$748,7,FALSE)<>0,VLOOKUP(UPPER(A879),Items!$B$2:$H$748,7,FALSE),\"\"),\"\")","v":""},"Energy Imbalance Cashflow"]
[{"$f":"VLOOKUP(UPPER(M880),Items!$A$2:$B$525,2,FALSE)","v":"N0122"},"D",null,null,null,1,null,null,null,null,{"$f":"VLOOKUP(UPPER(A880),Items!$B$2:$G$525,6)","v":"decimal(10,2)"},{"$f":"IF(B880=\"D\",IF(VLOOKUP(UPPER(A880),Items!$B$2:$H$748,7,FALSE)<>0,VLOOKUP(UPPER(A880),Items!$B$2:$H$748,7,FALSE),\"\"),\"\")","v":""},"Information Imbalance Cashflow"]
[{"$f":"VLOOKUP(UPPER(M881),Items!$A$2:$B$525,2,FALSE)","v":"N0151"},"D",null,null,null,1,null,null,null,null,{"$f":"VLOOKUP(UPPER(A881),Items!$B$2:$G$525,6)","v":"decimal(10,2)"},{"$f":"IF(B881=\"D\",IF(VLOOKUP(UPPER(A881),Items!$B$2:$H$748,7,FALSE)<>0,VLOOKUP(UPPER(A881),Items!$B$2:$H$748,7,FALSE),\"\"),\"\")","v":""},"Non-Delivery Charge"]
[{"$f":"VLOOKUP(UPPER(M882),Items!$A$2:$B$525,2,FALSE)","v":"N0194"},{"$f":"IF(LEN(K882)>0,\"D\",IF(LEN(A882)=5,\"F\",IF(LEN(A882)=3,\"R\",\" \")))","v":"D"},null,null,null,1,null,null,null,null,{"$f":"VLOOKUP(UPPER(A882),Items!$B$2:$G$525,6)","v":"decimal(10,2)"},{"$f":"IF(B882=\"D\",IF(VLOOKUP(UPPER(A882),Items!$B$2:$H$748,7,FALSE)<>0,VLOOKUP(UPPER(A882),Items!$B$2:$H$748,7,FALSE),\"\"),\"\")","v":""},"Residual Cashflow Reallocation Charge"]
["N0214","D",null,null,null,1,null,null,null,null,{"$f":"VLOOKUP(UPPER(A883),Items!$B$2:$G$525,6)","v":"decimal(10,2)"},{"$f":"IF(B883=\"D\",IF(VLOOKUP(UPPER(A883),Items!$B$2:$H$748,7,FALSE)<>0,VLOOKUP(UPPER(A883),Items!$B$2:$H$748,7,FALSE),\"\"),\"\")","v":""},"Daily System Operator Cashflow","Name updated post TERRE (BM removed)"]
[{"$f":"VLOOKUP(UPPER(M884),Items!$A$2:$B$625,2,FALSE)","v":"N0590"},"D",null,null,null,1,null,null,null,null,{"$f":"VLOOKUP(UPPER(A884),Items!$B$2:$G$625,6)","v":"decimal(10,2)"},{"$f":"IF(B884=\"D\",IF(VLOOKUP(UPPER(A884),Items!$B$2:$H$748,7,FALSE)<>0,VLOOKUP(UPPER(A884),Items!$B$2:$H$748,7,FALSE),\"\"),\"\")","v":""},"RR Cashflow","Populated for post TERRE settlement dates only"]
[{"$f":"VLOOKUP(UPPER(M885),Items!$A$2:$B$625,2,FALSE)","v":"N0591"},"D",null,null,null,1,null,null,null,null,{"$f":"VLOOKUP(UPPER(A885),Items!$B$2:$G$625,6)","v":"decimal(10,2)"},{"$f":"IF(B885=\"D\",IF(VLOOKUP(UPPER(A885),Items!$B$2:$H$748,7,FALSE)<>0,VLOOKUP(UPPER(A885),Items!$B$2:$H$748,7,FALSE),\"\"),\"\")","v":""},"RR Instructed Deviation Cashflow","Populated for post TERRE settlement dates only"]
[{"$f":"VLOOKUP(UPPER(M886),Items!$A$2:$B$625,2,FALSE)","v":"N0592"},"D",null,null,null,1,null,null,null,null,{"$f":"VLOOKUP(UPPER(A886),Items!$B$2:$G$625,6)","v":"decimal(10,2)"},{"$f":"IF(B886=\"D\",IF(VLOOKUP(UPPER(A886),Items!$B$2:$H$748,7,FALSE)<>0,VLOOKUP(UPPER(A886),Items!$B$2:$H$748,7,FALSE),\"\"),\"\")","v":""},"Total System RR Cashflow","Populated for post TERRE settlement dates only"]
["SP7","R","46-50",null,"G",null,null,null,null,null,null,null,"Settlement Period Header","either 46 or 48 or 50"]
[{"$f":"VLOOKUP(UPPER(M888),Items!$A$2:$B$525,2,FALSE)","v":"N0201"},"D",null,null,null,1,null,null,null,null,{"$f":"VLOOKUP(UPPER(A888),Items!$B$2:$G$525,6)","v":"integer(2)"},{"$f":"IF(B888=\"D\",IF(VLOOKUP(UPPER(A888),Items!$B$2:$H$748,7,FALSE)<>0,VLOOKUP(UPPER(A888),Items!$B$2:$H$748,7,FALSE),\"\"),\"\")","v":""},"Settlement Period"]
["PPC","R",1,null,null,"G",null,null,null,null,null,null,"Aggregate Party Period Charges"]
[{"$f":"VLOOKUP(UPPER(M890),Items!$A$2:$B$525,2,FALSE)","v":"N0048"},"D",null,null,null,null,1,null,null,null,{"$f":"VLOOKUP(UPPER(A890),Items!$B$2:$G$525,6)","v":"decimal(10,2)"},{"$f":"IF(B890=\"D\",IF(VLOOKUP(UPPER(A890),Items!$B$2:$H$748,7,FALSE)<>0,VLOOKUP(UPPER(A890),Items!$B$2:$H$748,7,FALSE),\"\"),\"\")","v":""},"BSSC Limited Cost Allocation"]
[{"$f":"VLOOKUP(UPPER(M891),Items!$A$2:$B$525,2,FALSE)","v":"N0031"},"D",null,null,null,null,1,null,null,null,{"$f":"VLOOKUP(UPPER(A891),Items!$B$2:$G$525,6)","v":"decimal(10,2)"},{"$f":"IF(B891=\"D\",IF(VLOOKUP(UPPER(A891),Items!$B$2:$H$748,7,FALSE)<>0,VLOOKUP(UPPER(A891),Items!$B$2:$H$748,7,FALSE),\"\"),\"\")","v":""},"BM Unit Cashflow"]
[{"$f":"VLOOKUP(UPPER(M892),Items!$A$2:$B$525,2,FALSE)","v":"N0086"},"D",null,null,null,null,1,null,null,null,{"$f":"VLOOKUP(UPPER(A892),Items!$B$2:$G$525,6)","v":"decimal(10,2)"},{"$f":"IF(B892=\"D\",IF(VLOOKUP(UPPER(A892),Items!$B$2:$H$748,7,FALSE)<>0,VLOOKUP(UPPER(A892),Items!$B$2:$H$748,7,FALSE),\"\"),\"\")","v":""},"Energy Imbalance Cashflow"]
[{"$f":"VLOOKUP(UPPER(M893),Items!$A$2:$B$525,2,FALSE)","v":"N0122"},"D",null,null,null,null,1,null,null,null,{"$f":"VLOOKUP(UPPER(A893),Items!$B$2:$G$525,6)","v":"decimal(10,2)"},{"$f":"IF(B893=\"D\",IF(VLOOKUP(UPPER(A893),Items!$B$2:$H$748,7,FALSE)<>0,VLOOKUP(UPPER(A893),Items!$B$2:$H$748,7,FALSE),\"\"),\"\")","v":""},"Information Imbalance Cashflow"]
[{"$f":"VLOOKUP(UPPER(M894),Items!$A$2:$B$525,2,FALSE)","v":"N0151"},"D",null,null,null,null,1,null,null,null,{"$f":"VLOOKUP(UPPER(A894),Items!$B$2:$G$525,6)","v":"decimal(10,2)"},{"$f":"IF(B894=\"D\",IF(VLOOKUP(UPPER(A894),Items!$B$2:$H$748,7,FALSE)<>0,VLOOKUP(UPPER(A894),Items!$B$2:$H$748,7,FALSE),\"\"),\"\")","v":""},"Non-Delivery Charge"]
[{"$f":"VLOOKUP(UPPER(M895),Items!$A$2:$B$525,2,FALSE)","v":"N0194"},"D",null,null,null,null,1,null,null,null,{"$f":"VLOOKUP(UPPER(A895),Items!$B$2:$G$525,6)","v":"decimal(10,2)"},{"$f":"IF(B895=\"D\",IF(VLOOKUP(UPPER(A895),Items!$B$2:$H$748,7,FALSE)<>0,VLOOKUP(UPPER(A895),Items!$B$2:$H$748,7,FALSE),\"\"),\"\")","v":""},"Residual Cashflow Reallocation Charge"]
[{"$f":"VLOOKUP(UPPER(M896),Items!$A$2:$B$625,2,FALSE)","v":"N0590"},"D",null,null,null,null,1,null,null,null,{"$f":"VLOOKUP(UPPER(A896),Items!$B$2:$G625,6)","v":"decimal(10,2)"},{"$f":"IF(B896=\"D\",IF(VLOOKUP(UPPER(A896),Items!$B$2:$H$748,7,FALSE)<>0,VLOOKUP(UPPER(A896),Items!$B$2:$H$748,7,FALSE),\"\"),\"\")","v":""},"RR Cashflow","Populated for post TERRE settlement dates only"]
[{"$f":"VLOOKUP(UPPER(M897),Items!$A$2:$B$625,2,FALSE)","v":"N0591"},"D",null,null,null,null,1,null,null,null,{"$f":"VLOOKUP(UPPER(A897),Items!$B$2:$G626,6)","v":"decimal(10,2)"},{"$f":"IF(B897=\"D\",IF(VLOOKUP(UPPER(A897),Items!$B$2:$H$748,7,FALSE)<>0,VLOOKUP(UPPER(A897),Items!$B$2:$H$748,7,FALSE),\"\"),\"\")","v":""},"RR Instructed Deviation Cashflow","Populated for post TERRE settlement dates only"]
["SSD","R",1,null,null,"G",null,null,null,null,null,null,"System Period Data"]
[{"$f":"VLOOKUP(UPPER(M899),Items!$A$2:$B$525,2,FALSE)","v":"N0172"},"D",null,null,null,null,1,null,null,null,{"$f":"VLOOKUP(UPPER(A899),Items!$B$2:$G$525,6)","v":"decimal(10,2)"},{"$f":"IF(B899=\"D\",IF(VLOOKUP(UPPER(A899),Items!$B$2:$H$748,7,FALSE)<>0,VLOOKUP(UPPER(A899),Items!$B$2:$H$748,7,FALSE),\"\"),\"\")","v":""},"Period BSSC Limited Costs"]
["N0213","D",null,null,null,null,1,null,null,null,{"$f":"VLOOKUP(UPPER(A900),Items!$B$2:$G$525,6)","v":"decimal(10,2)"},{"$f":"IF(B900=\"D\",IF(VLOOKUP(UPPER(A900),Items!$B$2:$H$748,7,FALSE)<>0,VLOOKUP(UPPER(A900),Items!$B$2:$H$748,7,FALSE),\"\"),\"\")","v":""},"System Operator Cashflow","Name updated post TERRE (BM removed)"]
[{"$f":"VLOOKUP(UPPER(M901),Items!$A$2:$B$525,2,FALSE)","v":"N0124"},"D",null,null,null,null,1,null,null,null,{"$f":"VLOOKUP(UPPER(A901),Items!$B$2:$G$525,6)","v":"decimal(10,5)"},{"$f":"IF(B901=\"D\",IF(VLOOKUP(UPPER(A901),Items!$B$2:$H$748,7,FALSE)<>0,VLOOKUP(UPPER(A901),Items!$B$2:$H$748,7,FALSE),\"\"),\"\")","v":""},"Information Imbalance Price 1"]
[{"$f":"VLOOKUP(UPPER(M902),Items!$A$2:$B$525,2,FALSE)","v":"N0125"},"D",null,null,null,null,1,null,null,null,{"$f":"VLOOKUP(UPPER(A902),Items!$B$2:$G$525,6)","v":"decimal(10,5)"},{"$f":"IF(B902=\"D\",IF(VLOOKUP(UPPER(A902),Items!$B$2:$H$748,7,FALSE)<>0,VLOOKUP(UPPER(A902),Items!$B$2:$H$748,7,FALSE),\"\"),\"\")","v":""},"Information Imbalance Price 2"]
[{"$f":"VLOOKUP(UPPER(M903),Items!$A$2:$B$525,2,FALSE)","v":"N0212"},"D",null,null,null,null,1,null,null,null,{"$f":"VLOOKUP(UPPER(A903),Items!$B$2:$G$525,6)","v":"decimal(10,5)"},{"$f":"IF(B903=\"D\",IF(VLOOKUP(UPPER(A903),Items!$B$2:$H$748,7,FALSE)<>0,VLOOKUP(UPPER(A903),Items!$B$2:$H$748,7,FALSE),\"\"),\"\")","v":""},"System Buy Price"]
[{"$f":"VLOOKUP(UPPER(M904),Items!$A$2:$B$525,2,FALSE)","v":"N0215"},"D",null,null,null,null,1,null,null,null,{"$f":"VLOOKUP(UPPER(A904),Items!$B$2:$G$525,6)","v":"decimal(10,5)"},{"$f":"IF(B904=\"D\",IF(VLOOKUP(UPPER(A904),Items!$B$2:$H$748,7,FALSE)<>0,VLOOKUP(UPPER(A904),Items!$B$2:$H$748,7,FALSE),\"\"),\"\")","v":""},"System Sell Price"]
[{"$f":"VLOOKUP(UPPER(M905),Items!$A$2:$B$525,2,FALSE)","v":"N0439"},"D",null,null,null,null,1,null,null,null,{"$f":"VLOOKUP(UPPER(A905),Items!$B$2:$G$525,6)","v":"text(2)"},{"$f":"IF(B905=\"D\",IF(VLOOKUP(UPPER(A905),Items!$B$2:$H$748,7,FALSE)<>0,VLOOKUP(UPPER(A905),Items!$B$2:$H$748,7,FALSE),\"\"),\"\")","v":"Price Derivation Code"},"Price Derivation Code"]
[{"$f":"VLOOKUP(UPPER(M906),Items!$A$2:$B$525,2,FALSE)","v":"N0333"},"D",null,null,null,null,1,null,null,null,{"$f":"VLOOKUP(UPPER(A906),Items!$B$2:$G$525,6)","v":"decimal(10,2)"},{"$f":"IF(B906=\"D\",IF(VLOOKUP(UPPER(A906),Items!$B$2:$H$748,7,FALSE)<>0,VLOOKUP(UPPER(A906),Items!$B$2:$H$748,7,FALSE),\"\"),\"\")","v":""},"Total System BM Cashflow"]
[{"$f":"VLOOKUP(UPPER(M907),Items!$A$2:$B$525,2,FALSE)","v":"N0225"},"D",null,null,null,null,1,null,null,null,{"$f":"VLOOKUP(UPPER(A907),Items!$B$2:$G$525,6)","v":"decimal(10,2)"},{"$f":"IF(B907=\"D\",IF(VLOOKUP(UPPER(A907),Items!$B$2:$H$748,7,FALSE)<>0,VLOOKUP(UPPER(A907),Items!$B$2:$H$748,7,FALSE),\"\"),\"\")","v":""},"Total System Energy Imbalance Cashflow"]
[{"$f":"VLOOKUP(UPPER(M908),Items!$A$2:$B$525,2,FALSE)","v":"N0228"},"D",null,null,null,null,1,null,null,null,{"$f":"VLOOKUP(UPPER(A908),Items!$B$2:$G$525,6)","v":"decimal(10,2)"},{"$f":"IF(B908=\"D\",IF(VLOOKUP(UPPER(A908),Items!$B$2:$H$748,7,FALSE)<>0,VLOOKUP(UPPER(A908),Items!$B$2:$H$748,7,FALSE),\"\"),\"\")","v":""},"Total System Non-Delivery Charge"]
[{"$f":"VLOOKUP(UPPER(M909),Items!$A$2:$B$525,2,FALSE)","v":"N0216"},"D",null,null,null,null,1,null,null,null,{"$f":"VLOOKUP(UPPER(A909),Items!$B$2:$G$525,6)","v":"decimal(10,3)"},{"$f":"IF(B909=\"D\",IF(VLOOKUP(UPPER(A909),Items!$B$2:$H$748,7,FALSE)<>0,VLOOKUP(UPPER(A909),Items!$B$2:$H$748,7,FALSE),\"\"),\"\")","v":""},"System Total Accepted Bid Volume"]
[{"$f":"VLOOKUP(UPPER(M910),Items!$A$2:$B$525,2,FALSE)","v":"N0386"},"D",null,null,null,null,"O",null,null,null,{"$f":"VLOOKUP(UPPER(A910),Items!$B$2:$G$525,6)","v":"decimal(10,3)"},{"$f":"IF(B910=\"D\",IF(VLOOKUP(UPPER(A910),Items!$B$2:$H$748,7,FALSE)<>0,VLOOKUP(UPPER(A910),Items!$B$2:$H$748,7,FALSE),\"\"),\"\")","v":""},"System Total Unpriced Accepted Bid Volume","Populated for pre-P217 Settlement Dates. This field will be null for post-P217 Settlement Dates"]
[{"$f":"VLOOKUP(UPPER(M911),Items!$A$2:$B$525,2,FALSE)","v":"N0393"},"D",null,null,null,null,1,null,null,null,{"$f":"VLOOKUP(UPPER(A911),Items!$B$2:$G$525,6)","v":"decimal(10,3)"},{"$f":"IF(B911=\"D\",IF(VLOOKUP(UPPER(A911),Items!$B$2:$H$748,7,FALSE)<>0,VLOOKUP(UPPER(A911),Items!$B$2:$H$748,7,FALSE),\"\"),\"\")","v":""},"System Total Priced Accepted Bid Volume"]
[{"$f":"VLOOKUP(UPPER(M912),Items!$A$2:$B$525,2,FALSE)","v":"N0224"},"D",null,null,null,null,1,null,null,null,{"$f":"VLOOKUP(UPPER(A912),Items!$B$2:$G$525,6)","v":"decimal(10,3)"},{"$f":"IF(B912=\"D\",IF(VLOOKUP(UPPER(A912),Items!$B$2:$H$748,7,FALSE)<>0,VLOOKUP(UPPER(A912),Items!$B$2:$H$748,7,FALSE),\"\"),\"\")","v":""},"Total System Energy Contract Volume"]
[{"$f":"VLOOKUP(UPPER(M913),Items!$A$2:$B$748,2,FALSE)","v":"N0428"},"D",null,null,null,null,"O",null,null,null,{"$f":"VLOOKUP(UPPER(A913),Items!$B$2:$G$525,6)","v":"decimal(10,3)"},{"$f":"IF(B913=\"D\",IF(VLOOKUP(UPPER(A913),Items!$B$2:$H$748,7,FALSE)<>0,VLOOKUP(UPPER(A913),Items!$B$2:$H$748,7,FALSE),\"\"),\"\")","v":""},"NIV Tagged System Total Unpriced Bid Volume","Populated for pre-P217 Settlement Dates. This field will be null for post-P217 Settlement Dates"]
["N0217","D",null,null,null,null,1,null,null,null,{"$f":"VLOOKUP(UPPER(A914),Items!$B$2:$G$525,6)","v":"decimal(10,3)"},{"$f":"IF(B914=\"D\",IF(VLOOKUP(UPPER(A914),Items!$B$2:$H$748,7,FALSE)<>0,VLOOKUP(UPPER(A914),Items!$B$2:$H$748,7,FALSE),\"\"),\"\")","v":""},"Total System Accepted Offer Volume"]
[{"$f":"VLOOKUP(UPPER(M915),Items!$A$2:$B$748,2,FALSE)","v":"N0429"},"D",null,null,null,null,"O",null,null,null,{"$f":"VLOOKUP(UPPER(A915),Items!$B$2:$G$525,6)","v":"decimal(10,3)"},{"$f":"IF(B915=\"D\",IF(VLOOKUP(UPPER(A915),Items!$B$2:$H$748,7,FALSE)<>0,VLOOKUP(UPPER(A915),Items!$B$2:$H$748,7,FALSE),\"\"),\"\")","v":""},"NIV Tagged System Total Unpriced Offer Volume","Populated for pre-P217 Settlement Dates. This field will be null for post-P217 Settlement Dates"]
[{"$f":"VLOOKUP(UPPER(M916),Items!$A$2:$B$748,2,FALSE)","v":"N0430"},"D",null,null,null,null,1,null,null,null,{"$f":"VLOOKUP(UPPER(A916),Items!$B$2:$G$525,6)","v":"decimal(10,3)"},{"$f":"IF(B916=\"D\",IF(VLOOKUP(UPPER(A916),Items!$B$2:$H$748,7,FALSE)<>0,VLOOKUP(UPPER(A916),Items!$B$2:$H$748,7,FALSE),\"\"),\"\")","v":""},"Net Imbalance Volume"]
[{"$f":"VLOOKUP(UPPER(M917),Items!$A$2:$B$748,2,FALSE)","v":"N0431"},"D",null,null,null,null,1,null,null,null,{"$f":"VLOOKUP(UPPER(A917),Items!$B$2:$G$525,6)","v":"decimal(10,3)"},{"$f":"IF(B917=\"D\",IF(VLOOKUP(UPPER(A917),Items!$B$2:$H$748,7,FALSE)<>0,VLOOKUP(UPPER(A917),Items!$B$2:$H$748,7,FALSE),\"\"),\"\")","v":""},"Total NIV Tagged Volume"]
[{"$f":"VLOOKUP(UPPER(M918),Items!$A$2:$B$748,2,FALSE)","v":"N0432"},"D",null,null,null,null,"O",null,null,null,{"$f":"VLOOKUP(UPPER(A918),Items!$B$2:$G$525,6)","v":"decimal(10,3)"},{"$f":"IF(B918=\"D\",IF(VLOOKUP(UPPER(A918),Items!$B$2:$H$748,7,FALSE)<>0,VLOOKUP(UPPER(A918),Items!$B$2:$H$748,7,FALSE),\"\"),\"\")","v":""},"NIV Tagged SBVA","Populated for pre-P217 Settlement Dates. This field will be null for post-P217 Settlement Dates"]
[{"$f":"VLOOKUP(UPPER(M919),Items!$A$2:$B$748,2,FALSE)","v":"N0433"},"D",null,null,null,null,"O",null,null,null,{"$f":"VLOOKUP(UPPER(A919),Items!$B$2:$G$525,6)","v":"decimal(10,3)"},{"$f":"IF(B919=\"D\",IF(VLOOKUP(UPPER(A919),Items!$B$2:$H$748,7,FALSE)<>0,VLOOKUP(UPPER(A919),Items!$B$2:$H$748,7,FALSE),\"\"),\"\")","v":""},"NIV Tagged SSVA","Populated for pre-P217 Settlement Dates. This field will be null for post-P217 Settlement Dates"]
[{"$f":"VLOOKUP(UPPER(M920),Items!$A$2:$B$525,2,FALSE)","v":"N0387"},"D",null,null,null,null,"O",null,null,null,{"$f":"VLOOKUP(UPPER(A920),Items!$B$2:$G$525,6)","v":"decimal(10,3)"},{"$f":"IF(B920=\"D\",IF(VLOOKUP(UPPER(A920),Items!$B$2:$H$748,7,FALSE)<>0,VLOOKUP(UPPER(A920),Items!$B$2:$H$748,7,FALSE),\"\"),\"\")","v":""},"System Total Unpriced Accepted Offer Volume","Populated for pre-P217 Settlement Dates. This field will be null for post-P217 Settlement Dates"]
[{"$f":"VLOOKUP(UPPER(M921),Items!$A$2:$B$525,2,FALSE)","v":"N0394"},"D",null,null,null,null,1,null,null,null,{"$f":"VLOOKUP(UPPER(A921),Items!$B$2:$G$525,6)","v":"decimal(10,3)"},{"$f":"IF(B921=\"D\",IF(VLOOKUP(UPPER(A921),Items!$B$2:$H$748,7,FALSE)<>0,VLOOKUP(UPPER(A921),Items!$B$2:$H$748,7,FALSE),\"\"),\"\")","v":""},"System Total Priced Accepted Offer Volume"]
[{"$f":"VLOOKUP(UPPER(M922),Items!$A$2:$B$525,2,FALSE)","v":"N0226"},"D",null,null,null,null,1,null,null,null,{"$f":"VLOOKUP(UPPER(A922),Items!$B$2:$G$525,6)","v":"decimal(10,3)"},{"$f":"IF(B922=\"D\",IF(VLOOKUP(UPPER(A922),Items!$B$2:$H$748,7,FALSE)<>0,VLOOKUP(UPPER(A922),Items!$B$2:$H$748,7,FALSE),\"\"),\"\")","v":""},"Total System Energy Imbalance Volume"]
[{"$f":"VLOOKUP(UPPER(M923),Items!$A$2:$B$525,2,FALSE)","v":"N0395"},"D",null,null,null,null,1,null,null,null,{"$f":"VLOOKUP(UPPER(A923),Items!$B$2:$G$525,6)","v":"decimal(10,3)"},{"$f":"IF(B923=\"D\",IF(VLOOKUP(UPPER(A923),Items!$B$2:$H$748,7,FALSE)<>0,VLOOKUP(UPPER(A923),Items!$B$2:$H$748,7,FALSE),\"\"),\"\")","v":""},"Residual Cashflow Reallocation Denominator"]
[{"$f":"VLOOKUP(UPPER(M924),Items!$A$2:$B$525,2,FALSE)","v":"N0230"},"D",null,null,null,null,1,null,null,null,{"$f":"VLOOKUP(UPPER(A924),Items!$B$2:$G$525,6)","v":"decimal(10,2)"},{"$f":"IF(B924=\"D\",IF(VLOOKUP(UPPER(A924),Items!$B$2:$H$748,7,FALSE)<>0,VLOOKUP(UPPER(A924),Items!$B$2:$H$748,7,FALSE),\"\"),\"\")","v":""},"Total System Residual Cashflow"]
[{"$f":"VLOOKUP(UPPER(M925),Items!$A$2:$B$525,2,FALSE)","v":"N0227"},"D",null,null,null,null,1,null,null,null,{"$f":"VLOOKUP(UPPER(A925),Items!$B$2:$G$525,6)","v":"decimal(10,2)"},{"$f":"IF(B925=\"D\",IF(VLOOKUP(UPPER(A925),Items!$B$2:$H$748,7,FALSE)<>0,VLOOKUP(UPPER(A925),Items!$B$2:$H$748,7,FALSE),\"\"),\"\")","v":""},"Total System Information Imbalance Charge"]
[{"$f":"VLOOKUP(UPPER(M926),Items!$A$2:$B$525,2,FALSE)","v":"N0420"},"D",null,null,null,null,"O",null,null,null,{"$f":"VLOOKUP(UPPER(A926),Items!$B$2:$G$525,6)","v":"decimal(10,2)"},{"$f":"IF(B926=\"D\",IF(VLOOKUP(UPPER(A926),Items!$B$2:$H$748,7,FALSE)<>0,VLOOKUP(UPPER(A926),Items!$B$2:$H$748,7,FALSE),\"\"),\"\")","v":""},"Net Energy Sell-Price Cost Adjustment","Populated for pre-P217 Settlement Dates. This field will be null for post-P217 Settlement Dates"]
[{"$f":"VLOOKUP(UPPER(M927),Items!$A$2:$B$525,2,FALSE)","v":"N0419"},"D",null,null,null,null,"O",null,null,null,{"$f":"VLOOKUP(UPPER(A927),Items!$B$2:$G$525,6)","v":"decimal(10,2)"},{"$f":"IF(B927=\"D\",IF(VLOOKUP(UPPER(A927),Items!$B$2:$H$748,7,FALSE)<>0,VLOOKUP(UPPER(A927),Items!$B$2:$H$748,7,FALSE),\"\"),\"\")","v":""},"Net Energy Buy-Price Cost Adjustment","Populated for pre-P217 Settlement Dates. This field will be null for post-P217 Settlement Dates"]
[{"$f":"VLOOKUP(UPPER(M928),Items!$A$2:$B$525,2,FALSE)","v":"N0418"},"D",null,null,null,null,"O",null,null,null,{"$f":"VLOOKUP(UPPER(A928),Items!$B$2:$G$525,6)","v":"decimal(10,3)"},{"$f":"IF(B928=\"D\",IF(VLOOKUP(UPPER(A928),Items!$B$2:$H$748,7,FALSE)<>0,VLOOKUP(UPPER(A928),Items!$B$2:$H$748,7,FALSE),\"\"),\"\")","v":""},"Net Energy Sell-Price Volume Adjustment","Populated for pre-P217 Settlement Dates. This field will be null for post-P217 Settlement Dates"]
[{"$f":"VLOOKUP(UPPER(M929),Items!$A$2:$B$525,2,FALSE)","v":"N0417"},"D",null,null,null,null,"O",null,null,null,{"$f":"VLOOKUP(UPPER(A929),Items!$B$2:$G$525,6)","v":"decimal(10,3)"},{"$f":"IF(B929=\"D\",IF(VLOOKUP(UPPER(A929),Items!$B$2:$H$748,7,FALSE)<>0,VLOOKUP(UPPER(A929),Items!$B$2:$H$748,7,FALSE),\"\"),\"\")","v":""},"Net Energy Buy-Price Volume Adjustment","Populated for pre-P217 Settlement Dates. This field will be null for post-P217 Settlement Dates"]
[{"$f":"VLOOKUP(UPPER(M930),Items!$A$2:$B$748,2,FALSE)","v":"N0416"},"D",null,null,null,null,"O",null,null,null,{"$f":"VLOOKUP(UPPER(A930),Items!$B$2:$G$525,6)","v":"decimal(10,3)"},{"$f":"IF(VLOOKUP(UPPER(A930),Items!$B$2:$H$748,7,FALSE)<>0,VLOOKUP(UPPER(A930),Items!$B$2:$H$748,7,FALSE),\"\")","v":""},"Net System Sell-Price Volume Adjustment","Populated for pre-P217 Settlement Dates. This field will be null for post-P217 Settlement Dates"]
[{"$f":"VLOOKUP(UPPER(M931),Items!$A$2:$B$748,2,FALSE)","v":"N0415"},"D",null,null,null,null,"O",null,null,null,{"$f":"VLOOKUP(UPPER(A931),Items!$B$2:$G$525,6)","v":"decimal(10,3)"},{"$f":"IF(VLOOKUP(UPPER(A931),Items!$B$2:$H$748,7,FALSE)<>0,VLOOKUP(UPPER(A931),Items!$B$2:$H$748,7,FALSE),\"\")","v":""},"Net System Buy-Price Volume Adjustment","Populated for pre-P217 Settlement Dates. This field will be null for post-P217 Settlement Dates"]
[{"$f":"VLOOKUP(UPPER(M932),Items!$A$2:$B$525,2,FALSE)","v":"N0371"},{"$f":"IF(LEN(K932)>0,\"D\",IF(LEN(A932)=5,\"F\",IF(LEN(A932)=3,\"R\",\" \")))","v":"D"},null,null,null,null,1,null,null,null,{"$f":"VLOOKUP(UPPER(A932),Items!$B$2:$G$525,6)","v":"decimal(10,2)"},{"$f":"IF(B932=\"D\",IF(VLOOKUP(UPPER(A932),Items!$B$2:$H$748,7,FALSE)<>0,VLOOKUP(UPPER(A932),Items!$B$2:$H$748,7,FALSE),\"\"),\"\")","v":""},"Sell-Price Price Adjust"]
[{"$f":"VLOOKUP(UPPER(M933),Items!$A$2:$B$525,2,FALSE)","v":"N0372"},"D",null,null,null,null,1,null,null,null,{"$f":"VLOOKUP(UPPER(A933),Items!$B$2:$G$525,6)","v":"decimal(10,2)"},{"$f":"IF(B933=\"D\",IF(VLOOKUP(UPPER(A933),Items!$B$2:$H$748,7,FALSE)<>0,VLOOKUP(UPPER(A933),Items!$B$2:$H$748,7,FALSE),\"\"),\"\")","v":""},"Buy-Price Price Adjust"]
[{"$f":"VLOOKUP(UPPER(M934),Items!$A$2:$B$748,2,FALSE)","v":"N0438"},"D",null,null,null,null,1,null,null,null,{"$f":"VLOOKUP(UPPER(A934),Items!$B$2:$G$748,6)","v":"decimal(10,3)"},{"$f":"IF(B934=\"D\",IF(VLOOKUP(UPPER(A934),Items!$B$2:$H$748,7,FALSE)<>0,VLOOKUP(UPPER(A934),Items!$B$2:$H$748,7,FALSE),\"\"),\"\")","v":""},"Total Period Applicable Balancing Services Volume","MWh"]
[{"$f":"VLOOKUP(UPPER(M935),Items!$A$2:$B$525,2,FALSE)","v":"N0335"},"D",null,null,null,null,1,null,null,null,{"$f":"VLOOKUP(UPPER(A935),Items!$B$2:$G$525,6)","v":"decimal(10,3)"},{"$f":"IF(B935=\"D\",IF(VLOOKUP(UPPER(A935),Items!$B$2:$H$748,7,FALSE)<>0,VLOOKUP(UPPER(A935),Items!$B$2:$H$748,7,FALSE),\"\"),\"\")","v":""},"System Operator Production Imbalance"]
[{"$f":"VLOOKUP(UPPER(M936),Items!$A$2:$B$525,2,FALSE)","v":"N0336"},"D",null,null,null,null,1,null,null,null,{"$f":"VLOOKUP(UPPER(A936),Items!$B$2:$G$525,6)","v":"decimal(10,3)"},{"$f":"IF(B936=\"D\",IF(VLOOKUP(UPPER(A936),Items!$B$2:$H$748,7,FALSE)<>0,VLOOKUP(UPPER(A936),Items!$B$2:$H$748,7,FALSE),\"\"),\"\")","v":""},"System Operator Consumption Imbalance"]
[{"$f":"VLOOKUP(UPPER(M937),Items!$A$2:$B$609,2,FALSE)","v":"N0501"},"D",null,null,null,null,"O",null,null,null,{"$f":"VLOOKUP(UPPER(A937),Items!$B$2:$G$526,6,FALSE)","v":"decimal(10,3)"},{"$f":"IF(B937=\"D\",IF(VLOOKUP(UPPER(A937),Items!$B$2:$H$748,7,FALSE)<>0,VLOOKUP(UPPER(A937),Items!$B$2:$H$748,7,FALSE),\"\"),\"\")","v":""},"NIV Tagged Energy Buy Volume Adjustment","Populated for post-P194/pre-P217 Settlement Dates. These fields will be null for all other Settlement Dates before the P194 effective date."]
[{"$f":"VLOOKUP(UPPER(M938),Items!$A$2:$B$609,2,FALSE)","v":"N0502"},"D",null,null,null,null,"O",null,null,null,{"$f":"VLOOKUP(UPPER(A938),Items!$B$2:$G$526,6,FALSE)","v":"decimal(10,3)"},{"$f":"IF(B938=\"D\",IF(VLOOKUP(UPPER(A938),Items!$B$2:$H$748,7,FALSE)<>0,VLOOKUP(UPPER(A938),Items!$B$2:$H$748,7,FALSE),\"\"),\"\")","v":""},"NIV Tagged Energy Sell Volume Adjustment","Populated for post-P194/pre-P217 Settlement Dates. These fields will be null for all other Settlement Dates before the P194 effective date."]
[{"$f":"VLOOKUP(UPPER(M939),Items!$A$2:$B$609,2,FALSE)","v":"N0503"},"D",null,null,null,null,"O",null,null,null,{"$f":"VLOOKUP(UPPER(A939),Items!$B$2:$G$526,6,FALSE)","v":"decimal(10,3)"},{"$f":"IF(B939=\"D\",IF(VLOOKUP(UPPER(A939),Items!$B$2:$H$748,7,FALSE)<>0,VLOOKUP(UPPER(A939),Items!$B$2:$H$748,7,FALSE),\"\"),\"\")","v":""},"PAR Tagged Energy Buy Volume Adjustment","Populated for post-P194/pre-P217 Settlement Dates. These fields will be null for all other Settlement Dates before the P194 effective date."]
[{"$f":"VLOOKUP(UPPER(M940),Items!$A$2:$B$609,2,FALSE)","v":"N0504"},"D",null,null,null,null,"O",null,null,null,{"$f":"VLOOKUP(UPPER(A940),Items!$B$2:$G$526,6,FALSE)","v":"decimal(10,3)"},{"$f":"IF(B940=\"D\",IF(VLOOKUP(UPPER(A940),Items!$B$2:$H$748,7,FALSE)<>0,VLOOKUP(UPPER(A940),Items!$B$2:$H$748,7,FALSE),\"\"),\"\")","v":""},"PAR Tagged Energy Sell Volume Adjustment","Populated for post-P194/pre-P217 Settlement Dates. These fields will be null for all other Settlement Dates before the P194 effective date."]
[{"$f":"VLOOKUP(UPPER(M941),Items!$A$2:$B$748,2,FALSE)","v":"N0434"},"D",null,null,null,null,"O",null,null,null,{"$f":"VLOOKUP(UPPER(A941),Items!$B$2:$G$525,6)","v":"decimal(10,2)"},{"$f":"IF(VLOOKUP(UPPER(A941),Items!$B$2:$H$748,7,FALSE)<>0,VLOOKUP(UPPER(A941),Items!$B$2:$H$748,7,FALSE),\"\")","v":""},"Untagged EBCA","Populated for pre-P217 Settlement Dates. This field will be null for post-P217 Settlement Dates"]
[{"$f":"VLOOKUP(UPPER(M942),Items!$A$2:$B$748,2,FALSE)","v":"N0435"},"D",null,null,null,null,"O",null,null,null,{"$f":"VLOOKUP(UPPER(A942),Items!$B$2:$G$525,6)","v":"decimal(10,3)"},{"$f":"IF(VLOOKUP(UPPER(A942),Items!$B$2:$H$748,7,FALSE)<>0,VLOOKUP(UPPER(A942),Items!$B$2:$H$748,7,FALSE),\"\")","v":""},"Untagged EBVA","Populated for pre-P217 Settlement Dates. This field will be null for post-P217 Settlement Dates"]
[{"$f":"VLOOKUP(UPPER(M943),Items!$A$2:$B$748,2,FALSE)","v":"N0436"},"D",null,null,null,null,"O",null,null,null,{"$f":"VLOOKUP(UPPER(A943),Items!$B$2:$G$525,6)","v":"decimal(10,2)"},{"$f":"IF(VLOOKUP(UPPER(A943),Items!$B$2:$H$748,7,FALSE)<>0,VLOOKUP(UPPER(A943),Items!$B$2:$H$748,7,FALSE),\"\")","v":""},"Untagged ESCA","Populated for pre-P217 Settlement Dates. This field will be null for post-P217 Settlement Dates"]
[{"$f":"VLOOKUP(UPPER(M944),Items!$A$2:$B$748,2,FALSE)","v":"N0437"},"D",null,null,null,null,"O",null,null,null,{"$f":"VLOOKUP(UPPER(A944),Items!$B$2:$G$525,6)","v":"decimal(10,3)"},{"$f":"IF(VLOOKUP(UPPER(A944),Items!$B$2:$H$748,7,FALSE)<>0,VLOOKUP(UPPER(A944),Items!$B$2:$H$748,7,FALSE),\"\")","v":""},"Untagged ESVA","Populated for pre-P217 Settlement Dates. This field will be null for post-P217 Settlement Dates"]
[{"$f":"VLOOKUP(UPPER(M945),Items!$A$2:$B$525,2,FALSE)","v":"N0517"},"D",null,null,null,null,"O",null,null,null,{"$f":"VLOOKUP(UPPER(A945),Items!$B$2:$G$525,6)","v":"decimal(10,3)"},{"$f":"IF(B945=\"D\",IF(VLOOKUP(UPPER(A945),Items!$B$2:$H$748,7,FALSE)<>0,VLOOKUP(UPPER(A945),Items!$B$2:$H$748,7,FALSE),\"\"),\"\")","v":""},"Total System Tagged Accepted Bid Volume","Populated for post-P217 Settlement Dates. This field will be null for pre-P217 Settlement Dates"]
[{"$f":"VLOOKUP(UPPER(M946),Items!$A$2:$B$748,2,FALSE)","v":"N0518"},"D",null,null,null,null,"O",null,null,null,{"$f":"VLOOKUP(UPPER(A946),Items!$B$2:$G$525,6)","v":"decimal(10,3)"},{"$f":"IF(VLOOKUP(UPPER(A946),Items!$B$2:$H$748,7,FALSE)<>0,VLOOKUP(UPPER(A946),Items!$B$2:$H$748,7,FALSE),\"\")","v":""},"Total System Tagged Accepted Offer Volume","Populated for post-P217 Settlement Dates. This field will be null for pre-P217 Settlement Dates"]
[{"$f":"VLOOKUP(UPPER(M947),Items!$A$2:$B$748,2,FALSE)","v":"N0519"},"D",null,null,null,null,"O",null,null,null,{"$f":"VLOOKUP(UPPER(A947),Items!$B$2:$G$525,6)","v":"decimal(10,3)"},{"$f":"IF(VLOOKUP(UPPER(A947),Items!$B$2:$H$748,7,FALSE)<>0,VLOOKUP(UPPER(A947),Items!$B$2:$H$748,7,FALSE),\"\")","v":""},"Total System Repriced Accepted Bid Volume","Populated for post-P217 Settlement Dates. This field will be null for pre-P217 Settlement Dates"]
[{"$f":"VLOOKUP(UPPER(M948),Items!$A$2:$B$525,2,FALSE)","v":"N0520"},"D",null,null,null,null,"O",null,null,null,{"$f":"VLOOKUP(UPPER(A948),Items!$B$2:$G$525,6)","v":"decimal(10,3)"},{"$f":"IF(B948=\"D\",IF(VLOOKUP(UPPER(A948),Items!$B$2:$H$748,7,FALSE)<>0,VLOOKUP(UPPER(A948),Items!$B$2:$H$748,7,FALSE),\"\"),\"\")","v":""},"Total System Repriced Accepted Offer Volume","Populated for post-P217 Settlement Dates. This field will be null for pre-P217 Settlement Dates"]
[{"$f":"VLOOKUP(UPPER(M949),Items!$A$2:$B$525,2,FALSE)","v":"N0521"},"D",null,null,null,null,"O",null,null,null,{"$f":"VLOOKUP(UPPER(A949),Items!$B$2:$G$525,6)","v":"decimal(10,3)"},{"$f":"IF(B949=\"D\",IF(VLOOKUP(UPPER(A949),Items!$B$2:$H$748,7,FALSE)<>0,VLOOKUP(UPPER(A949),Items!$B$2:$H$748,7,FALSE),\"\"),\"\")","v":""},"Total System Originally-priced Accepted Bid Volume","Populated for post-P217 Settlement Dates. This field will be null for pre-P217 Settlement Dates"]
[{"$f":"VLOOKUP(UPPER(M950),Items!$A$2:$B$748,2,FALSE)","v":"N0522"},"D",null,null,null,null,"O",null,null,null,{"$f":"VLOOKUP(UPPER(A950),Items!$B$2:$G$748,6)","v":"decimal(10,3)"},{"$f":"IF(B950=\"D\",IF(VLOOKUP(UPPER(A950),Items!$B$2:$H$748,7,FALSE)<>0,VLOOKUP(UPPER(A950),Items!$B$2:$H$748,7,FALSE),\"\"),\"\")","v":""},"Total System Originally-priced Accepted Offer Volume","Populated for post-P217 Settlement Dates. This field will be null for pre-P217 Settlement Dates"]
[{"$f":"VLOOKUP(UPPER(M951),Items!$A$2:$B$525,2,FALSE)","v":"N0523"},"D",null,null,null,null,"O",null,null,null,{"$f":"VLOOKUP(UPPER(A951),Items!$B$2:$G$525,6)","v":"decimal(10,3)"},{"$f":"IF(B951=\"D\",IF(VLOOKUP(UPPER(A951),Items!$B$2:$H$748,7,FALSE)<>0,VLOOKUP(UPPER(A951),Items!$B$2:$H$748,7,FALSE),\"\"),\"\")","v":""},"Total System Adjustment Sell Volume","Populated for post-P217 Settlement Dates. This field will be null for pre-P217 Settlement Dates"]
[{"$f":"VLOOKUP(UPPER(M952),Items!$A$2:$B$525,2,FALSE)","v":"N0524"},"D",null,null,null,null,"O",null,null,null,{"$f":"VLOOKUP(UPPER(A952),Items!$B$2:$G$525,6)","v":"decimal(10,3)"},{"$f":"IF(B952=\"D\",IF(VLOOKUP(UPPER(A952),Items!$B$2:$H$748,7,FALSE)<>0,VLOOKUP(UPPER(A952),Items!$B$2:$H$748,7,FALSE),\"\"),\"\")","v":""},"Total System Adjustment Buy Volume","Populated for post-P217 Settlement Dates. This field will be null for pre-P217 Settlement Dates"]
[{"$f":"VLOOKUP(UPPER(M953),Items!$A$2:$B$609,2,FALSE)","v":"N0525"},"D",null,null,null,null,"O",null,null,null,{"$f":"VLOOKUP(UPPER(A953),Items!$B$2:$G$526,6,FALSE)","v":"decimal(10,3)"},{"$f":"IF(B953=\"D\",IF(VLOOKUP(UPPER(A953),Items!$B$2:$H$748,7,FALSE)<>0,VLOOKUP(UPPER(A953),Items!$B$2:$H$748,7,FALSE),\"\"),\"\")","v":""},"Total System Tagged Adjustment Sell Volume","Populated for post-P217 Settlement Dates. This field will be null for pre-P217 Settlement Dates"]
[{"$f":"VLOOKUP(UPPER(M954),Items!$A$2:$B$609,2,FALSE)","v":"N0526"},"D",null,null,null,null,"O",null,null,null,{"$f":"VLOOKUP(UPPER(A954),Items!$B$2:$G$526,6,FALSE)","v":"decimal(10,3)"},{"$f":"IF(B954=\"D\",IF(VLOOKUP(UPPER(A954),Items!$B$2:$H$748,7,FALSE)<>0,VLOOKUP(UPPER(A954),Items!$B$2:$H$748,7,FALSE),\"\"),\"\")","v":""},"Total System Tagged Adjustment Buy Volume","Populated for post-P217 Settlement Dates. This field will be null for pre-P217 Settlement Dates"]
[{"$f":"VLOOKUP(UPPER(M955),Items!$A$2:$B$609,2,FALSE)","v":"N0527"},"D",null,null,null,null,"O",null,null,null,{"$f":"VLOOKUP(UPPER(A955),Items!$B$2:$G$526,6,FALSE)","v":"decimal(10,3)"},{"$f":"IF(B955=\"D\",IF(VLOOKUP(UPPER(A955),Items!$B$2:$H$748,7,FALSE)<>0,VLOOKUP(UPPER(A955),Items!$B$2:$H$748,7,FALSE),\"\"),\"\")","v":""},"Total System Repriced Adjustment Sell Volume","Populated for post-P217 Settlement Dates. This field will be null for pre-P217 Settlement Dates"]
[{"$f":"VLOOKUP(UPPER(M956),Items!$A$2:$B$609,2,FALSE)","v":"N0528"},"D",null,null,null,null,"O",null,null,null,{"$f":"VLOOKUP(UPPER(A956),Items!$B$2:$G$526,6,FALSE)","v":"decimal(10,3)"},{"$f":"IF(B956=\"D\",IF(VLOOKUP(UPPER(A956),Items!$B$2:$H$748,7,FALSE)<>0,VLOOKUP(UPPER(A956),Items!$B$2:$H$748,7,FALSE),\"\"),\"\")","v":""},"Total System Repriced Adjustment Buy Volume","Populated for post-P217 Settlement Dates. This field will be null for pre-P217 Settlement Dates"]
[{"$f":"VLOOKUP(UPPER(M957),Items!$A$2:$B$748,2,FALSE)","v":"N0529"},"D",null,null,null,null,"O",null,null,null,{"$f":"VLOOKUP(UPPER(A957),Items!$B$2:$G$525,6)","v":"decimal(10,3)"},{"$f":"IF(B957=\"D\",IF(VLOOKUP(UPPER(A957),Items!$B$2:$H$748,7,FALSE)<>0,VLOOKUP(UPPER(A957),Items!$B$2:$H$748,7,FALSE),\"\"),\"\")","v":""},"Total System Originally-priced Adjustment Sell Volume","Populated for post-P217 Settlement Dates. This field will be null for pre-P217 Settlement Dates"]
[{"$f":"VLOOKUP(UPPER(M958),Items!$A$2:$B$748,2,FALSE)","v":"N0530"},"D",null,null,null,null,"O",null,null,null,{"$f":"VLOOKUP(UPPER(A958),Items!$B$2:$G$525,6)","v":"decimal(10,3)"},{"$f":"IF(VLOOKUP(UPPER(A958),Items!$B$2:$H$748,7,FALSE)<>0,VLOOKUP(UPPER(A958),Items!$B$2:$H$748,7,FALSE),\"\")","v":""},"Total System Originally-priced Adjustment Buy Volume","Populated for post-P217 Settlement Dates. This field will be null for pre-P217 Settlement Dates"]
[{"$f":"VLOOKUP(UPPER(M959),Items!$A$2:$B$748,2,FALSE)","v":"N0531"},"D",null,null,null,null,"O",null,null,null,{"$f":"VLOOKUP(UPPER(A959),Items!$B$2:$G$525,6)","v":"decimal(10,2)"},{"$f":"IF(VLOOKUP(UPPER(A959),Items!$B$2:$H$748,7,FALSE)<>0,VLOOKUP(UPPER(A959),Items!$B$2:$H$748,7,FALSE),\"\")","v":""},"Replacement Price","Populated for post-P217 Settlement Dates. This field will be null for pre-P217 Settlement Dates"]
[{"$f":"VLOOKUP(UPPER(M960),Items!$A$2:$B$748,2,FALSE)","v":"N0532"},"D",null,null,null,null,"O",null,null,null,{"$f":"VLOOKUP(UPPER(A960),Items!$B$2:$G$525,6)","v":"decimal(10,3)"},{"$f":"IF(VLOOKUP(UPPER(A960),Items!$B$2:$H$748,7,FALSE)<>0,VLOOKUP(UPPER(A960),Items!$B$2:$H$748,7,FALSE),\"\")","v":""},"Replacement Price Calculation Volume","Populated for post-P217 Settlement Dates. This field will be null for pre-P217 Settlement Dates"]
[{"$f":"VLOOKUP(UPPER(M961),Items!$A$2:$B$639,2,FALSE)","v":"N0558"},"D",null,null,null,null,"O",null,null,null,{"$f":"VLOOKUP(UPPER(A961),Items!$B$2:$G$553,6)","v":"boolean"},{"$f":"IF(VLOOKUP(UPPER(A961),Items!$B$2:$H$748,7,FALSE)<>0,VLOOKUP(UPPER(A961),Items!$B$2:$H$748,7,FALSE),\"\")","v":""},"Stor Availability Window Flag","Populated for post-P305 Settlement Dates. This field will be null for pre-P305 Settlement Dates"]
[{"$f":"VLOOKUP(UPPER(M962),Items!$A$2:$B$639,2,FALSE)","v":"N0559"},"D",null,null,null,null,"O",null,null,null,{"$f":"VLOOKUP(UPPER(A962),Items!$B$2:$G$553,6)","v":"decimal(10,9)"},{"$f":"IF(VLOOKUP(UPPER(A962),Items!$B$2:$H$748,7,FALSE)<>0,VLOOKUP(UPPER(A962),Items!$B$2:$H$748,7,FALSE),\"\")","v":""},"Loss Of Load Probability","Populated for post-P305 Settlement Dates (but will be null if the Transmission Company does not provide a value and the BMRA/SAA does not use a default value). This field will be null for pre-P305 Settlement Dates"]
[{"$f":"VLOOKUP(UPPER(M963),Items!$A$2:$B$639,2,FALSE)","v":"N0560"},"D",null,null,null,null,"O",null,null,null,{"$f":"VLOOKUP(UPPER(A963),Items!$B$2:$G$553,6)","v":"decimal(15,7)"},{"$f":"IF(VLOOKUP(UPPER(A963),Items!$B$2:$H$748,7,FALSE)<>0,VLOOKUP(UPPER(A963),Items!$B$2:$H$748,7,FALSE),\"\")","v":""},"De-rated Margin","Populated for post-P305 Settlement Dates (but will be null if the Transmission Company does not provide a value). This field will be null for pre-P305 Settlement Dates"]
[{"$f":"VLOOKUP(UPPER(M964),Items!$A$2:$B$639,2,FALSE)","v":"N0561"},"D",null,null,null,null,"O",null,null,null,{"$f":"VLOOKUP(UPPER(A964),Items!$B$2:$G$553,6)","v":"decimal(10,2)"},{"$f":"IF(VLOOKUP(UPPER(A964),Items!$B$2:$H$748,7,FALSE)<>0,VLOOKUP(UPPER(A964),Items!$B$2:$H$748,7,FALSE),\"\")","v":""},"Value Of Lost Load","Populated for post-P305 Settlement Dates. This field will be null for pre-P305 Settlement Dates"]
[{"$f":"VLOOKUP(UPPER(M965),Items!$A$2:$B$639,2,FALSE)","v":"N0562"},"D",null,null,null,null,"O",null,null,null,{"$f":"VLOOKUP(UPPER(A965),Items!$B$2:$G$553,6)","v":"decimal(10,5)"},{"$f":"IF(VLOOKUP(UPPER(A965),Items!$B$2:$H$748,7,FALSE)<>0,VLOOKUP(UPPER(A965),Items!$B$2:$H$748,7,FALSE),\"\")","v":""},"Reserve Scarcity Price","Populated for post-P305 Settlement Dates (but will be null for any post P305 Settlement Period that is not within a STOR Availability Window). This field will be null for pre-P305 Settlement Dates"]
[{"$f":"VLOOKUP(UPPER(M966),Items!$A$2:$B$639,2,FALSE)","v":"N0593"},"D",null,null,null,null,"O",null,null,null,{"$f":"VLOOKUP(UPPER(A966),Items!$B$2:$G$625,6)","v":"decimal(5,4)  "},{"$f":"IF(VLOOKUP(UPPER(A966),Items!$B$2:$H$748,7,FALSE)<>0,VLOOKUP(UPPER(A966),Items!$B$2:$H$748,7,FALSE),\"\")","v":""},"GBP-EUR Exchange Rate","Populated for post TERRE settlement dates only - same value for all SP's"]
[{"$f":"VLOOKUP(UPPER(M967),Items!$A$2:$B$639,2,FALSE)","v":"N0594"},"D",null,null,null,null,"O",null,null,null,{"$f":"VLOOKUP(UPPER(A967),Items!$B$2:$G$625,6)","v":"decimal(10,5)"},{"$f":"IF(VLOOKUP(UPPER(A967),Items!$B$2:$H$748,7,FALSE)<>0,VLOOKUP(UPPER(A967),Items!$B$2:$H$748,7,FALSE),\"\")","v":""},"Balancing Energy Deviation Price","Populated for post TERRE settlement dates only"]
[{"$f":"VLOOKUP(UPPER(M968),Items!$A$2:$B$639,2,FALSE)","v":"N0592"},"D",null,null,null,null,"O",null,null,null,{"$f":"VLOOKUP(UPPER(A968),Items!$B$2:$G$625,6)","v":"decimal(10,2)"},{"$f":"IF(VLOOKUP(UPPER(A968),Items!$B$2:$H$748,7,FALSE)<>0,VLOOKUP(UPPER(A968),Items!$B$2:$H$748,7,FALSE),\"\")","v":""},"Total System RR Cashflow","Populated for post TERRE settlement dates only"]
[{"$f":"VLOOKUP(UPPER(M969),Items!$A$2:$B$639,2,FALSE)","v":"N0596"},"D",null,null,null,null,"O",null,null,null,{"$f":"VLOOKUP(UPPER(A969),Items!$B$2:$G$625,6)","v":"decimal(10,3)  "},{"$f":"IF(VLOOKUP(UPPER(A969),Items!$B$2:$H$748,7,FALSE)<>0,VLOOKUP(UPPER(A969),Items!$B$2:$H$748,7,FALSE),\"\")","v":""},"RR Aggregated Unpriced System Buy Action Volume","Populated for post TERRE settlement dates only"]
[{"$f":"VLOOKUP(UPPER(M970),Items!$A$2:$B$639,2,FALSE)","v":"N0597"},"D",null,null,null,null,"O",null,null,null,{"$f":"VLOOKUP(UPPER(A970),Items!$B$2:$G$625,6)","v":"decimal(10,3)  "},{"$f":"IF(VLOOKUP(UPPER(A970),Items!$B$2:$H$748,7,FALSE)<>0,VLOOKUP(UPPER(A970),Items!$B$2:$H$748,7,FALSE),\"\")","v":""},"RR Aggregated Unpriced System Sell Action Volume","Populated for post TERRE settlement dates only"]
[{"$f":"VLOOKUP(UPPER(M971),Items!$A$2:$B$639,2,FALSE)","v":"N0599"},"D",null,null,null,null,"O",null,null,null,{"$f":"VLOOKUP(UPPER(A971),Items!$B$2:$G$625,6)","v":"decimal(10,3)  "},{"$f":"IF(VLOOKUP(UPPER(A971),Items!$B$2:$H$748,7,FALSE)<>0,VLOOKUP(UPPER(A971),Items!$B$2:$H$748,7,FALSE),\"\")","v":""},"Period RR Accepted Offer Volume","Populated for post TERRE settlement dates only"]
[{"$f":"VLOOKUP(UPPER(M972),Items!$A$2:$B$639,2,FALSE)","v":"N0600"},"D",null,null,null,null,"O",null,null,null,{"$f":"VLOOKUP(UPPER(A972),Items!$B$2:$G$625,6)","v":"decimal(10,3)  "},{"$f":"IF(VLOOKUP(UPPER(A972),Items!$B$2:$H$748,7,FALSE)<>0,VLOOKUP(UPPER(A972),Items!$B$2:$H$748,7,FALSE),\"\")","v":""},"Period RR Accepted Bid Volume","Populated for post TERRE settlement dates only"]
["MD2","R","0-*",null,null,null,"G",null,null,null,null,null,"Market Index Data Information"]
[{"$f":"VLOOKUP(UPPER(M974),Items!$A$2:$B$748,2,FALSE)","v":"N0423"},"D",null,null,null,null,null,1,null,null,{"$f":"VLOOKUP(UPPER(A974),Items!$B$2:$G$525,6)","v":"text(8)"},{"$f":"IF(VLOOKUP(UPPER(A974),Items!$B$2:$H$748,7,FALSE)<>0,VLOOKUP(UPPER(A974),Items!$B$2:$H$748,7,FALSE),\"\")","v":""},"Market Index Data Provider ID"]
[{"$f":"VLOOKUP(UPPER(M975),Items!$A$2:$B$748,2,FALSE)","v":"N0412"},"D",null,null,null,null,null,1,null,null,{"$f":"VLOOKUP(UPPER(A975),Items!$B$2:$G$525,6)","v":"decimal(10,3)"},{"$f":"IF(VLOOKUP(UPPER(A975),Items!$B$2:$H$748,7,FALSE)<>0,VLOOKUP(UPPER(A975),Items!$B$2:$H$748,7,FALSE),\"\")","v":""},"Individual Liquidity Threshold"]
[{"$f":"VLOOKUP(UPPER(M976),Items!$A$2:$B$748,2,FALSE)","v":"N0413"},"D",null,null,null,null,null,"O",null,null,{"$f":"VLOOKUP(UPPER(A976),Items!$B$2:$G$525,6)","v":"decimal(10,2)"},{"$f":"IF(VLOOKUP(UPPER(A976),Items!$B$2:$H$748,7,FALSE)<>0,VLOOKUP(UPPER(A976),Items!$B$2:$H$748,7,FALSE),\"\")","v":""},"Market Index Price","Null if no data provided by MIDP"]
[{"$f":"VLOOKUP(UPPER(M977),Items!$A$2:$B$748,2,FALSE)","v":"N0414"},"D",null,null,null,null,null,"O",null,null,{"$f":"VLOOKUP(UPPER(A977),Items!$B$2:$G$525,6)","v":"decimal(10,3)"},{"$f":"IF(VLOOKUP(UPPER(A977),Items!$B$2:$H$748,7,FALSE)<>0,VLOOKUP(UPPER(A977),Items!$B$2:$H$748,7,FALSE),\"\")","v":""},"Market Index Volume","Null if no data provided by MIDP"]
["DB2","R","0-*",null,null,"G",null,null,null,null,null,null,"Balancing Services Adjustment Action Data"]
[{"$f":"VLOOKUP(UPPER(M979),Items!$A$2:$B$525,2,FALSE)","v":"N0533"},"D",null,null,null,null,1,null,null,null,{"$f":"VLOOKUP(UPPER(A979),Items!$B$2:$G$525,6)","v":"integer(4)"},{"$f":"IF(B979=\"D\",IF(VLOOKUP(UPPER(A979),Items!$B$2:$H$748,7,FALSE)<>0,VLOOKUP(UPPER(A979),Items!$B$2:$H$748,7,FALSE),\"\"),\"\")","v":""},"Balancing Services Adjustment Action Id"]
[{"$f":"VLOOKUP(UPPER(M980),Items!$A$2:$B$525,2,FALSE)","v":"N0534"},"D",null,null,null,null,"O",null,null,null,{"$f":"VLOOKUP(UPPER(A980),Items!$B$2:$G$525,6)","v":"decimal(10,2)"},{"$f":"IF(B980=\"D\",IF(VLOOKUP(UPPER(A980),Items!$B$2:$H$748,7,FALSE)<>0,VLOOKUP(UPPER(A980),Items!$B$2:$H$748,7,FALSE),\"\"),\"\")","v":""},"Balancing Services Adjustment Action Cost","£ Null if Action is unpriced"]
[{"$f":"VLOOKUP(UPPER(M981),Items!$A$2:$B$525,2,FALSE)","v":"N0535"},"D",null,null,null,null,1,null,null,null,{"$f":"VLOOKUP(UPPER(A981),Items!$B$2:$G$525,6)","v":"decimal(10,3)"},{"$f":"IF(B981=\"D\",IF(VLOOKUP(UPPER(A981),Items!$B$2:$H$748,7,FALSE)<>0,VLOOKUP(UPPER(A981),Items!$B$2:$H$748,7,FALSE),\"\"),\"\")","v":""},"Balancing Services Adjustment Action Volume"]
[{"$f":"VLOOKUP(UPPER(M982),Items!$A$2:$B$525,2,FALSE)","v":"N0536"},"D",null,null,null,null,1,null,null,null,{"$f":"VLOOKUP(UPPER(A982),Items!$B$2:$G$525,6)","v":"decimal(10,3)"},{"$f":"IF(B982=\"D\",IF(VLOOKUP(UPPER(A982),Items!$B$2:$H$748,7,FALSE)<>0,VLOOKUP(UPPER(A982),Items!$B$2:$H$748,7,FALSE),\"\"),\"\")","v":""},"Tagged Balancing Services Adjustment Action Volume"]
[{"$f":"VLOOKUP(UPPER(M983),Items!$A$2:$B$525,2,FALSE)","v":"N0537"},"D",null,null,null,null,1,null,null,null,{"$f":"VLOOKUP(UPPER(A983),Items!$B$2:$G$525,6)","v":"decimal(10,3)"},{"$f":"IF(B983=\"D\",IF(VLOOKUP(UPPER(A983),Items!$B$2:$H$748,7,FALSE)<>0,VLOOKUP(UPPER(A983),Items!$B$2:$H$748,7,FALSE),\"\"),\"\")","v":""},"Repriced Balancing Services Adjustment Action Volume"]
[{"$f":"VLOOKUP(UPPER(M984),Items!$A$2:$B$525,2,FALSE)","v":"N0538"},"D",null,null,null,null,1,null,null,null,{"$f":"VLOOKUP(UPPER(A984),Items!$B$2:$G$525,6)","v":"decimal(10,3)"},{"$f":"IF(B984=\"D\",IF(VLOOKUP(UPPER(A984),Items!$B$2:$H$748,7,FALSE)<>0,VLOOKUP(UPPER(A984),Items!$B$2:$H$748,7,FALSE),\"\"),\"\")","v":""},"Originally-Priced Balancing Services Adjustment Action Volume"]
[{"$f":"VLOOKUP(UPPER(M985),Items!$A$2:$B$525,2,FALSE)","v":"N0539"},"D",null,null,null,null,1,null,null,null,{"$f":"VLOOKUP(UPPER(A985),Items!$B$2:$G$525,6)","v":"boolean"},{"$f":"IF(B985=\"D\",IF(VLOOKUP(UPPER(A985),Items!$B$2:$H$748,7,FALSE)<>0,VLOOKUP(UPPER(A985),Items!$B$2:$H$748,7,FALSE),\"\"),\"\")","v":""},"Balancing Services Adjustment Action SO-Flag"]
[{"$f":"VLOOKUP(UPPER(M986),Items!$A$2:$B$553,2,FALSE)","v":"N0563"},"D",null,null,null,null,"O",null,null,null,{"$f":"VLOOKUP(UPPER(A986),Items!$B$2:$G$553,6)","v":"boolean"},{"$f":"IF(B986=\"D\",IF(VLOOKUP(UPPER(A986),Items!$B$2:$H$748,7,FALSE)<>0,VLOOKUP(UPPER(A986),Items!$B$2:$H$748,7,FALSE),\"\"),\"\")","v":""},"Balancing Services Adjustment Action Stor Provider Flag","Populated for post-P305 Settlement Dates. This field will be null for pre-P305 Settlement Dates"]
[{"$f":"VLOOKUP(UPPER(M987),Items!$A$2:$B$553,2,FALSE)","v":"N0566"},"D",null,null,null,null,"O",null,null,null,{"$f":"VLOOKUP(UPPER(A987),Items!$B$2:$G$553,6)","v":"boolean"},{"$f":"IF(B987=\"D\",IF(VLOOKUP(UPPER(A987),Items!$B$2:$H$748,7,FALSE)<>0,VLOOKUP(UPPER(A987),Items!$B$2:$H$748,7,FALSE),\"\"),\"\")","v":""},"Reserve Scarcity Price Flag","Populated for post-P305 Settlement Dates. This field will be null for pre-P305 Settlement Dates"]
["APD","R","2",null,null,"G",null,null,null,null,null,null,"Account Period Data"]
[{"$f":"VLOOKUP(UPPER(M989),Items!$A$2:$B$525,2,FALSE)","v":"N0177"},"D",null,null,null,null,1,null,null,null,{"$f":"VLOOKUP(UPPER(A989),Items!$B$2:$G$525,6)","v":"char"},{"$f":"IF(B989=\"D\",IF(VLOOKUP(UPPER(A989),Items!$B$2:$H$748,7,FALSE)<>0,VLOOKUP(UPPER(A989),Items!$B$2:$H$748,7,FALSE),\"\"),\"\")","v":"P/C Flag"},"Production/Consumption Flag","P/C"]
[{"$f":"VLOOKUP(UPPER(M990),Items!$A$2:$B$525,2,FALSE)","v":"N0048"},"D",null,null,null,null,1,null,null,null,{"$f":"VLOOKUP(UPPER(A990),Items!$B$2:$G$525,6)","v":"decimal(10,2)"},{"$f":"IF(B990=\"D\",IF(VLOOKUP(UPPER(A990),Items!$B$2:$H$748,7,FALSE)<>0,VLOOKUP(UPPER(A990),Items!$B$2:$H$748,7,FALSE),\"\"),\"\")","v":""},"BSSC Limited Cost Allocation"]
[{"$f":"VLOOKUP(UPPER(M991),Items!$A$2:$B$525,2,FALSE)","v":"N0087"},"D",null,null,null,null,1,null,null,null,{"$f":"VLOOKUP(UPPER(A991),Items!$B$2:$G$525,6)","v":"decimal(10,2)"},{"$f":"IF(B991=\"D\",IF(VLOOKUP(UPPER(A991),Items!$B$2:$H$748,7,FALSE)<>0,VLOOKUP(UPPER(A991),Items!$B$2:$H$748,7,FALSE),\"\"),\"\")","v":""},"Energy Imbalance Charge"]
[{"$f":"VLOOKUP(UPPER(M992),Items!$A$2:$B$525,2,FALSE)","v":"N0123"},"D",null,null,null,null,1,null,null,null,{"$f":"VLOOKUP(UPPER(A992),Items!$B$2:$G$525,6)","v":"decimal(10,2)"},{"$f":"IF(B992=\"D\",IF(VLOOKUP(UPPER(A992),Items!$B$2:$H$748,7,FALSE)<>0,VLOOKUP(UPPER(A992),Items!$B$2:$H$748,7,FALSE),\"\"),\"\")","v":""},"Information Imbalance Charge"]
[{"$f":"VLOOKUP(UPPER(M993),Items!$A$2:$B$525,2,FALSE)","v":"N0194"},{"$f":"IF(LEN(K993)>0,\"D\",IF(LEN(A993)=5,\"F\",IF(LEN(A993)=3,\"R\",\" \")))","v":"D"},null,null,null,null,1,null,null,null,{"$f":"VLOOKUP(UPPER(A993),Items!$B$2:$G$525,6)","v":"decimal(10,2)"},{"$f":"IF(B993=\"D\",IF(VLOOKUP(UPPER(A993),Items!$B$2:$H$748,7,FALSE)<>0,VLOOKUP(UPPER(A993),Items!$B$2:$H$748,7,FALSE),\"\"),\"\")","v":""},"Residual Cashflow Reallocation Charge"]
[{"$f":"VLOOKUP(UPPER(M994),Items!$A$2:$B$525,2,FALSE)","v":"N0001"},"D",null,null,null,null,1,null,null,null,{"$f":"VLOOKUP(UPPER(A994),Items!$B$2:$G$525,6)","v":"decimal(10,3)"},{"$f":"IF(B994=\"D\",IF(VLOOKUP(UPPER(A994),Items!$B$2:$H$748,7,FALSE)<>0,VLOOKUP(UPPER(A994),Items!$B$2:$H$748,7,FALSE),\"\"),\"\")","v":""},"Account Bilateral Contract Volume"]
[{"$f":"VLOOKUP(UPPER(M995),Items!$A$2:$B$525,2,FALSE)","v":"N0004"},"D",null,null,null,null,1,null,null,null,{"$f":"VLOOKUP(UPPER(A995),Items!$B$2:$G$525,6)","v":"decimal(10,3)"},{"$f":"IF(B995=\"D\",IF(VLOOKUP(UPPER(A995),Items!$B$2:$H$748,7,FALSE)<>0,VLOOKUP(UPPER(A995),Items!$B$2:$H$748,7,FALSE),\"\"),\"\")","v":""},"Account Period Balancing Services Volume"]
[{"$f":"VLOOKUP(UPPER(M996),Items!$A$2:$B$525,2,FALSE)","v":"N0003"},"D",null,null,null,null,1,null,null,null,{"$f":"VLOOKUP(UPPER(A996),Items!$B$2:$G$525,6)","v":"decimal(10,3)"},{"$f":"IF(B996=\"D\",IF(VLOOKUP(UPPER(A996),Items!$B$2:$H$748,7,FALSE)<>0,VLOOKUP(UPPER(A996),Items!$B$2:$H$748,7,FALSE),\"\"),\"\")","v":""},"Account Energy Imbalance Volume"]
[{"$f":"VLOOKUP(UPPER(M997),Items!$A$2:$B$525,2,FALSE)","v":"N0002"},"D",null,null,null,null,1,null,null,null,{"$f":"VLOOKUP(UPPER(A997),Items!$B$2:$G$525,6)","v":"decimal(10,3)"},{"$f":"IF(B997=\"D\",IF(VLOOKUP(UPPER(A997),Items!$B$2:$H$748,7,FALSE)<>0,VLOOKUP(UPPER(A997),Items!$B$2:$H$748,7,FALSE),\"\"),\"\")","v":""},"Account Credited Energy Volume"]
[{"$f":"VLOOKUP(UPPER(M998),Items!$A$2:$B$525,2,FALSE)","v":"N0195"},"D",null,null,null,null,1,null,null,null,{"$f":"VLOOKUP(UPPER(A998),Items!$B$2:$G$525,6)","v":"decimal(8,7)"},{"$f":"IF(B998=\"D\",IF(VLOOKUP(UPPER(A998),Items!$B$2:$H$748,7,FALSE)<>0,VLOOKUP(UPPER(A998),Items!$B$2:$H$748,7,FALSE),\"\"),\"\")","v":""},"Residual Cashflow Reallocation Proportion"]
["APB","R","0-*",null,null,null,"G",null,null,null,null,null,"Account Period BMU Data"]
[{"$f":"VLOOKUP(UPPER(M1000),Items!$A$2:$B$525,2,FALSE)","v":"N0034"},"D",null,null,null,null,null,1,null,null,{"$f":"VLOOKUP(UPPER(A1000),Items!$B$2:$G$525,6)","v":"text(11)"},{"$f":"IF(B1000=\"D\",IF(VLOOKUP(UPPER(A1000),Items!$B$2:$H$748,7,FALSE)<>0,VLOOKUP(UPPER(A1000),Items!$B$2:$H$748,7,FALSE),\"\"),\"\")","v":""},"BM Unit Id"]
[{"$f":"VLOOKUP(UPPER(M1001),Items!$A$2:$B$525,2,FALSE)","v":"N0061"},"D",null,null,null,null,null,1,null,null,{"$f":"VLOOKUP(UPPER(A1001),Items!$B$2:$G$525,6)","v":"decimal(10,3)"},{"$f":"IF(B1001=\"D\",IF(VLOOKUP(UPPER(A1001),Items!$B$2:$H$748,7,FALSE)<>0,VLOOKUP(UPPER(A1001),Items!$B$2:$H$748,7,FALSE),\"\"),\"\")","v":""},"Credited Energy Volume"]
[{"$f":"VLOOKUP(UPPER(M1002),Items!$A$2:$B$525,2,FALSE)","v":"N0109"},"D",null,null,null,null,null,1,null,null,{"$f":"VLOOKUP(UPPER(A1002),Items!$B$2:$G$525,6)","v":"decimal(10,3)"},{"$f":"IF(B1002=\"D\",IF(VLOOKUP(UPPER(A1002),Items!$B$2:$H$748,7,FALSE)<>0,VLOOKUP(UPPER(A1002),Items!$B$2:$H$748,7,FALSE),\"\"),\"\")","v":""},"Fixed Metered Volume Reallocation"]
[{"$f":"VLOOKUP(UPPER(M1003),Items!$A$2:$B$525,2,FALSE)","v":"N0163"},"D",null,null,null,null,null,1,null,null,{"$f":"VLOOKUP(UPPER(A1003),Items!$B$2:$G$525,6)","v":"decimal(8,5)"},{"$f":"IF(B1003=\"D\",IF(VLOOKUP(UPPER(A1003),Items!$B$2:$H$748,7,FALSE)<>0,VLOOKUP(UPPER(A1003),Items!$B$2:$H$748,7,FALSE),\"\"),\"\")","v":""},"Percentage Metered Volume Reallocation"]
["BP7","R","0-*",null,null,"G",null,null,null,null,null,null,"BM Unit Period Data"]
[{"$f":"VLOOKUP(UPPER(M1005),Items!$A$2:$B$525,2,FALSE)","v":"N0034"},"D",null,null,null,null,1,null,null,null,{"$f":"VLOOKUP(UPPER(A1005),Items!$B$2:$G$525,6)","v":"text(11)"},{"$f":"IF(B1005=\"D\",IF(VLOOKUP(UPPER(A1005),Items!$B$2:$H$748,7,FALSE)<>0,VLOOKUP(UPPER(A1005),Items!$B$2:$H$748,7,FALSE),\"\"),\"\")","v":""},"BM Unit Id"]
[{"$f":"VLOOKUP(UPPER(M1006),Items!$A$2:$B$525,2,FALSE)","v":"N0122"},"D",null,null,null,null,1,null,null,null,{"$f":"VLOOKUP(UPPER(A1006),Items!$B$2:$G$525,6)","v":"decimal(10,2)"},{"$f":"IF(B1006=\"D\",IF(VLOOKUP(UPPER(A1006),Items!$B$2:$H$748,7,FALSE)<>0,VLOOKUP(UPPER(A1006),Items!$B$2:$H$748,7,FALSE),\"\"),\"\")","v":""},"Information Imbalance Cashflow"]
[{"$f":"VLOOKUP(UPPER(M1007),Items!$A$2:$B$525,2,FALSE)","v":"N0037"},"D",null,null,null,null,1,null,null,null,{"$f":"VLOOKUP(UPPER(A1007),Items!$B$2:$G$525,6)","v":"decimal(10,2)"},{"$f":"IF(B1007=\"D\",IF(VLOOKUP(UPPER(A1007),Items!$B$2:$H$748,7,FALSE)<>0,VLOOKUP(UPPER(A1007),Items!$B$2:$H$748,7,FALSE),\"\"),\"\")","v":""},"BM Unit Period Non-Delivery Charge"]
[{"$f":"VLOOKUP(UPPER(M1008),Items!$A$2:$B$525,2,FALSE)","v":"N0174"},"D",null,null,null,null,1,null,null,null,{"$f":"VLOOKUP(UPPER(A1008),Items!$B$2:$G$525,6)","v":"decimal(10,3)"},{"$f":"IF(B1008=\"D\",IF(VLOOKUP(UPPER(A1008),Items!$B$2:$H$748,7,FALSE)<>0,VLOOKUP(UPPER(A1008),Items!$B$2:$H$748,7,FALSE),\"\"),\"\")","v":""},"Period FPN"]
[{"$f":"VLOOKUP(UPPER(M1009),Items!$A$2:$B$525,2,FALSE)","v":"N0164"},"D",null,null,null,null,1,null,null,null,{"$f":"VLOOKUP(UPPER(A1009),Items!$B$2:$G$525,6)","v":"decimal(10,3)"},{"$f":"IF(B1009=\"D\",IF(VLOOKUP(UPPER(A1009),Items!$B$2:$H$748,7,FALSE)<>0,VLOOKUP(UPPER(A1009),Items!$B$2:$H$748,7,FALSE),\"\"),\"\")","v":""},"Period BM Unit Balancing Services Volume"]
[{"$f":"VLOOKUP(UPPER(M1010),Items!$A$2:$B$525,2,FALSE)","v":"N0175"},"D",null,null,null,null,1,null,null,null,{"$f":"VLOOKUP(UPPER(A1010),Items!$B$2:$G$525,6)","v":"decimal(10,3)"},{"$f":"IF(B1010=\"D\",IF(VLOOKUP(UPPER(A1010),Items!$B$2:$H$748,7,FALSE)<>0,VLOOKUP(UPPER(A1010),Items!$B$2:$H$748,7,FALSE),\"\"),\"\")","v":""},"Period Information Imbalance Volume"]
[{"$f":"VLOOKUP(UPPER(M1011),Items!$A$2:$B$525,2,FALSE)","v":"N0173"},"D",null,null,null,null,1,null,null,null,{"$f":"VLOOKUP(UPPER(A1011),Items!$B$2:$G$525,6)","v":"decimal(10,3)"},{"$f":"IF(B1011=\"D\",IF(VLOOKUP(UPPER(A1011),Items!$B$2:$H$748,7,FALSE)<>0,VLOOKUP(UPPER(A1011),Items!$B$2:$H$748,7,FALSE),\"\"),\"\")","v":""},"Period Expected Metered Volume"]
[{"$f":"VLOOKUP(UPPER(M1012),Items!$A$2:$B$525,2,FALSE)","v":"N0035"},"D",null,null,null,null,1,null,null,null,{"$f":"VLOOKUP(UPPER(A1012),Items!$B$2:$G$525,6)","v":"decimal(10,3)"},{"$f":"IF(B1012=\"D\",IF(VLOOKUP(UPPER(A1012),Items!$B$2:$H$748,7,FALSE)<>0,VLOOKUP(UPPER(A1012),Items!$B$2:$H$748,7,FALSE),\"\"),\"\")","v":""},"BM Unit Metered Volume"]
[{"$f":"VLOOKUP(UPPER(M1013),Items!$A$2:$B$525,2,FALSE)","v":"N0166"},"D",null,null,null,null,1,null,null,null,{"$f":"VLOOKUP(UPPER(A1013),Items!$B$2:$G$525,6)","v":"decimal(10,3)"},{"$f":"IF(B1013=\"D\",IF(VLOOKUP(UPPER(A1013),Items!$B$2:$H$748,7,FALSE)<>0,VLOOKUP(UPPER(A1013),Items!$B$2:$H$748,7,FALSE),\"\"),\"\")","v":""},"Period BM Unit Non-Delivered Bid Volume"]
[{"$f":"VLOOKUP(UPPER(M1014),Items!$A$2:$B$525,2,FALSE)","v":"N0167"},"D",null,null,null,null,1,null,null,null,{"$f":"VLOOKUP(UPPER(A1014),Items!$B$2:$G$525,6)","v":"decimal(10,3)"},{"$f":"IF(B1014=\"D\",IF(VLOOKUP(UPPER(A1014),Items!$B$2:$H$748,7,FALSE)<>0,VLOOKUP(UPPER(A1014),Items!$B$2:$H$748,7,FALSE),\"\"),\"\")","v":""},"Period BM Unit Non-Delivered Offer Volume"]
[{"$f":"VLOOKUP(UPPER(M1015),Items!$A$2:$B$525,2,FALSE)","v":"N0233"},"D",null,null,null,null,1,null,null,null,{"$f":"VLOOKUP(UPPER(A1015),Items!$B$2:$G$525,6)","v":"decimal(8,7)"},{"$f":"IF(B1015=\"D\",IF(VLOOKUP(UPPER(A1015),Items!$B$2:$H$748,7,FALSE)<>0,VLOOKUP(UPPER(A1015),Items!$B$2:$H$748,7,FALSE),\"\"),\"\")","v":""},"Transmission Loss Factor"]
[{"$f":"VLOOKUP(UPPER(M1016),Items!$A$2:$B$525,2,FALSE)","v":"N0234"},"D",null,null,null,null,1,null,null,null,{"$f":"VLOOKUP(UPPER(A1016),Items!$B$2:$G$525,6)","v":"decimal(8,7)"},{"$f":"IF(B1016=\"D\",IF(VLOOKUP(UPPER(A1016),Items!$B$2:$H$748,7,FALSE)<>0,VLOOKUP(UPPER(A1016),Items!$B$2:$H$748,7,FALSE),\"\"),\"\")","v":""},"Transmission Loss Multiplier"]
[{"$f":"VLOOKUP(UPPER(M1017),Items!$A$2:$B$525,2,FALSE)","v":"N0232"},"D",null,null,null,null,1,null,null,null,{"$f":"VLOOKUP(UPPER(A1017),Items!$B$2:$G$525,6)","v":"text(30)"},{"$f":"IF(B1017=\"D\",IF(VLOOKUP(UPPER(A1017),Items!$B$2:$H$748,7,FALSE)<>0,VLOOKUP(UPPER(A1017),Items!$B$2:$H$748,7,FALSE),\"\"),\"\")","v":""},"Trading Unit Name"]
[{"$f":"VLOOKUP(UPPER(M1018),Items!$A$2:$B$525,2,FALSE)","v":"N0231"},"D",null,null,null,null,1,null,null,null,{"$f":"VLOOKUP(UPPER(A1018),Items!$B$2:$G$525,6)","v":"decimal(10,3)"},{"$f":"IF(B1018=\"D\",IF(VLOOKUP(UPPER(A1018),Items!$B$2:$H$748,7,FALSE)<>0,VLOOKUP(UPPER(A1018),Items!$B$2:$H$748,7,FALSE),\"\"),\"\")","v":""},"Total Trading Unit Metered Volume"]
[{"$f":"VLOOKUP(UPPER(M1019),Items!$A$2:$B$748,2,FALSE)","v":"N0421"},"D",null,null,null,null,1,null,null,null,{"$f":"VLOOKUP(UPPER(A1019),Items!$B$2:$G$748,6)","v":"decimal(10,3)"},{"$f":"IF(B1019=\"D\",IF(VLOOKUP(UPPER(A1019),Items!$B$2:$H$748,7,FALSE)<>0,VLOOKUP(UPPER(A1019),Items!$B$2:$H$748,7,FALSE),\"\"),\"\")","v":""},"BM Unit Applicable Balancing Services Volume","MWh"]
[{"$f":"VLOOKUP(UPPER(M1020),Items!$A$2:$B$748,2,FALSE)","v":"N0599"},"D",null,null,null,null,1,null,null,null,{"$f":"VLOOKUP(UPPER(A1020),Items!$B$2:$G$748,6)","v":"decimal(10,3)  "},{"$f":"IF(B1020=\"D\",IF(VLOOKUP(UPPER(A1020),Items!$B$2:$H$748,7,FALSE)<>0,VLOOKUP(UPPER(A1020),Items!$B$2:$H$748,7,FALSE),\"\"),\"\")","v":""},"Period RR Accepted Offer Volume"]
[{"$f":"VLOOKUP(UPPER(M1021),Items!$A$2:$B$748,2,FALSE)","v":"N0600"},"D",null,null,null,null,1,null,null,null,{"$f":"VLOOKUP(UPPER(A1021),Items!$B$2:$G$748,6)","v":"decimal(10,3)  "},{"$f":"IF(B1021=\"D\",IF(VLOOKUP(UPPER(A1021),Items!$B$2:$H$748,7,FALSE)<>0,VLOOKUP(UPPER(A1021),Items!$B$2:$H$748,7,FALSE),\"\"),\"\")","v":""},"Period RR Accepted Bid Volume"]
[{"$f":"VLOOKUP(UPPER(M1022),Items!$A$2:$B$748,2,FALSE)","v":"N0602"},"D",null,null,null,null,1,null,null,null,{"$f":"VLOOKUP(UPPER(A1022),Items!$B$2:$G$748,6)","v":"decimal(10,3)  "},{"$f":"IF(B1022=\"D\",IF(VLOOKUP(UPPER(A1022),Items!$B$2:$H$748,7,FALSE)<>0,VLOOKUP(UPPER(A1022),Items!$B$2:$H$748,7,FALSE),\"\"),\"\")","v":""},"Period RR Instructed Offer Deviation Volume"]
[{"$f":"VLOOKUP(UPPER(M1023),Items!$A$2:$B$748,2,FALSE)","v":"N0603"},"D",null,null,null,null,1,null,null,null,{"$f":"VLOOKUP(UPPER(A1023),Items!$B$2:$G$748,6)","v":"decimal(10,3)  "},{"$f":"IF(B1023=\"D\",IF(VLOOKUP(UPPER(A1023),Items!$B$2:$H$748,7,FALSE)<>0,VLOOKUP(UPPER(A1023),Items!$B$2:$H$748,7,FALSE),\"\"),\"\")","v":""},"Period RR Instructed Bid Deviation Volume"]
[{"$f":"VLOOKUP(UPPER(M1024),Items!$A$2:$B$748,2,FALSE)","v":"N0604"},"D",null,null,null,null,1,null,null,null,{"$f":"VLOOKUP(UPPER(A1024),Items!$B$2:$G$748,6)","v":"decimal(10,3)  "},{"$f":"IF(B1024=\"D\",IF(VLOOKUP(UPPER(A1024),Items!$B$2:$H$748,7,FALSE)<>0,VLOOKUP(UPPER(A1024),Items!$B$2:$H$748,7,FALSE),\"\"),\"\")","v":""},"Secondary BM Unit Demand Volume"]
[{"$f":"VLOOKUP(UPPER(M1025),Items!$A$2:$B$748,2,FALSE)","v":"N0605"},"D",null,null,null,null,1,null,null,null,{"$f":"VLOOKUP(UPPER(A1025),Items!$B$2:$G$748,6)","v":"decimal(10,3)  "},{"$f":"IF(B1025=\"D\",IF(VLOOKUP(UPPER(A1025),Items!$B$2:$H$748,7,FALSE)<>0,VLOOKUP(UPPER(A1025),Items!$B$2:$H$748,7,FALSE),\"\"),\"\")","v":""},"Period Secondary BM Unit Delivered Volume"]
[{"$f":"VLOOKUP(UPPER(M1026),Items!$A$2:$B$748,2,FALSE)","v":"N0606"},"D",null,null,null,null,1,null,null,null,{"$f":"VLOOKUP(UPPER(A1026),Items!$B$2:$G$748,6)","v":"decimal(10,3)  "},{"$f":"IF(B1026=\"D\",IF(VLOOKUP(UPPER(A1026),Items!$B$2:$H$748,7,FALSE)<>0,VLOOKUP(UPPER(A1026),Items!$B$2:$H$748,7,FALSE),\"\"),\"\")","v":""},"Period Secondary BM Unit Non-Delivered Volume"]
[{"$f":"VLOOKUP(UPPER(M1027),Items!$A$2:$B$748,2,FALSE)","v":"N0607"},"D",null,null,null,null,1,null,null,null,{"$f":"VLOOKUP(UPPER(A1027),Items!$B$2:$G$748,6)","v":"decimal(10,3)  "},{"$f":"IF(B1027=\"D\",IF(VLOOKUP(UPPER(A1027),Items!$B$2:$H$748,7,FALSE)<>0,VLOOKUP(UPPER(A1027),Items!$B$2:$H$748,7,FALSE),\"\"),\"\")","v":""},"Period Supplier Primary BM Unit Delivered Volume"]
[{"$f":"VLOOKUP(UPPER(M1028),Items!$A$2:$B$748,2,FALSE)","v":"N0590"},"D",null,null,null,null,1,null,null,null,{"$f":"VLOOKUP(UPPER(A1028),Items!$B$2:$G$748,6)","v":"decimal(10,2)"},{"$f":"IF(B1028=\"D\",IF(VLOOKUP(UPPER(A1028),Items!$B$2:$H$748,7,FALSE)<>0,VLOOKUP(UPPER(A1028),Items!$B$2:$H$748,7,FALSE),\"\"),\"\")","v":""},"RR Cashflow"]
[{"$f":"VLOOKUP(UPPER(M1029),Items!$A$2:$B$748,2,FALSE)","v":"N0591"},"D",null,null,null,null,1,null,null,null,{"$f":"VLOOKUP(UPPER(A1029),Items!$B$2:$G$748,6)","v":"decimal(10,2)"},{"$f":"IF(B1029=\"D\",IF(VLOOKUP(UPPER(A1029),Items!$B$2:$H$748,7,FALSE)<>0,VLOOKUP(UPPER(A1029),Items!$B$2:$H$748,7,FALSE),\"\"),\"\")","v":""},"RR Instructed Deviation Cashflow"]
["FP2","R","0-*",null,null,null,"G",null,null,null,null,null,"FPN Value Pair"]
[{"$f":"VLOOKUP(UPPER(M1031),Items!$A$2:$B$525,2,FALSE)","v":"N0220"},"D",null,null,null,null,null,1,null,null,{"$f":"VLOOKUP(UPPER(A1031),Items!$B$2:$G$525,6)","v":"integer(2)"},{"$f":"IF(B1031=\"D\",IF(VLOOKUP(UPPER(A1031),Items!$B$2:$H$748,7,FALSE)<>0,VLOOKUP(UPPER(A1031),Items!$B$2:$H$748,7,FALSE),\"\"),\"\")","v":""},"Time from","minutes from start of period"]
[{"$f":"VLOOKUP(UPPER(M1032),Items!$A$2:$B$525,2,FALSE)","v":"N0111"},"D",null,null,null,null,null,"O",null,null,{"$f":"VLOOKUP(UPPER(A1032),Items!$B$2:$G$525,6)","v":"decimal(10,3)"},{"$f":"IF(B1032=\"D\",IF(VLOOKUP(UPPER(A1032),Items!$B$2:$H$748,7,FALSE)<>0,VLOOKUP(UPPER(A1032),Items!$B$2:$H$748,7,FALSE),\"\"),\"\")","v":""},"FPN Value From"]
[{"$f":"VLOOKUP(UPPER(M1033),Items!$A$2:$B$525,2,FALSE)","v":"N0221"},"D",null,null,null,null,null,1,null,null,{"$f":"VLOOKUP(UPPER(A1033),Items!$B$2:$G$525,6)","v":"integer(2)"},{"$f":"IF(B1033=\"D\",IF(VLOOKUP(UPPER(A1033),Items!$B$2:$H$748,7,FALSE)<>0,VLOOKUP(UPPER(A1033),Items!$B$2:$H$748,7,FALSE),\"\"),\"\")","v":""},"Time To","minutes from start of period"]
[{"$f":"VLOOKUP(UPPER(M1034),Items!$A$2:$B$525,2,FALSE)","v":"N0112"},"D",null,null,null,null,null,"O",null,null,{"$f":"VLOOKUP(UPPER(A1034),Items!$B$2:$G$525,6)","v":"decimal(10,3)"},{"$f":"IF(B1034=\"D\",IF(VLOOKUP(UPPER(A1034),Items!$B$2:$H$748,7,FALSE)<>0,VLOOKUP(UPPER(A1034),Items!$B$2:$H$748,7,FALSE),\"\"),\"\")","v":""},"FPN Value To"]
["BO4","R","0-*",null,null,null,"G",null,null,null,null,null,"BMU Period Bid-Offer Data"]
[{"$f":"VLOOKUP(UPPER(M1036),Items!$A$2:$B$525,2,FALSE)","v":"N0025"},"D",null,null,null,null,null,1,null,null,{"$f":"VLOOKUP(UPPER(A1036),Items!$B$2:$G$525,6)","v":"integer(2)"},{"$f":"IF(B1036=\"D\",IF(VLOOKUP(UPPER(A1036),Items!$B$2:$H$748,7,FALSE)<>0,VLOOKUP(UPPER(A1036),Items!$B$2:$H$748,7,FALSE),\"\"),\"\")","v":""},"Bid-Offer Pair Number"]
[{"$f":"VLOOKUP(UPPER(M1037),Items!$A$2:$B$525,2,FALSE)","v":"N0030"},"D",null,null,null,null,null,1,null,null,{"$f":"VLOOKUP(UPPER(A1037),Items!$B$2:$G$525,6)","v":"decimal(10,5)"},{"$f":"IF(B1037=\"D\",IF(VLOOKUP(UPPER(A1037),Items!$B$2:$H$748,7,FALSE)<>0,VLOOKUP(UPPER(A1037),Items!$B$2:$H$748,7,FALSE),\"\"),\"\")","v":""},"Bid Price"]
[{"$f":"VLOOKUP(UPPER(M1038),Items!$A$2:$B$525,2,FALSE)","v":"N0153"},"D",null,null,null,null,null,1,null,null,{"$f":"VLOOKUP(UPPER(A1038),Items!$B$2:$G$525,6)","v":"decimal(10,5)"},{"$f":"IF(B1038=\"D\",IF(VLOOKUP(UPPER(A1038),Items!$B$2:$H$748,7,FALSE)<>0,VLOOKUP(UPPER(A1038),Items!$B$2:$H$748,7,FALSE),\"\"),\"\")","v":""},"Offer Price"]
[{"$f":"VLOOKUP(UPPER(M1039),Items!$A$2:$B$525,2,FALSE)","v":"N0169"},"D",null,null,null,null,null,1,null,null,{"$f":"VLOOKUP(UPPER(A1039),Items!$B$2:$G$525,6)","v":"decimal(10,3)"},{"$f":"IF(B1039=\"D\",IF(VLOOKUP(UPPER(A1039),Items!$B$2:$H$748,7,FALSE)<>0,VLOOKUP(UPPER(A1039),Items!$B$2:$H$748,7,FALSE),\"\"),\"\")","v":""},"Period BM Unit Total Accepted Bid Volume"]
[{"$f":"VLOOKUP(UPPER(M1040),Items!$A$2:$B$525,2,FALSE)","v":"N0170"},"D",null,null,null,null,null,1,null,null,{"$f":"VLOOKUP(UPPER(A1040),Items!$B$2:$G$525,6)","v":"decimal(10,3)"},{"$f":"IF(B1040=\"D\",IF(VLOOKUP(UPPER(A1040),Items!$B$2:$H$748,7,FALSE)<>0,VLOOKUP(UPPER(A1040),Items!$B$2:$H$748,7,FALSE),\"\"),\"\")","v":""},"Period BM Unit Total Accepted Offer Volume"]
[{"$f":"VLOOKUP(UPPER(M1041),Items!$A$2:$B$525,2,FALSE)","v":"N0388"},"D",null,null,null,null,null,"O",null,null,{"$f":"VLOOKUP(UPPER(A1041),Items!$B$2:$G$525,6)","v":"decimal(10,3)"},{"$f":"IF(B1041=\"D\",IF(VLOOKUP(UPPER(A1041),Items!$B$2:$H$748,7,FALSE)<>0,VLOOKUP(UPPER(A1041),Items!$B$2:$H$748,7,FALSE),\"\"),\"\")","v":""},"Period BM Unit Total Priced Accepted Bid volume","Populated for pre-P217 Settlement Dates. This field null indicates value is same as Period BM Unit Total Accepted Bid volume"]
[{"$f":"VLOOKUP(UPPER(M1042),Items!$A$2:$B$525,2,FALSE)","v":"N0389"},"D",null,null,null,null,null,"O",null,null,{"$f":"VLOOKUP(UPPER(A1042),Items!$B$2:$G$525,6)","v":"decimal(10,3)"},{"$f":"IF(B1042=\"D\",IF(VLOOKUP(UPPER(A1042),Items!$B$2:$H$748,7,FALSE)<>0,VLOOKUP(UPPER(A1042),Items!$B$2:$H$748,7,FALSE),\"\"),\"\")","v":""},"Period BM Unit Total Priced Accepted Offer volume","Populated for pre-P217 Settlement Dates. This field null indicates value is same as Period BM Unit Total Accepted Bid volume"]
[{"$f":"VLOOKUP(UPPER(M1043),Items!$A$2:$B$525,2,FALSE)","v":"N0540"},"D",null,null,null,null,null,"O",null,null,{"$f":"VLOOKUP(UPPER(A1043),Items!$B$2:$G$525,6)","v":"decimal(10,3)"},{"$f":"IF(B1043=\"D\",IF(VLOOKUP(UPPER(A1043),Items!$B$2:$H$748,7,FALSE)<>0,VLOOKUP(UPPER(A1043),Items!$B$2:$H$748,7,FALSE),\"\"),\"\")","v":""},"Period BM Unit Tagged Bid Volume","Populated for post-P217 Settlement Dates. This field will be null for pre-P217 Settlement Dates"]
[{"$f":"VLOOKUP(UPPER(M1044),Items!$A$2:$B$525,2,FALSE)","v":"N0541"},"D",null,null,null,null,null,"O",null,null,{"$f":"VLOOKUP(UPPER(A1044),Items!$B$2:$G$525,6)","v":"decimal(10,3)"},{"$f":"IF(B1044=\"D\",IF(VLOOKUP(UPPER(A1044),Items!$B$2:$H$748,7,FALSE)<>0,VLOOKUP(UPPER(A1044),Items!$B$2:$H$748,7,FALSE),\"\"),\"\")","v":""},"Period BM Unit Tagged Offer Volume","Populated for post-P217 Settlement Dates. This field will be null for pre-P217 Settlement Dates"]
[{"$f":"VLOOKUP(UPPER(M1045),Items!$A$2:$B$525,2,FALSE)","v":"N0542"},"D",null,null,null,null,null,"O",null,null,{"$f":"VLOOKUP(UPPER(A1045),Items!$B$2:$G$525,6)","v":"decimal(10,3)"},{"$f":"IF(B1045=\"D\",IF(VLOOKUP(UPPER(A1045),Items!$B$2:$H$748,7,FALSE)<>0,VLOOKUP(UPPER(A1045),Items!$B$2:$H$748,7,FALSE),\"\"),\"\")","v":""},"Period BM Unit Repriced Bid Volume","Populated for post-P217 Settlement Dates. This field will be null for pre-P217 Settlement Dates"]
[{"$f":"VLOOKUP(UPPER(M1046),Items!$A$2:$B$525,2,FALSE)","v":"N0543"},"D",null,null,null,null,null,"O",null,null,{"$f":"VLOOKUP(UPPER(A1046),Items!$B$2:$G$525,6)","v":"decimal(10,3)"},{"$f":"IF(B1046=\"D\",IF(VLOOKUP(UPPER(A1046),Items!$B$2:$H$748,7,FALSE)<>0,VLOOKUP(UPPER(A1046),Items!$B$2:$H$748,7,FALSE),\"\"),\"\")","v":""},"Period BM Unit Repriced Offer Volume","Populated for post-P217 Settlement Dates. This field will be null for pre-P217 Settlement Dates"]
[{"$f":"VLOOKUP(UPPER(M1047),Items!$A$2:$B$525,2,FALSE)","v":"N0544"},"D",null,null,null,null,null,"O",null,null,{"$f":"VLOOKUP(UPPER(A1047),Items!$B$2:$G$525,6)","v":"decimal(10,3)"},{"$f":"IF(B1047=\"D\",IF(VLOOKUP(UPPER(A1047),Items!$B$2:$H$748,7,FALSE)<>0,VLOOKUP(UPPER(A1047),Items!$B$2:$H$748,7,FALSE),\"\"),\"\")","v":""},"Period BM Unit Originally-Priced Bid Volume","Populated for post-P217 Settlement Dates. This field will be null for pre-P217 Settlement Dates"]
[{"$f":"VLOOKUP(UPPER(M1048),Items!$A$2:$B$525,2,FALSE)","v":"N0545"},"D",null,null,null,null,null,"O",null,null,{"$f":"VLOOKUP(UPPER(A1048),Items!$B$2:$G$525,6)","v":"decimal(10,3)"},{"$f":"IF(B1048=\"D\",IF(VLOOKUP(UPPER(A1048),Items!$B$2:$H$748,7,FALSE)<>0,VLOOKUP(UPPER(A1048),Items!$B$2:$H$748,7,FALSE),\"\"),\"\")","v":""},"Period BM Unit Originally-Priced Offer Volume","Populated for post-P217 Settlement Dates. This field will be null for pre-P217 Settlement Dates"]
[{"$f":"VLOOKUP(UPPER(M1049),Items!$A$2:$B$525,2,FALSE)","v":"N0165"},"D",null,null,null,null,null,1,null,null,{"$f":"VLOOKUP(UPPER(A1049),Items!$B$2:$G$525,6)","v":"decimal(10,2)"},{"$f":"IF(B1049=\"D\",IF(VLOOKUP(UPPER(A1049),Items!$B$2:$H$748,7,FALSE)<>0,VLOOKUP(UPPER(A1049),Items!$B$2:$H$748,7,FALSE),\"\"),\"\")","v":""},"Period BM Unit Bid Cashflow"]
[{"$f":"VLOOKUP(UPPER(M1050),Items!$A$2:$B$525,2,FALSE)","v":"N0168"},"D",null,null,null,null,null,1,null,null,{"$f":"VLOOKUP(UPPER(A1050),Items!$B$2:$G$525,6)","v":"decimal(10,2)"},{"$f":"IF(B1050=\"D\",IF(VLOOKUP(UPPER(A1050),Items!$B$2:$H$748,7,FALSE)<>0,VLOOKUP(UPPER(A1050),Items!$B$2:$H$748,7,FALSE),\"\"),\"\")","v":""},"Period BM Unit Offer Cashflow"]
["BO2","R","0-*",null,null,null,null,"G",null,null,null,null,"BMU Period Bid-Offer Value Pair"]
[{"$f":"VLOOKUP(UPPER(M1052),Items!$A$2:$B$525,2,FALSE)","v":"N0220"},"D",null,null,null,null,null,null,1,null,{"$f":"VLOOKUP(UPPER(A1052),Items!$B$2:$G$525,6)","v":"integer(2)"},{"$f":"IF(B1052=\"D\",IF(VLOOKUP(UPPER(A1052),Items!$B$2:$H$748,7,FALSE)<>0,VLOOKUP(UPPER(A1052),Items!$B$2:$H$748,7,FALSE),\"\"),\"\")","v":""},"Time from","minutes from start of period"]
[{"$f":"VLOOKUP(UPPER(M1053),Items!$A$2:$B$525,2,FALSE)","v":"N0028"},"D",null,null,null,null,null,null,"O",null,{"$f":"VLOOKUP(UPPER(A1053),Items!$B$2:$G$525,6)","v":"decimal(10,3)"},{"$f":"IF(B1053=\"D\",IF(VLOOKUP(UPPER(A1053),Items!$B$2:$H$748,7,FALSE)<>0,VLOOKUP(UPPER(A1053),Items!$B$2:$H$748,7,FALSE),\"\"),\"\")","v":""},"Bid Offer Volume Value From"]
[{"$f":"VLOOKUP(UPPER(M1054),Items!$A$2:$B$525,2,FALSE)","v":"N0221"},"D",null,null,null,null,null,null,1,null,{"$f":"VLOOKUP(UPPER(A1054),Items!$B$2:$G$525,6)","v":"integer(2)"},{"$f":"IF(B1054=\"D\",IF(VLOOKUP(UPPER(A1054),Items!$B$2:$H$748,7,FALSE)<>0,VLOOKUP(UPPER(A1054),Items!$B$2:$H$748,7,FALSE),\"\"),\"\")","v":""},"Time To","minutes from start of period"]
[{"$f":"VLOOKUP(UPPER(M1055),Items!$A$2:$B$525,2,FALSE)","v":"N0029"},"D",null,null,null,null,null,null,"O",null,{"$f":"VLOOKUP(UPPER(A1055),Items!$B$2:$G$525,6)","v":"decimal(10,3)"},{"$f":"IF(B1055=\"D\",IF(VLOOKUP(UPPER(A1055),Items!$B$2:$H$748,7,FALSE)<>0,VLOOKUP(UPPER(A1055),Items!$B$2:$H$748,7,FALSE),\"\"),\"\")","v":""},"Bid Offer Volume Value To"]
["BO3","R","0-*",null,null,null,"G",null,null,null,null,null,"BMU Period Bid-Offer Acceptance "]
[{"$f":"VLOOKUP(UPPER(M1057),Items!$A$2:$B$525,2,FALSE)","v":"N0342"},"D",null,null,null,null,null,"O",null,null,{"$f":"VLOOKUP(UPPER(A1057),Items!$B$2:$G$525,6)","v":"integer(10)"},{"$f":"IF(B1057=\"D\",IF(VLOOKUP(UPPER(A1057),Items!$B$2:$H$748,7,FALSE)<>0,VLOOKUP(UPPER(A1057),Items!$B$2:$H$748,7,FALSE),\"\"),\"\")","v":""},"B-O Acceptance Number","Populated null where Replacement Reserve Schedule Flag is TRUE"]
["N0390","D",null,null,null,null,null,1,null,null,"boolean",{"$f":"IF(B1058=\"D\",IF(VLOOKUP(UPPER(A1058),Items!$B$2:$H$748,7,FALSE)<>0,VLOOKUP(UPPER(A1058),Items!$B$2:$H$748,7,FALSE),\"\"),\"\")","v":""},"CADL Flag","True if short"]
[{"$f":"VLOOKUP(UPPER(M1059),Items!$A$2:$B$525,2,FALSE)","v":"N0546"},{"$f":"IF(LEN(K1059)>0,\"D\",IF(LEN(A1059)=5,\"F\",IF(LEN(A1059)=3,\"R\",\" \")))","v":"D"},null,null,null,null,null,"O",null,null,{"$f":"VLOOKUP(UPPER(A1059),Items!$B$2:$G$525,6)","v":"boolean"},{"$f":"IF(B1059=\"D\",IF(VLOOKUP(UPPER(A1059),Items!$B$2:$H$748,7,FALSE)<>0,VLOOKUP(UPPER(A1059),Items!$B$2:$H$748,7,FALSE),\"\"),\"\")","v":""},"Acceptance SO-Flag","Populated for post-P217 Settlement Dates. This field will be null for pre-P217 Settlement Dates"]
[{"$f":"VLOOKUP(UPPER(M1060),Items!$A$2:$B$553,2,FALSE)","v":"N0564"},"D",null,null,null,null,null,"O",null,null,{"$f":"VLOOKUP(UPPER(A1060),Items!$B$2:$G$553,6)","v":"boolean"},{"$f":"IF(B1060=\"D\",IF(VLOOKUP(UPPER(A1060),Items!$B$2:$H$748,7,FALSE)<>0,VLOOKUP(UPPER(A1060),Items!$B$2:$H$748,7,FALSE),\"\"),\"\")","v":""},"Acceptance Stor Provider Flag","Populated for post-P305 Settlement Dates. This field will be null for pre-P305 Settlement Dates"]
[{"$f":"VLOOKUP(UPPER(M1061),Items!$A$2:$B$553,2,FALSE)","v":"N0566"},"D",null,null,null,null,null,"O",null,null,{"$f":"VLOOKUP(UPPER(A1061),Items!$B$2:$G$553,6)","v":"boolean"},{"$f":"IF(B1061=\"D\",IF(VLOOKUP(UPPER(A1061),Items!$B$2:$H$748,7,FALSE)<>0,VLOOKUP(UPPER(A1061),Items!$B$2:$H$748,7,FALSE),\"\"),\"\")","v":""},"Reserve Scarcity Price Flag","Populated for post-P305 Settlement Dates. This field will be null for pre-P305 Settlement Dates"]
[{"$f":"VLOOKUP(UPPER(M1062),Items!$A$2:$B$653,2,FALSE)","v":"N0628"},"D",null,null,null,null,null,"O",null,null,{"$f":"VLOOKUP(UPPER(A1062),Items!$B$2:$G$653,6)","v":"boolean"},{"$f":"IF(B1062=\"D\",IF(VLOOKUP(UPPER(A1062),Items!$B$2:$H$748,7,FALSE)<>0,VLOOKUP(UPPER(A1062),Items!$B$2:$H$748,7,FALSE),\"\"),\"\")","v":""},"Replacement Reserve Instruction Flag","Populated for post TERRE settlement dates only"]
[{"$f":"VLOOKUP(UPPER(M1063),Items!$A$2:$B$653,2,FALSE)","v":"N0629"},"D",null,null,null,null,null,"O",null,null,{"$f":"VLOOKUP(UPPER(A1063),Items!$B$2:$G$653,6)","v":"boolean"},{"$f":"IF(B1063=\"D\",IF(VLOOKUP(UPPER(A1063),Items!$B$2:$H$748,7,FALSE)<>0,VLOOKUP(UPPER(A1063),Items!$B$2:$H$748,7,FALSE),\"\"),\"\")","v":""},"Replacement Reserve Schedule Flag","Populated for post TERRE settlement dates only"]
["BO6","R","0-*",null,null,null,null,"G",null,null,null,null,"BMU Period Bid-Offer Acceptance Spot Point"]
[{"$f":"VLOOKUP(UPPER(M1065),Items!$A$2:$B$525,2,FALSE)","v":"N0337"},"D",null,null,null,null,null,null,1,null,{"$f":"VLOOKUP(UPPER(A1065),Items!$B$2:$G$525,6)","v":"integer(3)"},{"$f":"IF(B1065=\"D\",IF(VLOOKUP(UPPER(A1065),Items!$B$2:$H$748,7,FALSE)<>0,VLOOKUP(UPPER(A1065),Items!$B$2:$H$748,7,FALSE),\"\"),\"\")","v":""},"Acceptance From Time","minutes from start of period"]
[{"$f":"VLOOKUP(UPPER(M1066),Items!$A$2:$B$525,2,FALSE)","v":"N0026"},"D",null,null,null,null,null,null,"O",null,{"$f":"VLOOKUP(UPPER(A1066),Items!$B$2:$G$525,6)","v":"decimal(10,3)"},{"$f":"IF(B1066=\"D\",IF(VLOOKUP(UPPER(A1066),Items!$B$2:$H$748,7,FALSE)<>0,VLOOKUP(UPPER(A1066),Items!$B$2:$H$748,7,FALSE),\"\"),\"\")","v":""},"Bid Offer Acceptance Volume Value From"]
[{"$f":"VLOOKUP(UPPER(M1067),Items!$A$2:$B$525,2,FALSE)","v":"N0338"},"D",null,null,null,null,null,null,1,null,{"$f":"VLOOKUP(UPPER(A1067),Items!$B$2:$G$525,6)","v":"integer(3)"},{"$f":"IF(B1067=\"D\",IF(VLOOKUP(UPPER(A1067),Items!$B$2:$H$748,7,FALSE)<>0,VLOOKUP(UPPER(A1067),Items!$B$2:$H$748,7,FALSE),\"\"),\"\")","v":""},"Acceptance To Time","minutes from start of period"]
[{"$f":"VLOOKUP(UPPER(M1068),Items!$A$2:$B$525,2,FALSE)","v":"N0027"},"D",null,null,null,null,null,null,"O",null,{"$f":"VLOOKUP(UPPER(A1068),Items!$B$2:$G$525,6)","v":"decimal(10,3)"},{"$f":"IF(B1068=\"D\",IF(VLOOKUP(UPPER(A1068),Items!$B$2:$H$748,7,FALSE)<>0,VLOOKUP(UPPER(A1068),Items!$B$2:$H$748,7,FALSE),\"\"),\"\")","v":""},"Bid Offer Acceptance Volume Value To"]
["BO7","R","0-*",null,null,null,null,"G",null,null,null,null,"BM Unit Bid-Offer Pair Acceptance Volume Data","Data items in this group are reported null where either Replacement Reserve Schedule Flag or Replacement Reserve Instruction Flag is TRUE"]
[{"$f":"VLOOKUP(UPPER(M1070),Items!$A$2:$B$525,2,FALSE)","v":"N0025"},"D",null,null,null,null,null,null,1,null,{"$f":"VLOOKUP(UPPER(A1070),Items!$B$2:$G$525,6)","v":"integer(2)"},{"$f":"IF(B1070=\"D\",IF(VLOOKUP(UPPER(A1070),Items!$B$2:$H$748,7,FALSE)<>0,VLOOKUP(UPPER(A1070),Items!$B$2:$H$748,7,FALSE),\"\"),\"\")","v":""},"Bid-Offer Pair Number"]
[{"$f":"VLOOKUP(UPPER(M1071),Items!$A$2:$B$525,2,FALSE)","v":"N0547"},"D",null,null,null,null,null,null,"O",null,{"$f":"VLOOKUP(UPPER(A1071),Items!$B$2:$G$525,6)","v":"decimal(10,3)"},{"$f":"IF(B1071=\"D\",IF(VLOOKUP(UPPER(A1071),Items!$B$2:$H$748,7,FALSE)<>0,VLOOKUP(UPPER(A1071),Items!$B$2:$H$748,7,FALSE),\"\"),\"\")","v":""},"Bid-Offer Pair Acceptance Bid Volume"]
[{"$f":"VLOOKUP(UPPER(M1072),Items!$A$2:$B$525,2,FALSE)","v":"N0548"},"D",null,null,null,null,null,null,"O",null,{"$f":"VLOOKUP(UPPER(A1072),Items!$B$2:$G$525,6)","v":"decimal(10,3)"},{"$f":"IF(B1072=\"D\",IF(VLOOKUP(UPPER(A1072),Items!$B$2:$H$748,7,FALSE)<>0,VLOOKUP(UPPER(A1072),Items!$B$2:$H$748,7,FALSE),\"\"),\"\")","v":""},"Bid-Offer Pair Acceptance Offer Volume"]
["MVR","R","0-*",null,null,null,"G",null,null,null,null,null,"BM Unit MVR Information"]
[{"$f":"VLOOKUP(UPPER(M1074),Items!$A$2:$B$525,2,FALSE)","v":"N0045"},"D",null,null,null,null,null,1,null,null,{"$f":"VLOOKUP(UPPER(A1074),Items!$B$2:$G$525,6)","v":"text(8)"},{"$f":"IF(B1074=\"D\",IF(VLOOKUP(UPPER(A1074),Items!$B$2:$H$748,7,FALSE)<>0,VLOOKUP(UPPER(A1074),Items!$B$2:$H$748,7,FALSE),\"\"),\"\")","v":""},"BSC Party Id"]
[{"$f":"VLOOKUP(UPPER(M1075),Items!$A$2:$B$525,2,FALSE)","v":"N0177"},"D",null,null,null,null,null,1,null,null,{"$f":"VLOOKUP(UPPER(A1075),Items!$B$2:$G$525,6)","v":"char"},{"$f":"IF(B1075=\"D\",IF(VLOOKUP(UPPER(A1075),Items!$B$2:$H$748,7,FALSE)<>0,VLOOKUP(UPPER(A1075),Items!$B$2:$H$748,7,FALSE),\"\"),\"\")","v":"P/C Flag"},"Production/Consumption Flag","P/C"]
[{"$f":"VLOOKUP(UPPER(M1076),Items!$A$2:$B$525,2,FALSE)","v":"N0061"},"D",null,null,null,null,null,1,null,null,{"$f":"VLOOKUP(UPPER(A1076),Items!$B$2:$G$525,6)","v":"decimal(10,3)"},{"$f":"IF(B1076=\"D\",IF(VLOOKUP(UPPER(A1076),Items!$B$2:$H$748,7,FALSE)<>0,VLOOKUP(UPPER(A1076),Items!$B$2:$H$748,7,FALSE),\"\"),\"\")","v":""},"Credited Energy Volume"]
[{"$f":"VLOOKUP(UPPER(M1077),Items!$A$2:$B$525,2,FALSE)","v":"N0109"},"D",null,null,null,null,null,1,null,null,{"$f":"VLOOKUP(UPPER(A1077),Items!$B$2:$G$525,6)","v":"decimal(10,3)"},{"$f":"IF(B1077=\"D\",IF(VLOOKUP(UPPER(A1077),Items!$B$2:$H$748,7,FALSE)<>0,VLOOKUP(UPPER(A1077),Items!$B$2:$H$748,7,FALSE),\"\"),\"\")","v":""},"Fixed Metered Volume Reallocation"]
[{"$f":"VLOOKUP(UPPER(M1078),Items!$A$2:$B$525,2,FALSE)","v":"N0163"},"D",null,null,null,null,null,1,null,null,{"$f":"VLOOKUP(UPPER(A1078),Items!$B$2:$G$525,6)","v":"decimal(8,5)"},{"$f":"IF(B1078=\"D\",IF(VLOOKUP(UPPER(A1078),Items!$B$2:$H$748,7,FALSE)<>0,VLOOKUP(UPPER(A1078),Items!$B$2:$H$748,7,FALSE),\"\"),\"\")","v":""},"Percentage Metered Volume Reallocation"]
["BQH","R","0-*",null,null,null,"G",null,null,null,null,null,"BM Unit Quarter Hour Data","Group reported for post TERRE settlement dates only"]
[{"$f":"VLOOKUP(UPPER(M1080),Items!$A$2:$B$625,2,FALSE)","v":"N0609"},"D",null,null,null,null,null,1,null,null,{"$f":"VLOOKUP(UPPER(A1080),Items!$B$2:$G$625,6)","v":"integer(1)"},{"$f":"IF(B1080=\"D\",IF(VLOOKUP(UPPER(A1080),Items!$B$2:$H$748,7,FALSE)<>0,VLOOKUP(UPPER(A1080),Items!$B$2:$H$748,7,FALSE),\"\"),\"\")","v":"Quarter Hour Period"},"Quarter Hour Period"]
[{"$f":"VLOOKUP(UPPER(M1081),Items!$A$2:$B$625,2,FALSE)","v":"N0608"},"D",null,null,null,null,null,1,null,null,{"$f":"VLOOKUP(UPPER(A1081),Items!$B$2:$G$625,6)","v":"decimal(10,3)  "},{"$f":"IF(B1081=\"D\",IF(VLOOKUP(UPPER(A1081),Items!$B$2:$H$748,7,FALSE)<>0,VLOOKUP(UPPER(A1081),Items!$B$2:$H$748,7,FALSE),\"\"),\"\")","v":""},"RR Activation Volume"]
[{"$f":"VLOOKUP(UPPER(M1082),Items!$A$2:$B$625,2,FALSE)","v":"N0590"},"D",null,null,null,null,null,1,null,null,{"$f":"VLOOKUP(UPPER(A1082),Items!$B$2:$G$625,6)","v":"decimal(10,2)"},{"$f":"IF(B1082=\"D\",IF(VLOOKUP(UPPER(A1082),Items!$B$2:$H$748,7,FALSE)<>0,VLOOKUP(UPPER(A1082),Items!$B$2:$H$748,7,FALSE),\"\"),\"\")","v":""},"RR Cashflow"]
[{"$f":"VLOOKUP(UPPER(M1083),Items!$A$2:$B$625,2,FALSE)","v":"N0610"},"D",null,null,null,null,null,1,null,null,{"$f":"VLOOKUP(UPPER(A1083),Items!$B$2:$G$625,6)","v":"decimal(10,3)  "},{"$f":"IF(B1083=\"D\",IF(VLOOKUP(UPPER(A1083),Items!$B$2:$H$748,7,FALSE)<>0,VLOOKUP(UPPER(A1083),Items!$B$2:$H$748,7,FALSE),\"\"),\"\")","v":""},"Deemed Standard Product Offer Volume"]
[{"$f":"VLOOKUP(UPPER(M1084),Items!$A$2:$B$625,2,FALSE)","v":"N0611"},"D",null,null,null,null,null,1,null,null,{"$f":"VLOOKUP(UPPER(A1084),Items!$B$2:$G$625,6)","v":"decimal(10,3)  "},{"$f":"IF(B1084=\"D\",IF(VLOOKUP(UPPER(A1084),Items!$B$2:$H$748,7,FALSE)<>0,VLOOKUP(UPPER(A1084),Items!$B$2:$H$748,7,FALSE),\"\"),\"\")","v":""},"Deemed Standard Product Bid Volume"]
["RRB","R","0-*",null,null,null,null,"G",null,null,null,null,"Replacement Reserve Bid","Group reported for post TERRE settlement dates only"]
[{"$f":"VLOOKUP(UPPER(M1086),Items!$A$2:$B$625,2,FALSE)","v":"N0612"},"D",null,null,null,null,null,null,1,null,{"$f":"VLOOKUP(UPPER(A1086),Items!$B$2:$G$625,6)","v":"varchar2(16)"},{"$f":"IF(B1086=\"D\",IF(VLOOKUP(UPPER(A1086),Items!$B$2:$H$748,7,FALSE)<>0,VLOOKUP(UPPER(A1086),Items!$B$2:$H$748,7,FALSE),\"\"),\"\")","v":""},"RR Associated Transmission System Operator"]
[{"$f":"VLOOKUP(UPPER(M1087),Items!$A$2:$B$625,2,FALSE)","v":"N0613"},"D",null,null,null,null,null,null,1,null,{"$f":"VLOOKUP(UPPER(A1087),Items!$B$2:$G$625,6)","v":"varchar2(8)"},{"$f":"IF(B1087=\"D\",IF(VLOOKUP(UPPER(A1087),Items!$B$2:$H$748,7,FALSE)<>0,VLOOKUP(UPPER(A1087),Items!$B$2:$H$748,7,FALSE),\"\"),\"\")","v":""},"RR Market Balance Area"]
[{"$f":"VLOOKUP(UPPER(M1088),Items!$A$2:$B$625,2,FALSE)","v":"N0614"},"D",null,null,null,null,null,null,1,null,{"$f":"VLOOKUP(UPPER(A1088),Items!$B$2:$G$625,6)","v":"varchar2(3)"},{"$f":"IF(B1088=\"D\",IF(VLOOKUP(UPPER(A1088),Items!$B$2:$H$748,7,FALSE)<>0,VLOOKUP(UPPER(A1088),Items!$B$2:$H$748,7,FALSE),\"\"),\"\")","v":"RR Divisible"},"RR Divisible"]
[{"$f":"VLOOKUP(UPPER(M1089),Items!$A$2:$B$625,2,FALSE)","v":"N0615"},"D",null,null,null,null,null,null,"O",null,{"$f":"VLOOKUP(UPPER(A1089),Items!$B$2:$G$625,6)","v":"varchar2(8)"},{"$f":"IF(B1089=\"D\",IF(VLOOKUP(UPPER(A1089),Items!$B$2:$H$748,7,FALSE)<>0,VLOOKUP(UPPER(A1089),Items!$B$2:$H$748,7,FALSE),\"\"),\"\")","v":""},"RR Linking Bid ID"]
[{"$f":"VLOOKUP(UPPER(M1090),Items!$A$2:$B$625,2,FALSE)","v":"N0616"},"D",null,null,null,null,null,null,"O",null,{"$f":"VLOOKUP(UPPER(A1090),Items!$B$2:$G$625,6)","v":"varchar2(8)"},{"$f":"IF(B1090=\"D\",IF(VLOOKUP(UPPER(A1090),Items!$B$2:$H$748,7,FALSE)<>0,VLOOKUP(UPPER(A1090),Items!$B$2:$H$748,7,FALSE),\"\"),\"\")","v":""},"RR Multipart Bid ID"]
[{"$f":"VLOOKUP(UPPER(M1091),Items!$A$2:$B$625,2,FALSE)","v":"N0617"},"D",null,null,null,null,null,null,"O",null,{"$f":"VLOOKUP(UPPER(A1091),Items!$B$2:$G$625,6)","v":"varchar2(8)"},{"$f":"IF(B1091=\"D\",IF(VLOOKUP(UPPER(A1091),Items!$B$2:$H$748,7,FALSE)<>0,VLOOKUP(UPPER(A1091),Items!$B$2:$H$748,7,FALSE),\"\"),\"\")","v":""},"RR Exclusive Bid ID"]
[{"$f":"VLOOKUP(UPPER(M1092),Items!$A$2:$B$625,2,FALSE)","v":"N0618"},"D",null,null,null,null,null,null,1,null,{"$f":"VLOOKUP(UPPER(A1092),Items!$B$2:$G$625,6)","v":"varchar2(3)"},{"$f":"IF(B1092=\"D\",IF(VLOOKUP(UPPER(A1092),Items!$B$2:$H$748,7,FALSE)<>0,VLOOKUP(UPPER(A1092),Items!$B$2:$H$748,7,FALSE),\"\"),\"\")","v":"RR Flow Direction"},"RR Flow Direction"]
[{"$f":"VLOOKUP(UPPER(M1093),Items!$A$2:$B$625,2,FALSE)","v":"N0619"},"D",null,null,null,null,null,null,1,null,{"$f":"VLOOKUP(UPPER(A1093),Items!$B$2:$G$625,6)","v":"varchar2(3)"},{"$f":"IF(B1093=\"D\",IF(VLOOKUP(UPPER(A1093),Items!$B$2:$H$748,7,FALSE)<>0,VLOOKUP(UPPER(A1093),Items!$B$2:$H$748,7,FALSE),\"\"),\"\")","v":""},"RR Incremental Size"]
[{"$f":"VLOOKUP(UPPER(M1094),Items!$A$2:$B$625,2,FALSE)","v":"N0620"},"D",null,null,null,null,null,null,1,null,{"$f":"VLOOKUP(UPPER(A1094),Items!$B$2:$G$625,6)","v":"decimal(10,3)  "},{"$f":"IF(B1094=\"D\",IF(VLOOKUP(UPPER(A1094),Items!$B$2:$H$748,7,FALSE)<>0,VLOOKUP(UPPER(A1094),Items!$B$2:$H$748,7,FALSE),\"\"),\"\")","v":""},"RR Minimum Quantity"]
[{"$f":"VLOOKUP(UPPER(M1095),Items!$A$2:$B$625,2,FALSE)","v":"N0621"},"D",null,null,null,null,null,null,1,null,{"$f":"VLOOKUP(UPPER(A1095),Items!$B$2:$G$625,6)","v":"decimal(10,3)  "},{"$f":"IF(B1095=\"D\",IF(VLOOKUP(UPPER(A1095),Items!$B$2:$H$748,7,FALSE)<>0,VLOOKUP(UPPER(A1095),Items!$B$2:$H$748,7,FALSE),\"\"),\"\")","v":""},"RR Maximum Quantity"]
[{"$f":"VLOOKUP(UPPER(M1096),Items!$A$2:$B$625,2,FALSE)","v":"N0622"},"D",null,null,null,null,null,null,1,null,{"$f":"VLOOKUP(UPPER(A1096),Items!$B$2:$G$625,6)","v":"varchar2(5)"},{"$f":"IF(B1096=\"D\",IF(VLOOKUP(UPPER(A1096),Items!$B$2:$H$748,7,FALSE)<>0,VLOOKUP(UPPER(A1096),Items!$B$2:$H$748,7,FALSE),\"\"),\"\")","v":"RR Bid Resolution"},"RR Bid Resolution"]
[{"$f":"VLOOKUP(UPPER(M1097),Items!$A$2:$B$625,2,FALSE)","v":"N0623"},"D",null,null,null,null,null,null,1,null,{"$f":"VLOOKUP(UPPER(A1097),Items!$B$2:$G$625,6)","v":"varchar2(5)"},{"$f":"IF(B1097=\"D\",IF(VLOOKUP(UPPER(A1097),Items!$B$2:$H$748,7,FALSE)<>0,VLOOKUP(UPPER(A1097),Items!$B$2:$H$748,7,FALSE),\"\"),\"\")","v":""},"RR Position"]
[{"$f":"VLOOKUP(UPPER(M1098),Items!$A$2:$B$625,2,FALSE)","v":"N0624"},"D",null,null,null,null,null,null,1,null,{"$f":"VLOOKUP(UPPER(A1098),Items!$B$2:$G$625,6)","v":"decimal(10,5)"},{"$f":"IF(B1098=\"D\",IF(VLOOKUP(UPPER(A1098),Items!$B$2:$H$748,7,FALSE)<>0,VLOOKUP(UPPER(A1098),Items!$B$2:$H$748,7,FALSE),\"\"),\"\")","v":""},"RR Price"]
[{"$f":"VLOOKUP(UPPER(M1099),Items!$A$2:$B$625,2,FALSE)","v":"N0625"},"D",null,null,null,null,null,null,1,null,{"$f":"VLOOKUP(UPPER(A1099),Items!$B$2:$G$625,6)","v":"varchar2(3)"},{"$f":"IF(B1099=\"D\",IF(VLOOKUP(UPPER(A1099),Items!$B$2:$H$748,7,FALSE)<>0,VLOOKUP(UPPER(A1099),Items!$B$2:$H$748,7,FALSE),\"\"),\"\")","v":"RR Status"},"RR Status"]
["RRA",{"$f":"IF(LEN(K1100)>0,\"D\",IF(LEN(A1100)=5,\"F\",IF(LEN(A1100)=3,\"R\",\" \")))","v":"R"},"0-*",null,null,null,null,"G",null,null,null,{"$f":"IF(B1100=\"D\",IF(VLOOKUP(UPPER(A1100),Items!$B$2:$H$748,7,FALSE)<>0,VLOOKUP(UPPER(A1100),Items!$B$2:$H$748,7,FALSE),\"\"),\"\")","v":""},"Replacement Reserve Activation","Group reported for post TERRE settlement dates only"]
[{"$f":"VLOOKUP(UPPER(M1101),Items!$A$2:$B$625,2,FALSE)","v":"N0618"},"D",null,null,null,null,null,null,1,null,{"$f":"VLOOKUP(UPPER(A1101),Items!$B$2:$G$725,6)","v":"varchar2(3)"},{"$f":"IF(B1101=\"D\",IF(VLOOKUP(UPPER(A1101),Items!$B$2:$H$748,7,FALSE)<>0,VLOOKUP(UPPER(A1101),Items!$B$2:$H$748,7,FALSE),\"\"),\"\")","v":"RR Flow Direction"},"RR Flow Direction"]
[{"$f":"VLOOKUP(UPPER(M1102),Items!$A$2:$B$625,2,FALSE)","v":"N0626"},"D",null,null,null,null,null,null,1,null,{"$f":"VLOOKUP(UPPER(A1102),Items!$B$2:$G$725,6)","v":"decimal(10,3)  "},{"$f":"IF(B1102=\"D\",IF(VLOOKUP(UPPER(A1102),Items!$B$2:$H$748,7,FALSE)<>0,VLOOKUP(UPPER(A1102),Items!$B$2:$H$748,7,FALSE),\"\"),\"\")","v":""},"RR Activation Quantity"]
[{"$f":"VLOOKUP(UPPER(M1103),Items!$A$2:$B$625,2,FALSE)","v":"N0622"},"D",null,null,null,null,null,null,1,null,{"$f":"VLOOKUP(UPPER(A1103),Items!$B$2:$G$725,6)","v":"varchar2(5)"},{"$f":"IF(B1103=\"D\",IF(VLOOKUP(UPPER(A1103),Items!$B$2:$H$748,7,FALSE)<>0,VLOOKUP(UPPER(A1103),Items!$B$2:$H$748,7,FALSE),\"\"),\"\")","v":"RR Bid Resolution"},"RR Bid Resolution"]
[{"$f":"VLOOKUP(UPPER(M1104),Items!$A$2:$B$625,2,FALSE)","v":"N0623"},"D",null,null,null,null,null,null,1,null,{"$f":"VLOOKUP(UPPER(A1104),Items!$B$2:$G$725,6)","v":"varchar2(5)"},{"$f":"IF(B1104=\"D\",IF(VLOOKUP(UPPER(A1104),Items!$B$2:$H$748,7,FALSE)<>0,VLOOKUP(UPPER(A1104),Items!$B$2:$H$748,7,FALSE),\"\"),\"\")","v":""},"RR Position"]
[{"$f":"VLOOKUP(UPPER(M1105),Items!$A$2:$B$625,2,FALSE)","v":"N0627"},"D",null,null,null,null,null,null,1,null,{"$f":"VLOOKUP(UPPER(A1105),Items!$B$2:$G$725,6)","v":"decimal(10,5)"},{"$f":"IF(B1105=\"D\",IF(VLOOKUP(UPPER(A1105),Items!$B$2:$H$748,7,FALSE)<>0,VLOOKUP(UPPER(A1105),Items!$B$2:$H$748,7,FALSE),\"\"),\"\")","v":""},"RR Activation Price"]
["SQH","R",1,null,null,"G",null,null,null,null,null,{"$f":"IF(B1106=\"D\",IF(VLOOKUP(UPPER(A1106),Items!$B$2:$H$748,7,FALSE)<>0,VLOOKUP(UPPER(A1106),Items!$B$2:$H$748,7,FALSE),\"\"),\"\")","v":""},"System Quarter Hour Data","Group reported for post TERRE settlement dates only"]
[{"$f":"VLOOKUP(UPPER(M1107),Items!$A$2:$B$625,2,FALSE)","v":"N0609"},"D",null,null,null,null,1,null,null,null,{"$f":"VLOOKUP(UPPER(A1107),Items!$B$2:$G$725,6)","v":"integer(1)"},{"$f":"IF(B1107=\"D\",IF(VLOOKUP(UPPER(A1107),Items!$B$2:$H$748,7,FALSE)<>0,VLOOKUP(UPPER(A1107),Items!$B$2:$H$748,7,FALSE),\"\"),\"\")","v":"Quarter Hour Period"},"Quarter Hour Period"]
[{"$f":"VLOOKUP(UPPER(M1108),Items!$A$2:$B$625,2,FALSE)","v":"N0595"},"D",null,null,null,null,1,null,null,null,{"$f":"VLOOKUP(UPPER(A1108),Items!$B$2:$G$725,6)","v":"decimal(10,3)  "},{"$f":"IF(B1108=\"D\",IF(VLOOKUP(UPPER(A1108),Items!$B$2:$H$748,7,FALSE)<>0,VLOOKUP(UPPER(A1108),Items!$B$2:$H$748,7,FALSE),\"\"),\"\")","v":""},"Volume of GB Need Met"]
[{"$f":"VLOOKUP(UPPER(M1109),Items!$A$2:$B$625,2,FALSE)","v":"N0598"},"D",null,null,null,null,1,null,null,null,{"$f":"VLOOKUP(UPPER(A1109),Items!$B$2:$G$725,6)","v":"decimal(10,3)  "},{"$f":"IF(B1109=\"D\",IF(VLOOKUP(UPPER(A1109),Items!$B$2:$H$748,7,FALSE)<>0,VLOOKUP(UPPER(A1109),Items!$B$2:$H$748,7,FALSE),\"\"),\"\")","v":""},"RR Interconnector Schedule Volume"]
[{"$f":"VLOOKUP(UPPER(M1110),Items!$A$2:$B$625,2,FALSE)","v":"N0601"},"D",null,null,null,null,1,null,null,null,{"$f":"VLOOKUP(UPPER(A1110),Items!$B$2:$G$725,6)","v":"decimal(10,5)"},{"$f":"IF(B1110=\"D\",IF(VLOOKUP(UPPER(A1110),Items!$B$2:$H$748,7,FALSE)<>0,VLOOKUP(UPPER(A1110),Items!$B$2:$H$748,7,FALSE),\"\"),\"\")","v":""},"TERRE Clearing Price"]
[]
[]
[]
[]
["S0172",{"$f":"IF(LEN(K1115)>0,\"D\",IF(LEN(A1115)=5,\"F\",IF(LEN(A1115)=3,\"R\",\" \")))","v":"F"},"001",null,null,null,null,null,null,null,null,null,"SAA-I017 sub-flow 2: SAA BSAD feedback Report","This subflow is used when the exception report relates to an adjustment flow (NGC30)"]
[null," "]
["HNF","R",1,"G",null,null,null,null,null,null,null,null,"Header of NGC file being processed"]
[{"$f":"VLOOKUP(UPPER(M1118),Items!$A$2:$B$525,2,FALSE)","v":"N0329"},"D",null,null,1,null,null,null,null,null,{"$f":"VLOOKUP(UPPER(A1118),Items!$B$2:$G$525,6)","v":"text(255)"},{"$f":"IF(VLOOKUP(UPPER(A1118),Items!$B$2:$H$525,7,FALSE)<>0,VLOOKUP(UPPER(A1118),Items!$B$2:$H$525,7,FALSE),\"\")","v":""},"NGC Filename"]
["BDE","R","1-*","G",null,null,null,null,null,null,null,null,"BMRA Data Exceptions"]
[{"$f":"VLOOKUP(UPPER(M1120),Items!$A$2:$B$525,2,FALSE)","v":"N0094"},"D",null,null,1,null,null,null,null,null,{"$f":"VLOOKUP(UPPER(A1120),Items!$B$2:$G$525,6)","v":"char"},{"$f":"IF(VLOOKUP(UPPER(A1120),Items!$B$2:$H$525,7,FALSE)<>0,VLOOKUP(UPPER(A1120),Items!$B$2:$H$525,7,FALSE),\"\")","v":"BMRA Exception Type"},"Exception Type"]
[{"$f":"VLOOKUP(UPPER(M1121),Items!$A$2:$B$525,2,FALSE)","v":"N0093"},"D",null,null,1,null,null,null,null,null,{"$f":"VLOOKUP(UPPER(A1121),Items!$B$2:$G$525,6)","v":"text(255)"},{"$f":"IF(VLOOKUP(UPPER(A1121),Items!$B$2:$H$525,7,FALSE)<>0,VLOOKUP(UPPER(A1121),Items!$B$2:$H$525,7,FALSE),\"\")","v":""},"Exception Description"]
[]
[]
[]
[]
[]
[]
[]
[]
[]
[]
[]
[]
[]
[]
[]
[]
[]
[]
[]
[]
[]
[]
[]
[]
[]
[]
[]
[]
[]
[]
[]
[]
[]
[]
[]
[]
[]
[]
[]
[]
[]
[]
[]
[]
[]
[]
[]
[]
[]
[]
[]
[]
[]
[]
[]
[]
[]
[]
[]
[]
[]
[]
[]
[]
[]
[]
[]
[]
[]
[]
[]
[]
[]
[]
[]
[]
[]
[]
[]
[]
[]
[]
[]
[]
[]
[]
[]
[]
[]
[]
[]
[]
[]
[]
[]
[]
[]
[]
[]
[]
[]
[]
[]
[]
[]
[]
[]
[]
[]
[]
[]
[]
[]
[]
[]
[]
[]
[]
[]
[]
[]
[]
[]
[]
[]
[]
[]
[]
[]
[]
[]
[]
[]
[]
[]
[]
[]
[]
[]
[]
[]
[]
[]
[]
[]
[]
[]
[]
[]
[]
[]
[]
[]
[]
[]
[]
[]
[]
[]
[]
[]
[]
[]
[]
[]
[]
[]
[]
[]
[]
[]
[]
[]
[]
[]
[]
[]
[]
[]
[]
[]
[]
[]
[]
[]
[]
[]
[]
[]
[]
[]
[]
[]
[]
[]
[]
[]
[]
[]
[]
[]
[]
[]
[]
[]
[]
[]
[]
[]
[]
[]
[]
[]
[]
[]
[]
[]
[]
[]
[]
[]
[]
[]
[]
[]
[]
[]
[]
[]
[]
[]
[]
[]
[]
[]
[]
[]
[]
[]
[]
[]
[]
[]
[]
[]
[]
[]
[]
[]
[]
[]
[]
[]
[]
[]
[]
[]
[]
[]
[]
[]
[]
[]
[]
[]
[]
[]
[]
[]
[]
[]
[]
[]
[]
[]
[]
[]
[]
[]
[]
[]
[]
[]
[]
[]
[]
[]
[]
[]
[]
[]
[]
[]
[]
[]
[]
[]
[]
[]
[]
[]
[]
[]
[]
[]
[]
[]
[]
[]
[]
[]
[]
[]
[]
[]
[]
[]
[]
[]
[]
[]
[]
[]
[]
[]
[]
[]
[]
[]
[]
[]
[]
[]
[]
[]
[]
[]
[]
[]
[]
[]
[]
[]
[]
[]
[]
[]
[]
[]
[]
[]
[]
[]
[]
[]
[]
[]
[]
[]
[]
[]
[]
[]
[]
[]
[]
[]
[]
[]
[]
[]
[]
[]
[]
[]
[]
[]
[]
[]
[]
["CHECKS"]
[]
["Total Col A",null,{"$f":"COUNTIF($A$2:$A$1498,\"<>\")","v":1107},null,null,null,null,null,null,null,null,"All OK?"]
["Total Col B",null,{"$f":"C1506+C1507+C1508","v":1103},{"$f":"IF(C1504=C1505,\"OK\", \"Problem\")","v":"Problem"},null,null,null,null,null,null,null,{"$f":"AND(D1505=\"OK\",D1509=\"OK\",D1510=\"OK\",D1511=\"OK\",D1512=\"OK\",D1513=\"OK\")","v":false}]
[null,"\"F\"",{"$f":"COUNTIF($B$2:$B$1498,\"F\")","v":6}]
[null,"\"R\"",{"$f":"COUNTIF($B$2:$B$1498,\"R\")","v":106}]
[null,"\"D\"",{"$f":"COUNTIF($B$2:$B$1498,\"D\")","v":991}]
["Total Col C",null,{"$f":"COUNTIF($C$2:$C$1498,\"<>\")","v":112},{"$f":"IF(C1507+C1506=C1509,\"OK\",\"Problem\")","v":"OK"}]
["Total G",null,{"$f":"COUNTIF($D$2:$J$1498,\"G\")","v":106},{"$f":"IF(C1507=C1510,\"OK\",\"Problem\")","v":"OK"}]
["Total 1 /  O",null,{"$f":"COUNTIF($D$2:$J$1498,\"1\")+COUNTIF($D$2:$J$1498,\"O\")","v":995},{"$f":"IF(C1508=C1511,\"OK\",\"Problem\")","v":"Problem"}]
["Total Col K",null,{"$f":"COUNTIF($K$2:$K$1498,\"<>\")","v":995},{"$f":"IF(C1508=C1512,\"OK\",\"Problem\")","v":"Problem"}]
["Total Col M",null,{"$f":"COUNTIF($M$2:$M$1500,\"<>\")","v":1107},{"$f":"IF(C1504=C1513,\"OK\", \"Problem\")","v":"OK"}]

{"sheet":"BSCC Ltd","index":2,"n_rows":848,"n_cols":15,"rows_kept":848,"cut":false,"hidden":false,"merged":[]}
["Id","type","flow version / range","L1","L2","L3","L4","L5","L6","L7","data type","Valid Set","item name/group description","comments"]
["C0221",{"$f":"IF(LEN(K2)>0,\"D\",IF(LEN(A2)=5,\"F\",IF(LEN(A2)=3,\"R\",\" \")))","v":"F"},"001",null,null,null,null,null,null,null,null,null,"CDCA-I022: Distribution Line Loss Factors"]
[null," "]
["MSY","R","1-*","G",null,null,null,null,null,null,null,null,"Metering System Line Loss Factors"]
[{"$f":"VLOOKUP(UPPER(M5),Items!$A$2:$B$525,2,FALSE)","v":"N0142"},"D",null,null,1,null,null,null,null,null,{"$f":"VLOOKUP(UPPER(A5),Items!$B$2:$G$525,6)","v":"text(13)"},{"$f":"IF(VLOOKUP(UPPER(A5),Items!$B$2:$H$525,7,FALSE)<>0,VLOOKUP(UPPER(A5),Items!$B$2:$H$525,7,FALSE),\"\")","v":""},"Metering System Id"]
["STD","R","1-*",null,"G",null,null,null,null,null,null,null,"Settlement Date Details"]
[{"$f":"VLOOKUP(UPPER(M7),Items!$A$2:$B$525,2,FALSE)","v":"N0200"},"D",null,null,null,1,null,null,null,null,{"$f":"VLOOKUP(UPPER(A7),Items!$B$2:$G$525,6)","v":"date"},{"$f":"IF(VLOOKUP(UPPER(A7),Items!$B$2:$H$525,7,FALSE)<>0,VLOOKUP(UPPER(A7),Items!$B$2:$H$525,7,FALSE),\"\")","v":""},"Settlement Date"]
["LLF","R","46-50",null,null,"G",null,null,null,null,null,null,"Line Loss Factors"]
[{"$f":"VLOOKUP(UPPER(M9),Items!$A$2:$B$525,2,FALSE)","v":"N0201"},"D",null,null,null,null,1,null,null,null,{"$f":"VLOOKUP(UPPER(A9),Items!$B$2:$G$525,6)","v":"integer(2)"},{"$f":"IF(VLOOKUP(UPPER(A9),Items!$B$2:$H$525,7,FALSE)<>0,VLOOKUP(UPPER(A9),Items!$B$2:$H$525,7,FALSE),\"\")","v":""},"Settlement Period"]
[{"$f":"VLOOKUP(UPPER(M10),Items!$A$2:$B$525,2,FALSE)","v":"N0132"},"D",null,null,null,null,1,null,null,null,{"$f":"VLOOKUP(UPPER(A10),Items!$B$2:$G$525,6)","v":"decimal(8,7)"},{"$f":"IF(VLOOKUP(UPPER(A10),Items!$B$2:$H$525,7,FALSE)<>0,VLOOKUP(UPPER(A10),Items!$B$2:$H$525,7,FALSE),\"\")","v":""},"Line Loss Factor"]
[]
["C0621",{"$f":"IF(LEN(K12)>0,\"D\",IF(LEN(A12)=5,\"F\",IF(LEN(A12)=3,\"R\",\" \")))","v":"F"},"001",null,null,null,null,null,null,null,null,null,"CDCA-I062: Receive Sample Settlement Periods","TLFA functionality was added for the Introduction of Zonal Transmission Losses on an Average Basis (P82)  and reintroduced as part of P350."]
[null," "]
["SAM","R","1-*","G",null,null,null,null,null,null,null,null,"Sample Settlement date and Periods"]
[{"$f":"VLOOKUP(UPPER(M15),Items!$A$2:$B$525,2,FALSE)","v":"N0457"},"D",null,null,1,null,null,null,null,null,{"$f":"VLOOKUP(UPPER(A15),Items!$B$2:$G$525,6)","v":"text(30)"},{"$f":"IF(VLOOKUP(UPPER(A15),Items!$B$2:$H$525,7,FALSE)<>0,VLOOKUP(UPPER(A15),Items!$B$2:$H$525,7,FALSE),\"\")","v":""},"Load Period Name"]
[{"$f":"VLOOKUP(UPPER(M16),Items!$A$2:$B$525,2,FALSE)","v":"N0200"},"D",null,null,1,null,null,null,null,null,{"$f":"VLOOKUP(UPPER(A16),Items!$B$2:$G$525,6)","v":"date"},{"$f":"IF(VLOOKUP(UPPER(A16),Items!$B$2:$H$525,7,FALSE)<>0,VLOOKUP(UPPER(A16),Items!$B$2:$H$525,7,FALSE),\"\")","v":""},"Settlement Date"]
[{"$f":"VLOOKUP(UPPER(M17),Items!$A$2:$B$525,2,FALSE)","v":"N0201"},"D",null,null,1,null,null,null,null,null,{"$f":"VLOOKUP(UPPER(A17),Items!$B$2:$G$525,6)","v":"integer(2)"},{"$f":"IF(VLOOKUP(UPPER(A17),Items!$B$2:$H$525,7,FALSE)<>0,VLOOKUP(UPPER(A17),Items!$B$2:$H$525,7,FALSE),\"\")","v":""},"Settlement Period"]
[{"$f":"VLOOKUP(UPPER(M18),Items!$A$2:$B$525,2,FALSE)","v":"N0475"},"D",null,null,1,null,null,null,null,null,{"$f":"VLOOKUP(UPPER(A18),Items!$B$2:$G$525,6)","v":"integer(5)"},{"$f":"IF(VLOOKUP(UPPER(A18),Items!$B$2:$H$525,7,FALSE)<>0,VLOOKUP(UPPER(A18),Items!$B$2:$H$525,7,FALSE),\"\")","v":""},"Total Number Of Sample Settlement Periods In Load Period"]
[{"$f":"VLOOKUP(UPPER(M19),Items!$A$2:$B$525,2,FALSE)","v":"N0476"},"D",null,null,1,null,null,null,null,null,{"$f":"VLOOKUP(UPPER(A19),Items!$B$2:$G$525,6)","v":"integer(5)"},null,"Total Number Of Settlement Periods In Load Period"]
[]
["S0101",{"$f":"IF(LEN(K21)>0,\"D\",IF(LEN(A21)=5,\"F\",IF(LEN(A21)=3,\"R\",\" \")))","v":"F"},"001",null,null,null,null,null,null,null,null,null,"SAA-I010 BSC CO Cost Data sub flow 1"]
[null," "]
["FCC","R","1-31","G",null,null,null,null,null,null,null,null,"Forecast Costs"]
[{"$f":"VLOOKUP(UPPER(M24),Items!$A$2:$B$525,2,FALSE)","v":"N0200"},"D",null,null,1,null,null,null,null,null,{"$f":"VLOOKUP(UPPER(A24),Items!$B$2:$G$525,6)","v":"date"},{"$f":"IF(VLOOKUP(UPPER(A24),Items!$B$2:$H$525,7,FALSE)<>0,VLOOKUP(UPPER(A24),Items!$B$2:$H$525,7,FALSE),\"\")","v":""},"Settlement Date"]
[{"$f":"VLOOKUP(UPPER(M25),Items!$A$2:$B$525,2,FALSE)","v":"N0042"},"D",null,null,1,null,null,null,null,null,{"$f":"VLOOKUP(UPPER(A25),Items!$B$2:$G$525,6)","v":"decimal(10,2)"},{"$f":"IF(VLOOKUP(UPPER(A25),Items!$B$2:$H$525,7,FALSE)<>0,VLOOKUP(UPPER(A25),Items!$B$2:$H$525,7,FALSE),\"\")","v":""},"BSC Co Forecast Cost","£"]
[null," "]
["S0102","F","001",null,null,null,null,null,null,null,null,null,"SAA-I010 BSC Co Cost Data sub flow 2"]
[null," "]
["TAC","R",1,"G",null,null,null,null,null,null,null,null,"Total Actual Costs"]
[{"$f":"VLOOKUP(UPPER(M30),Items!$A$2:$B$525,2,FALSE)","v":"N0237"},"D",null,null,1,null,null,null,null,null,{"$f":"VLOOKUP(UPPER(A30),Items!$B$2:$G$525,6)","v":"integer(4)"},{"$f":"IF(VLOOKUP(UPPER(A30),Items!$B$2:$H$525,7,FALSE)<>0,VLOOKUP(UPPER(A30),Items!$B$2:$H$525,7,FALSE),\"\")","v":""},"Year"]
[{"$f":"VLOOKUP(UPPER(M31),Items!$A$2:$B$525,2,FALSE)","v":"N0041"},"D",null,null,1,null,null,null,null,null,{"$f":"VLOOKUP(UPPER(A31),Items!$B$2:$G$525,6)","v":"decimal(10,2)"},{"$f":"IF(VLOOKUP(UPPER(A31),Items!$B$2:$H$525,7,FALSE)<>0,VLOOKUP(UPPER(A31),Items!$B$2:$H$525,7,FALSE),\"\")","v":""},"BSC Co Actual Cost","£"]
[]
["S0143",{"$f":"IF(LEN(K33)>0,\"D\",IF(LEN(A33)=5,\"F\",IF(LEN(A33)=3,\"R\",\" \")))","v":"F"},"006",null,null,null,null,null,null,null,null,null,"SAA-I014: Settlement Report: sub-flow 3"]
[null," "]
["SRH","R",1,"G",null,null,null,null,null,null,null,null,"Settlement Report Header"]
[{"$f":"VLOOKUP(UPPER(M36),Items!$A$2:$B$525,2,FALSE)","v":"N0200"},"D",null,null,1,null,null,null,null,null,{"$f":"VLOOKUP(UPPER(A36),Items!$B$2:$G$525,6)","v":"date"},{"$f":"IF(VLOOKUP(UPPER(A36),Items!$B$2:$H$525,7,FALSE)<>0,VLOOKUP(UPPER(A36),Items!$B$2:$H$525,7,FALSE),\"\")","v":""},"Settlement Date"]
[{"$f":"VLOOKUP(UPPER(M37),Items!$A$2:$B$525,2,FALSE)","v":"N0202"},"D",null,null,1,null,null,null,null,null,{"$f":"VLOOKUP(UPPER(A37),Items!$B$2:$G$525,6)","v":"text(2)"},{"$f":"IF(VLOOKUP(UPPER(A37),Items!$B$2:$H$525,7,FALSE)<>0,VLOOKUP(UPPER(A37),Items!$B$2:$H$525,7,FALSE),\"\")","v":"Run Type"},"Settlement Run Type"]
[{"$f":"VLOOKUP(UPPER(M38),Items!$A$2:$B$639,2,FALSE)","v":"N0304"},"D",null,null,1,null,null,null,null,null,{"$f":"VLOOKUP(UPPER(A38),Items!$B$2:$G$525,6)","v":"integer(2)"},{"$f":"IF(VLOOKUP(UPPER(A38),Items!$B$2:$H$525,7,FALSE)<>0,VLOOKUP(UPPER(A38),Items!$B$2:$H$525,7,FALSE),\"\")","v":""},"SAA Run Number"]
[{"$f":"VLOOKUP(UPPER(M39),Items!$A$2:$B$639,2,FALSE)","v":"N0385"},"D",null,null,1,null,null,null,null,null,{"$f":"VLOOKUP(UPPER(A39),Items!$B$2:$G$525,6)","v":"integer(2)"},{"$f":"IF(VLOOKUP(UPPER(A39),Items!$B$2:$H$525,7,FALSE)<>0,VLOOKUP(UPPER(A39),Items!$B$2:$H$525,7,FALSE),\"\")","v":""},"SAA CDCA Run Number","CDCA run which generated volumes used directly by SAA"]
[{"$f":"VLOOKUP(UPPER(M40),Items!$A$2:$B$525,2,FALSE)","v":"N0383"},"D",null,null,1,null,null,null,null,null,{"$f":"VLOOKUP(UPPER(A40),Items!$B$2:$G$525,6)","v":"date"},{"$f":"IF(VLOOKUP(UPPER(A40),Items!$B$2:$H$525,7,FALSE)<>0,VLOOKUP(UPPER(A40),Items!$B$2:$H$525,7,FALSE),\"\")","v":""},"SVAA CDCA Settlement Date","CDCA settlement date from which GSP group take was used by SVAA"]
[{"$f":"VLOOKUP(UPPER(M41),Items!$A$2:$B$525,2,FALSE)","v":"N0384"},"D",null,null,1,null,null,null,null,null,{"$f":"VLOOKUP(UPPER(A41),Items!$B$2:$G$525,6)","v":"integer(2)"},{"$f":"IF(VLOOKUP(UPPER(A41),Items!$B$2:$H$525,7,FALSE)<>0,VLOOKUP(UPPER(A41),Items!$B$2:$H$525,7,FALSE),\"\")","v":""},"SVAA CDCA Run Number","CDCA run number from which GSP group take was used by SVAA"]
[{"$f":"VLOOKUP(UPPER(M42),Items!$A$2:$B$525,2,FALSE)","v":"N0211"},"D",null,null,1,null,null,null,null,null,{"$f":"VLOOKUP(UPPER(A42),Items!$B$2:$G$525,6)","v":"integer(7)"},{"$f":"IF(VLOOKUP(UPPER(A42),Items!$B$2:$H$525,7,FALSE)<>0,VLOOKUP(UPPER(A42),Items!$B$2:$H$525,7,FALSE),\"\")","v":""},"SVAA SSR Run Number"]
[{"$f":"VLOOKUP(UPPER(M43),Items!$A$2:$B$525,2,FALSE)","v":"N0045"},"D",null,null,1,null,null,null,null,null,{"$f":"VLOOKUP(UPPER(A43),Items!$B$2:$G$525,6)","v":"text(8)"},{"$f":"IF(VLOOKUP(UPPER(A43),Items!$B$2:$H$525,7,FALSE)<>0,VLOOKUP(UPPER(A43),Items!$B$2:$H$525,7,FALSE),\"\")","v":""},"BSC Party Id"]
["BPY","R","1-*","G",null,null,null,null,null,null,null,null,"BSC Party Information"]
[{"$f":"VLOOKUP(UPPER(M45),Items!$A$2:$B$525,2,FALSE)","v":"N0045"},"D",null,null,1,null,null,null,null,null,{"$f":"VLOOKUP(UPPER(A45),Items!$B$2:$G$525,6)","v":"text(8)"},{"$f":"IF(VLOOKUP(UPPER(A45),Items!$B$2:$H$525,7,FALSE)<>0,VLOOKUP(UPPER(A45),Items!$B$2:$H$525,7,FALSE),\"\")","v":""},"BSC Party Id"]
["APC","R",1,null,"G",null,null,null,null,null,null,null,"Aggregate Party Day Charges"]
[{"$f":"VLOOKUP(UPPER(M47),Items!$A$2:$B$525,2,FALSE)","v":"N0048"},"D",null,null,null,1,null,null,null,null,{"$f":"VLOOKUP(UPPER(A47),Items!$B$2:$G$525,6)","v":"decimal(10,2)"},{"$f":"IF(VLOOKUP(UPPER(A47),Items!$B$2:$H$525,7,FALSE)<>0,VLOOKUP(UPPER(A47),Items!$B$2:$H$525,7,FALSE),\"\")","v":""},"BSSC Limited Cost Allocation"]
[{"$f":"VLOOKUP(UPPER(M48),Items!$A$2:$B$525,2,FALSE)","v":"N0031"},"D",null,null,null,1,null,null,null,null,{"$f":"VLOOKUP(UPPER(A48),Items!$B$2:$G$525,6)","v":"decimal(10,2)"},{"$f":"IF(VLOOKUP(UPPER(A48),Items!$B$2:$H$525,7,FALSE)<>0,VLOOKUP(UPPER(A48),Items!$B$2:$H$525,7,FALSE),\"\")","v":""},"BM Unit Cashflow"]
[{"$f":"VLOOKUP(UPPER(M49),Items!$A$2:$B$525,2,FALSE)","v":"N0086"},"D",null,null,null,1,null,null,null,null,{"$f":"VLOOKUP(UPPER(A49),Items!$B$2:$G$525,6)","v":"decimal(10,2)"},{"$f":"IF(VLOOKUP(UPPER(A49),Items!$B$2:$H$525,7,FALSE)<>0,VLOOKUP(UPPER(A49),Items!$B$2:$H$525,7,FALSE),\"\")","v":""},"Energy Imbalance Cashflow"]
[{"$f":"VLOOKUP(UPPER(M50),Items!$A$2:$B$525,2,FALSE)","v":"N0122"},"D",null,null,null,1,null,null,null,null,{"$f":"VLOOKUP(UPPER(A50),Items!$B$2:$G$525,6)","v":"decimal(10,2)"},{"$f":"IF(VLOOKUP(UPPER(A50),Items!$B$2:$H$525,7,FALSE)<>0,VLOOKUP(UPPER(A50),Items!$B$2:$H$525,7,FALSE),\"\")","v":""},"Information Imbalance Cashflow"]
[{"$f":"VLOOKUP(UPPER(M51),Items!$A$2:$B$525,2,FALSE)","v":"N0151"},"D",null,null,null,1,null,null,null,null,{"$f":"VLOOKUP(UPPER(A51),Items!$B$2:$G$525,6)","v":"decimal(10,2)"},{"$f":"IF(VLOOKUP(UPPER(A51),Items!$B$2:$H$525,7,FALSE)<>0,VLOOKUP(UPPER(A51),Items!$B$2:$H$525,7,FALSE),\"\")","v":""},"Non-Delivery Charge"]
[{"$f":"VLOOKUP(UPPER(M52),Items!$A$2:$B$525,2,FALSE)","v":"N0194"},"D",null,null,null,1,null,null,null,null,{"$f":"VLOOKUP(UPPER(A52),Items!$B$2:$G$525,6)","v":"decimal(10,2)"},{"$f":"IF(VLOOKUP(UPPER(A52),Items!$B$2:$H$525,7,FALSE)<>0,VLOOKUP(UPPER(A52),Items!$B$2:$H$525,7,FALSE),\"\")","v":""},"Residual Cashflow Reallocation Charge"]
[{"$f":"VLOOKUP(UPPER(M53),Items!$A$2:$B$525,2,FALSE)","v":"N0214"},"D",null,null,null,1,null,null,null,null,{"$f":"VLOOKUP(UPPER(A53),Items!$B$2:$G$525,6)","v":"decimal(10,2)"},{"$f":"IF(VLOOKUP(UPPER(A53),Items!$B$2:$H$525,7,FALSE)<>0,VLOOKUP(UPPER(A53),Items!$B$2:$H$525,7,FALSE),\"\")","v":""},"Daily System Operator Cashflow"]
["SPS","R","46-50","G",null,null,null,null,null,null,null,null,"Settlement Period Summary","either 46 or 48 or 50"]
[{"$f":"VLOOKUP(UPPER(M55),Items!$A$2:$B$525,2,FALSE)","v":"N0201"},"D",null,null,1,null,null,null,null,null,{"$f":"VLOOKUP(UPPER(A55),Items!$B$2:$G$525,6)","v":"integer(2)"},{"$f":"IF(VLOOKUP(UPPER(A55),Items!$B$2:$H$525,7,FALSE)<>0,VLOOKUP(UPPER(A55),Items!$B$2:$H$525,7,FALSE),\"\")","v":""},"Settlement Period"]
[{"$f":"VLOOKUP(UPPER(M56),Items!$A$2:$B$639,2,FALSE)","v":"N0312"},"D",null,null,1,null,null,null,null,null,{"$f":"VLOOKUP(UPPER(A56),Items!$B$2:$G$525,6)","v":"decimal(10,3)"},{"$f":"IF(VLOOKUP(UPPER(A56),Items!$B$2:$H$525,7,FALSE)<>0,VLOOKUP(UPPER(A56),Items!$B$2:$H$525,7,FALSE),\"\")","v":""},"Total Demand","MWh"]
[{"$f":"VLOOKUP(UPPER(M57),Items!$A$2:$B$639,2,FALSE)","v":"N0316"},"D",null,null,"O",null,null,null,null,null,{"$f":"VLOOKUP(UPPER(A57),Items!$B$2:$G$525,6)","v":"decimal(10,3)"},{"$f":"IF(VLOOKUP(UPPER(A57),Items!$B$2:$H$525,7,FALSE)<>0,VLOOKUP(UPPER(A57),Items!$B$2:$H$525,7,FALSE),\"\")","v":""},"Notional Reserve Limit","MW (null for settlement dates on or after the P78 effective date)"]
[{"$f":"VLOOKUP(UPPER(M58),Items!$A$2:$B$639,2,FALSE)","v":"N0317"},"D",null,null,1,null,null,null,null,null,{"$f":"VLOOKUP(UPPER(A58),Items!$B$2:$G$525,6)","v":"boolean"},{"$f":"IF(VLOOKUP(UPPER(A58),Items!$B$2:$H$525,7,FALSE)<>0,VLOOKUP(UPPER(A58),Items!$B$2:$H$525,7,FALSE),\"\")","v":""},"Arbitrage Flag"]
[{"$f":"VLOOKUP(UPPER(M59),Items!$A$2:$B$639,2,FALSE)","v":"N0391"},"D",null,null,1,null,null,null,null,null,{"$f":"VLOOKUP(UPPER(A59),Items!$B$2:$G$525,6)","v":"integer(2)"},{"$f":"IF(VLOOKUP(UPPER(A59),Items!$B$2:$H$525,7,FALSE)<>0,VLOOKUP(UPPER(A59),Items!$B$2:$H$525,7,FALSE),\"\")","v":""},"Continuous Acceptance Duration Limit"]
[{"$f":"VLOOKUP(UPPER(M60),Items!$A$2:$B$639,2,FALSE)","v":"N0392"},"D",null,null,1,null,null,null,null,null,{"$f":"VLOOKUP(UPPER(A60),Items!$B$2:$G$525,6)","v":"decimal(10,3)"},{"$f":"IF(VLOOKUP(UPPER(A60),Items!$B$2:$H$525,7,FALSE)<>0,VLOOKUP(UPPER(A60),Items!$B$2:$H$525,7,FALSE),\"\")","v":""},"De Minimis Acceptance Threshold"]
["SSD","R",1,null,"G",null,null,null,null,null,null,null,"System Period Data"]
[{"$f":"VLOOKUP(UPPER(M62),Items!$A$2:$B$525,2,FALSE)","v":"N0172"},"D",null,null,null,1,null,null,null,null,{"$f":"VLOOKUP(UPPER(A62),Items!$B$2:$G$525,6)","v":"decimal(10,2)"},{"$f":"IF(VLOOKUP(UPPER(A62),Items!$B$2:$H$525,7,FALSE)<>0,VLOOKUP(UPPER(A62),Items!$B$2:$H$525,7,FALSE),\"\")","v":""},"Period BSSC Limited Costs"]
[{"$f":"VLOOKUP(UPPER(M63),Items!$A$2:$B$525,2,FALSE)","v":"N0213"},"D",null,null,null,1,null,null,null,null,{"$f":"VLOOKUP(UPPER(A63),Items!$B$2:$G$525,6)","v":"decimal(10,2)"},{"$f":"IF(VLOOKUP(UPPER(A63),Items!$B$2:$H$525,7,FALSE)<>0,VLOOKUP(UPPER(A63),Items!$B$2:$H$525,7,FALSE),\"\")","v":""},"System Operator Cashflow"]
[{"$f":"VLOOKUP(UPPER(M64),Items!$A$2:$B$525,2,FALSE)","v":"N0124"},"D",null,null,null,1,null,null,null,null,{"$f":"VLOOKUP(UPPER(A64),Items!$B$2:$G$525,6)","v":"decimal(10,5)"},{"$f":"IF(VLOOKUP(UPPER(A64),Items!$B$2:$H$525,7,FALSE)<>0,VLOOKUP(UPPER(A64),Items!$B$2:$H$525,7,FALSE),\"\")","v":""},"Information Imbalance Price 1"]
[{"$f":"VLOOKUP(UPPER(M65),Items!$A$2:$B$525,2,FALSE)","v":"N0125"},"D",null,null,null,1,null,null,null,null,{"$f":"VLOOKUP(UPPER(A65),Items!$B$2:$G$525,6)","v":"decimal(10,5)"},{"$f":"IF(VLOOKUP(UPPER(A65),Items!$B$2:$H$525,7,FALSE)<>0,VLOOKUP(UPPER(A65),Items!$B$2:$H$525,7,FALSE),\"\")","v":""},"Information Imbalance Price 2"]
[{"$f":"VLOOKUP(UPPER(M66),Items!$A$2:$B$525,2,FALSE)","v":"N0212"},"D",null,null,null,1,null,null,null,null,{"$f":"VLOOKUP(UPPER(A66),Items!$B$2:$G$525,6)","v":"decimal(10,5)"},{"$f":"IF(VLOOKUP(UPPER(A66),Items!$B$2:$H$525,7,FALSE)<>0,VLOOKUP(UPPER(A66),Items!$B$2:$H$525,7,FALSE),\"\")","v":""},"System Buy Price"]
[{"$f":"VLOOKUP(UPPER(M67),Items!$A$2:$B$525,2,FALSE)","v":"N0215"},"D",null,null,null,1,null,null,null,null,{"$f":"VLOOKUP(UPPER(A67),Items!$B$2:$G$525,6)","v":"decimal(10,5)"},{"$f":"IF(VLOOKUP(UPPER(A67),Items!$B$2:$H$525,7,FALSE)<>0,VLOOKUP(UPPER(A67),Items!$B$2:$H$525,7,FALSE),\"\")","v":""},"System Sell Price"]
[{"$f":"VLOOKUP(UPPER(M68),Items!$A$2:$B$639,2,FALSE)","v":"N0439"},"D",null,null,null,"O",null,null,null,null,{"$f":"VLOOKUP(UPPER(A68),Items!$B$2:$G$525,6)","v":"text(2)"},{"$f":"IF(VLOOKUP(UPPER(A68),Items!$B$2:$H$748,7,FALSE)<>0,VLOOKUP(UPPER(A68),Items!$B$2:$H$748,7,FALSE),\"\")","v":"Price Derivation Code"},"Price Derivation Code","Populated for post-P78 Settlement Dates"]
[{"$f":"VLOOKUP(UPPER(M69),Items!$A$2:$B$525,2,FALSE)","v":"N0333"},"D",null,null,null,1,null,null,null,null,{"$f":"VLOOKUP(UPPER(A69),Items!$B$2:$G$525,6)","v":"decimal(10,2)"},{"$f":"IF(VLOOKUP(UPPER(A69),Items!$B$2:$H$525,7,FALSE)<>0,VLOOKUP(UPPER(A69),Items!$B$2:$H$525,7,FALSE),\"\")","v":""},"Total System BM Cashflow"]
[{"$f":"VLOOKUP(UPPER(M70),Items!$A$2:$B$525,2,FALSE)","v":"N0225"},"D",null,null,null,1,null,null,null,null,{"$f":"VLOOKUP(UPPER(A70),Items!$B$2:$G$525,6)","v":"decimal(10,2)"},{"$f":"IF(VLOOKUP(UPPER(A70),Items!$B$2:$H$525,7,FALSE)<>0,VLOOKUP(UPPER(A70),Items!$B$2:$H$525,7,FALSE),\"\")","v":""},"Total System Energy Imbalance Cashflow"]
[{"$f":"VLOOKUP(UPPER(M71),Items!$A$2:$B$525,2,FALSE)","v":"N0228"},"D",null,null,null,1,null,null,null,null,{"$f":"VLOOKUP(UPPER(A71),Items!$B$2:$G$525,6)","v":"decimal(10,2)"},{"$f":"IF(VLOOKUP(UPPER(A71),Items!$B$2:$H$525,7,FALSE)<>0,VLOOKUP(UPPER(A71),Items!$B$2:$H$525,7,FALSE),\"\")","v":""},"Total System Non-Delivery Charge"]
[{"$f":"VLOOKUP(UPPER(M72),Items!$A$2:$B$525,2,FALSE)","v":"N0216"},"D",null,null,null,1,null,null,null,null,"decimal(10,3)","","System Total Accepted Bid Volume"]
[{"$f":"VLOOKUP(UPPER(M73),Items!$A$2:$B$525,2,FALSE)","v":"N0386"},{"$f":"IF(LEN(K73)>0,\"D\",IF(LEN(A73)=5,\"F\",IF(LEN(A73)=3,\"R\",\" \")))","v":"D"},null,null,null,1,null,null,null,null,{"$f":"VLOOKUP(UPPER(A73),Items!$B$2:$G$525,6)","v":"decimal(10,3)"},{"$f":"IF(VLOOKUP(UPPER(A73),Items!$B$2:$H$525,7,FALSE)<>0,VLOOKUP(UPPER(A73),Items!$B$2:$H$525,7,FALSE),\"\")","v":""},"System Total Unpriced Accepted Bid Volume"]
[{"$f":"VLOOKUP(UPPER(M74),Items!$A$2:$B$525,2,FALSE)","v":"N0393"},{"$f":"IF(LEN(K74)>0,\"D\",IF(LEN(A74)=5,\"F\",IF(LEN(A74)=3,\"R\",\" \")))","v":"D"},null,null,null,1,null,null,null,null,{"$f":"VLOOKUP(UPPER(A74),Items!$B$2:$G$525,6)","v":"decimal(10,3)"},{"$f":"IF(VLOOKUP(UPPER(A74),Items!$B$2:$H$525,7,FALSE)<>0,VLOOKUP(UPPER(A74),Items!$B$2:$H$525,7,FALSE),\"\")","v":""},"System Total Priced Accepted Bid Volume"]
[{"$f":"VLOOKUP(UPPER(M75),Items!$A$2:$B$525,2,FALSE)","v":"N0224"},{"$f":"IF(LEN(K75)>0,\"D\",IF(LEN(A75)=5,\"F\",IF(LEN(A75)=3,\"R\",\" \")))","v":"D"},null,null,null,1,null,null,null,null,{"$f":"VLOOKUP(UPPER(A75),Items!$B$2:$G$525,6)","v":"decimal(10,3)"},{"$f":"IF(VLOOKUP(UPPER(A75),Items!$B$2:$H$525,7,FALSE)<>0,VLOOKUP(UPPER(A75),Items!$B$2:$H$525,7,FALSE),\"\")","v":""},"Total System Energy Contract Volume"]
[{"$f":"VLOOKUP(UPPER(M76),Items!$A$2:$B$748,2,FALSE)","v":"N0428"},{"$f":"IF(LEN(K76)>0,\"D\",IF(LEN(A76)=5,\"F\",IF(LEN(A76)=3,\"R\",\" \")))","v":"D"},null,null,null,"O",null,null,null,null,{"$f":"VLOOKUP(UPPER(A76),Items!$B$2:$G$525,6)","v":"decimal(10,3)"},{"$f":"IF(VLOOKUP(UPPER(A76),Items!$B$2:$H$748,7,FALSE)<>0,VLOOKUP(UPPER(A76),Items!$B$2:$H$748,7,FALSE),\"\")","v":""},"NIV Tagged System Total Unpriced Bid Volume","Populated for post-P78 Settlement Dates"]
["N0217","D",null,null,null,1,null,null,null,null,"decimal(10,3)","","System Total Accepted Offer Volume"]
[{"$f":"VLOOKUP(UPPER(M78),Items!$A$2:$B$748,2,FALSE)","v":"N0429"},{"$f":"IF(LEN(K78)>0,\"D\",IF(LEN(A78)=5,\"F\",IF(LEN(A78)=3,\"R\",\" \")))","v":"D"},null,null,null,"O",null,null,null,null,{"$f":"VLOOKUP(UPPER(A78),Items!$B$2:$G$525,6)","v":"decimal(10,3)"},null,"NIV Tagged System Total Unpriced Offer Volume","Populated for post-P78 Settlement Dates"]
[{"$f":"VLOOKUP(UPPER(M79),Items!$A$2:$B$748,2,FALSE)","v":"N0430"},"D",null,null,null,"O",null,null,null,null,{"$f":"VLOOKUP(UPPER(A79),Items!$B$2:$G$525,6)","v":"decimal(10,3)"},null,"Net Imbalance Volume","Populated for post-P78 Settlement Dates"]
[{"$f":"VLOOKUP(UPPER(M80),Items!$A$2:$B$748,2,FALSE)","v":"N0431"},"D",null,null,null,"O",null,null,null,null,{"$f":"VLOOKUP(UPPER(A80),Items!$B$2:$G$525,6)","v":"decimal(10,3)"},null,"Total NIV Tagged Volume","Populated for post-P78 Settlement Dates"]
[{"$f":"VLOOKUP(UPPER(M81),Items!$A$2:$B$748,2,FALSE)","v":"N0432"},"D",null,null,null,"O",null,null,null,null,{"$f":"VLOOKUP(UPPER(A81),Items!$B$2:$G$525,6)","v":"decimal(10,3)"},null,"NIV Tagged SBVA","Populated for post-P78 Settlement Dates"]
[{"$f":"VLOOKUP(UPPER(M82),Items!$A$2:$B$748,2,FALSE)","v":"N0433"},"D",null,null,null,"O",null,null,null,null,{"$f":"VLOOKUP(UPPER(A82),Items!$B$2:$G$525,6)","v":"decimal(10,3)"},null,"NIV Tagged SSVA","Populated for post-P78 Settlement Dates"]
[{"$f":"VLOOKUP(UPPER(M83),Items!$A$2:$B$525,2,FALSE)","v":"N0387"},"D",null,null,null,1,null,null,null,null,{"$f":"VLOOKUP(UPPER(A83),Items!$B$2:$G$525,6)","v":"decimal(10,3)"},{"$f":"IF(VLOOKUP(UPPER(A83),Items!$B$2:$H$525,7,FALSE)<>0,VLOOKUP(UPPER(A83),Items!$B$2:$H$525,7,FALSE),\"\")","v":""},"System Total Unpriced Accepted Offer Volume"]
[{"$f":"VLOOKUP(UPPER(M84),Items!$A$2:$B$525,2,FALSE)","v":"N0394"},"D",null,null,null,1,null,null,null,null,{"$f":"VLOOKUP(UPPER(A84),Items!$B$2:$G$525,6)","v":"decimal(10,3)"},{"$f":"IF(VLOOKUP(UPPER(A84),Items!$B$2:$H$525,7,FALSE)<>0,VLOOKUP(UPPER(A84),Items!$B$2:$H$525,7,FALSE),\"\")","v":""},"System Total Priced Accepted Offer Volume"]
[{"$f":"VLOOKUP(UPPER(M85),Items!$A$2:$B$525,2,FALSE)","v":"N0226"},"D",null,null,null,1,null,null,null,null,{"$f":"VLOOKUP(UPPER(A85),Items!$B$2:$G$525,6)","v":"decimal(10,3)"},{"$f":"IF(VLOOKUP(UPPER(A85),Items!$B$2:$H$525,7,FALSE)<>0,VLOOKUP(UPPER(A85),Items!$B$2:$H$525,7,FALSE),\"\")","v":""},"Total System Energy Imbalance Volume"]
[{"$f":"VLOOKUP(UPPER(M86),Items!$A$2:$B$525,2,FALSE)","v":"N0395"},"D",null,null,null,1,null,null,null,null,{"$f":"VLOOKUP(UPPER(A86),Items!$B$2:$G$525,6)","v":"decimal(10,3)"},{"$f":"IF(VLOOKUP(UPPER(A86),Items!$B$2:$H$525,7,FALSE)<>0,VLOOKUP(UPPER(A86),Items!$B$2:$H$525,7,FALSE),\"\")","v":""},"Residual Cashflow Reallocation Denominator"]
[{"$f":"VLOOKUP(UPPER(M87),Items!$A$2:$B$525,2,FALSE)","v":"N0230"},"D",null,null,null,1,null,null,null,null,{"$f":"VLOOKUP(UPPER(A87),Items!$B$2:$G$525,6)","v":"decimal(10,2)"},{"$f":"IF(VLOOKUP(UPPER(A87),Items!$B$2:$H$525,7,FALSE)<>0,VLOOKUP(UPPER(A87),Items!$B$2:$H$525,7,FALSE),\"\")","v":""},"Total System Residual Cashflow"]
[{"$f":"VLOOKUP(UPPER(M88),Items!$A$2:$B$525,2,FALSE)","v":"N0227"},"D",null,null,null,1,null,null,null,null,{"$f":"VLOOKUP(UPPER(A88),Items!$B$2:$G$525,6)","v":"decimal(10,2)"},{"$f":"IF(VLOOKUP(UPPER(A88),Items!$B$2:$H$525,7,FALSE)<>0,VLOOKUP(UPPER(A88),Items!$B$2:$H$525,7,FALSE),\"\")","v":""},"Total System Information Imbalance Charge"]
["N0305","D",null,null,null,1,null,null,null,null,"decimal(10,2)","","Sell-Price Cost Adjustment / Net Energy Sell-Price Cost Adjustment","£ - Pre/Post P78 Settlement Date meaning"]
["N0306","D",null,null,null,1,null,null,null,null,"decimal(10,2)","","Buy-Price Cost Adjustment / Net Energy Buy-Price Cost Adjustment","£ -  Pre/Post P78 Settlement Date meaning"]
["N0307","D",null,null,null,1,null,null,null,null,"decimal(10,3)","","Sell-Price Volume Adjustment / Net Energy Sell-Price Volume Adjustment","MWh- Pre/Post P78 Settlement Date meaning"]
["N0308","D",null,null,null,1,null,null,null,null,"decimal(10,3)","","Buy-Price Volume Adjustment / Net Energy Buy-Price Volume Adjustment","MWh- Pre/Post P78 Settlement Date meaning"]
[{"$f":"VLOOKUP(UPPER(M93),Items!$A$2:$B$639,2,FALSE)","v":"N0416"},{"$f":"IF(LEN(K93)>0,\"D\",IF(LEN(A93)=5,\"F\",IF(LEN(A93)=3,\"R\",\" \")))","v":"D"},null,null,null,"O",null,null,null,null,{"$f":"VLOOKUP(UPPER(A93),Items!$B$2:$G$525,6)","v":"decimal(10,3)"},{"$f":"IF(VLOOKUP(UPPER(A93),Items!$B$2:$H$748,7,FALSE)<>0,VLOOKUP(UPPER(A93),Items!$B$2:$H$748,7,FALSE),\"\")","v":""},"Net System Sell-Price Volume Adjustment","Populated for post-P78 Settlement Dates"]
[{"$f":"VLOOKUP(UPPER(M94),Items!$A$2:$B$748,2,FALSE)","v":"N0415"},"D",null,null,null,"O",null,null,null,null,{"$f":"VLOOKUP(UPPER(A94),Items!$B$2:$G$525,6)","v":"decimal(10,3)"},{"$f":"IF(VLOOKUP(UPPER(A94),Items!$B$2:$H$748,7,FALSE)<>0,VLOOKUP(UPPER(A94),Items!$B$2:$H$748,7,FALSE),\"\")","v":""},"Net System Buy-Price Volume Adjustment","Populated for post-P78 Settlement Dates"]
[{"$f":"VLOOKUP(UPPER(M95),Items!$A$2:$B$525,2,FALSE)","v":"N0371"},"D",null,null,null,1,null,null,null,null,{"$f":"VLOOKUP(UPPER(A95),Items!$B$2:$G$525,6)","v":"decimal(10,2)"},{"$f":"IF(VLOOKUP(UPPER(A95),Items!$B$2:$H$525,7,FALSE)<>0,VLOOKUP(UPPER(A95),Items!$B$2:$H$525,7,FALSE),\"\")","v":""},"Sell-Price Price Adjust"]
[{"$f":"VLOOKUP(UPPER(M96),Items!$A$2:$B$525,2,FALSE)","v":"N0372"},"D",null,null,null,1,null,null,null,null,{"$f":"VLOOKUP(UPPER(A96),Items!$B$2:$G$525,6)","v":"decimal(10,2)"},{"$f":"IF(VLOOKUP(UPPER(A96),Items!$B$2:$H$525,7,FALSE)<>0,VLOOKUP(UPPER(A96),Items!$B$2:$H$525,7,FALSE),\"\")","v":""},"Buy-Price Price Adjust"]
[{"$f":"VLOOKUP(UPPER(M97),Items!$A$2:$B$748,2,FALSE)","v":"N0438"},"D",null,null,null,1,null,null,null,null,{"$f":"VLOOKUP(UPPER(A97),Items!$B$2:$G$525,6)","v":"decimal(10,3)"},{"$f":"IF(VLOOKUP(UPPER(A97),Items!$B$2:$H$748,7,FALSE)<>0,VLOOKUP(UPPER(A97),Items!$B$2:$H$748,7,FALSE),\"\")","v":""},"Total Period Applicable Balancing Services Volume","MWh"]
[{"$f":"VLOOKUP(UPPER(M98),Items!$A$2:$B$525,2,FALSE)","v":"N0335"},"D",null,null,null,1,null,null,null,null,{"$f":"VLOOKUP(UPPER(A98),Items!$B$2:$G$525,6)","v":"decimal(10,3)"},null,"System Operator Production Imbalance"]
[{"$f":"VLOOKUP(UPPER(M99),Items!$A$2:$B$525,2,FALSE)","v":"N0336"},"D",null,null,null,1,null,null,null,null,{"$f":"VLOOKUP(UPPER(A99),Items!$B$2:$G$525,6)","v":"decimal(10,3)"},null,"System Operator Consumption Imbalance"]
[{"$f":"VLOOKUP(UPPER(M100),Items!$A$2:$B$748,2,FALSE)","v":"N0501"},"D",null,null,null,"O",null,null,null,null,{"$f":"VLOOKUP(UPPER(A100),Items!$B$2:$G$525,6)","v":"decimal(10,3)"},{"$f":"IF(VLOOKUP(UPPER(A100),Items!$B$2:$H$748,7,FALSE)<>0,VLOOKUP(UPPER(A100),Items!$B$2:$H$748,7,FALSE),\"\")","v":""},"NIV Tagged Energy Buy Volume Adjustment","Populated for post-P194 Settlement Dates"]
[{"$f":"VLOOKUP(UPPER(M101),Items!$A$2:$B$748,2,FALSE)","v":"N0502"},"D",null,null,null,"O",null,null,null,null,{"$f":"VLOOKUP(UPPER(A101),Items!$B$2:$G$525,6)","v":"decimal(10,3)"},{"$f":"IF(VLOOKUP(UPPER(A101),Items!$B$2:$H$748,7,FALSE)<>0,VLOOKUP(UPPER(A101),Items!$B$2:$H$748,7,FALSE),\"\")","v":""},"NIV Tagged Energy Sell Volume Adjustment","Populated for post-P194 Settlement Dates"]
[{"$f":"VLOOKUP(UPPER(M102),Items!$A$2:$B$748,2,FALSE)","v":"N0503"},"D",null,null,null,"O",null,null,null,null,{"$f":"VLOOKUP(UPPER(A102),Items!$B$2:$G$525,6)","v":"decimal(10,3)"},{"$f":"IF(VLOOKUP(UPPER(A102),Items!$B$2:$H$748,7,FALSE)<>0,VLOOKUP(UPPER(A102),Items!$B$2:$H$748,7,FALSE),\"\")","v":""},"PAR Tagged Energy Buy Volume Adjustment","Populated for post-P194 Settlement Dates"]
[{"$f":"VLOOKUP(UPPER(M103),Items!$A$2:$B$748,2,FALSE)","v":"N0504"},"D",null,null,null,"O",null,null,null,null,{"$f":"VLOOKUP(UPPER(A103),Items!$B$2:$G$525,6)","v":"decimal(10,3)"},{"$f":"IF(VLOOKUP(UPPER(A103),Items!$B$2:$H$748,7,FALSE)<>0,VLOOKUP(UPPER(A103),Items!$B$2:$H$748,7,FALSE),\"\")","v":""},"PAR Tagged Energy Sell Volume Adjustment","Populated for post-P194 Settlement Dates"]
[{"$f":"VLOOKUP(UPPER(M104),Items!$A$2:$B$748,2,FALSE)","v":"N0434"},"D",null,null,null,"O",null,null,null,null,{"$f":"VLOOKUP(UPPER(A104),Items!$B$2:$G$525,6)","v":"decimal(10,2)"},{"$f":"IF(VLOOKUP(UPPER(A104),Items!$B$2:$H$748,7,FALSE)<>0,VLOOKUP(UPPER(A104),Items!$B$2:$H$748,7,FALSE),\"\")","v":""},"Untagged EBCA","Unpopulated for Pre P78 Settlement Dates. For post-P78 pre-P194 Settlement Dates this field contains the NIV untagged value"]
[{"$f":"VLOOKUP(UPPER(M105),Items!$A$2:$B$748,2,FALSE)","v":"N0435"},"D",null,null,null,"O",null,null,null,null,{"$f":"VLOOKUP(UPPER(A105),Items!$B$2:$G$525,6)","v":"decimal(10,3)"},{"$f":"IF(VLOOKUP(UPPER(A105),Items!$B$2:$H$748,7,FALSE)<>0,VLOOKUP(UPPER(A105),Items!$B$2:$H$748,7,FALSE),\"\")","v":""},"Untagged EBVA","Unpopulated for Pre P78 Settlement Dates. For post-P78 pre-P194 Settlement Dates this field contains the NIV untagged value"]
[{"$f":"VLOOKUP(UPPER(M106),Items!$A$2:$B$748,2,FALSE)","v":"N0436"},"D",null,null,null,"O",null,null,null,null,{"$f":"VLOOKUP(UPPER(A106),Items!$B$2:$G$525,6)","v":"decimal(10,2)"},{"$f":"IF(VLOOKUP(UPPER(A106),Items!$B$2:$H$748,7,FALSE)<>0,VLOOKUP(UPPER(A106),Items!$B$2:$H$748,7,FALSE),\"\")","v":""},"Untagged ESCA","Unpopulated for Pre P78 Settlement Dates. For post-P78 pre-P194 Settlement Dates this field contains the NIV untagged value"]
[{"$f":"VLOOKUP(UPPER(M107),Items!$A$2:$B$748,2,FALSE)","v":"N0437"},"D",null,null,null,"O",null,null,null,null,{"$f":"VLOOKUP(UPPER(A107),Items!$B$2:$G$525,6)","v":"decimal(10,3)"},{"$f":"IF(VLOOKUP(UPPER(A107),Items!$B$2:$H$748,7,FALSE)<>0,VLOOKUP(UPPER(A107),Items!$B$2:$H$748,7,FALSE),\"\")","v":""},"Untagged ESVA","Unpopulated for Pre P78 Settlement Dates. For post-P78 pre-P194 Settlement Dates this field contains the NIV untagged value"]
["MD2","R","0-*",null,null,"G",null,null,null,null,null,null,"Market Index Data Information","Populated for post-P78 Settlement Dates"]
[{"$f":"VLOOKUP(UPPER(M109),Items!$A$2:$B$748,2,FALSE)","v":"N0423"},"D",null,null,null,null,1,null,null,null,{"$f":"VLOOKUP(UPPER(A109),Items!$B$2:$G$525,6)","v":"text(8)"},{"$f":"IF(VLOOKUP(UPPER(A109),Items!$B$2:$H$748,7,FALSE)<>0,VLOOKUP(UPPER(A109),Items!$B$2:$H$748,7,FALSE),\"\")","v":""},"Market Index Data Provider ID"]
[{"$f":"VLOOKUP(UPPER(M110),Items!$A$2:$B$748,2,FALSE)","v":"N0412"},"D",null,null,null,null,1,null,null,null,{"$f":"VLOOKUP(UPPER(A110),Items!$B$2:$G$525,6)","v":"decimal(10,3)"},{"$f":"IF(VLOOKUP(UPPER(A110),Items!$B$2:$H$748,7,FALSE)<>0,VLOOKUP(UPPER(A110),Items!$B$2:$H$748,7,FALSE),\"\")","v":""},"Individual Liquidity Threshold"]
[{"$f":"VLOOKUP(UPPER(M111),Items!$A$2:$B$748,2,FALSE)","v":"N0413"},"D",null,null,null,null,"O",null,null,null,{"$f":"VLOOKUP(UPPER(A111),Items!$B$2:$G$525,6)","v":"decimal(10,2)"},{"$f":"IF(VLOOKUP(UPPER(A111),Items!$B$2:$H$748,7,FALSE)<>0,VLOOKUP(UPPER(A111),Items!$B$2:$H$748,7,FALSE),\"\")","v":""},"Market Index Price","Null if no data provided by MIDP"]
[{"$f":"VLOOKUP(UPPER(M112),Items!$A$2:$B$748,2,FALSE)","v":"N0414"},"D",null,null,null,null,"O",null,null,null,{"$f":"VLOOKUP(UPPER(A112),Items!$B$2:$G$525,6)","v":"decimal(10,3)"},{"$f":"IF(VLOOKUP(UPPER(A112),Items!$B$2:$H$748,7,FALSE)<>0,VLOOKUP(UPPER(A112),Items!$B$2:$H$748,7,FALSE),\"\")","v":""},"Market Index Volume","Null if no data provided by MIDP"]
["TRA","R","1-*",null,"G",null,null,null,null,null,null,null,"Trading Unit Period Information"]
[{"$f":"VLOOKUP(UPPER(M114),Items!$A$2:$B$525,2,FALSE)","v":"N0232"},"D",null,null,null,1,null,null,null,null,{"$f":"VLOOKUP(UPPER(A114),Items!$B$2:$G$525,6)","v":"text(30)"},{"$f":"IF(VLOOKUP(UPPER(A114),Items!$B$2:$H$525,7,FALSE)<>0,VLOOKUP(UPPER(A114),Items!$B$2:$H$525,7,FALSE),\"\")","v":""},"Trading Unit Name"]
[{"$f":"VLOOKUP(UPPER(M115),Items!$A$2:$B$525,2,FALSE)","v":"N0231"},"D",null,null,null,1,null,null,null,null,{"$f":"VLOOKUP(UPPER(A115),Items!$B$2:$G$525,6)","v":"decimal(10,3)"},{"$f":"IF(VLOOKUP(UPPER(A115),Items!$B$2:$H$525,7,FALSE)<>0,VLOOKUP(UPPER(A115),Items!$B$2:$H$525,7,FALSE),\"\")","v":""},"Total Trading Unit Metered Volume","MWh"]
["BUI","R","1-*",null,"G",null,null,null,null,null,null,null,"BM Unit Period Information"]
[{"$f":"VLOOKUP(UPPER(M117),Items!$A$2:$B$525,2,FALSE)","v":"N0034"},"D",null,null,null,1,null,null,null,null,{"$f":"VLOOKUP(UPPER(A117),Items!$B$2:$G$525,6)","v":"text(11)"},{"$f":"IF(VLOOKUP(UPPER(A117),Items!$B$2:$H$525,7,FALSE)<>0,VLOOKUP(UPPER(A117),Items!$B$2:$H$525,7,FALSE),\"\")","v":""},"BM Unit Id"]
[{"$f":"VLOOKUP(UPPER(M118),Items!$A$2:$B$525,2,FALSE)","v":"N0232"},"D",null,null,null,"O",null,null,null,null,{"$f":"VLOOKUP(UPPER(A118),Items!$B$2:$G$525,6)","v":"text(30)"},{"$f":"IF(VLOOKUP(UPPER(A118),Items!$B$2:$H$525,7,FALSE)<>0,VLOOKUP(UPPER(A118),Items!$B$2:$H$525,7,FALSE),\"\")","v":""},"Trading Unit Name","Omit if \"default\" trading unit"]
[{"$f":"VLOOKUP(UPPER(M119),Items!$A$2:$B$525,2,FALSE)","v":"N0174"},"D",null,null,null,1,null,null,null,null,{"$f":"VLOOKUP(UPPER(A119),Items!$B$2:$G$525,6)","v":"decimal(10,3)"},{"$f":"IF(VLOOKUP(UPPER(A119),Items!$B$2:$H$525,7,FALSE)<>0,VLOOKUP(UPPER(A119),Items!$B$2:$H$525,7,FALSE),\"\")","v":""},"Period FPN","MWh"]
[{"$f":"VLOOKUP(UPPER(M120),Items!$A$2:$B$525,2,FALSE)","v":"N0035"},"D",null,null,null,1,null,null,null,null,{"$f":"VLOOKUP(UPPER(A120),Items!$B$2:$G$525,6)","v":"decimal(10,3)"},{"$f":"IF(VLOOKUP(UPPER(A120),Items!$B$2:$H$525,7,FALSE)<>0,VLOOKUP(UPPER(A120),Items!$B$2:$H$525,7,FALSE),\"\")","v":""},"BM Unit Metered Volume","MWh"]
[{"$f":"VLOOKUP(UPPER(M121),Items!$A$2:$B$525,2,FALSE)","v":"N0234"},"D",null,null,null,1,null,null,null,null,{"$f":"VLOOKUP(UPPER(A121),Items!$B$2:$G$525,6)","v":"decimal(8,7)"},{"$f":"IF(VLOOKUP(UPPER(A121),Items!$B$2:$H$525,7,FALSE)<>0,VLOOKUP(UPPER(A121),Items!$B$2:$H$525,7,FALSE),\"\")","v":""},"Transmission Loss Multiplier"]
[{"$f":"VLOOKUP(UPPER(M122),Items!$A$2:$B$748,2,FALSE)","v":"N0421"},"D",null,null,null,1,null,null,null,null,{"$f":"VLOOKUP(UPPER(A122),Items!$B$2:$G$525,6)","v":"decimal(10,3)"},{"$f":"IF(VLOOKUP(UPPER(A122),Items!$B$2:$H$748,7,FALSE)<>0,VLOOKUP(UPPER(A122),Items!$B$2:$H$748,7,FALSE),\"\")","v":""},"BM Unit Applicable Balancing Services Volume","MWh"]
["BBO","R","0-*",null,null,"G",null,null,null,null,null,null,"BM Unit Period Bid-Offer Information"]
[{"$f":"VLOOKUP(UPPER(M124),Items!$A$2:$B$525,2,FALSE)","v":"N0025"},"D",null,null,null,null,1,null,null,null,{"$f":"VLOOKUP(UPPER(A124),Items!$B$2:$G$525,6)","v":"integer(2)"},{"$f":"IF(VLOOKUP(UPPER(A124),Items!$B$2:$H$525,7,FALSE)<>0,VLOOKUP(UPPER(A124),Items!$B$2:$H$525,7,FALSE),\"\")","v":""},"Bid-Offer Pair Number"]
[{"$f":"VLOOKUP(UPPER(M125),Items!$A$2:$B$525,2,FALSE)","v":"N0030"},{"$f":"IF(LEN(K125)>0,\"D\",IF(LEN(A125)=5,\"F\",IF(LEN(A125)=3,\"R\",\" \")))","v":"D"},null,null,null,null,"O",null,null,null,{"$f":"VLOOKUP(UPPER(A125),Items!$B$2:$G$525,6)","v":"decimal(10,5)"},{"$f":"IF(VLOOKUP(UPPER(A125),Items!$B$2:$H$525,7,FALSE)<>0,VLOOKUP(UPPER(A125),Items!$B$2:$H$525,7,FALSE),\"\")","v":""},"Bid Price"]
[{"$f":"VLOOKUP(UPPER(M126),Items!$A$2:$B$525,2,FALSE)","v":"N0153"},"D",null,null,null,null,"O",null,null,null,{"$f":"VLOOKUP(UPPER(A126),Items!$B$2:$G$525,6)","v":"decimal(10,5)"},{"$f":"IF(VLOOKUP(UPPER(A126),Items!$B$2:$H$525,7,FALSE)<>0,VLOOKUP(UPPER(A126),Items!$B$2:$H$525,7,FALSE),\"\")","v":""},"Offer Price"]
["BO2","R","0-*",null,null,null,"G",null,null,null,null,null,"BMU Period Bid-Offer Value Pair"]
[{"$f":"VLOOKUP(UPPER(M128),Items!$A$2:$B$525,2,FALSE)","v":"N0220"},"D",null,null,null,null,null,1,null,null,{"$f":"VLOOKUP(UPPER(A128),Items!$B$2:$G$525,6)","v":"integer(2)"},{"$f":"IF(VLOOKUP(UPPER(A128),Items!$B$2:$H$525,7,FALSE)<>0,VLOOKUP(UPPER(A128),Items!$B$2:$H$525,7,FALSE),\"\")","v":""},"Time from","minutes from start of period"]
[{"$f":"VLOOKUP(UPPER(M129),Items!$A$2:$B$525,2,FALSE)","v":"N0028"},"D",null,null,null,null,null,"O",null,null,{"$f":"VLOOKUP(UPPER(A129),Items!$B$2:$G$525,6)","v":"decimal(10,3)"},{"$f":"IF(VLOOKUP(UPPER(A129),Items!$B$2:$H$525,7,FALSE)<>0,VLOOKUP(UPPER(A129),Items!$B$2:$H$525,7,FALSE),\"\")","v":""},"Bid Offer Volume Value From"]
[{"$f":"VLOOKUP(UPPER(M130),Items!$A$2:$B$525,2,FALSE)","v":"N0221"},"D",null,null,null,null,null,1,null,null,{"$f":"VLOOKUP(UPPER(A130),Items!$B$2:$G$525,6)","v":"integer(2)"},{"$f":"IF(VLOOKUP(UPPER(A130),Items!$B$2:$H$525,7,FALSE)<>0,VLOOKUP(UPPER(A130),Items!$B$2:$H$525,7,FALSE),\"\")","v":""},"Time To","minutes from start of period"]
[{"$f":"VLOOKUP(UPPER(M131),Items!$A$2:$B$525,2,FALSE)","v":"N0029"},"D",null,null,null,null,null,"O",null,null,{"$f":"VLOOKUP(UPPER(A131),Items!$B$2:$G$525,6)","v":"decimal(10,3)"},{"$f":"IF(VLOOKUP(UPPER(A131),Items!$B$2:$H$525,7,FALSE)<>0,VLOOKUP(UPPER(A131),Items!$B$2:$H$525,7,FALSE),\"\")","v":""},"Bid Offer Volume Value To"]
["MEL","R","0-*",null,null,"G",null,null,null,null,null,null,"Maximum Export Limit Information"]
[{"$f":"VLOOKUP(UPPER(M133),Items!$A$2:$B$525,2,FALSE)","v":"N0220"},"D",null,null,null,null,1,null,null,null,{"$f":"VLOOKUP(UPPER(A133),Items!$B$2:$G$525,6)","v":"integer(2)"},{"$f":"IF(VLOOKUP(UPPER(A133),Items!$B$2:$H$525,7,FALSE)<>0,VLOOKUP(UPPER(A133),Items!$B$2:$H$525,7,FALSE),\"\")","v":""},"Time From","minutes from start of period"]
[{"$f":"VLOOKUP(UPPER(M134),Items!$A$2:$B$525,2,FALSE)","v":"N0130"},"D",null,null,null,null,"O",null,null,null,{"$f":"VLOOKUP(UPPER(A134),Items!$B$2:$G$525,6)","v":"decimal(10,3)"},{"$f":"IF(VLOOKUP(UPPER(A134),Items!$B$2:$H$525,7,FALSE)<>0,VLOOKUP(UPPER(A134),Items!$B$2:$H$525,7,FALSE),\"\")","v":""},"Level From","MW"]
[{"$f":"VLOOKUP(UPPER(M135),Items!$A$2:$B$525,2,FALSE)","v":"N0221"},"D",null,null,null,null,1,null,null,null,{"$f":"VLOOKUP(UPPER(A135),Items!$B$2:$G$525,6)","v":"integer(2)"},{"$f":"IF(VLOOKUP(UPPER(A135),Items!$B$2:$H$525,7,FALSE)<>0,VLOOKUP(UPPER(A135),Items!$B$2:$H$525,7,FALSE),\"\")","v":""},"Time To","minutes from start of period"]
[{"$f":"VLOOKUP(UPPER(M136),Items!$A$2:$B$525,2,FALSE)","v":"N0131"},"D",null,null,null,null,"O",null,null,null,{"$f":"VLOOKUP(UPPER(A136),Items!$B$2:$G$525,6)","v":"decimal(10,3)"},{"$f":"IF(VLOOKUP(UPPER(A136),Items!$B$2:$H$525,7,FALSE)<>0,VLOOKUP(UPPER(A136),Items!$B$2:$H$525,7,FALSE),\"\")","v":""},"Level To","MW"]
["MIL","R","0-*",null,null,"G",null,null,null,null,null,null,"Maximum Import Limit Information"," "]
[{"$f":"VLOOKUP(UPPER(M138),Items!$A$2:$B$525,2,FALSE)","v":"N0220"},"D",null,null,null,null,1,null,null,null,{"$f":"VLOOKUP(UPPER(A138),Items!$B$2:$G$525,6)","v":"integer(2)"},{"$f":"IF(VLOOKUP(UPPER(A138),Items!$B$2:$H$525,7,FALSE)<>0,VLOOKUP(UPPER(A138),Items!$B$2:$H$525,7,FALSE),\"\")","v":""},"Time From","minutes from start of period"]
[{"$f":"VLOOKUP(UPPER(M139),Items!$A$2:$B$525,2,FALSE)","v":"N0130"},"D",null,null,null,null,"O",null,null,null,{"$f":"VLOOKUP(UPPER(A139),Items!$B$2:$G$525,6)","v":"decimal(10,3)"},{"$f":"IF(VLOOKUP(UPPER(A139),Items!$B$2:$H$525,7,FALSE)<>0,VLOOKUP(UPPER(A139),Items!$B$2:$H$525,7,FALSE),\"\")","v":""},"Level From","MW"]
[{"$f":"VLOOKUP(UPPER(M140),Items!$A$2:$B$525,2,FALSE)","v":"N0221"},"D",null,null,null,null,1,null,null,null,{"$f":"VLOOKUP(UPPER(A140),Items!$B$2:$G$525,6)","v":"integer(2)"},{"$f":"IF(VLOOKUP(UPPER(A140),Items!$B$2:$H$525,7,FALSE)<>0,VLOOKUP(UPPER(A140),Items!$B$2:$H$525,7,FALSE),\"\")","v":""},"Time To","minutes from start of period"]
[{"$f":"VLOOKUP(UPPER(M141),Items!$A$2:$B$525,2,FALSE)","v":"N0131"},"D",null,null,null,null,"O",null,null,null,{"$f":"VLOOKUP(UPPER(A141),Items!$B$2:$G$525,6)","v":"decimal(10,3)"},{"$f":"IF(VLOOKUP(UPPER(A141),Items!$B$2:$H$525,7,FALSE)<>0,VLOOKUP(UPPER(A141),Items!$B$2:$H$525,7,FALSE),\"\")","v":""},"Level To","MW"]
[]
["S0143",{"$f":"IF(LEN(K143)>0,\"D\",IF(LEN(A143)=5,\"F\",IF(LEN(A143)=3,\"R\",\" \")))","v":"F"},"007",null,null,null,null,null,null,null,null,null,"SAA-I014: Settlement Report: sub-flow 3"]
[null," "]
["SRH","R",1,"G",null,null,null,null,null,null,null,null,"Settlement Report Header"]
[{"$f":"VLOOKUP(UPPER(M146),Items!$A$2:$B$525,2,FALSE)","v":"N0200"},"D",null,null,1,null,null,null,null,null,{"$f":"VLOOKUP(UPPER(A146),Items!$B$2:$G$525,6)","v":"date"},{"$f":"IF(VLOOKUP(UPPER(A146),Items!$B$2:$H$525,7,FALSE)<>0,VLOOKUP(UPPER(A146),Items!$B$2:$H$525,7,FALSE),\"\")","v":""},"Settlement Date"]
[{"$f":"VLOOKUP(UPPER(M147),Items!$A$2:$B$525,2,FALSE)","v":"N0202"},"D",null,null,1,null,null,null,null,null,{"$f":"VLOOKUP(UPPER(A147),Items!$B$2:$G$525,6)","v":"text(2)"},{"$f":"IF(VLOOKUP(UPPER(A147),Items!$B$2:$H$525,7,FALSE)<>0,VLOOKUP(UPPER(A147),Items!$B$2:$H$525,7,FALSE),\"\")","v":"Run Type"},"Settlement Run Type"]
[{"$f":"VLOOKUP(UPPER(M148),Items!$A$2:$B$639,2,FALSE)","v":"N0304"},"D",null,null,1,null,null,null,null,null,{"$f":"VLOOKUP(UPPER(A148),Items!$B$2:$G$525,6)","v":"integer(2)"},{"$f":"IF(VLOOKUP(UPPER(A148),Items!$B$2:$H$525,7,FALSE)<>0,VLOOKUP(UPPER(A148),Items!$B$2:$H$525,7,FALSE),\"\")","v":""},"SAA Run Number"]
[{"$f":"VLOOKUP(UPPER(M149),Items!$A$2:$B$639,2,FALSE)","v":"N0385"},"D",null,null,1,null,null,null,null,null,{"$f":"VLOOKUP(UPPER(A149),Items!$B$2:$G$525,6)","v":"integer(2)"},{"$f":"IF(VLOOKUP(UPPER(A149),Items!$B$2:$H$525,7,FALSE)<>0,VLOOKUP(UPPER(A149),Items!$B$2:$H$525,7,FALSE),\"\")","v":""},"SAA CDCA Run Number","CDCA run which generated volumes used directly by SAA"]
[{"$f":"VLOOKUP(UPPER(M150),Items!$A$2:$B$525,2,FALSE)","v":"N0383"},"D",null,null,1,null,null,null,null,null,{"$f":"VLOOKUP(UPPER(A150),Items!$B$2:$G$525,6)","v":"date"},{"$f":"IF(VLOOKUP(UPPER(A150),Items!$B$2:$H$525,7,FALSE)<>0,VLOOKUP(UPPER(A150),Items!$B$2:$H$525,7,FALSE),\"\")","v":""},"SVAA CDCA Settlement Date","CDCA settlement date from which GSP group take was used by SVAA"]
[{"$f":"VLOOKUP(UPPER(M151),Items!$A$2:$B$525,2,FALSE)","v":"N0384"},"D",null,null,1,null,null,null,null,null,{"$f":"VLOOKUP(UPPER(A151),Items!$B$2:$G$525,6)","v":"integer(2)"},{"$f":"IF(VLOOKUP(UPPER(A151),Items!$B$2:$H$525,7,FALSE)<>0,VLOOKUP(UPPER(A151),Items!$B$2:$H$525,7,FALSE),\"\")","v":""},"SVAA CDCA Run Number","CDCA run number from which GSP group take was used by SVAA"]
[{"$f":"VLOOKUP(UPPER(M152),Items!$A$2:$B$525,2,FALSE)","v":"N0211"},"D",null,null,1,null,null,null,null,null,{"$f":"VLOOKUP(UPPER(A152),Items!$B$2:$G$525,6)","v":"integer(7)"},{"$f":"IF(VLOOKUP(UPPER(A152),Items!$B$2:$H$525,7,FALSE)<>0,VLOOKUP(UPPER(A152),Items!$B$2:$H$525,7,FALSE),\"\")","v":""},"SVAA SSR Run Number"]
[{"$f":"VLOOKUP(UPPER(M153),Items!$A$2:$B$525,2,FALSE)","v":"N0045"},"D",null,null,1,null,null,null,null,null,{"$f":"VLOOKUP(UPPER(A153),Items!$B$2:$G$525,6)","v":"text(8)"},{"$f":"IF(VLOOKUP(UPPER(A153),Items!$B$2:$H$525,7,FALSE)<>0,VLOOKUP(UPPER(A153),Items!$B$2:$H$525,7,FALSE),\"\")","v":""},"BSC Party Id"]
["BPY","R","1-*","G",null,null,null,null,null,null,null,null,"BSC Party Information"]
[{"$f":"VLOOKUP(UPPER(M155),Items!$A$2:$B$525,2,FALSE)","v":"N0045"},"D",null,null,1,null,null,null,null,null,{"$f":"VLOOKUP(UPPER(A155),Items!$B$2:$G$525,6)","v":"text(8)"},{"$f":"IF(VLOOKUP(UPPER(A155),Items!$B$2:$H$525,7,FALSE)<>0,VLOOKUP(UPPER(A155),Items!$B$2:$H$525,7,FALSE),\"\")","v":""},"BSC Party Id"]
["APC","R",1,null,"G",null,null,null,null,null,null,null,"Aggregate Party Day Charges"]
[{"$f":"VLOOKUP(UPPER(M157),Items!$A$2:$B$525,2,FALSE)","v":"N0048"},"D",null,null,null,1,null,null,null,null,{"$f":"VLOOKUP(UPPER(A157),Items!$B$2:$G$525,6)","v":"decimal(10,2)"},{"$f":"IF(VLOOKUP(UPPER(A157),Items!$B$2:$H$525,7,FALSE)<>0,VLOOKUP(UPPER(A157),Items!$B$2:$H$525,7,FALSE),\"\")","v":""},"BSSC Limited Cost Allocation"]
[{"$f":"VLOOKUP(UPPER(M158),Items!$A$2:$B$525,2,FALSE)","v":"N0031"},"D",null,null,null,1,null,null,null,null,{"$f":"VLOOKUP(UPPER(A158),Items!$B$2:$G$525,6)","v":"decimal(10,2)"},{"$f":"IF(VLOOKUP(UPPER(A158),Items!$B$2:$H$525,7,FALSE)<>0,VLOOKUP(UPPER(A158),Items!$B$2:$H$525,7,FALSE),\"\")","v":""},"BM Unit Cashflow"]
[{"$f":"VLOOKUP(UPPER(M159),Items!$A$2:$B$525,2,FALSE)","v":"N0086"},"D",null,null,null,1,null,null,null,null,{"$f":"VLOOKUP(UPPER(A159),Items!$B$2:$G$525,6)","v":"decimal(10,2)"},{"$f":"IF(VLOOKUP(UPPER(A159),Items!$B$2:$H$525,7,FALSE)<>0,VLOOKUP(UPPER(A159),Items!$B$2:$H$525,7,FALSE),\"\")","v":""},"Energy Imbalance Cashflow"]
[{"$f":"VLOOKUP(UPPER(M160),Items!$A$2:$B$525,2,FALSE)","v":"N0122"},"D",null,null,null,1,null,null,null,null,{"$f":"VLOOKUP(UPPER(A160),Items!$B$2:$G$525,6)","v":"decimal(10,2)"},{"$f":"IF(VLOOKUP(UPPER(A160),Items!$B$2:$H$525,7,FALSE)<>0,VLOOKUP(UPPER(A160),Items!$B$2:$H$525,7,FALSE),\"\")","v":""},"Information Imbalance Cashflow"]
[{"$f":"VLOOKUP(UPPER(M161),Items!$A$2:$B$525,2,FALSE)","v":"N0151"},"D",null,null,null,1,null,null,null,null,{"$f":"VLOOKUP(UPPER(A161),Items!$B$2:$G$525,6)","v":"decimal(10,2)"},{"$f":"IF(VLOOKUP(UPPER(A161),Items!$B$2:$H$525,7,FALSE)<>0,VLOOKUP(UPPER(A161),Items!$B$2:$H$525,7,FALSE),\"\")","v":""},"Non-Delivery Charge"]
[{"$f":"VLOOKUP(UPPER(M162),Items!$A$2:$B$525,2,FALSE)","v":"N0194"},"D",null,null,null,1,null,null,null,null,{"$f":"VLOOKUP(UPPER(A162),Items!$B$2:$G$525,6)","v":"decimal(10,2)"},{"$f":"IF(VLOOKUP(UPPER(A162),Items!$B$2:$H$525,7,FALSE)<>0,VLOOKUP(UPPER(A162),Items!$B$2:$H$525,7,FALSE),\"\")","v":""},"Residual Cashflow Reallocation Charge"]
["N0214","D",null,null,null,1,null,null,null,null,{"$f":"VLOOKUP(UPPER(A163),Items!$B$2:$G$525,6)","v":"decimal(10,2)"},{"$f":"IF(VLOOKUP(UPPER(A163),Items!$B$2:$H$525,7,FALSE)<>0,VLOOKUP(UPPER(A163),Items!$B$2:$H$525,7,FALSE),\"\")","v":""},"Daily System Operator BM Cashflow"]
["SPS","R","46-50","G",null,null,null,null,null,null,null,null,"Settlement Period Summary","either 46 or 48 or 50"]
[{"$f":"VLOOKUP(UPPER(M165),Items!$A$2:$B$525,2,FALSE)","v":"N0201"},"D",null,null,1,null,null,null,null,null,{"$f":"VLOOKUP(UPPER(A165),Items!$B$2:$G$525,6)","v":"integer(2)"},{"$f":"IF(VLOOKUP(UPPER(A165),Items!$B$2:$H$525,7,FALSE)<>0,VLOOKUP(UPPER(A165),Items!$B$2:$H$525,7,FALSE),\"\")","v":""},"Settlement Period"]
[{"$f":"VLOOKUP(UPPER(M166),Items!$A$2:$B$639,2,FALSE)","v":"N0312"},"D",null,null,1,null,null,null,null,null,{"$f":"VLOOKUP(UPPER(A166),Items!$B$2:$G$525,6)","v":"decimal(10,3)"},{"$f":"IF(VLOOKUP(UPPER(A166),Items!$B$2:$H$525,7,FALSE)<>0,VLOOKUP(UPPER(A166),Items!$B$2:$H$525,7,FALSE),\"\")","v":""},"Total Demand","MWh"]
[{"$f":"VLOOKUP(UPPER(M167),Items!$A$2:$B$639,2,FALSE)","v":"N0316"},"D",null,null,"O",null,null,null,null,null,{"$f":"VLOOKUP(UPPER(A167),Items!$B$2:$G$525,6)","v":"decimal(10,3)"},{"$f":"IF(VLOOKUP(UPPER(A167),Items!$B$2:$H$525,7,FALSE)<>0,VLOOKUP(UPPER(A167),Items!$B$2:$H$525,7,FALSE),\"\")","v":""},"Notional Reserve Limit","Null"]
[{"$f":"VLOOKUP(UPPER(M168),Items!$A$2:$B$639,2,FALSE)","v":"N0317"},"D",null,null,1,null,null,null,null,null,{"$f":"VLOOKUP(UPPER(A168),Items!$B$2:$G$525,6)","v":"boolean"},{"$f":"IF(VLOOKUP(UPPER(A168),Items!$B$2:$H$525,7,FALSE)<>0,VLOOKUP(UPPER(A168),Items!$B$2:$H$525,7,FALSE),\"\")","v":""},"Arbitrage Flag"]
[{"$f":"VLOOKUP(UPPER(M169),Items!$A$2:$B$639,2,FALSE)","v":"N0391"},"D",null,null,1,null,null,null,null,null,{"$f":"VLOOKUP(UPPER(A169),Items!$B$2:$G$525,6)","v":"integer(2)"},{"$f":"IF(VLOOKUP(UPPER(A169),Items!$B$2:$H$525,7,FALSE)<>0,VLOOKUP(UPPER(A169),Items!$B$2:$H$525,7,FALSE),\"\")","v":""},"Continuous Acceptance Duration Limit"]
[{"$f":"VLOOKUP(UPPER(M170),Items!$A$2:$B$639,2,FALSE)","v":"N0392"},"D",null,null,1,null,null,null,null,null,{"$f":"VLOOKUP(UPPER(A170),Items!$B$2:$G$525,6)","v":"decimal(10,3)"},{"$f":"IF(VLOOKUP(UPPER(A170),Items!$B$2:$H$525,7,FALSE)<>0,VLOOKUP(UPPER(A170),Items!$B$2:$H$525,7,FALSE),\"\")","v":""},"De Minimis Acceptance Threshold"]
["SSD","R",1,null,"G",null,null,null,null,null,null,null,"System Period Data"]
[{"$f":"VLOOKUP(UPPER(M172),Items!$A$2:$B$525,2,FALSE)","v":"N0172"},"D",null,null,null,1,null,null,null,null,{"$f":"VLOOKUP(UPPER(A172),Items!$B$2:$G$525,6)","v":"decimal(10,2)"},{"$f":"IF(VLOOKUP(UPPER(A172),Items!$B$2:$H$525,7,FALSE)<>0,VLOOKUP(UPPER(A172),Items!$B$2:$H$525,7,FALSE),\"\")","v":""},"Period BSSC Limited Costs"]
["N0213","D",null,null,null,1,null,null,null,null,{"$f":"VLOOKUP(UPPER(A173),Items!$B$2:$G$525,6)","v":"decimal(10,2)"},{"$f":"IF(VLOOKUP(UPPER(A173),Items!$B$2:$H$525,7,FALSE)<>0,VLOOKUP(UPPER(A173),Items!$B$2:$H$525,7,FALSE),\"\")","v":""},"System Operator BM Cashflow"]
[{"$f":"VLOOKUP(UPPER(M174),Items!$A$2:$B$525,2,FALSE)","v":"N0124"},"D",null,null,null,1,null,null,null,null,{"$f":"VLOOKUP(UPPER(A174),Items!$B$2:$G$525,6)","v":"decimal(10,5)"},{"$f":"IF(VLOOKUP(UPPER(A174),Items!$B$2:$H$525,7,FALSE)<>0,VLOOKUP(UPPER(A174),Items!$B$2:$H$525,7,FALSE),\"\")","v":""},"Information Imbalance Price 1"]
[{"$f":"VLOOKUP(UPPER(M175),Items!$A$2:$B$525,2,FALSE)","v":"N0125"},"D",null,null,null,1,null,null,null,null,{"$f":"VLOOKUP(UPPER(A175),Items!$B$2:$G$525,6)","v":"decimal(10,5)"},{"$f":"IF(VLOOKUP(UPPER(A175),Items!$B$2:$H$525,7,FALSE)<>0,VLOOKUP(UPPER(A175),Items!$B$2:$H$525,7,FALSE),\"\")","v":""},"Information Imbalance Price 2"]
[{"$f":"VLOOKUP(UPPER(M176),Items!$A$2:$B$525,2,FALSE)","v":"N0212"},"D",null,null,null,1,null,null,null,null,{"$f":"VLOOKUP(UPPER(A176),Items!$B$2:$G$525,6)","v":"decimal(10,5)"},{"$f":"IF(VLOOKUP(UPPER(A176),Items!$B$2:$H$525,7,FALSE)<>0,VLOOKUP(UPPER(A176),Items!$B$2:$H$525,7,FALSE),\"\")","v":""},"System Buy Price"]
[{"$f":"VLOOKUP(UPPER(M177),Items!$A$2:$B$525,2,FALSE)","v":"N0215"},"D",null,null,null,1,null,null,null,null,{"$f":"VLOOKUP(UPPER(A177),Items!$B$2:$G$525,6)","v":"decimal(10,5)"},{"$f":"IF(VLOOKUP(UPPER(A177),Items!$B$2:$H$525,7,FALSE)<>0,VLOOKUP(UPPER(A177),Items!$B$2:$H$525,7,FALSE),\"\")","v":""},"System Sell Price"]
[{"$f":"VLOOKUP(UPPER(M178),Items!$A$2:$B$639,2,FALSE)","v":"N0439"},"D",null,null,null,1,null,null,null,null,{"$f":"VLOOKUP(UPPER(A178),Items!$B$2:$G$525,6)","v":"text(2)"},{"$f":"IF(VLOOKUP(UPPER(A178),Items!$B$2:$H$748,7,FALSE)<>0,VLOOKUP(UPPER(A178),Items!$B$2:$H$748,7,FALSE),\"\")","v":"Price Derivation Code"},"Price Derivation Code"]
[{"$f":"VLOOKUP(UPPER(M179),Items!$A$2:$B$525,2,FALSE)","v":"N0333"},"D",null,null,null,1,null,null,null,null,{"$f":"VLOOKUP(UPPER(A179),Items!$B$2:$G$525,6)","v":"decimal(10,2)"},{"$f":"IF(VLOOKUP(UPPER(A179),Items!$B$2:$H$525,7,FALSE)<>0,VLOOKUP(UPPER(A179),Items!$B$2:$H$525,7,FALSE),\"\")","v":""},"Total System BM Cashflow"]
[{"$f":"VLOOKUP(UPPER(M180),Items!$A$2:$B$525,2,FALSE)","v":"N0225"},"D",null,null,null,1,null,null,null,null,{"$f":"VLOOKUP(UPPER(A180),Items!$B$2:$G$525,6)","v":"decimal(10,2)"},{"$f":"IF(VLOOKUP(UPPER(A180),Items!$B$2:$H$525,7,FALSE)<>0,VLOOKUP(UPPER(A180),Items!$B$2:$H$525,7,FALSE),\"\")","v":""},"Total System Energy Imbalance Cashflow"]
[{"$f":"VLOOKUP(UPPER(M181),Items!$A$2:$B$525,2,FALSE)","v":"N0228"},"D",null,null,null,1,null,null,null,null,{"$f":"VLOOKUP(UPPER(A181),Items!$B$2:$G$525,6)","v":"decimal(10,2)"},{"$f":"IF(VLOOKUP(UPPER(A181),Items!$B$2:$H$525,7,FALSE)<>0,VLOOKUP(UPPER(A181),Items!$B$2:$H$525,7,FALSE),\"\")","v":""},"Total System Non-Delivery Charge"]
[{"$f":"VLOOKUP(UPPER(M182),Items!$A$2:$B$525,2,FALSE)","v":"N0216"},"D",null,null,null,1,null,null,null,null,"decimal(10,3)",{"$f":"IF(VLOOKUP(UPPER(A182),Items!$B$2:$H$525,7,FALSE)<>0,VLOOKUP(UPPER(A182),Items!$B$2:$H$525,7,FALSE),\"\")","v":""},"System Total Accepted Bid Volume"]
[{"$f":"VLOOKUP(UPPER(M183),Items!$A$2:$B$525,2,FALSE)","v":"N0386"},{"$f":"IF(LEN(K183)>0,\"D\",IF(LEN(A183)=5,\"F\",IF(LEN(A183)=3,\"R\",\" \")))","v":"D"},null,null,null,"O",null,null,null,null,{"$f":"VLOOKUP(UPPER(A183),Items!$B$2:$G$525,6)","v":"decimal(10,3)"},{"$f":"IF(VLOOKUP(UPPER(A183),Items!$B$2:$H$525,7,FALSE)<>0,VLOOKUP(UPPER(A183),Items!$B$2:$H$525,7,FALSE),\"\")","v":""},"System Total Unpriced Accepted Bid Volume","Populated for pre-P217 Settlement Dates. This field will be null for post-P217 Settlement Dates"]
[{"$f":"VLOOKUP(UPPER(M184),Items!$A$2:$B$525,2,FALSE)","v":"N0393"},{"$f":"IF(LEN(K184)>0,\"D\",IF(LEN(A184)=5,\"F\",IF(LEN(A184)=3,\"R\",\" \")))","v":"D"},null,null,null,1,null,null,null,null,{"$f":"VLOOKUP(UPPER(A184),Items!$B$2:$G$525,6)","v":"decimal(10,3)"},{"$f":"IF(VLOOKUP(UPPER(A184),Items!$B$2:$H$525,7,FALSE)<>0,VLOOKUP(UPPER(A184),Items!$B$2:$H$525,7,FALSE),\"\")","v":""},"System Total Priced Accepted Bid Volume"]
[{"$f":"VLOOKUP(UPPER(M185),Items!$A$2:$B$525,2,FALSE)","v":"N0224"},{"$f":"IF(LEN(K185)>0,\"D\",IF(LEN(A185)=5,\"F\",IF(LEN(A185)=3,\"R\",\" \")))","v":"D"},null,null,null,1,null,null,null,null,{"$f":"VLOOKUP(UPPER(A185),Items!$B$2:$G$525,6)","v":"decimal(10,3)"},{"$f":"IF(VLOOKUP(UPPER(A185),Items!$B$2:$H$525,7,FALSE)<>0,VLOOKUP(UPPER(A185),Items!$B$2:$H$525,7,FALSE),\"\")","v":""},"Total System Energy Contract Volume"]
[{"$f":"VLOOKUP(UPPER(M186),Items!$A$2:$B$748,2,FALSE)","v":"N0428"},{"$f":"IF(LEN(K186)>0,\"D\",IF(LEN(A186)=5,\"F\",IF(LEN(A186)=3,\"R\",\" \")))","v":"D"},null,null,null,"O",null,null,null,null,{"$f":"VLOOKUP(UPPER(A186),Items!$B$2:$G$525,6)","v":"decimal(10,3)"},{"$f":"IF(VLOOKUP(UPPER(A186),Items!$B$2:$H$748,7,FALSE)<>0,VLOOKUP(UPPER(A186),Items!$B$2:$H$748,7,FALSE),\"\")","v":""},"NIV Tagged System Total Unpriced Bid Volume","Populated for pre-P217 Settlement Dates. This field will be null for post-P217 Settlement Dates"]
["N0217","D",null,null,null,1,null,null,null,null,"decimal(10,3)",{"$f":"IF(VLOOKUP(UPPER(A187),Items!$B$2:$H$525,7,FALSE)<>0,VLOOKUP(UPPER(A187),Items!$B$2:$H$525,7,FALSE),\"\")","v":""},"Total System Accepted Offer Volume"]
[{"$f":"VLOOKUP(UPPER(M188),Items!$A$2:$B$748,2,FALSE)","v":"N0429"},{"$f":"IF(LEN(K188)>0,\"D\",IF(LEN(A188)=5,\"F\",IF(LEN(A188)=3,\"R\",\" \")))","v":"D"},null,null,null,"O",null,null,null,null,{"$f":"VLOOKUP(UPPER(A188),Items!$B$2:$G$525,6)","v":"decimal(10,3)"},null,"NIV Tagged System Total Unpriced Offer Volume","Populated for pre-P217 Settlement Dates. This field will be null for post-P217 Settlement Dates"]
[{"$f":"VLOOKUP(UPPER(M189),Items!$A$2:$B$748,2,FALSE)","v":"N0430"},"D",null,null,null,1,null,null,null,null,{"$f":"VLOOKUP(UPPER(A189),Items!$B$2:$G$525,6)","v":"decimal(10,3)"},null,"Net Imbalance Volume"]
[{"$f":"VLOOKUP(UPPER(M190),Items!$A$2:$B$748,2,FALSE)","v":"N0431"},"D",null,null,null,1,null,null,null,null,{"$f":"VLOOKUP(UPPER(A190),Items!$B$2:$G$525,6)","v":"decimal(10,3)"},null,"Total NIV Tagged Volume"]
[{"$f":"VLOOKUP(UPPER(M191),Items!$A$2:$B$748,2,FALSE)","v":"N0432"},"D",null,null,null,"O",null,null,null,null,{"$f":"VLOOKUP(UPPER(A191),Items!$B$2:$G$525,6)","v":"decimal(10,3)"},null,"NIV Tagged SBVA","Populated for pre-P217 Settlement Dates. This field will be null for post-P217 Settlement Dates"]
[{"$f":"VLOOKUP(UPPER(M192),Items!$A$2:$B$748,2,FALSE)","v":"N0433"},"D",null,null,null,"O",null,null,null,null,{"$f":"VLOOKUP(UPPER(A192),Items!$B$2:$G$525,6)","v":"decimal(10,3)"},null,"NIV Tagged SSVA","Populated for pre-P217 Settlement Dates. This field will be null for post-P217 Settlement Dates"]
[{"$f":"VLOOKUP(UPPER(M193),Items!$A$2:$B$525,2,FALSE)","v":"N0387"},"D",null,null,null,"O",null,null,null,null,{"$f":"VLOOKUP(UPPER(A193),Items!$B$2:$G$525,6)","v":"decimal(10,3)"},{"$f":"IF(VLOOKUP(UPPER(A193),Items!$B$2:$H$525,7,FALSE)<>0,VLOOKUP(UPPER(A193),Items!$B$2:$H$525,7,FALSE),\"\")","v":""},"System Total Unpriced Accepted Offer Volume","Populated for pre-P217 Settlement Dates. This field will be null for post-P217 Settlement Dates"]
[{"$f":"VLOOKUP(UPPER(M194),Items!$A$2:$B$525,2,FALSE)","v":"N0394"},"D",null,null,null,1,null,null,null,null,{"$f":"VLOOKUP(UPPER(A194),Items!$B$2:$G$525,6)","v":"decimal(10,3)"},{"$f":"IF(VLOOKUP(UPPER(A194),Items!$B$2:$H$525,7,FALSE)<>0,VLOOKUP(UPPER(A194),Items!$B$2:$H$525,7,FALSE),\"\")","v":""},"System Total Priced Accepted Offer Volume"]
[{"$f":"VLOOKUP(UPPER(M195),Items!$A$2:$B$525,2,FALSE)","v":"N0226"},"D",null,null,null,1,null,null,null,null,{"$f":"VLOOKUP(UPPER(A195),Items!$B$2:$G$525,6)","v":"decimal(10,3)"},{"$f":"IF(VLOOKUP(UPPER(A195),Items!$B$2:$H$525,7,FALSE)<>0,VLOOKUP(UPPER(A195),Items!$B$2:$H$525,7,FALSE),\"\")","v":""},"Total System Energy Imbalance Volume"]
[{"$f":"VLOOKUP(UPPER(M196),Items!$A$2:$B$525,2,FALSE)","v":"N0395"},"D",null,null,null,1,null,null,null,null,{"$f":"VLOOKUP(UPPER(A196),Items!$B$2:$G$525,6)","v":"decimal(10,3)"},{"$f":"IF(VLOOKUP(UPPER(A196),Items!$B$2:$H$525,7,FALSE)<>0,VLOOKUP(UPPER(A196),Items!$B$2:$H$525,7,FALSE),\"\")","v":""},"Residual Cashflow Reallocation Denominator"]
[{"$f":"VLOOKUP(UPPER(M197),Items!$A$2:$B$525,2,FALSE)","v":"N0230"},"D",null,null,null,1,null,null,null,null,{"$f":"VLOOKUP(UPPER(A197),Items!$B$2:$G$525,6)","v":"decimal(10,2)"},{"$f":"IF(VLOOKUP(UPPER(A197),Items!$B$2:$H$525,7,FALSE)<>0,VLOOKUP(UPPER(A197),Items!$B$2:$H$525,7,FALSE),\"\")","v":""},"Total System Residual Cashflow"]
[{"$f":"VLOOKUP(UPPER(M198),Items!$A$2:$B$525,2,FALSE)","v":"N0227"},"D",null,null,null,1,null,null,null,null,{"$f":"VLOOKUP(UPPER(A198),Items!$B$2:$G$525,6)","v":"decimal(10,2)"},{"$f":"IF(VLOOKUP(UPPER(A198),Items!$B$2:$H$525,7,FALSE)<>0,VLOOKUP(UPPER(A198),Items!$B$2:$H$525,7,FALSE),\"\")","v":""},"Total System Information Imbalance Charge"]
[{"$f":"VLOOKUP(UPPER(M199),Items!$A$2:$B$525,2,FALSE)","v":"N0420"},"D",null,null,null,"O",null,null,null,null,{"$f":"VLOOKUP(UPPER(A199),Items!$B$2:$G$525,6)","v":"decimal(10,2)"},{"$f":"IF(VLOOKUP(UPPER(A199),Items!$B$2:$H$525,7,FALSE)<>0,VLOOKUP(UPPER(A199),Items!$B$2:$H$525,7,FALSE),\"\")","v":""},"Net Energy Sell-Price Cost Adjustment","Populated for pre-P217 Settlement Dates. This field will be null for post-P217 Settlement Dates"]
[{"$f":"VLOOKUP(UPPER(M200),Items!$A$2:$B$525,2,FALSE)","v":"N0419"},"D",null,null,null,"O",null,null,null,null,{"$f":"VLOOKUP(UPPER(A200),Items!$B$2:$G$525,6)","v":"decimal(10,2)"},{"$f":"IF(VLOOKUP(UPPER(A200),Items!$B$2:$H$525,7,FALSE)<>0,VLOOKUP(UPPER(A200),Items!$B$2:$H$525,7,FALSE),\"\")","v":""},"Net Energy Buy-Price Cost Adjustment","Populated for pre-P217 Settlement Dates. This field will be null for post-P217 Settlement Dates"]
[{"$f":"VLOOKUP(UPPER(M201),Items!$A$2:$B$525,2,FALSE)","v":"N0418"},"D",null,null,null,"O",null,null,null,null,{"$f":"VLOOKUP(UPPER(A201),Items!$B$2:$G$525,6)","v":"decimal(10,3)"},{"$f":"IF(VLOOKUP(UPPER(A201),Items!$B$2:$H$525,7,FALSE)<>0,VLOOKUP(UPPER(A201),Items!$B$2:$H$525,7,FALSE),\"\")","v":""},"Net Energy Sell-Price Volume Adjustment","Populated for pre-P217 Settlement Dates. This field will be null for post-P217 Settlement Dates"]
[{"$f":"VLOOKUP(UPPER(M202),Items!$A$2:$B$525,2,FALSE)","v":"N0417"},"D",null,null,null,"O",null,null,null,null,{"$f":"VLOOKUP(UPPER(A202),Items!$B$2:$G$525,6)","v":"decimal(10,3)"},{"$f":"IF(VLOOKUP(UPPER(A202),Items!$B$2:$H$525,7,FALSE)<>0,VLOOKUP(UPPER(A202),Items!$B$2:$H$525,7,FALSE),\"\")","v":""},"Net Energy Buy-Price Volume Adjustment","Populated for pre-P217 Settlement Dates. This field will be null for post-P217 Settlement Dates"]
[{"$f":"VLOOKUP(UPPER(M203),Items!$A$2:$B$639,2,FALSE)","v":"N0416"},"D",null,null,null,"O",null,null,null,null,{"$f":"VLOOKUP(UPPER(A203),Items!$B$2:$G$525,6)","v":"decimal(10,3)"},{"$f":"IF(VLOOKUP(UPPER(A203),Items!$B$2:$H$748,7,FALSE)<>0,VLOOKUP(UPPER(A203),Items!$B$2:$H$748,7,FALSE),\"\")","v":""},"Net System Sell-Price Volume Adjustment","Populated for pre-P217 Settlement Dates. This field will be null for post-P217 Settlement Dates"]
[{"$f":"VLOOKUP(UPPER(M204),Items!$A$2:$B$748,2,FALSE)","v":"N0415"},"D",null,null,null,"O",null,null,null,null,{"$f":"VLOOKUP(UPPER(A204),Items!$B$2:$G$525,6)","v":"decimal(10,3)"},{"$f":"IF(VLOOKUP(UPPER(A204),Items!$B$2:$H$748,7,FALSE)<>0,VLOOKUP(UPPER(A204),Items!$B$2:$H$748,7,FALSE),\"\")","v":""},"Net System Buy-Price Volume Adjustment","Populated for pre-P217 Settlement Dates. This field will be null for post-P217 Settlement Dates"]
[{"$f":"VLOOKUP(UPPER(M205),Items!$A$2:$B$525,2,FALSE)","v":"N0371"},"D",null,null,null,1,null,null,null,null,{"$f":"VLOOKUP(UPPER(A205),Items!$B$2:$G$525,6)","v":"decimal(10,2)"},{"$f":"IF(VLOOKUP(UPPER(A205),Items!$B$2:$H$525,7,FALSE)<>0,VLOOKUP(UPPER(A205),Items!$B$2:$H$525,7,FALSE),\"\")","v":""},"Sell-Price Price Adjust"]
[{"$f":"VLOOKUP(UPPER(M206),Items!$A$2:$B$525,2,FALSE)","v":"N0372"},"D",null,null,null,1,null,null,null,null,{"$f":"VLOOKUP(UPPER(A206),Items!$B$2:$G$525,6)","v":"decimal(10,2)"},{"$f":"IF(VLOOKUP(UPPER(A206),Items!$B$2:$H$525,7,FALSE)<>0,VLOOKUP(UPPER(A206),Items!$B$2:$H$525,7,FALSE),\"\")","v":""},"Buy-Price Price Adjust"]
[{"$f":"VLOOKUP(UPPER(M207),Items!$A$2:$B$748,2,FALSE)","v":"N0438"},"D",null,null,null,1,null,null,null,null,{"$f":"VLOOKUP(UPPER(A207),Items!$B$2:$G$525,6)","v":"decimal(10,3)"},{"$f":"IF(VLOOKUP(UPPER(A207),Items!$B$2:$H$748,7,FALSE)<>0,VLOOKUP(UPPER(A207),Items!$B$2:$H$748,7,FALSE),\"\")","v":""},"Total Period Applicable Balancing Services Volume","MWh"]
[{"$f":"VLOOKUP(UPPER(M208),Items!$A$2:$B$525,2,FALSE)","v":"N0335"},"D",null,null,null,1,null,null,null,null,{"$f":"VLOOKUP(UPPER(A208),Items!$B$2:$G$525,6)","v":"decimal(10,3)"},null,"System Operator Production Imbalance"]
[{"$f":"VLOOKUP(UPPER(M209),Items!$A$2:$B$525,2,FALSE)","v":"N0336"},"D",null,null,null,1,null,null,null,null,{"$f":"VLOOKUP(UPPER(A209),Items!$B$2:$G$525,6)","v":"decimal(10,3)"},null,"System Operator Consumption Imbalance"]
[{"$f":"VLOOKUP(UPPER(M210),Items!$A$2:$B$748,2,FALSE)","v":"N0501"},"D",null,null,null,"O",null,null,null,null,{"$f":"VLOOKUP(UPPER(A210),Items!$B$2:$G$525,6)","v":"decimal(10,3)"},{"$f":"IF(VLOOKUP(UPPER(A210),Items!$B$2:$H$748,7,FALSE)<>0,VLOOKUP(UPPER(A210),Items!$B$2:$H$748,7,FALSE),\"\")","v":""},"NIV Tagged Energy Buy Volume Adjustment","Populated for pre-P217 Settlement Dates. These fields will be null for all other Settlement Dates."]
[{"$f":"VLOOKUP(UPPER(M211),Items!$A$2:$B$748,2,FALSE)","v":"N0502"},"D",null,null,null,"O",null,null,null,null,{"$f":"VLOOKUP(UPPER(A211),Items!$B$2:$G$525,6)","v":"decimal(10,3)"},{"$f":"IF(VLOOKUP(UPPER(A211),Items!$B$2:$H$748,7,FALSE)<>0,VLOOKUP(UPPER(A211),Items!$B$2:$H$748,7,FALSE),\"\")","v":""},"NIV Tagged Energy Sell Volume Adjustment","Populated for pre-P217 Settlement Dates. These fields will be null for all other Settlement Dates."]
[{"$f":"VLOOKUP(UPPER(M212),Items!$A$2:$B$748,2,FALSE)","v":"N0503"},"D",null,null,null,"O",null,null,null,null,{"$f":"VLOOKUP(UPPER(A212),Items!$B$2:$G$525,6)","v":"decimal(10,3)"},{"$f":"IF(VLOOKUP(UPPER(A212),Items!$B$2:$H$748,7,FALSE)<>0,VLOOKUP(UPPER(A212),Items!$B$2:$H$748,7,FALSE),\"\")","v":""},"PAR Tagged Energy Buy Volume Adjustment","Populated for pre-P217 Settlement Dates. These fields will be null for all other Settlement Dates."]
[{"$f":"VLOOKUP(UPPER(M213),Items!$A$2:$B$748,2,FALSE)","v":"N0504"},"D",null,null,null,"O",null,null,null,null,{"$f":"VLOOKUP(UPPER(A213),Items!$B$2:$G$525,6)","v":"decimal(10,3)"},{"$f":"IF(VLOOKUP(UPPER(A213),Items!$B$2:$H$748,7,FALSE)<>0,VLOOKUP(UPPER(A213),Items!$B$2:$H$748,7,FALSE),\"\")","v":""},"PAR Tagged Energy Sell Volume Adjustment","Populated for pre-P217 Settlement Dates. These fields will be null for all other Settlement Dates."]
[{"$f":"VLOOKUP(UPPER(M214),Items!$A$2:$B$748,2,FALSE)","v":"N0434"},"D",null,null,null,"O",null,null,null,null,{"$f":"VLOOKUP(UPPER(A214),Items!$B$2:$G$525,6)","v":"decimal(10,2)"},{"$f":"IF(VLOOKUP(UPPER(A214),Items!$B$2:$H$748,7,FALSE)<>0,VLOOKUP(UPPER(A214),Items!$B$2:$H$748,7,FALSE),\"\")","v":""},"Untagged EBCA","Populated for pre-P217 Settlement Dates. This field will be null for post-P217 Settlement Dates"]
[{"$f":"VLOOKUP(UPPER(M215),Items!$A$2:$B$748,2,FALSE)","v":"N0435"},"D",null,null,null,"O",null,null,null,null,{"$f":"VLOOKUP(UPPER(A215),Items!$B$2:$G$525,6)","v":"decimal(10,3)"},{"$f":"IF(VLOOKUP(UPPER(A215),Items!$B$2:$H$748,7,FALSE)<>0,VLOOKUP(UPPER(A215),Items!$B$2:$H$748,7,FALSE),\"\")","v":""},"Untagged EBVA","Populated for pre-P217 Settlement Dates. This field will be null for post-P217 Settlement Dates"]
[{"$f":"VLOOKUP(UPPER(M216),Items!$A$2:$B$748,2,FALSE)","v":"N0436"},"D",null,null,null,"O",null,null,null,null,{"$f":"VLOOKUP(UPPER(A216),Items!$B$2:$G$525,6)","v":"decimal(10,2)"},{"$f":"IF(VLOOKUP(UPPER(A216),Items!$B$2:$H$748,7,FALSE)<>0,VLOOKUP(UPPER(A216),Items!$B$2:$H$748,7,FALSE),\"\")","v":""},"Untagged ESCA","Populated for pre-P217 Settlement Dates. This field will be null for post-P217 Settlement Dates"]
[{"$f":"VLOOKUP(UPPER(M217),Items!$A$2:$B$748,2,FALSE)","v":"N0437"},"D",null,null,null,"O",null,null,null,null,{"$f":"VLOOKUP(UPPER(A217),Items!$B$2:$G$525,6)","v":"decimal(10,3)"},{"$f":"IF(VLOOKUP(UPPER(A217),Items!$B$2:$H$748,7,FALSE)<>0,VLOOKUP(UPPER(A217),Items!$B$2:$H$748,7,FALSE),\"\")","v":""},"Untagged ESVA","Populated for pre-P217 Settlement Dates. This field will be null for post-P217 Settlement Dates"]
[{"$f":"VLOOKUP(UPPER(M218),Items!$A$2:$B$525,2,FALSE)","v":"N0517"},"D",null,null,null,"O",null,null,null,null,{"$f":"VLOOKUP(UPPER(A218),Items!$B$2:$G$525,6)","v":"decimal(10,3)"},{"$f":"IF(VLOOKUP(UPPER(A218),Items!$B$2:$H$525,7,FALSE)<>0,VLOOKUP(UPPER(A218),Items!$B$2:$H$525,7,FALSE),\"\")","v":""},"Total System Tagged Accepted Bid Volume","Populated for post-P217 Settlement Dates. This field will be null for pre-P217 Settlement Dates"]
[{"$f":"VLOOKUP(UPPER(M219),Items!$A$2:$B$639,2,FALSE)","v":"N0518"},"D",null,null,null,"O",null,null,null,null,{"$f":"VLOOKUP(UPPER(A219),Items!$B$2:$G$525,6)","v":"decimal(10,3)"},{"$f":"IF(VLOOKUP(UPPER(A219),Items!$B$2:$H$748,7,FALSE)<>0,VLOOKUP(UPPER(A219),Items!$B$2:$H$748,7,FALSE),\"\")","v":""},"Total System Tagged Accepted Offer Volume","Populated for post-P217 Settlement Dates. This field will be null for pre-P217 Settlement Dates"]
[{"$f":"VLOOKUP(UPPER(M220),Items!$A$2:$B$748,2,FALSE)","v":"N0519"},{"$f":"IF(LEN(K220)>0,\"D\",IF(LEN(A220)=5,\"F\",IF(LEN(A220)=3,\"R\",\" \")))","v":"D"},null,null,null,"O",null,null,null,null,{"$f":"VLOOKUP(UPPER(A220),Items!$B$2:$G$525,6)","v":"decimal(10,3)"},{"$f":"IF(VLOOKUP(UPPER(A220),Items!$B$2:$H$748,7,FALSE)<>0,VLOOKUP(UPPER(A220),Items!$B$2:$H$748,7,FALSE),\"\")","v":""},"Total System Repriced Accepted Bid Volume","Populated for post-P217 Settlement Dates. This field will be null for pre-P217 Settlement Dates"]
[{"$f":"VLOOKUP(UPPER(M221),Items!$A$2:$B$525,2,FALSE)","v":"N0520"},"D",null,null,null,"O",null,null,null,null,{"$f":"VLOOKUP(UPPER(A221),Items!$B$2:$G$525,6)","v":"decimal(10,3)"},{"$f":"IF(VLOOKUP(UPPER(A221),Items!$B$2:$H$525,7,FALSE)<>0,VLOOKUP(UPPER(A221),Items!$B$2:$H$525,7,FALSE),\"\")","v":""},"Total System Repriced Accepted Offer Volume","Populated for post-P217 Settlement Dates. This field will be null for pre-P217 Settlement Dates"]
[{"$f":"VLOOKUP(UPPER(M222),Items!$A$2:$B$525,2,FALSE)","v":"N0521"},"D",null,null,null,"O",null,null,null,null,{"$f":"VLOOKUP(UPPER(A222),Items!$B$2:$G$525,6)","v":"decimal(10,3)"},{"$f":"IF(VLOOKUP(UPPER(A222),Items!$B$2:$H$525,7,FALSE)<>0,VLOOKUP(UPPER(A222),Items!$B$2:$H$525,7,FALSE),\"\")","v":""},"Total System Originally-priced Accepted Bid Volume","Populated for post-P217 Settlement Dates. This field will be null for pre-P217 Settlement Dates"]
[{"$f":"VLOOKUP(UPPER(M223),Items!$A$2:$B$748,2,FALSE)","v":"N0522"},"D",null,null,null,"O",null,null,null,null,{"$f":"VLOOKUP(UPPER(A223),Items!$B$2:$G$525,6)","v":"decimal(10,3)"},{"$f":"IF(VLOOKUP(UPPER(A223),Items!$B$2:$H$748,7,FALSE)<>0,VLOOKUP(UPPER(A223),Items!$B$2:$H$748,7,FALSE),\"\")","v":""},"Total System Originally-priced Accepted Offer Volume","Populated for post-P217 Settlement Dates. This field will be null for pre-P217 Settlement Dates"]
[{"$f":"VLOOKUP(UPPER(M224),Items!$A$2:$B$525,2,FALSE)","v":"N0523"},"D",null,null,null,"O",null,null,null,null,{"$f":"VLOOKUP(UPPER(A224),Items!$B$2:$G$525,6)","v":"decimal(10,3)"},null,"Total System Adjustment Sell Volume","Populated for post-P217 Settlement Dates. This field will be null for pre-P217 Settlement Dates"]
[{"$f":"VLOOKUP(UPPER(M225),Items!$A$2:$B$525,2,FALSE)","v":"N0524"},"D",null,null,null,"O",null,null,null,null,{"$f":"VLOOKUP(UPPER(A225),Items!$B$2:$G$525,6)","v":"decimal(10,3)"},null,"Total System Adjustment Buy Volume","Populated for post-P217 Settlement Dates. This field will be null for pre-P217 Settlement Dates"]
[{"$f":"VLOOKUP(UPPER(M226),Items!$A$2:$B$748,2,FALSE)","v":"N0525"},"D",null,null,null,"O",null,null,null,null,{"$f":"VLOOKUP(UPPER(A226),Items!$B$2:$G$525,6)","v":"decimal(10,3)"},{"$f":"IF(VLOOKUP(UPPER(A226),Items!$B$2:$H$748,7,FALSE)<>0,VLOOKUP(UPPER(A226),Items!$B$2:$H$748,7,FALSE),\"\")","v":""},"Total System Tagged Adjustment Sell Volume","Populated for post-P217 Settlement Dates. This field will be null for pre-P217 Settlement Dates"]
[{"$f":"VLOOKUP(UPPER(M227),Items!$A$2:$B$748,2,FALSE)","v":"N0526"},"D",null,null,null,"O",null,null,null,null,{"$f":"VLOOKUP(UPPER(A227),Items!$B$2:$G$525,6)","v":"decimal(10,3)"},{"$f":"IF(VLOOKUP(UPPER(A227),Items!$B$2:$H$748,7,FALSE)<>0,VLOOKUP(UPPER(A227),Items!$B$2:$H$748,7,FALSE),\"\")","v":""},"Total System Tagged Adjustment Buy Volume","Populated for post-P217 Settlement Dates. This field will be null for pre-P217 Settlement Dates"]
[{"$f":"VLOOKUP(UPPER(M228),Items!$A$2:$B$748,2,FALSE)","v":"N0527"},"D",null,null,null,"O",null,null,null,null,{"$f":"VLOOKUP(UPPER(A228),Items!$B$2:$G$525,6)","v":"decimal(10,3)"},{"$f":"IF(VLOOKUP(UPPER(A228),Items!$B$2:$H$748,7,FALSE)<>0,VLOOKUP(UPPER(A228),Items!$B$2:$H$748,7,FALSE),\"\")","v":""},"Total System Repriced Adjustment Sell Volume","Populated for post-P217 Settlement Dates. This field will be null for pre-P217 Settlement Dates"]
[{"$f":"VLOOKUP(UPPER(M229),Items!$A$2:$B$748,2,FALSE)","v":"N0528"},"D",null,null,null,"O",null,null,null,null,{"$f":"VLOOKUP(UPPER(A229),Items!$B$2:$G$525,6)","v":"decimal(10,3)"},{"$f":"IF(VLOOKUP(UPPER(A229),Items!$B$2:$H$748,7,FALSE)<>0,VLOOKUP(UPPER(A229),Items!$B$2:$H$748,7,FALSE),\"\")","v":""},"Total System Repriced Adjustment Buy Volume","Populated for post-P217 Settlement Dates. This field will be null for pre-P217 Settlement Dates"]
[{"$f":"VLOOKUP(UPPER(M230),Items!$A$2:$B$748,2,FALSE)","v":"N0529"},"D",null,null,null,"O",null,null,null,null,{"$f":"VLOOKUP(UPPER(A230),Items!$B$2:$G$525,6)","v":"decimal(10,3)"},{"$f":"IF(VLOOKUP(UPPER(A230),Items!$B$2:$H$748,7,FALSE)<>0,VLOOKUP(UPPER(A230),Items!$B$2:$H$748,7,FALSE),\"\")","v":""},"Total System Originally-priced Adjustment Sell Volume","Populated for post-P217 Settlement Dates. This field will be null for pre-P217 Settlement Dates"]
[{"$f":"VLOOKUP(UPPER(M231),Items!$A$2:$B$748,2,FALSE)","v":"N0530"},"D",null,null,null,"O",null,null,null,null,{"$f":"VLOOKUP(UPPER(A231),Items!$B$2:$G$525,6)","v":"decimal(10,3)"},{"$f":"IF(VLOOKUP(UPPER(A231),Items!$B$2:$H$748,7,FALSE)<>0,VLOOKUP(UPPER(A231),Items!$B$2:$H$748,7,FALSE),\"\")","v":""},"Total System Originally-priced Adjustment Buy Volume","Populated for post-P217 Settlement Dates. This field will be null for pre-P217 Settlement Dates"]
[{"$f":"VLOOKUP(UPPER(M232),Items!$A$2:$B$748,2,FALSE)","v":"N0531"},"D",null,null,null,"O",null,null,null,null,{"$f":"VLOOKUP(UPPER(A232),Items!$B$2:$G$525,6)","v":"decimal(10,2)"},{"$f":"IF(VLOOKUP(UPPER(A232),Items!$B$2:$H$748,7,FALSE)<>0,VLOOKUP(UPPER(A232),Items!$B$2:$H$748,7,FALSE),\"\")","v":""},"Replacement Price","Populated for post-P217 Settlement Dates. This field will be null for pre-P217 Settlement Dates"]
[{"$f":"VLOOKUP(UPPER(M233),Items!$A$2:$B$748,2,FALSE)","v":"N0532"},"D",null,null,null,"O",null,null,null,null,{"$f":"VLOOKUP(UPPER(A233),Items!$B$2:$G$525,6)","v":"decimal(10,3)"},{"$f":"IF(VLOOKUP(UPPER(A233),Items!$B$2:$H$748,7,FALSE)<>0,VLOOKUP(UPPER(A233),Items!$B$2:$H$748,7,FALSE),\"\")","v":""},"Replacement Price Calculation Volume","Populated for post-P217 Settlement Dates. This field will be null for pre-P217 Settlement Dates"]
["MD2","R","0-*",null,null,"G",null,null,null,null,null,null,"Market Index Data Information"]
[{"$f":"VLOOKUP(UPPER(M235),Items!$A$2:$B$748,2,FALSE)","v":"N0423"},"D",null,null,null,null,1,null,null,null,{"$f":"VLOOKUP(UPPER(A235),Items!$B$2:$G$525,6)","v":"text(8)"},{"$f":"IF(VLOOKUP(UPPER(A235),Items!$B$2:$H$748,7,FALSE)<>0,VLOOKUP(UPPER(A235),Items!$B$2:$H$748,7,FALSE),\"\")","v":""},"Market Index Data Provider ID"]
[{"$f":"VLOOKUP(UPPER(M236),Items!$A$2:$B$748,2,FALSE)","v":"N0412"},"D",null,null,null,null,1,null,null,null,{"$f":"VLOOKUP(UPPER(A236),Items!$B$2:$G$525,6)","v":"decimal(10,3)"},{"$f":"IF(VLOOKUP(UPPER(A236),Items!$B$2:$H$748,7,FALSE)<>0,VLOOKUP(UPPER(A236),Items!$B$2:$H$748,7,FALSE),\"\")","v":""},"Individual Liquidity Threshold"]
[{"$f":"VLOOKUP(UPPER(M237),Items!$A$2:$B$748,2,FALSE)","v":"N0413"},"D",null,null,null,null,"O",null,null,null,{"$f":"VLOOKUP(UPPER(A237),Items!$B$2:$G$525,6)","v":"decimal(10,2)"},{"$f":"IF(VLOOKUP(UPPER(A237),Items!$B$2:$H$748,7,FALSE)<>0,VLOOKUP(UPPER(A237),Items!$B$2:$H$748,7,FALSE),\"\")","v":""},"Market Index Price","Null if no data provided by MIDP"]
[{"$f":"VLOOKUP(UPPER(M238),Items!$A$2:$B$748,2,FALSE)","v":"N0414"},"D",null,null,null,null,"O",null,null,null,{"$f":"VLOOKUP(UPPER(A238),Items!$B$2:$G$525,6)","v":"decimal(10,3)"},{"$f":"IF(VLOOKUP(UPPER(A238),Items!$B$2:$H$748,7,FALSE)<>0,VLOOKUP(UPPER(A238),Items!$B$2:$H$748,7,FALSE),\"\")","v":""},"Market Index Volume","Null if no data provided by MIDP"]
["DB2","R",1,null,"G",null,null,null,null,null,null,null,"Balancing Services Adjustment Action Data"]
[{"$f":"VLOOKUP(UPPER(M240),Items!$A$2:$B$525,2,FALSE)","v":"N0533"},"D",null,null,null,1,null,null,null,null,{"$f":"VLOOKUP(UPPER(A240),Items!$B$2:$G$525,6)","v":"integer(4)"},{"$f":"IF(VLOOKUP(UPPER(A240),Items!$B$2:$H$525,7,FALSE)<>0,VLOOKUP(UPPER(A240),Items!$B$2:$H$525,7,FALSE),\"\")","v":""},"Balancing Services Adjustment Action Id"]
[{"$f":"VLOOKUP(UPPER(M241),Items!$A$2:$B$525,2,FALSE)","v":"N0534"},"D",null,null,null,"O",null,null,null,null,{"$f":"VLOOKUP(UPPER(A241),Items!$B$2:$G$525,6)","v":"decimal(10,2)"},{"$f":"IF(VLOOKUP(UPPER(A241),Items!$B$2:$H$525,7,FALSE)<>0,VLOOKUP(UPPER(A241),Items!$B$2:$H$525,7,FALSE),\"\")","v":""},"Balancing Services Adjustment Action Cost","£ Null if Action is unpriced"]
[{"$f":"VLOOKUP(UPPER(M242),Items!$A$2:$B$525,2,FALSE)","v":"N0535"},"D",null,null,null,1,null,null,null,null,{"$f":"VLOOKUP(UPPER(A242),Items!$B$2:$G$525,6)","v":"decimal(10,3)"},{"$f":"IF(VLOOKUP(UPPER(A242),Items!$B$2:$H$525,7,FALSE)<>0,VLOOKUP(UPPER(A242),Items!$B$2:$H$525,7,FALSE),\"\")","v":""},"Balancing Services Adjustment Action Volume"]
[{"$f":"VLOOKUP(UPPER(M243),Items!$A$2:$B$525,2,FALSE)","v":"N0536"},"D",null,null,null,1,null,null,null,null,{"$f":"VLOOKUP(UPPER(A243),Items!$B$2:$G$525,6)","v":"decimal(10,3)"},{"$f":"IF(VLOOKUP(UPPER(A243),Items!$B$2:$H$525,7,FALSE)<>0,VLOOKUP(UPPER(A243),Items!$B$2:$H$525,7,FALSE),\"\")","v":""},"Tagged Balancing Services Adjustment Action Volume"]
[{"$f":"VLOOKUP(UPPER(M244),Items!$A$2:$B$525,2,FALSE)","v":"N0537"},"D",null,null,null,1,null,null,null,null,{"$f":"VLOOKUP(UPPER(A244),Items!$B$2:$G$525,6)","v":"decimal(10,3)"},{"$f":"IF(VLOOKUP(UPPER(A244),Items!$B$2:$H$525,7,FALSE)<>0,VLOOKUP(UPPER(A244),Items!$B$2:$H$525,7,FALSE),\"\")","v":""},"Repriced Balancing Services Adjustment Action Volume"]
[{"$f":"VLOOKUP(UPPER(M245),Items!$A$2:$B$525,2,FALSE)","v":"N0538"},"D",null,null,null,1,null,null,null,null,{"$f":"VLOOKUP(UPPER(A245),Items!$B$2:$G$525,6)","v":"decimal(10,3)"},{"$f":"IF(VLOOKUP(UPPER(A245),Items!$B$2:$H$525,7,FALSE)<>0,VLOOKUP(UPPER(A245),Items!$B$2:$H$525,7,FALSE),\"\")","v":""},"Originally-Priced Balancing Services Adjustment Action Volume"]
[{"$f":"VLOOKUP(UPPER(M246),Items!$A$2:$B$639,2,FALSE)","v":"N0539"},"D",null,null,null,1,null,null,null,null,{"$f":"VLOOKUP(UPPER(A246),Items!$B$2:$G$525,6)","v":"boolean"},{"$f":"IF(VLOOKUP(UPPER(A246),Items!$B$2:$H$748,7,FALSE)<>0,VLOOKUP(UPPER(A246),Items!$B$2:$H$748,7,FALSE),\"\")","v":""},"Balancing Services Adjustment Action SO-Flag"]
["TRA","R","1-*",null,"G",null,null,null,null,null,null,null,"Trading Unit Period Information"]
[{"$f":"VLOOKUP(UPPER(M248),Items!$A$2:$B$525,2,FALSE)","v":"N0232"},"D",null,null,null,1,null,null,null,null,{"$f":"VLOOKUP(UPPER(A248),Items!$B$2:$G$525,6)","v":"text(30)"},{"$f":"IF(VLOOKUP(UPPER(A248),Items!$B$2:$H$525,7,FALSE)<>0,VLOOKUP(UPPER(A248),Items!$B$2:$H$525,7,FALSE),\"\")","v":""},"Trading Unit Name"]
[{"$f":"VLOOKUP(UPPER(M249),Items!$A$2:$B$525,2,FALSE)","v":"N0231"},"D",null,null,null,1,null,null,null,null,{"$f":"VLOOKUP(UPPER(A249),Items!$B$2:$G$525,6)","v":"decimal(10,3)"},{"$f":"IF(VLOOKUP(UPPER(A249),Items!$B$2:$H$525,7,FALSE)<>0,VLOOKUP(UPPER(A249),Items!$B$2:$H$525,7,FALSE),\"\")","v":""},"Total Trading Unit Metered Volume","MWh"]
["BUI","R","1-*",null,"G",null,null,null,null,null,null,null,"BM Unit Period Information"]
[{"$f":"VLOOKUP(UPPER(M251),Items!$A$2:$B$525,2,FALSE)","v":"N0034"},"D",null,null,null,1,null,null,null,null,{"$f":"VLOOKUP(UPPER(A251),Items!$B$2:$G$525,6)","v":"text(11)"},{"$f":"IF(VLOOKUP(UPPER(A251),Items!$B$2:$H$525,7,FALSE)<>0,VLOOKUP(UPPER(A251),Items!$B$2:$H$525,7,FALSE),\"\")","v":""},"BM Unit Id"]
[{"$f":"VLOOKUP(UPPER(M252),Items!$A$2:$B$525,2,FALSE)","v":"N0232"},{"$f":"IF(LEN(K252)>0,\"D\",IF(LEN(A252)=5,\"F\",IF(LEN(A252)=3,\"R\",\" \")))","v":"D"},null,null,null,"O",null,null,null,null,{"$f":"VLOOKUP(UPPER(A252),Items!$B$2:$G$525,6)","v":"text(30)"},{"$f":"IF(VLOOKUP(UPPER(A252),Items!$B$2:$H$525,7,FALSE)<>0,VLOOKUP(UPPER(A252),Items!$B$2:$H$525,7,FALSE),\"\")","v":""},"Trading Unit Name","Omit if \"default\" trading unit"]
[{"$f":"VLOOKUP(UPPER(M253),Items!$A$2:$B$525,2,FALSE)","v":"N0174"},"D",null,null,null,1,null,null,null,null,{"$f":"VLOOKUP(UPPER(A253),Items!$B$2:$G$525,6)","v":"decimal(10,3)"},{"$f":"IF(VLOOKUP(UPPER(A253),Items!$B$2:$H$525,7,FALSE)<>0,VLOOKUP(UPPER(A253),Items!$B$2:$H$525,7,FALSE),\"\")","v":""},"Period FPN","MWh"]
[{"$f":"VLOOKUP(UPPER(M254),Items!$A$2:$B$525,2,FALSE)","v":"N0035"},"D",null,null,null,1,null,null,null,null,{"$f":"VLOOKUP(UPPER(A254),Items!$B$2:$G$525,6)","v":"decimal(10,3)"},{"$f":"IF(VLOOKUP(UPPER(A254),Items!$B$2:$H$525,7,FALSE)<>0,VLOOKUP(UPPER(A254),Items!$B$2:$H$525,7,FALSE),\"\")","v":""},"BM Unit Metered Volume","MWh"]
[{"$f":"VLOOKUP(UPPER(M255),Items!$A$2:$B$525,2,FALSE)","v":"N0234"},"D",null,null,null,1,null,null,null,null,{"$f":"VLOOKUP(UPPER(A255),Items!$B$2:$G$525,6)","v":"decimal(8,7)"},{"$f":"IF(VLOOKUP(UPPER(A255),Items!$B$2:$H$525,7,FALSE)<>0,VLOOKUP(UPPER(A255),Items!$B$2:$H$525,7,FALSE),\"\")","v":""},"Transmission Loss Multiplier"]
[{"$f":"VLOOKUP(UPPER(M256),Items!$A$2:$B$748,2,FALSE)","v":"N0421"},"D",null,null,null,1,null,null,null,null,{"$f":"VLOOKUP(UPPER(A256),Items!$B$2:$G$525,6)","v":"decimal(10,3)"},{"$f":"IF(VLOOKUP(UPPER(A256),Items!$B$2:$H$748,7,FALSE)<>0,VLOOKUP(UPPER(A256),Items!$B$2:$H$748,7,FALSE),\"\")","v":""},"BM Unit Applicable Balancing Services Volume","MWh"]
["BBO","R","0-*",null,null,"G",null,null,null,null,null,null,"BM Unit Period Bid-Offer Information"]
[{"$f":"VLOOKUP(UPPER(M258),Items!$A$2:$B$525,2,FALSE)","v":"N0025"},"D",null,null,null,null,1,null,null,null,{"$f":"VLOOKUP(UPPER(A258),Items!$B$2:$G$525,6)","v":"integer(2)"},{"$f":"IF(VLOOKUP(UPPER(A258),Items!$B$2:$H$525,7,FALSE)<>0,VLOOKUP(UPPER(A258),Items!$B$2:$H$525,7,FALSE),\"\")","v":""},"Bid-Offer Pair Number"]
[{"$f":"VLOOKUP(UPPER(M259),Items!$A$2:$B$525,2,FALSE)","v":"N0030"},"D",null,null,null,null,"O",null,null,null,{"$f":"VLOOKUP(UPPER(A259),Items!$B$2:$G$525,6)","v":"decimal(10,5)"},{"$f":"IF(VLOOKUP(UPPER(A259),Items!$B$2:$H$525,7,FALSE)<>0,VLOOKUP(UPPER(A259),Items!$B$2:$H$525,7,FALSE),\"\")","v":""},"Bid Price"]
[{"$f":"VLOOKUP(UPPER(M260),Items!$A$2:$B$525,2,FALSE)","v":"N0153"},"D",null,null,null,null,"O",null,null,null,{"$f":"VLOOKUP(UPPER(A260),Items!$B$2:$G$525,6)","v":"decimal(10,5)"},{"$f":"IF(VLOOKUP(UPPER(A260),Items!$B$2:$H$525,7,FALSE)<>0,VLOOKUP(UPPER(A260),Items!$B$2:$H$525,7,FALSE),\"\")","v":""},"Offer Price"]
["BO2","R","0-*",null,null,null,"G",null,null,null,null,null,"BMU Period Bid-Offer Value Pair"]
[{"$f":"VLOOKUP(UPPER(M262),Items!$A$2:$B$525,2,FALSE)","v":"N0220"},"D",null,null,null,null,null,1,null,null,{"$f":"VLOOKUP(UPPER(A262),Items!$B$2:$G$525,6)","v":"integer(2)"},{"$f":"IF(VLOOKUP(UPPER(A262),Items!$B$2:$H$525,7,FALSE)<>0,VLOOKUP(UPPER(A262),Items!$B$2:$H$525,7,FALSE),\"\")","v":""},"Time from","minutes from start of period"]
[{"$f":"VLOOKUP(UPPER(M263),Items!$A$2:$B$525,2,FALSE)","v":"N0028"},"D",null,null,null,null,null,"O",null,null,{"$f":"VLOOKUP(UPPER(A263),Items!$B$2:$G$525,6)","v":"decimal(10,3)"},{"$f":"IF(VLOOKUP(UPPER(A263),Items!$B$2:$H$525,7,FALSE)<>0,VLOOKUP(UPPER(A263),Items!$B$2:$H$525,7,FALSE),\"\")","v":""},"Bid Offer Volume Value From"]
[{"$f":"VLOOKUP(UPPER(M264),Items!$A$2:$B$525,2,FALSE)","v":"N0221"},"D",null,null,null,null,null,1,null,null,{"$f":"VLOOKUP(UPPER(A264),Items!$B$2:$G$525,6)","v":"integer(2)"},{"$f":"IF(VLOOKUP(UPPER(A264),Items!$B$2:$H$525,7,FALSE)<>0,VLOOKUP(UPPER(A264),Items!$B$2:$H$525,7,FALSE),\"\")","v":""},"Time To","minutes from start of period"]
[{"$f":"VLOOKUP(UPPER(M265),Items!$A$2:$B$525,2,FALSE)","v":"N0029"},"D",null,null,null,null,null,"O",null,null,{"$f":"VLOOKUP(UPPER(A265),Items!$B$2:$G$525,6)","v":"decimal(10,3)"},{"$f":"IF(VLOOKUP(UPPER(A265),Items!$B$2:$H$525,7,FALSE)<>0,VLOOKUP(UPPER(A265),Items!$B$2:$H$525,7,FALSE),\"\")","v":""},"Bid Offer Volume Value To"]
["MEL","R","0-*",null,null,"G",null,null,null,null,null,null,"Maximum Export Limit Information"]
[{"$f":"VLOOKUP(UPPER(M267),Items!$A$2:$B$525,2,FALSE)","v":"N0220"},"D",null,null,null,null,1,null,null,null,{"$f":"VLOOKUP(UPPER(A267),Items!$B$2:$G$525,6)","v":"integer(2)"},{"$f":"IF(VLOOKUP(UPPER(A267),Items!$B$2:$H$525,7,FALSE)<>0,VLOOKUP(UPPER(A267),Items!$B$2:$H$525,7,FALSE),\"\")","v":""},"Time From","minutes from start of period"]
[{"$f":"VLOOKUP(UPPER(M268),Items!$A$2:$B$525,2,FALSE)","v":"N0130"},"D",null,null,null,null,"O",null,null,null,{"$f":"VLOOKUP(UPPER(A268),Items!$B$2:$G$525,6)","v":"decimal(10,3)"},{"$f":"IF(VLOOKUP(UPPER(A268),Items!$B$2:$H$525,7,FALSE)<>0,VLOOKUP(UPPER(A268),Items!$B$2:$H$525,7,FALSE),\"\")","v":""},"Level From","MW"]
[{"$f":"VLOOKUP(UPPER(M269),Items!$A$2:$B$525,2,FALSE)","v":"N0221"},"D",null,null,null,null,1,null,null,null,{"$f":"VLOOKUP(UPPER(A269),Items!$B$2:$G$525,6)","v":"integer(2)"},{"$f":"IF(VLOOKUP(UPPER(A269),Items!$B$2:$H$525,7,FALSE)<>0,VLOOKUP(UPPER(A269),Items!$B$2:$H$525,7,FALSE),\"\")","v":""},"Time To","minutes from start of period"]
[{"$f":"VLOOKUP(UPPER(M270),Items!$A$2:$B$525,2,FALSE)","v":"N0131"},"D",null,null,null,null,"O",null,null,null,{"$f":"VLOOKUP(UPPER(A270),Items!$B$2:$G$525,6)","v":"decimal(10,3)"},{"$f":"IF(VLOOKUP(UPPER(A270),Items!$B$2:$H$525,7,FALSE)<>0,VLOOKUP(UPPER(A270),Items!$B$2:$H$525,7,FALSE),\"\")","v":""},"Level To","MW"]
["MIL","R","0-*",null,null,"G",null,null,null,null,null,null,"Maximum Import Limit Information"," "]
[{"$f":"VLOOKUP(UPPER(M272),Items!$A$2:$B$525,2,FALSE)","v":"N0220"},"D",null,null,null,null,1,null,null,null,{"$f":"VLOOKUP(UPPER(A272),Items!$B$2:$G$525,6)","v":"integer(2)"},{"$f":"IF(VLOOKUP(UPPER(A272),Items!$B$2:$H$525,7,FALSE)<>0,VLOOKUP(UPPER(A272),Items!$B$2:$H$525,7,FALSE),\"\")","v":""},"Time From","minutes from start of period"]
[{"$f":"VLOOKUP(UPPER(M273),Items!$A$2:$B$525,2,FALSE)","v":"N0130"},"D",null,null,null,null,"O",null,null,null,{"$f":"VLOOKUP(UPPER(A273),Items!$B$2:$G$525,6)","v":"decimal(10,3)"},{"$f":"IF(VLOOKUP(UPPER(A273),Items!$B$2:$H$525,7,FALSE)<>0,VLOOKUP(UPPER(A273),Items!$B$2:$H$525,7,FALSE),\"\")","v":""},"Level From","MW"]
[{"$f":"VLOOKUP(UPPER(M274),Items!$A$2:$B$525,2,FALSE)","v":"N0221"},"D",null,null,null,null,1,null,null,null,{"$f":"VLOOKUP(UPPER(A274),Items!$B$2:$G$525,6)","v":"integer(2)"},{"$f":"IF(VLOOKUP(UPPER(A274),Items!$B$2:$H$525,7,FALSE)<>0,VLOOKUP(UPPER(A274),Items!$B$2:$H$525,7,FALSE),\"\")","v":""},"Time To","minutes from start of period"]
[{"$f":"VLOOKUP(UPPER(M275),Items!$A$2:$B$525,2,FALSE)","v":"N0131"},"D",null,null,null,null,"O",null,null,null,{"$f":"VLOOKUP(UPPER(A275),Items!$B$2:$G$525,6)","v":"decimal(10,3)"},{"$f":"IF(VLOOKUP(UPPER(A275),Items!$B$2:$H$525,7,FALSE)<>0,VLOOKUP(UPPER(A275),Items!$B$2:$H$525,7,FALSE),\"\")","v":""},"Level To","MW"]
[]
["S0143",{"$f":"IF(LEN(K277)>0,\"D\",IF(LEN(A277)=5,\"F\",IF(LEN(A277)=3,\"R\",\" \")))","v":"F"},"008",null,null,null,null,null,null,null,null,null,"SAA-I014: Settlement Report: sub-flow 3"]
[null," "]
["SRH","R",1,"G",null,null,null,null,null,null,null,null,"Settlement Report Header"]
[{"$f":"VLOOKUP(UPPER(M280),Items!$A$2:$B$525,2,FALSE)","v":"N0200"},"D",null,null,1,null,null,null,null,null,{"$f":"VLOOKUP(UPPER(A280),Items!$B$2:$G$525,6)","v":"date"},{"$f":"IF(VLOOKUP(UPPER(A280),Items!$B$2:$H$525,7,FALSE)<>0,VLOOKUP(UPPER(A280),Items!$B$2:$H$525,7,FALSE),\"\")","v":""},"Settlement Date"]
[{"$f":"VLOOKUP(UPPER(M281),Items!$A$2:$B$525,2,FALSE)","v":"N0202"},"D",null,null,1,null,null,null,null,null,{"$f":"VLOOKUP(UPPER(A281),Items!$B$2:$G$525,6)","v":"text(2)"},{"$f":"IF(VLOOKUP(UPPER(A281),Items!$B$2:$H$525,7,FALSE)<>0,VLOOKUP(UPPER(A281),Items!$B$2:$H$525,7,FALSE),\"\")","v":"Run Type"},"Settlement Run Type"]
[{"$f":"VLOOKUP(UPPER(M282),Items!$A$2:$B$639,2,FALSE)","v":"N0304"},"D",null,null,1,null,null,null,null,null,{"$f":"VLOOKUP(UPPER(A282),Items!$B$2:$G$525,6)","v":"integer(2)"},{"$f":"IF(VLOOKUP(UPPER(A282),Items!$B$2:$H$525,7,FALSE)<>0,VLOOKUP(UPPER(A282),Items!$B$2:$H$525,7,FALSE),\"\")","v":""},"SAA Run Number"]
[{"$f":"VLOOKUP(UPPER(M283),Items!$A$2:$B$639,2,FALSE)","v":"N0385"},"D",null,null,1,null,null,null,null,null,{"$f":"VLOOKUP(UPPER(A283),Items!$B$2:$G$525,6)","v":"integer(2)"},{"$f":"IF(VLOOKUP(UPPER(A283),Items!$B$2:$H$525,7,FALSE)<>0,VLOOKUP(UPPER(A283),Items!$B$2:$H$525,7,FALSE),\"\")","v":""},"SAA CDCA Run Number","CDCA run which generated volumes used directly by SAA"]
[{"$f":"VLOOKUP(UPPER(M284),Items!$A$2:$B$525,2,FALSE)","v":"N0383"},"D",null,null,1,null,null,null,null,null,{"$f":"VLOOKUP(UPPER(A284),Items!$B$2:$G$525,6)","v":"date"},{"$f":"IF(VLOOKUP(UPPER(A284),Items!$B$2:$H$525,7,FALSE)<>0,VLOOKUP(UPPER(A284),Items!$B$2:$H$525,7,FALSE),\"\")","v":""},"SVAA CDCA Settlement Date","CDCA settlement date from which GSP group take was used by SVAA"]
[{"$f":"VLOOKUP(UPPER(M285),Items!$A$2:$B$525,2,FALSE)","v":"N0384"},"D",null,null,1,null,null,null,null,null,{"$f":"VLOOKUP(UPPER(A285),Items!$B$2:$G$525,6)","v":"integer(2)"},{"$f":"IF(VLOOKUP(UPPER(A285),Items!$B$2:$H$525,7,FALSE)<>0,VLOOKUP(UPPER(A285),Items!$B$2:$H$525,7,FALSE),\"\")","v":""},"SVAA CDCA Run Number","CDCA run number from which GSP group take was used by SVAA"]
[{"$f":"VLOOKUP(UPPER(M286),Items!$A$2:$B$525,2,FALSE)","v":"N0211"},"D",null,null,1,null,null,null,null,null,{"$f":"VLOOKUP(UPPER(A286),Items!$B$2:$G$525,6)","v":"integer(7)"},{"$f":"IF(VLOOKUP(UPPER(A286),Items!$B$2:$H$525,7,FALSE)<>0,VLOOKUP(UPPER(A286),Items!$B$2:$H$525,7,FALSE),\"\")","v":""},"SVAA SSR Run Number"]
[{"$f":"VLOOKUP(UPPER(M287),Items!$A$2:$B$525,2,FALSE)","v":"N0045"},"D",null,null,1,null,null,null,null,null,{"$f":"VLOOKUP(UPPER(A287),Items!$B$2:$G$525,6)","v":"text(8)"},{"$f":"IF(VLOOKUP(UPPER(A287),Items!$B$2:$H$525,7,FALSE)<>0,VLOOKUP(UPPER(A287),Items!$B$2:$H$525,7,FALSE),\"\")","v":""},"BSC Party Id"]
["BPY","R","1-*","G",null,null,null,null,null,null,null,null,"BSC Party Information"]
[{"$f":"VLOOKUP(UPPER(M289),Items!$A$2:$B$525,2,FALSE)","v":"N0045"},"D",null,null,1,null,null,null,null,null,{"$f":"VLOOKUP(UPPER(A289),Items!$B$2:$G$525,6)","v":"text(8)"},{"$f":"IF(VLOOKUP(UPPER(A289),Items!$B$2:$H$525,7,FALSE)<>0,VLOOKUP(UPPER(A289),Items!$B$2:$H$525,7,FALSE),\"\")","v":""},"BSC Party Id"]
["APC","R",1,null,"G",null,null,null,null,null,null,null,"Aggregate Party Day Charges"]
[{"$f":"VLOOKUP(UPPER(M291),Items!$A$2:$B$525,2,FALSE)","v":"N0048"},"D",null,null,null,1,null,null,null,null,{"$f":"VLOOKUP(UPPER(A291),Items!$B$2:$G$525,6)","v":"decimal(10,2)"},{"$f":"IF(VLOOKUP(UPPER(A291),Items!$B$2:$H$525,7,FALSE)<>0,VLOOKUP(UPPER(A291),Items!$B$2:$H$525,7,FALSE),\"\")","v":""},"BSSC Limited Cost Allocation"]
[{"$f":"VLOOKUP(UPPER(M292),Items!$A$2:$B$525,2,FALSE)","v":"N0031"},"D",null,null,null,1,null,null,null,null,{"$f":"VLOOKUP(UPPER(A292),Items!$B$2:$G$525,6)","v":"decimal(10,2)"},{"$f":"IF(VLOOKUP(UPPER(A292),Items!$B$2:$H$525,7,FALSE)<>0,VLOOKUP(UPPER(A292),Items!$B$2:$H$525,7,FALSE),\"\")","v":""},"BM Unit Cashflow"]
[{"$f":"VLOOKUP(UPPER(M293),Items!$A$2:$B$525,2,FALSE)","v":"N0086"},"D",null,null,null,1,null,null,null,null,{"$f":"VLOOKUP(UPPER(A293),Items!$B$2:$G$525,6)","v":"decimal(10,2)"},{"$f":"IF(VLOOKUP(UPPER(A293),Items!$B$2:$H$525,7,FALSE)<>0,VLOOKUP(UPPER(A293),Items!$B$2:$H$525,7,FALSE),\"\")","v":""},"Energy Imbalance Cashflow"]
[{"$f":"VLOOKUP(UPPER(M294),Items!$A$2:$B$525,2,FALSE)","v":"N0122"},"D",null,null,null,1,null,null,null,null,{"$f":"VLOOKUP(UPPER(A294),Items!$B$2:$G$525,6)","v":"decimal(10,2)"},{"$f":"IF(VLOOKUP(UPPER(A294),Items!$B$2:$H$525,7,FALSE)<>0,VLOOKUP(UPPER(A294),Items!$B$2:$H$525,7,FALSE),\"\")","v":""},"Information Imbalance Cashflow"]
[{"$f":"VLOOKUP(UPPER(M295),Items!$A$2:$B$525,2,FALSE)","v":"N0151"},"D",null,null,null,1,null,null,null,null,{"$f":"VLOOKUP(UPPER(A295),Items!$B$2:$G$525,6)","v":"decimal(10,2)"},{"$f":"IF(VLOOKUP(UPPER(A295),Items!$B$2:$H$525,7,FALSE)<>0,VLOOKUP(UPPER(A295),Items!$B$2:$H$525,7,FALSE),\"\")","v":""},"Non-Delivery Charge"]
[{"$f":"VLOOKUP(UPPER(M296),Items!$A$2:$B$525,2,FALSE)","v":"N0194"},"D",null,null,null,1,null,null,null,null,{"$f":"VLOOKUP(UPPER(A296),Items!$B$2:$G$525,6)","v":"decimal(10,2)"},{"$f":"IF(VLOOKUP(UPPER(A296),Items!$B$2:$H$525,7,FALSE)<>0,VLOOKUP(UPPER(A296),Items!$B$2:$H$525,7,FALSE),\"\")","v":""},"Residual Cashflow Reallocation Charge"]
[{"$f":"VLOOKUP(UPPER(M297),Items!$A$2:$B$525,2,FALSE)","v":"N0214"},"D",null,null,null,1,null,null,null,null,{"$f":"VLOOKUP(UPPER(A297),Items!$B$2:$G$525,6)","v":"decimal(10,2)"},{"$f":"IF(VLOOKUP(UPPER(A297),Items!$B$2:$H$525,7,FALSE)<>0,VLOOKUP(UPPER(A297),Items!$B$2:$H$525,7,FALSE),\"\")","v":""},"Daily System Operator Cashflow"]
["SPS","R","46-50","G",null,null,null,null,null,null,null,null,"Settlement Period Summary","either 46 or 48 or 50"]
[{"$f":"VLOOKUP(UPPER(M299),Items!$A$2:$B$525,2,FALSE)","v":"N0201"},"D",null,null,1,null,null,null,null,null,{"$f":"VLOOKUP(UPPER(A299),Items!$B$2:$G$525,6)","v":"integer(2)"},{"$f":"IF(VLOOKUP(UPPER(A299),Items!$B$2:$H$525,7,FALSE)<>0,VLOOKUP(UPPER(A299),Items!$B$2:$H$525,7,FALSE),\"\")","v":""},"Settlement Period"]
[{"$f":"VLOOKUP(UPPER(M300),Items!$A$2:$B$639,2,FALSE)","v":"N0312"},"D",null,null,1,null,null,null,null,null,{"$f":"VLOOKUP(UPPER(A300),Items!$B$2:$G$525,6)","v":"decimal(10,3)"},{"$f":"IF(VLOOKUP(UPPER(A300),Items!$B$2:$H$525,7,FALSE)<>0,VLOOKUP(UPPER(A300),Items!$B$2:$H$525,7,FALSE),\"\")","v":""},"Total Demand","MWh"]
[{"$f":"VLOOKUP(UPPER(M301),Items!$A$2:$B$639,2,FALSE)","v":"N0316"},"D",null,null,"O",null,null,null,null,null,{"$f":"VLOOKUP(UPPER(A301),Items!$B$2:$G$525,6)","v":"decimal(10,3)"},{"$f":"IF(VLOOKUP(UPPER(A301),Items!$B$2:$H$525,7,FALSE)<>0,VLOOKUP(UPPER(A301),Items!$B$2:$H$525,7,FALSE),\"\")","v":""},"Notional Reserve Limit","Null"]
[{"$f":"VLOOKUP(UPPER(M302),Items!$A$2:$B$639,2,FALSE)","v":"N0317"},"D",null,null,1,null,null,null,null,null,{"$f":"VLOOKUP(UPPER(A302),Items!$B$2:$G$525,6)","v":"boolean"},{"$f":"IF(VLOOKUP(UPPER(A302),Items!$B$2:$H$525,7,FALSE)<>0,VLOOKUP(UPPER(A302),Items!$B$2:$H$525,7,FALSE),\"\")","v":""},"Arbitrage Flag"]
[{"$f":"VLOOKUP(UPPER(M303),Items!$A$2:$B$639,2,FALSE)","v":"N0391"},"D",null,null,1,null,null,null,null,null,{"$f":"VLOOKUP(UPPER(A303),Items!$B$2:$G$525,6)","v":"integer(2)"},{"$f":"IF(VLOOKUP(UPPER(A303),Items!$B$2:$H$525,7,FALSE)<>0,VLOOKUP(UPPER(A303),Items!$B$2:$H$525,7,FALSE),\"\")","v":""},"Continuous Acceptance Duration Limit"]
[{"$f":"VLOOKUP(UPPER(M304),Items!$A$2:$B$639,2,FALSE)","v":"N0392"},"D",null,null,1,null,null,null,null,null,{"$f":"VLOOKUP(UPPER(A304),Items!$B$2:$G$525,6)","v":"decimal(10,3)"},{"$f":"IF(VLOOKUP(UPPER(A304),Items!$B$2:$H$525,7,FALSE)<>0,VLOOKUP(UPPER(A304),Items!$B$2:$H$525,7,FALSE),\"\")","v":""},"De Minimis Acceptance Threshold"]
["SSD","R",1,null,"G",null,null,null,null,null,null,null,"System Period Data"]
[{"$f":"VLOOKUP(UPPER(M306),Items!$A$2:$B$525,2,FALSE)","v":"N0172"},"D",null,null,null,1,null,null,null,null,{"$f":"VLOOKUP(UPPER(A306),Items!$B$2:$G$525,6)","v":"decimal(10,2)"},{"$f":"IF(VLOOKUP(UPPER(A306),Items!$B$2:$H$525,7,FALSE)<>0,VLOOKUP(UPPER(A306),Items!$B$2:$H$525,7,FALSE),\"\")","v":""},"Period BSSC Limited Costs"]
[{"$f":"VLOOKUP(UPPER(M307),Items!$A$2:$B$525,2,FALSE)","v":"N0213"},"D",null,null,null,1,null,null,null,null,{"$f":"VLOOKUP(UPPER(A307),Items!$B$2:$G$525,6)","v":"decimal(10,2)"},{"$f":"IF(VLOOKUP(UPPER(A307),Items!$B$2:$H$525,7,FALSE)<>0,VLOOKUP(UPPER(A307),Items!$B$2:$H$525,7,FALSE),\"\")","v":""},"System Operator Cashflow"]
[{"$f":"VLOOKUP(UPPER(M308),Items!$A$2:$B$525,2,FALSE)","v":"N0124"},"D",null,null,null,1,null,null,null,null,{"$f":"VLOOKUP(UPPER(A308),Items!$B$2:$G$525,6)","v":"decimal(10,5)"},{"$f":"IF(VLOOKUP(UPPER(A308),Items!$B$2:$H$525,7,FALSE)<>0,VLOOKUP(UPPER(A308),Items!$B$2:$H$525,7,FALSE),\"\")","v":""},"Information Imbalance Price 1"]
[{"$f":"VLOOKUP(UPPER(M309),Items!$A$2:$B$525,2,FALSE)","v":"N0125"},"D",null,null,null,1,null,null,null,null,{"$f":"VLOOKUP(UPPER(A309),Items!$B$2:$G$525,6)","v":"decimal(10,5)"},{"$f":"IF(VLOOKUP(UPPER(A309),Items!$B$2:$H$525,7,FALSE)<>0,VLOOKUP(UPPER(A309),Items!$B$2:$H$525,7,FALSE),\"\")","v":""},"Information Imbalance Price 2"]
[{"$f":"VLOOKUP(UPPER(M310),Items!$A$2:$B$525,2,FALSE)","v":"N0212"},"D",null,null,null,1,null,null,null,null,{"$f":"VLOOKUP(UPPER(A310),Items!$B$2:$G$525,6)","v":"decimal(10,5)"},{"$f":"IF(VLOOKUP(UPPER(A310),Items!$B$2:$H$525,7,FALSE)<>0,VLOOKUP(UPPER(A310),Items!$B$2:$H$525,7,FALSE),\"\")","v":""},"System Buy Price"]
[{"$f":"VLOOKUP(UPPER(M311),Items!$A$2:$B$525,2,FALSE)","v":"N0215"},"D",null,null,null,1,null,null,null,null,{"$f":"VLOOKUP(UPPER(A311),Items!$B$2:$G$525,6)","v":"decimal(10,5)"},{"$f":"IF(VLOOKUP(UPPER(A311),Items!$B$2:$H$525,7,FALSE)<>0,VLOOKUP(UPPER(A311),Items!$B$2:$H$525,7,FALSE),\"\")","v":""},"System Sell Price"]
[{"$f":"VLOOKUP(UPPER(M312),Items!$A$2:$B$639,2,FALSE)","v":"N0439"},"D",null,null,null,1,null,null,null,null,{"$f":"VLOOKUP(UPPER(A312),Items!$B$2:$G$525,6)","v":"text(2)"},{"$f":"IF(VLOOKUP(UPPER(A312),Items!$B$2:$H$748,7,FALSE)<>0,VLOOKUP(UPPER(A312),Items!$B$2:$H$748,7,FALSE),\"\")","v":"Price Derivation Code"},"Price Derivation Code"]
[{"$f":"VLOOKUP(UPPER(M313),Items!$A$2:$B$525,2,FALSE)","v":"N0333"},"D",null,null,null,1,null,null,null,null,{"$f":"VLOOKUP(UPPER(A313),Items!$B$2:$G$525,6)","v":"decimal(10,2)"},{"$f":"IF(VLOOKUP(UPPER(A313),Items!$B$2:$H$525,7,FALSE)<>0,VLOOKUP(UPPER(A313),Items!$B$2:$H$525,7,FALSE),\"\")","v":""},"Total System BM Cashflow"]
[{"$f":"VLOOKUP(UPPER(M314),Items!$A$2:$B$525,2,FALSE)","v":"N0225"},"D",null,null,null,1,null,null,null,null,{"$f":"VLOOKUP(UPPER(A314),Items!$B$2:$G$525,6)","v":"decimal(10,2)"},{"$f":"IF(VLOOKUP(UPPER(A314),Items!$B$2:$H$525,7,FALSE)<>0,VLOOKUP(UPPER(A314),Items!$B$2:$H$525,7,FALSE),\"\")","v":""},"Total System Energy Imbalance Cashflow"]
[{"$f":"VLOOKUP(UPPER(M315),Items!$A$2:$B$525,2,FALSE)","v":"N0228"},"D",null,null,null,1,null,null,null,null,{"$f":"VLOOKUP(UPPER(A315),Items!$B$2:$G$525,6)","v":"decimal(10,2)"},{"$f":"IF(VLOOKUP(UPPER(A315),Items!$B$2:$H$525,7,FALSE)<>0,VLOOKUP(UPPER(A315),Items!$B$2:$H$525,7,FALSE),\"\")","v":""},"Total System Non-Delivery Charge"]
[{"$f":"VLOOKUP(UPPER(M316),Items!$A$2:$B$525,2,FALSE)","v":"N0216"},"D",null,null,null,1,null,null,null,null,"decimal(10,3)",{"$f":"IF(VLOOKUP(UPPER(A316),Items!$B$2:$H$525,7,FALSE)<>0,VLOOKUP(UPPER(A316),Items!$B$2:$H$525,7,FALSE),\"\")","v":""},"System Total Accepted Bid Volume"]
[{"$f":"VLOOKUP(UPPER(M317),Items!$A$2:$B$525,2,FALSE)","v":"N0386"},{"$f":"IF(LEN(K317)>0,\"D\",IF(LEN(A317)=5,\"F\",IF(LEN(A317)=3,\"R\",\" \")))","v":"D"},null,null,null,"O",null,null,null,null,{"$f":"VLOOKUP(UPPER(A317),Items!$B$2:$G$525,6)","v":"decimal(10,3)"},{"$f":"IF(VLOOKUP(UPPER(A317),Items!$B$2:$H$525,7,FALSE)<>0,VLOOKUP(UPPER(A317),Items!$B$2:$H$525,7,FALSE),\"\")","v":""},"System Total Unpriced Accepted Bid Volume","Populated for pre-P217 Settlement Dates. This field will be null for post-P217 Settlement Dates"]
[{"$f":"VLOOKUP(UPPER(M318),Items!$A$2:$B$525,2,FALSE)","v":"N0393"},{"$f":"IF(LEN(K318)>0,\"D\",IF(LEN(A318)=5,\"F\",IF(LEN(A318)=3,\"R\",\" \")))","v":"D"},null,null,null,1,null,null,null,null,{"$f":"VLOOKUP(UPPER(A318),Items!$B$2:$G$525,6)","v":"decimal(10,3)"},{"$f":"IF(VLOOKUP(UPPER(A318),Items!$B$2:$H$525,7,FALSE)<>0,VLOOKUP(UPPER(A318),Items!$B$2:$H$525,7,FALSE),\"\")","v":""},"System Total Priced Accepted Bid Volume"]
[{"$f":"VLOOKUP(UPPER(M319),Items!$A$2:$B$525,2,FALSE)","v":"N0224"},{"$f":"IF(LEN(K319)>0,\"D\",IF(LEN(A319)=5,\"F\",IF(LEN(A319)=3,\"R\",\" \")))","v":"D"},null,null,null,1,null,null,null,null,{"$f":"VLOOKUP(UPPER(A319),Items!$B$2:$G$525,6)","v":"decimal(10,3)"},{"$f":"IF(VLOOKUP(UPPER(A319),Items!$B$2:$H$525,7,FALSE)<>0,VLOOKUP(UPPER(A319),Items!$B$2:$H$525,7,FALSE),\"\")","v":""},"Total System Energy Contract Volume"]
[{"$f":"VLOOKUP(UPPER(M320),Items!$A$2:$B$748,2,FALSE)","v":"N0428"},{"$f":"IF(LEN(K320)>0,\"D\",IF(LEN(A320)=5,\"F\",IF(LEN(A320)=3,\"R\",\" \")))","v":"D"},null,null,null,"O",null,null,null,null,{"$f":"VLOOKUP(UPPER(A320),Items!$B$2:$G$525,6)","v":"decimal(10,3)"},{"$f":"IF(VLOOKUP(UPPER(A320),Items!$B$2:$H$748,7,FALSE)<>0,VLOOKUP(UPPER(A320),Items!$B$2:$H$748,7,FALSE),\"\")","v":""},"NIV Tagged System Total Unpriced Bid Volume","Populated for pre-P217 Settlement Dates. This field will be null for post-P217 Settlement Dates"]
["N0217","D",null,null,null,1,null,null,null,null,"decimal(10,3)",{"$f":"IF(VLOOKUP(UPPER(A321),Items!$B$2:$H$525,7,FALSE)<>0,VLOOKUP(UPPER(A321),Items!$B$2:$H$525,7,FALSE),\"\")","v":""},"Total System Accepted Offer Volume"]
[{"$f":"VLOOKUP(UPPER(M322),Items!$A$2:$B$748,2,FALSE)","v":"N0429"},{"$f":"IF(LEN(K322)>0,\"D\",IF(LEN(A322)=5,\"F\",IF(LEN(A322)=3,\"R\",\" \")))","v":"D"},null,null,null,"O",null,null,null,null,{"$f":"VLOOKUP(UPPER(A322),Items!$B$2:$G$525,6)","v":"decimal(10,3)"},null,"NIV Tagged System Total Unpriced Offer Volume","Populated for pre-P217 Settlement Dates. This field will be null for post-P217 Settlement Dates"]
[{"$f":"VLOOKUP(UPPER(M323),Items!$A$2:$B$748,2,FALSE)","v":"N0430"},"D",null,null,null,1,null,null,null,null,{"$f":"VLOOKUP(UPPER(A323),Items!$B$2:$G$525,6)","v":"decimal(10,3)"},null,"Net Imbalance Volume"]
[{"$f":"VLOOKUP(UPPER(M324),Items!$A$2:$B$748,2,FALSE)","v":"N0431"},"D",null,null,null,1,null,null,null,null,{"$f":"VLOOKUP(UPPER(A324),Items!$B$2:$G$525,6)","v":"decimal(10,3)"},null,"Total NIV Tagged Volume"]
[{"$f":"VLOOKUP(UPPER(M325),Items!$A$2:$B$748,2,FALSE)","v":"N0432"},"D",null,null,null,"O",null,null,null,null,{"$f":"VLOOKUP(UPPER(A325),Items!$B$2:$G$525,6)","v":"decimal(10,3)"},null,"NIV Tagged SBVA","Populated for pre-P217 Settlement Dates. This field will be null for post-P217 Settlement Dates"]
[{"$f":"VLOOKUP(UPPER(M326),Items!$A$2:$B$748,2,FALSE)","v":"N0433"},"D",null,null,null,"O",null,null,null,null,{"$f":"VLOOKUP(UPPER(A326),Items!$B$2:$G$525,6)","v":"decimal(10,3)"},null,"NIV Tagged SSVA","Populated for pre-P217 Settlement Dates. This field will be null for post-P217 Settlement Dates"]
[{"$f":"VLOOKUP(UPPER(M327),Items!$A$2:$B$525,2,FALSE)","v":"N0387"},"D",null,null,null,"O",null,null,null,null,{"$f":"VLOOKUP(UPPER(A327),Items!$B$2:$G$525,6)","v":"decimal(10,3)"},{"$f":"IF(VLOOKUP(UPPER(A327),Items!$B$2:$H$525,7,FALSE)<>0,VLOOKUP(UPPER(A327),Items!$B$2:$H$525,7,FALSE),\"\")","v":""},"System Total Unpriced Accepted Offer Volume","Populated for pre-P217 Settlement Dates. This field will be null for post-P217 Settlement Dates"]
[{"$f":"VLOOKUP(UPPER(M328),Items!$A$2:$B$525,2,FALSE)","v":"N0394"},"D",null,null,null,1,null,null,null,null,{"$f":"VLOOKUP(UPPER(A328),Items!$B$2:$G$525,6)","v":"decimal(10,3)"},{"$f":"IF(VLOOKUP(UPPER(A328),Items!$B$2:$H$525,7,FALSE)<>0,VLOOKUP(UPPER(A328),Items!$B$2:$H$525,7,FALSE),\"\")","v":""},"System Total Priced Accepted Offer Volume"]
[{"$f":"VLOOKUP(UPPER(M329),Items!$A$2:$B$525,2,FALSE)","v":"N0226"},"D",null,null,null,1,null,null,null,null,{"$f":"VLOOKUP(UPPER(A329),Items!$B$2:$G$525,6)","v":"decimal(10,3)"},{"$f":"IF(VLOOKUP(UPPER(A329),Items!$B$2:$H$525,7,FALSE)<>0,VLOOKUP(UPPER(A329),Items!$B$2:$H$525,7,FALSE),\"\")","v":""},"Total System Energy Imbalance Volume"]
[{"$f":"VLOOKUP(UPPER(M330),Items!$A$2:$B$525,2,FALSE)","v":"N0395"},"D",null,null,null,1,null,null,null,null,{"$f":"VLOOKUP(UPPER(A330),Items!$B$2:$G$525,6)","v":"decimal(10,3)"},{"$f":"IF(VLOOKUP(UPPER(A330),Items!$B$2:$H$525,7,FALSE)<>0,VLOOKUP(UPPER(A330),Items!$B$2:$H$525,7,FALSE),\"\")","v":""},"Residual Cashflow Reallocation Denominator"]
[{"$f":"VLOOKUP(UPPER(M331),Items!$A$2:$B$525,2,FALSE)","v":"N0230"},"D",null,null,null,1,null,null,null,null,{"$f":"VLOOKUP(UPPER(A331),Items!$B$2:$G$525,6)","v":"decimal(10,2)"},{"$f":"IF(VLOOKUP(UPPER(A331),Items!$B$2:$H$525,7,FALSE)<>0,VLOOKUP(UPPER(A331),Items!$B$2:$H$525,7,FALSE),\"\")","v":""},"Total System Residual Cashflow"]
[{"$f":"VLOOKUP(UPPER(M332),Items!$A$2:$B$525,2,FALSE)","v":"N0227"},"D",null,null,null,1,null,null,null,null,{"$f":"VLOOKUP(UPPER(A332),Items!$B$2:$G$525,6)","v":"decimal(10,2)"},{"$f":"IF(VLOOKUP(UPPER(A332),Items!$B$2:$H$525,7,FALSE)<>0,VLOOKUP(UPPER(A332),Items!$B$2:$H$525,7,FALSE),\"\")","v":""},"Total System Information Imbalance Charge"]
[{"$f":"VLOOKUP(UPPER(M333),Items!$A$2:$B$525,2,FALSE)","v":"N0420"},"D",null,null,null,"O",null,null,null,null,{"$f":"VLOOKUP(UPPER(A333),Items!$B$2:$G$525,6)","v":"decimal(10,2)"},{"$f":"IF(VLOOKUP(UPPER(A333),Items!$B$2:$H$525,7,FALSE)<>0,VLOOKUP(UPPER(A333),Items!$B$2:$H$525,7,FALSE),\"\")","v":""},"Net Energy Sell-Price Cost Adjustment","Populated for pre-P217 Settlement Dates. This field will be null for post-P217 Settlement Dates"]
[{"$f":"VLOOKUP(UPPER(M334),Items!$A$2:$B$525,2,FALSE)","v":"N0419"},"D",null,null,null,"O",null,null,null,null,{"$f":"VLOOKUP(UPPER(A334),Items!$B$2:$G$525,6)","v":"decimal(10,2)"},{"$f":"IF(VLOOKUP(UPPER(A334),Items!$B$2:$H$525,7,FALSE)<>0,VLOOKUP(UPPER(A334),Items!$B$2:$H$525,7,FALSE),\"\")","v":""},"Net Energy Buy-Price Cost Adjustment","Populated for pre-P217 Settlement Dates. This field will be null for post-P217 Settlement Dates"]
[{"$f":"VLOOKUP(UPPER(M335),Items!$A$2:$B$525,2,FALSE)","v":"N0418"},"D",null,null,null,"O",null,null,null,null,{"$f":"VLOOKUP(UPPER(A335),Items!$B$2:$G$525,6)","v":"decimal(10,3)"},{"$f":"IF(VLOOKUP(UPPER(A335),Items!$B$2:$H$525,7,FALSE)<>0,VLOOKUP(UPPER(A335),Items!$B$2:$H$525,7,FALSE),\"\")","v":""},"Net Energy Sell-Price Volume Adjustment","Populated for pre-P217 Settlement Dates. This field will be null for post-P217 Settlement Dates"]
[{"$f":"VLOOKUP(UPPER(M336),Items!$A$2:$B$525,2,FALSE)","v":"N0417"},"D",null,null,null,"O",null,null,null,null,{"$f":"VLOOKUP(UPPER(A336),Items!$B$2:$G$525,6)","v":"decimal(10,3)"},{"$f":"IF(VLOOKUP(UPPER(A336),Items!$B$2:$H$525,7,FALSE)<>0,VLOOKUP(UPPER(A336),Items!$B$2:$H$525,7,FALSE),\"\")","v":""},"Net Energy Buy-Price Volume Adjustment","Populated for pre-P217 Settlement Dates. This field will be null for post-P217 Settlement Dates"]
[{"$f":"VLOOKUP(UPPER(M337),Items!$A$2:$B$639,2,FALSE)","v":"N0416"},"D",null,null,null,"O",null,null,null,null,{"$f":"VLOOKUP(UPPER(A337),Items!$B$2:$G$525,6)","v":"decimal(10,3)"},{"$f":"IF(VLOOKUP(UPPER(A337),Items!$B$2:$H$748,7,FALSE)<>0,VLOOKUP(UPPER(A337),Items!$B$2:$H$748,7,FALSE),\"\")","v":""},"Net System Sell-Price Volume Adjustment","Populated for pre-P217 Settlement Dates. This field will be null for post-P217 Settlement Dates"]
[{"$f":"VLOOKUP(UPPER(M338),Items!$A$2:$B$748,2,FALSE)","v":"N0415"},"D",null,null,null,"O",null,null,null,null,{"$f":"VLOOKUP(UPPER(A338),Items!$B$2:$G$525,6)","v":"decimal(10,3)"},{"$f":"IF(VLOOKUP(UPPER(A338),Items!$B$2:$H$748,7,FALSE)<>0,VLOOKUP(UPPER(A338),Items!$B$2:$H$748,7,FALSE),\"\")","v":""},"Net System Buy-Price Volume Adjustment","Populated for pre-P217 Settlement Dates. This field will be null for post-P217 Settlement Dates"]
[{"$f":"VLOOKUP(UPPER(M339),Items!$A$2:$B$525,2,FALSE)","v":"N0371"},"D",null,null,null,1,null,null,null,null,{"$f":"VLOOKUP(UPPER(A339),Items!$B$2:$G$525,6)","v":"decimal(10,2)"},{"$f":"IF(VLOOKUP(UPPER(A339),Items!$B$2:$H$525,7,FALSE)<>0,VLOOKUP(UPPER(A339),Items!$B$2:$H$525,7,FALSE),\"\")","v":""},"Sell-Price Price Adjust"]
[{"$f":"VLOOKUP(UPPER(M340),Items!$A$2:$B$525,2,FALSE)","v":"N0372"},"D",null,null,null,1,null,null,null,null,{"$f":"VLOOKUP(UPPER(A340),Items!$B$2:$G$525,6)","v":"decimal(10,2)"},{"$f":"IF(VLOOKUP(UPPER(A340),Items!$B$2:$H$525,7,FALSE)<>0,VLOOKUP(UPPER(A340),Items!$B$2:$H$525,7,FALSE),\"\")","v":""},"Buy-Price Price Adjust"]
[{"$f":"VLOOKUP(UPPER(M341),Items!$A$2:$B$748,2,FALSE)","v":"N0438"},"D",null,null,null,1,null,null,null,null,{"$f":"VLOOKUP(UPPER(A341),Items!$B$2:$G$525,6)","v":"decimal(10,3)"},{"$f":"IF(VLOOKUP(UPPER(A341),Items!$B$2:$H$748,7,FALSE)<>0,VLOOKUP(UPPER(A341),Items!$B$2:$H$748,7,FALSE),\"\")","v":""},"Total Period Applicable Balancing Services Volume","MWh"]
[{"$f":"VLOOKUP(UPPER(M342),Items!$A$2:$B$525,2,FALSE)","v":"N0335"},"D",null,null,null,1,null,null,null,null,{"$f":"VLOOKUP(UPPER(A342),Items!$B$2:$G$525,6)","v":"decimal(10,3)"},null,"System Operator Production Imbalance"]
[{"$f":"VLOOKUP(UPPER(M343),Items!$A$2:$B$525,2,FALSE)","v":"N0336"},"D",null,null,null,1,null,null,null,null,{"$f":"VLOOKUP(UPPER(A343),Items!$B$2:$G$525,6)","v":"decimal(10,3)"},null,"System Operator Consumption Imbalance"]
[{"$f":"VLOOKUP(UPPER(M344),Items!$A$2:$B$748,2,FALSE)","v":"N0501"},"D",null,null,null,"O",null,null,null,null,{"$f":"VLOOKUP(UPPER(A344),Items!$B$2:$G$525,6)","v":"decimal(10,3)"},{"$f":"IF(VLOOKUP(UPPER(A344),Items!$B$2:$H$748,7,FALSE)<>0,VLOOKUP(UPPER(A344),Items!$B$2:$H$748,7,FALSE),\"\")","v":""},"NIV Tagged Energy Buy Volume Adjustment","Populated for pre-P217 Settlement Dates. These fields will be null for all other Settlement Dates."]
[{"$f":"VLOOKUP(UPPER(M345),Items!$A$2:$B$748,2,FALSE)","v":"N0502"},"D",null,null,null,"O",null,null,null,null,{"$f":"VLOOKUP(UPPER(A345),Items!$B$2:$G$525,6)","v":"decimal(10,3)"},{"$f":"IF(VLOOKUP(UPPER(A345),Items!$B$2:$H$748,7,FALSE)<>0,VLOOKUP(UPPER(A345),Items!$B$2:$H$748,7,FALSE),\"\")","v":""},"NIV Tagged Energy Sell Volume Adjustment","Populated for pre-P217 Settlement Dates. These fields will be null for all other Settlement Dates."]
[{"$f":"VLOOKUP(UPPER(M346),Items!$A$2:$B$748,2,FALSE)","v":"N0503"},"D",null,null,null,"O",null,null,null,null,{"$f":"VLOOKUP(UPPER(A346),Items!$B$2:$G$525,6)","v":"decimal(10,3)"},{"$f":"IF(VLOOKUP(UPPER(A346),Items!$B$2:$H$748,7,FALSE)<>0,VLOOKUP(UPPER(A346),Items!$B$2:$H$748,7,FALSE),\"\")","v":""},"PAR Tagged Energy Buy Volume Adjustment","Populated for pre-P217 Settlement Dates. These fields will be null for all other Settlement Dates."]
[{"$f":"VLOOKUP(UPPER(M347),Items!$A$2:$B$748,2,FALSE)","v":"N0504"},"D",null,null,null,"O",null,null,null,null,{"$f":"VLOOKUP(UPPER(A347),Items!$B$2:$G$525,6)","v":"decimal(10,3)"},{"$f":"IF(VLOOKUP(UPPER(A347),Items!$B$2:$H$748,7,FALSE)<>0,VLOOKUP(UPPER(A347),Items!$B$2:$H$748,7,FALSE),\"\")","v":""},"PAR Tagged Energy Sell Volume Adjustment","Populated for pre-P217 Settlement Dates. These fields will be null for all other Settlement Dates."]
[{"$f":"VLOOKUP(UPPER(M348),Items!$A$2:$B$748,2,FALSE)","v":"N0434"},"D",null,null,null,"O",null,null,null,null,{"$f":"VLOOKUP(UPPER(A348),Items!$B$2:$G$525,6)","v":"decimal(10,2)"},{"$f":"IF(VLOOKUP(UPPER(A348),Items!$B$2:$H$748,7,FALSE)<>0,VLOOKUP(UPPER(A348),Items!$B$2:$H$748,7,FALSE),\"\")","v":""},"Untagged EBCA","Populated for pre-P217 Settlement Dates. This field will be null for post-P217 Settlement Dates"]
[{"$f":"VLOOKUP(UPPER(M349),Items!$A$2:$B$748,2,FALSE)","v":"N0435"},"D",null,null,null,"O",null,null,null,null,{"$f":"VLOOKUP(UPPER(A349),Items!$B$2:$G$525,6)","v":"decimal(10,3)"},{"$f":"IF(VLOOKUP(UPPER(A349),Items!$B$2:$H$748,7,FALSE)<>0,VLOOKUP(UPPER(A349),Items!$B$2:$H$748,7,FALSE),\"\")","v":""},"Untagged EBVA","Populated for pre-P217 Settlement Dates. This field will be null for post-P217 Settlement Dates"]
[{"$f":"VLOOKUP(UPPER(M350),Items!$A$2:$B$748,2,FALSE)","v":"N0436"},"D",null,null,null,"O",null,null,null,null,{"$f":"VLOOKUP(UPPER(A350),Items!$B$2:$G$525,6)","v":"decimal(10,2)"},{"$f":"IF(VLOOKUP(UPPER(A350),Items!$B$2:$H$748,7,FALSE)<>0,VLOOKUP(UPPER(A350),Items!$B$2:$H$748,7,FALSE),\"\")","v":""},"Untagged ESCA","Populated for pre-P217 Settlement Dates. This field will be null for post-P217 Settlement Dates"]
[{"$f":"VLOOKUP(UPPER(M351),Items!$A$2:$B$748,2,FALSE)","v":"N0437"},"D",null,null,null,"O",null,null,null,null,{"$f":"VLOOKUP(UPPER(A351),Items!$B$2:$G$525,6)","v":"decimal(10,3)"},{"$f":"IF(VLOOKUP(UPPER(A351),Items!$B$2:$H$748,7,FALSE)<>0,VLOOKUP(UPPER(A351),Items!$B$2:$H$748,7,FALSE),\"\")","v":""},"Untagged ESVA","Populated for pre-P217 Settlement Dates. This field will be null for post-P217 Settlement Dates"]
[{"$f":"VLOOKUP(UPPER(M352),Items!$A$2:$B$525,2,FALSE)","v":"N0517"},"D",null,null,null,"O",null,null,null,null,{"$f":"VLOOKUP(UPPER(A352),Items!$B$2:$G$525,6)","v":"decimal(10,3)"},{"$f":"IF(VLOOKUP(UPPER(A352),Items!$B$2:$H$525,7,FALSE)<>0,VLOOKUP(UPPER(A352),Items!$B$2:$H$525,7,FALSE),\"\")","v":""},"Total System Tagged Accepted Bid Volume","Populated for post-P217 Settlement Dates. This field will be null for pre-P217 Settlement Dates"]
[{"$f":"VLOOKUP(UPPER(M353),Items!$A$2:$B$639,2,FALSE)","v":"N0518"},"D",null,null,null,"O",null,null,null,null,{"$f":"VLOOKUP(UPPER(A353),Items!$B$2:$G$525,6)","v":"decimal(10,3)"},{"$f":"IF(VLOOKUP(UPPER(A353),Items!$B$2:$H$748,7,FALSE)<>0,VLOOKUP(UPPER(A353),Items!$B$2:$H$748,7,FALSE),\"\")","v":""},"Total System Tagged Accepted Offer Volume","Populated for post-P217 Settlement Dates. This field will be null for pre-P217 Settlement Dates"]
[{"$f":"VLOOKUP(UPPER(M354),Items!$A$2:$B$748,2,FALSE)","v":"N0519"},"D",null,null,null,"O",null,null,null,null,{"$f":"VLOOKUP(UPPER(A354),Items!$B$2:$G$525,6)","v":"decimal(10,3)"},{"$f":"IF(VLOOKUP(UPPER(A354),Items!$B$2:$H$748,7,FALSE)<>0,VLOOKUP(UPPER(A354),Items!$B$2:$H$748,7,FALSE),\"\")","v":""},"Total System Repriced Accepted Bid Volume","Populated for post-P217 Settlement Dates. This field will be null for pre-P217 Settlement Dates"]
[{"$f":"VLOOKUP(UPPER(M355),Items!$A$2:$B$525,2,FALSE)","v":"N0520"},"D",null,null,null,"O",null,null,null,null,{"$f":"VLOOKUP(UPPER(A355),Items!$B$2:$G$525,6)","v":"decimal(10,3)"},{"$f":"IF(VLOOKUP(UPPER(A355),Items!$B$2:$H$525,7,FALSE)<>0,VLOOKUP(UPPER(A355),Items!$B$2:$H$525,7,FALSE),\"\")","v":""},"Total System Repriced Accepted Offer Volume","Populated for post-P217 Settlement Dates. This field will be null for pre-P217 Settlement Dates"]
[{"$f":"VLOOKUP(UPPER(M356),Items!$A$2:$B$525,2,FALSE)","v":"N0521"},"D",null,null,null,"O",null,null,null,null,{"$f":"VLOOKUP(UPPER(A356),Items!$B$2:$G$525,6)","v":"decimal(10,3)"},{"$f":"IF(VLOOKUP(UPPER(A356),Items!$B$2:$H$525,7,FALSE)<>0,VLOOKUP(UPPER(A356),Items!$B$2:$H$525,7,FALSE),\"\")","v":""},"Total System Originally-priced Accepted Bid Volume","Populated for post-P217 Settlement Dates. This field will be null for pre-P217 Settlement Dates"]
[{"$f":"VLOOKUP(UPPER(M357),Items!$A$2:$B$748,2,FALSE)","v":"N0522"},"D",null,null,null,"O",null,null,null,null,{"$f":"VLOOKUP(UPPER(A357),Items!$B$2:$G$525,6)","v":"decimal(10,3)"},{"$f":"IF(VLOOKUP(UPPER(A357),Items!$B$2:$H$748,7,FALSE)<>0,VLOOKUP(UPPER(A357),Items!$B$2:$H$748,7,FALSE),\"\")","v":""},"Total System Originally-priced Accepted Offer Volume","Populated for post-P217 Settlement Dates. This field will be null for pre-P217 Settlement Dates"]
[{"$f":"VLOOKUP(UPPER(M358),Items!$A$2:$B$525,2,FALSE)","v":"N0523"},"D",null,null,null,"O",null,null,null,null,{"$f":"VLOOKUP(UPPER(A358),Items!$B$2:$G$525,6)","v":"decimal(10,3)"},null,"Total System Adjustment Sell Volume","Populated for post-P217 Settlement Dates. This field will be null for pre-P217 Settlement Dates"]
[{"$f":"VLOOKUP(UPPER(M359),Items!$A$2:$B$525,2,FALSE)","v":"N0524"},"D",null,null,null,"O",null,null,null,null,{"$f":"VLOOKUP(UPPER(A359),Items!$B$2:$G$525,6)","v":"decimal(10,3)"},null,"Total System Adjustment Buy Volume","Populated for post-P217 Settlement Dates. This field will be null for pre-P217 Settlement Dates"]
[{"$f":"VLOOKUP(UPPER(M360),Items!$A$2:$B$748,2,FALSE)","v":"N0525"},"D",null,null,null,"O",null,null,null,null,{"$f":"VLOOKUP(UPPER(A360),Items!$B$2:$G$525,6)","v":"decimal(10,3)"},{"$f":"IF(VLOOKUP(UPPER(A360),Items!$B$2:$H$748,7,FALSE)<>0,VLOOKUP(UPPER(A360),Items!$B$2:$H$748,7,FALSE),\"\")","v":""},"Total System Tagged Adjustment Sell Volume","Populated for post-P217 Settlement Dates. This field will be null for pre-P217 Settlement Dates"]
[{"$f":"VLOOKUP(UPPER(M361),Items!$A$2:$B$748,2,FALSE)","v":"N0526"},"D",null,null,null,"O",null,null,null,null,{"$f":"VLOOKUP(UPPER(A361),Items!$B$2:$G$525,6)","v":"decimal(10,3)"},{"$f":"IF(VLOOKUP(UPPER(A361),Items!$B$2:$H$748,7,FALSE)<>0,VLOOKUP(UPPER(A361),Items!$B$2:$H$748,7,FALSE),\"\")","v":""},"Total System Tagged Adjustment Buy Volume","Populated for post-P217 Settlement Dates. This field will be null for pre-P217 Settlement Dates"]
[{"$f":"VLOOKUP(UPPER(M362),Items!$A$2:$B$748,2,FALSE)","v":"N0527"},"D",null,null,null,"O",null,null,null,null,{"$f":"VLOOKUP(UPPER(A362),Items!$B$2:$G$525,6)","v":"decimal(10,3)"},{"$f":"IF(VLOOKUP(UPPER(A362),Items!$B$2:$H$748,7,FALSE)<>0,VLOOKUP(UPPER(A362),Items!$B$2:$H$748,7,FALSE),\"\")","v":""},"Total System Repriced Adjustment Sell Volume","Populated for post-P217 Settlement Dates. This field will be null for pre-P217 Settlement Dates"]
[{"$f":"VLOOKUP(UPPER(M363),Items!$A$2:$B$748,2,FALSE)","v":"N0528"},"D",null,null,null,"O",null,null,null,null,{"$f":"VLOOKUP(UPPER(A363),Items!$B$2:$G$525,6)","v":"decimal(10,3)"},{"$f":"IF(VLOOKUP(UPPER(A363),Items!$B$2:$H$748,7,FALSE)<>0,VLOOKUP(UPPER(A363),Items!$B$2:$H$748,7,FALSE),\"\")","v":""},"Total System Repriced Adjustment Buy Volume","Populated for post-P217 Settlement Dates. This field will be null for pre-P217 Settlement Dates"]
[{"$f":"VLOOKUP(UPPER(M364),Items!$A$2:$B$748,2,FALSE)","v":"N0529"},"D",null,null,null,"O",null,null,null,null,{"$f":"VLOOKUP(UPPER(A364),Items!$B$2:$G$525,6)","v":"decimal(10,3)"},{"$f":"IF(VLOOKUP(UPPER(A364),Items!$B$2:$H$748,7,FALSE)<>0,VLOOKUP(UPPER(A364),Items!$B$2:$H$748,7,FALSE),\"\")","v":""},"Total System Originally-priced Adjustment Sell Volume","Populated for post-P217 Settlement Dates. This field will be null for pre-P217 Settlement Dates"]
[{"$f":"VLOOKUP(UPPER(M365),Items!$A$2:$B$748,2,FALSE)","v":"N0530"},"D",null,null,null,"O",null,null,null,null,{"$f":"VLOOKUP(UPPER(A365),Items!$B$2:$G$525,6)","v":"decimal(10,3)"},{"$f":"IF(VLOOKUP(UPPER(A365),Items!$B$2:$H$748,7,FALSE)<>0,VLOOKUP(UPPER(A365),Items!$B$2:$H$748,7,FALSE),\"\")","v":""},"Total System Originally-priced Adjustment Buy Volume","Populated for post-P217 Settlement Dates. This field will be null for pre-P217 Settlement Dates"]
[{"$f":"VLOOKUP(UPPER(M366),Items!$A$2:$B$748,2,FALSE)","v":"N0531"},"D",null,null,null,"O",null,null,null,null,{"$f":"VLOOKUP(UPPER(A366),Items!$B$2:$G$525,6)","v":"decimal(10,2)"},{"$f":"IF(VLOOKUP(UPPER(A366),Items!$B$2:$H$748,7,FALSE)<>0,VLOOKUP(UPPER(A366),Items!$B$2:$H$748,7,FALSE),\"\")","v":""},"Replacement Price","Populated for post-P217 Settlement Dates. This field will be null for pre-P217 Settlement Dates"]
[{"$f":"VLOOKUP(UPPER(M367),Items!$A$2:$B$748,2,FALSE)","v":"N0532"},"D",null,null,null,"O",null,null,null,null,{"$f":"VLOOKUP(UPPER(A367),Items!$B$2:$G$525,6)","v":"decimal(10,3)"},{"$f":"IF(VLOOKUP(UPPER(A367),Items!$B$2:$H$748,7,FALSE)<>0,VLOOKUP(UPPER(A367),Items!$B$2:$H$748,7,FALSE),\"\")","v":""},"Replacement Price Calculation Volume","Populated for post-P217 Settlement Dates. This field will be null for pre-P217 Settlement Dates"]
[{"$f":"VLOOKUP(UPPER(M368),Items!$A$2:$B$639,2,FALSE)","v":"N0558"},"D",null,null,null,"O",null,null,null,null,{"$f":"VLOOKUP(UPPER(A368),Items!$B$2:$G$553,6)","v":"boolean"},null,"Stor Availability Window Flag","Populated for post-P305 Settlement Dates. This field will be null for pre-P305 Settlement Dates"]
[{"$f":"VLOOKUP(UPPER(M369),Items!$A$2:$B$639,2,FALSE)","v":"N0559"},"D",null,null,null,"O",null,null,null,null,{"$f":"VLOOKUP(UPPER(A369),Items!$B$2:$G$553,6)","v":"decimal(10,9)"},null,"Loss Of Load Probability","Populated for post-P305 Settlement Dates (but will be null if the Transmission Company does not provide a value and the BMRA/SAA does not use a default value). This field will be null for pre-P305 Settlement Dates"]
[{"$f":"VLOOKUP(UPPER(M370),Items!$A$2:$B$639,2,FALSE)","v":"N0560"},"D",null,null,null,"O",null,null,null,null,{"$f":"VLOOKUP(UPPER(A370),Items!$B$2:$G$553,6)","v":"decimal(15,7)"},null,"De-rated Margin","Populated for post-P305 Settlement Dates (but will be null if the Transmission Company does not provide a value). This field will be null for pre-P305 Settlement Dates"]
[{"$f":"VLOOKUP(UPPER(M371),Items!$A$2:$B$639,2,FALSE)","v":"N0561"},"D",null,null,null,"O",null,null,null,null,{"$f":"VLOOKUP(UPPER(A371),Items!$B$2:$G$553,6)","v":"decimal(10,2)"},null,"Value Of Lost Load","Populated for post-P305 Settlement Dates. This field will be null for pre-P305 Settlement Dates"]
[{"$f":"VLOOKUP(UPPER(M372),Items!$A$2:$B$639,2,FALSE)","v":"N0562"},"D",null,null,null,"O",null,null,null,null,{"$f":"VLOOKUP(UPPER(A372),Items!$B$2:$G$553,6)","v":"decimal(10,5)"},null,"Reserve Scarcity Price","Populated for post-P305 Settlement Dates (but will be null for any post P305 Settlement Period that is not within a STOR Availability Window). This field will be null for pre-P305 Settlement Dates"]
["MD2","R","0-*",null,null,"G",null,null,null,null,null,null,"Market Index Data Information"]
[{"$f":"VLOOKUP(UPPER(M374),Items!$A$2:$B$748,2,FALSE)","v":"N0423"},"D",null,null,null,null,1,null,null,null,{"$f":"VLOOKUP(UPPER(A374),Items!$B$2:$G$525,6)","v":"text(8)"},{"$f":"IF(VLOOKUP(UPPER(A374),Items!$B$2:$H$748,7,FALSE)<>0,VLOOKUP(UPPER(A374),Items!$B$2:$H$748,7,FALSE),\"\")","v":""},"Market Index Data Provider ID"]
[{"$f":"VLOOKUP(UPPER(M375),Items!$A$2:$B$748,2,FALSE)","v":"N0412"},"D",null,null,null,null,1,null,null,null,{"$f":"VLOOKUP(UPPER(A375),Items!$B$2:$G$525,6)","v":"decimal(10,3)"},{"$f":"IF(VLOOKUP(UPPER(A375),Items!$B$2:$H$748,7,FALSE)<>0,VLOOKUP(UPPER(A375),Items!$B$2:$H$748,7,FALSE),\"\")","v":""},"Individual Liquidity Threshold"]
[{"$f":"VLOOKUP(UPPER(M376),Items!$A$2:$B$748,2,FALSE)","v":"N0413"},"D",null,null,null,null,"O",null,null,null,{"$f":"VLOOKUP(UPPER(A376),Items!$B$2:$G$525,6)","v":"decimal(10,2)"},{"$f":"IF(VLOOKUP(UPPER(A376),Items!$B$2:$H$748,7,FALSE)<>0,VLOOKUP(UPPER(A376),Items!$B$2:$H$748,7,FALSE),\"\")","v":""},"Market Index Price","Null if no data provided by MIDP"]
[{"$f":"VLOOKUP(UPPER(M377),Items!$A$2:$B$748,2,FALSE)","v":"N0414"},"D",null,null,null,null,"O",null,null,null,{"$f":"VLOOKUP(UPPER(A377),Items!$B$2:$G$525,6)","v":"decimal(10,3)"},{"$f":"IF(VLOOKUP(UPPER(A377),Items!$B$2:$H$748,7,FALSE)<>0,VLOOKUP(UPPER(A377),Items!$B$2:$H$748,7,FALSE),\"\")","v":""},"Market Index Volume","Null if no data provided by MIDP"]
["DB2","R",1,null,"G",null,null,null,null,null,null,null,"Balancing Services Adjustment Action Data"]
[{"$f":"VLOOKUP(UPPER(M379),Items!$A$2:$B$525,2,FALSE)","v":"N0533"},"D",null,null,null,1,null,null,null,null,{"$f":"VLOOKUP(UPPER(A379),Items!$B$2:$G$525,6)","v":"integer(4)"},{"$f":"IF(VLOOKUP(UPPER(A379),Items!$B$2:$H$525,7,FALSE)<>0,VLOOKUP(UPPER(A379),Items!$B$2:$H$525,7,FALSE),\"\")","v":""},"Balancing Services Adjustment Action Id"]
[{"$f":"VLOOKUP(UPPER(M380),Items!$A$2:$B$525,2,FALSE)","v":"N0534"},"D",null,null,null,"O",null,null,null,null,{"$f":"VLOOKUP(UPPER(A380),Items!$B$2:$G$525,6)","v":"decimal(10,2)"},{"$f":"IF(VLOOKUP(UPPER(A380),Items!$B$2:$H$525,7,FALSE)<>0,VLOOKUP(UPPER(A380),Items!$B$2:$H$525,7,FALSE),\"\")","v":""},"Balancing Services Adjustment Action Cost","£ Null if Action is unpriced"]
[{"$f":"VLOOKUP(UPPER(M381),Items!$A$2:$B$525,2,FALSE)","v":"N0535"},"D",null,null,null,1,null,null,null,null,{"$f":"VLOOKUP(UPPER(A381),Items!$B$2:$G$525,6)","v":"decimal(10,3)"},{"$f":"IF(VLOOKUP(UPPER(A381),Items!$B$2:$H$525,7,FALSE)<>0,VLOOKUP(UPPER(A381),Items!$B$2:$H$525,7,FALSE),\"\")","v":""},"Balancing Services Adjustment Action Volume"]
[{"$f":"VLOOKUP(UPPER(M382),Items!$A$2:$B$525,2,FALSE)","v":"N0536"},"D",null,null,null,1,null,null,null,null,{"$f":"VLOOKUP(UPPER(A382),Items!$B$2:$G$525,6)","v":"decimal(10,3)"},{"$f":"IF(VLOOKUP(UPPER(A382),Items!$B$2:$H$525,7,FALSE)<>0,VLOOKUP(UPPER(A382),Items!$B$2:$H$525,7,FALSE),\"\")","v":""},"Tagged Balancing Services Adjustment Action Volume"]
[{"$f":"VLOOKUP(UPPER(M383),Items!$A$2:$B$525,2,FALSE)","v":"N0537"},"D",null,null,null,1,null,null,null,null,{"$f":"VLOOKUP(UPPER(A383),Items!$B$2:$G$525,6)","v":"decimal(10,3)"},{"$f":"IF(VLOOKUP(UPPER(A383),Items!$B$2:$H$525,7,FALSE)<>0,VLOOKUP(UPPER(A383),Items!$B$2:$H$525,7,FALSE),\"\")","v":""},"Repriced Balancing Services Adjustment Action Volume"]
[{"$f":"VLOOKUP(UPPER(M384),Items!$A$2:$B$525,2,FALSE)","v":"N0538"},"D",null,null,null,1,null,null,null,null,{"$f":"VLOOKUP(UPPER(A384),Items!$B$2:$G$525,6)","v":"decimal(10,3)"},{"$f":"IF(VLOOKUP(UPPER(A384),Items!$B$2:$H$525,7,FALSE)<>0,VLOOKUP(UPPER(A384),Items!$B$2:$H$525,7,FALSE),\"\")","v":""},"Originally-Priced Balancing Services Adjustment Action Volume"]
[{"$f":"VLOOKUP(UPPER(M385),Items!$A$2:$B$639,2,FALSE)","v":"N0539"},"D",null,null,null,1,null,null,null,null,{"$f":"VLOOKUP(UPPER(A385),Items!$B$2:$G$525,6)","v":"boolean"},{"$f":"IF(VLOOKUP(UPPER(A385),Items!$B$2:$H$748,7,FALSE)<>0,VLOOKUP(UPPER(A385),Items!$B$2:$H$748,7,FALSE),\"\")","v":""},"Balancing Services Adjustment Action SO-Flag"]
[{"$f":"VLOOKUP(UPPER(M386),Items!$A$2:$B$553,2,FALSE)","v":"N0563"},"D",null,null,null,"O",null,null,null,null,{"$f":"VLOOKUP(UPPER(A386),Items!$B$2:$G$553,6)","v":"boolean"},null,"Balancing Services Adjustment Action Stor Provider Flag","Populated for post-P305 Settlement Dates. This field will be null for pre-P305 Settlement Dates"]
[{"$f":"VLOOKUP(UPPER(M387),Items!$A$2:$B$553,2,FALSE)","v":"N0566"},"D",null,null,null,"O",null,null,null,null,{"$f":"VLOOKUP(UPPER(A387),Items!$B$2:$G$553,6)","v":"boolean"},null,"Reserve Scarcity Price Flag","Populated for post-P305 Settlement Dates. This field will be null for pre-P305 Settlement Dates"]
["TRA","R","1-*",null,"G",null,null,null,null,null,null,null,"Trading Unit Period Information"]
[{"$f":"VLOOKUP(UPPER(M389),Items!$A$2:$B$525,2,FALSE)","v":"N0232"},"D",null,null,null,1,null,null,null,null,{"$f":"VLOOKUP(UPPER(A389),Items!$B$2:$G$525,6)","v":"text(30)"},{"$f":"IF(VLOOKUP(UPPER(A389),Items!$B$2:$H$525,7,FALSE)<>0,VLOOKUP(UPPER(A389),Items!$B$2:$H$525,7,FALSE),\"\")","v":""},"Trading Unit Name"]
[{"$f":"VLOOKUP(UPPER(M390),Items!$A$2:$B$525,2,FALSE)","v":"N0231"},"D",null,null,null,1,null,null,null,null,{"$f":"VLOOKUP(UPPER(A390),Items!$B$2:$G$525,6)","v":"decimal(10,3)"},{"$f":"IF(VLOOKUP(UPPER(A390),Items!$B$2:$H$525,7,FALSE)<>0,VLOOKUP(UPPER(A390),Items!$B$2:$H$525,7,FALSE),\"\")","v":""},"Total Trading Unit Metered Volume","MWh"]
["BUI","R","1-*",null,"G",null,null,null,null,null,null,null,"BM Unit Period Information"]
[{"$f":"VLOOKUP(UPPER(M392),Items!$A$2:$B$525,2,FALSE)","v":"N0034"},"D",null,null,null,1,null,null,null,null,{"$f":"VLOOKUP(UPPER(A392),Items!$B$2:$G$525,6)","v":"text(11)"},{"$f":"IF(VLOOKUP(UPPER(A392),Items!$B$2:$H$525,7,FALSE)<>0,VLOOKUP(UPPER(A392),Items!$B$2:$H$525,7,FALSE),\"\")","v":""},"BM Unit Id"]
[{"$f":"VLOOKUP(UPPER(M393),Items!$A$2:$B$525,2,FALSE)","v":"N0232"},{"$f":"IF(LEN(K393)>0,\"D\",IF(LEN(A393)=5,\"F\",IF(LEN(A393)=3,\"R\",\" \")))","v":"D"},null,null,null,"O",null,null,null,null,{"$f":"VLOOKUP(UPPER(A393),Items!$B$2:$G$525,6)","v":"text(30)"},{"$f":"IF(VLOOKUP(UPPER(A393),Items!$B$2:$H$525,7,FALSE)<>0,VLOOKUP(UPPER(A393),Items!$B$2:$H$525,7,FALSE),\"\")","v":""},"Trading Unit Name","Omit if \"default\" trading unit"]
[{"$f":"VLOOKUP(UPPER(M394),Items!$A$2:$B$525,2,FALSE)","v":"N0174"},"D",null,null,null,1,null,null,null,null,{"$f":"VLOOKUP(UPPER(A394),Items!$B$2:$G$525,6)","v":"decimal(10,3)"},{"$f":"IF(VLOOKUP(UPPER(A394),Items!$B$2:$H$525,7,FALSE)<>0,VLOOKUP(UPPER(A394),Items!$B$2:$H$525,7,FALSE),\"\")","v":""},"Period FPN","MWh"]
[{"$f":"VLOOKUP(UPPER(M395),Items!$A$2:$B$525,2,FALSE)","v":"N0035"},"D",null,null,null,1,null,null,null,null,{"$f":"VLOOKUP(UPPER(A395),Items!$B$2:$G$525,6)","v":"decimal(10,3)"},{"$f":"IF(VLOOKUP(UPPER(A395),Items!$B$2:$H$525,7,FALSE)<>0,VLOOKUP(UPPER(A395),Items!$B$2:$H$525,7,FALSE),\"\")","v":""},"BM Unit Metered Volume","MWh"]
[{"$f":"VLOOKUP(UPPER(M396),Items!$A$2:$B$525,2,FALSE)","v":"N0234"},"D",null,null,null,1,null,null,null,null,{"$f":"VLOOKUP(UPPER(A396),Items!$B$2:$G$525,6)","v":"decimal(8,7)"},{"$f":"IF(VLOOKUP(UPPER(A396),Items!$B$2:$H$525,7,FALSE)<>0,VLOOKUP(UPPER(A396),Items!$B$2:$H$525,7,FALSE),\"\")","v":""},"Transmission Loss Multiplier"]
[{"$f":"VLOOKUP(UPPER(M397),Items!$A$2:$B$748,2,FALSE)","v":"N0421"},"D",null,null,null,1,null,null,null,null,{"$f":"VLOOKUP(UPPER(A397),Items!$B$2:$G$525,6)","v":"decimal(10,3)"},{"$f":"IF(VLOOKUP(UPPER(A397),Items!$B$2:$H$748,7,FALSE)<>0,VLOOKUP(UPPER(A397),Items!$B$2:$H$748,7,FALSE),\"\")","v":""},"BM Unit Applicable Balancing Services Volume","MWh"]
["BBO","R","0-*",null,null,"G",null,null,null,null,null,null,"BM Unit Period Bid-Offer Information"]
[{"$f":"VLOOKUP(UPPER(M399),Items!$A$2:$B$525,2,FALSE)","v":"N0025"},"D",null,null,null,null,1,null,null,null,{"$f":"VLOOKUP(UPPER(A399),Items!$B$2:$G$525,6)","v":"integer(2)"},{"$f":"IF(VLOOKUP(UPPER(A399),Items!$B$2:$H$525,7,FALSE)<>0,VLOOKUP(UPPER(A399),Items!$B$2:$H$525,7,FALSE),\"\")","v":""},"Bid-Offer Pair Number"]
[{"$f":"VLOOKUP(UPPER(M400),Items!$A$2:$B$525,2,FALSE)","v":"N0030"},"D",null,null,null,null,"O",null,null,null,{"$f":"VLOOKUP(UPPER(A400),Items!$B$2:$G$525,6)","v":"decimal(10,5)"},{"$f":"IF(VLOOKUP(UPPER(A400),Items!$B$2:$H$525,7,FALSE)<>0,VLOOKUP(UPPER(A400),Items!$B$2:$H$525,7,FALSE),\"\")","v":""},"Bid Price"]
[{"$f":"VLOOKUP(UPPER(M401),Items!$A$2:$B$525,2,FALSE)","v":"N0153"},"D",null,null,null,null,"O",null,null,null,{"$f":"VLOOKUP(UPPER(A401),Items!$B$2:$G$525,6)","v":"decimal(10,5)"},{"$f":"IF(VLOOKUP(UPPER(A401),Items!$B$2:$H$525,7,FALSE)<>0,VLOOKUP(UPPER(A401),Items!$B$2:$H$525,7,FALSE),\"\")","v":""},"Offer Price"]
["BO2","R","0-*",null,null,null,"G",null,null,null,null,null,"BMU Period Bid-Offer Value Pair"]
[{"$f":"VLOOKUP(UPPER(M403),Items!$A$2:$B$525,2,FALSE)","v":"N0220"},"D",null,null,null,null,null,1,null,null,{"$f":"VLOOKUP(UPPER(A403),Items!$B$2:$G$525,6)","v":"integer(2)"},{"$f":"IF(VLOOKUP(UPPER(A403),Items!$B$2:$H$525,7,FALSE)<>0,VLOOKUP(UPPER(A403),Items!$B$2:$H$525,7,FALSE),\"\")","v":""},"Time from","minutes from start of period"]
[{"$f":"VLOOKUP(UPPER(M404),Items!$A$2:$B$525,2,FALSE)","v":"N0028"},"D",null,null,null,null,null,"O",null,null,{"$f":"VLOOKUP(UPPER(A404),Items!$B$2:$G$525,6)","v":"decimal(10,3)"},{"$f":"IF(VLOOKUP(UPPER(A404),Items!$B$2:$H$525,7,FALSE)<>0,VLOOKUP(UPPER(A404),Items!$B$2:$H$525,7,FALSE),\"\")","v":""},"Bid Offer Volume Value From"]
[{"$f":"VLOOKUP(UPPER(M405),Items!$A$2:$B$525,2,FALSE)","v":"N0221"},"D",null,null,null,null,null,1,null,null,{"$f":"VLOOKUP(UPPER(A405),Items!$B$2:$G$525,6)","v":"integer(2)"},{"$f":"IF(VLOOKUP(UPPER(A405),Items!$B$2:$H$525,7,FALSE)<>0,VLOOKUP(UPPER(A405),Items!$B$2:$H$525,7,FALSE),\"\")","v":""},"Time To","minutes from start of period"]
[{"$f":"VLOOKUP(UPPER(M406),Items!$A$2:$B$525,2,FALSE)","v":"N0029"},"D",null,null,null,null,null,"O",null,null,{"$f":"VLOOKUP(UPPER(A406),Items!$B$2:$G$525,6)","v":"decimal(10,3)"},{"$f":"IF(VLOOKUP(UPPER(A406),Items!$B$2:$H$525,7,FALSE)<>0,VLOOKUP(UPPER(A406),Items!$B$2:$H$525,7,FALSE),\"\")","v":""},"Bid Offer Volume Value To"]
["MEL","R","0-*",null,null,"G",null,null,null,null,null,null,"Maximum Export Limit Information"]
[{"$f":"VLOOKUP(UPPER(M408),Items!$A$2:$B$525,2,FALSE)","v":"N0220"},"D",null,null,null,null,1,null,null,null,{"$f":"VLOOKUP(UPPER(A408),Items!$B$2:$G$525,6)","v":"integer(2)"},{"$f":"IF(VLOOKUP(UPPER(A408),Items!$B$2:$H$525,7,FALSE)<>0,VLOOKUP(UPPER(A408),Items!$B$2:$H$525,7,FALSE),\"\")","v":""},"Time From","minutes from start of period"]
[{"$f":"VLOOKUP(UPPER(M409),Items!$A$2:$B$525,2,FALSE)","v":"N0130"},"D",null,null,null,null,"O",null,null,null,{"$f":"VLOOKUP(UPPER(A409),Items!$B$2:$G$525,6)","v":"decimal(10,3)"},{"$f":"IF(VLOOKUP(UPPER(A409),Items!$B$2:$H$525,7,FALSE)<>0,VLOOKUP(UPPER(A409),Items!$B$2:$H$525,7,FALSE),\"\")","v":""},"Level From","MW"]
[{"$f":"VLOOKUP(UPPER(M410),Items!$A$2:$B$525,2,FALSE)","v":"N0221"},"D",null,null,null,null,1,null,null,null,{"$f":"VLOOKUP(UPPER(A410),Items!$B$2:$G$525,6)","v":"integer(2)"},{"$f":"IF(VLOOKUP(UPPER(A410),Items!$B$2:$H$525,7,FALSE)<>0,VLOOKUP(UPPER(A410),Items!$B$2:$H$525,7,FALSE),\"\")","v":""},"Time To","minutes from start of period"]
[{"$f":"VLOOKUP(UPPER(M411),Items!$A$2:$B$525,2,FALSE)","v":"N0131"},"D",null,null,null,null,"O",null,null,null,{"$f":"VLOOKUP(UPPER(A411),Items!$B$2:$G$525,6)","v":"decimal(10,3)"},{"$f":"IF(VLOOKUP(UPPER(A411),Items!$B$2:$H$525,7,FALSE)<>0,VLOOKUP(UPPER(A411),Items!$B$2:$H$525,7,FALSE),\"\")","v":""},"Level To","MW"]
["MIL","R","0-*",null,null,"G",null,null,null,null,null,null,"Maximum Import Limit Information"," "]
[{"$f":"VLOOKUP(UPPER(M413),Items!$A$2:$B$525,2,FALSE)","v":"N0220"},"D",null,null,null,null,1,null,null,null,{"$f":"VLOOKUP(UPPER(A413),Items!$B$2:$G$525,6)","v":"integer(2)"},{"$f":"IF(VLOOKUP(UPPER(A413),Items!$B$2:$H$525,7,FALSE)<>0,VLOOKUP(UPPER(A413),Items!$B$2:$H$525,7,FALSE),\"\")","v":""},"Time From","minutes from start of period"]
[{"$f":"VLOOKUP(UPPER(M414),Items!$A$2:$B$525,2,FALSE)","v":"N0130"},"D",null,null,null,null,"O",null,null,null,{"$f":"VLOOKUP(UPPER(A414),Items!$B$2:$G$525,6)","v":"decimal(10,3)"},{"$f":"IF(VLOOKUP(UPPER(A414),Items!$B$2:$H$525,7,FALSE)<>0,VLOOKUP(UPPER(A414),Items!$B$2:$H$525,7,FALSE),\"\")","v":""},"Level From","MW"]
[{"$f":"VLOOKUP(UPPER(M415),Items!$A$2:$B$525,2,FALSE)","v":"N0221"},"D",null,null,null,null,1,null,null,null,{"$f":"VLOOKUP(UPPER(A415),Items!$B$2:$G$525,6)","v":"integer(2)"},{"$f":"IF(VLOOKUP(UPPER(A415),Items!$B$2:$H$525,7,FALSE)<>0,VLOOKUP(UPPER(A415),Items!$B$2:$H$525,7,FALSE),\"\")","v":""},"Time To","minutes from start of period"]
[{"$f":"VLOOKUP(UPPER(M416),Items!$A$2:$B$525,2,FALSE)","v":"N0131"},"D",null,null,null,null,"O",null,null,null,{"$f":"VLOOKUP(UPPER(A416),Items!$B$2:$G$525,6)","v":"decimal(10,3)"},{"$f":"IF(VLOOKUP(UPPER(A416),Items!$B$2:$H$525,7,FALSE)<>0,VLOOKUP(UPPER(A416),Items!$B$2:$H$525,7,FALSE),\"\")","v":""},"Level To","MW"]
[]
[]
["S0143",{"$f":"IF(LEN(K419)>0,\"D\",IF(LEN(A419)=5,\"F\",IF(LEN(A419)=3,\"R\",\" \")))","v":"F"},"009",null,null,null,null,null,null,null,null,null,"SAA-I014: Settlement Report: sub-flow 3"]
[null," "]
["SRH","R",1,"G",null,null,null,null,null,null,null,null,"Settlement Report Header"]
[{"$f":"VLOOKUP(UPPER(M422),Items!$A$2:$B$525,2,FALSE)","v":"N0200"},"D",null,null,1,null,null,null,null,null,{"$f":"VLOOKUP(UPPER(A422),Items!$B$2:$G$525,6)","v":"date"},{"$f":"IF(VLOOKUP(UPPER(A422),Items!$B$2:$H$525,7,FALSE)<>0,VLOOKUP(UPPER(A422),Items!$B$2:$H$525,7,FALSE),\"\")","v":""},"Settlement Date"]
[{"$f":"VLOOKUP(UPPER(M423),Items!$A$2:$B$525,2,FALSE)","v":"N0202"},"D",null,null,1,null,null,null,null,null,{"$f":"VLOOKUP(UPPER(A423),Items!$B$2:$G$525,6)","v":"text(2)"},{"$f":"IF(VLOOKUP(UPPER(A423),Items!$B$2:$H$525,7,FALSE)<>0,VLOOKUP(UPPER(A423),Items!$B$2:$H$525,7,FALSE),\"\")","v":"Run Type"},"Settlement Run Type"]
[{"$f":"VLOOKUP(UPPER(M424),Items!$A$2:$B$639,2,FALSE)","v":"N0304"},"D",null,null,1,null,null,null,null,null,{"$f":"VLOOKUP(UPPER(A424),Items!$B$2:$G$525,6)","v":"integer(2)"},{"$f":"IF(VLOOKUP(UPPER(A424),Items!$B$2:$H$525,7,FALSE)<>0,VLOOKUP(UPPER(A424),Items!$B$2:$H$525,7,FALSE),\"\")","v":""},"SAA Run Number"]
[{"$f":"VLOOKUP(UPPER(M425),Items!$A$2:$B$639,2,FALSE)","v":"N0385"},"D",null,null,1,null,null,null,null,null,{"$f":"VLOOKUP(UPPER(A425),Items!$B$2:$G$525,6)","v":"integer(2)"},{"$f":"IF(VLOOKUP(UPPER(A425),Items!$B$2:$H$525,7,FALSE)<>0,VLOOKUP(UPPER(A425),Items!$B$2:$H$525,7,FALSE),\"\")","v":""},"SAA CDCA Run Number","CDCA run which generated volumes used directly by SAA"]
[{"$f":"VLOOKUP(UPPER(M426),Items!$A$2:$B$525,2,FALSE)","v":"N0383"},"D",null,null,1,null,null,null,null,null,{"$f":"VLOOKUP(UPPER(A426),Items!$B$2:$G$525,6)","v":"date"},{"$f":"IF(VLOOKUP(UPPER(A426),Items!$B$2:$H$525,7,FALSE)<>0,VLOOKUP(UPPER(A426),Items!$B$2:$H$525,7,FALSE),\"\")","v":""},"SVAA CDCA Settlement Date","CDCA settlement date from which GSP group take was used by SVAA"]
[{"$f":"VLOOKUP(UPPER(M427),Items!$A$2:$B$525,2,FALSE)","v":"N0384"},"D",null,null,1,null,null,null,null,null,{"$f":"VLOOKUP(UPPER(A427),Items!$B$2:$G$525,6)","v":"integer(2)"},{"$f":"IF(VLOOKUP(UPPER(A427),Items!$B$2:$H$525,7,FALSE)<>0,VLOOKUP(UPPER(A427),Items!$B$2:$H$525,7,FALSE),\"\")","v":""},"SVAA CDCA Run Number","CDCA run number from which GSP group take was used by SVAA"]
[{"$f":"VLOOKUP(UPPER(M428),Items!$A$2:$B$525,2,FALSE)","v":"N0211"},"D",null,null,1,null,null,null,null,null,{"$f":"VLOOKUP(UPPER(A428),Items!$B$2:$G$525,6)","v":"integer(7)"},{"$f":"IF(VLOOKUP(UPPER(A428),Items!$B$2:$H$525,7,FALSE)<>0,VLOOKUP(UPPER(A428),Items!$B$2:$H$525,7,FALSE),\"\")","v":""},"SVAA SSR Run Number"]
[{"$f":"VLOOKUP(UPPER(M429),Items!$A$2:$B$525,2,FALSE)","v":"N0045"},"D",null,null,1,null,null,null,null,null,{"$f":"VLOOKUP(UPPER(A429),Items!$B$2:$G$525,6)","v":"text(8)"},{"$f":"IF(VLOOKUP(UPPER(A429),Items!$B$2:$H$525,7,FALSE)<>0,VLOOKUP(UPPER(A429),Items!$B$2:$H$525,7,FALSE),\"\")","v":""},"BSC Party Id"]
["BPY","R","1-*","G",null,null,null,null,null,null,null,null,"BSC Party Information"]
[{"$f":"VLOOKUP(UPPER(M431),Items!$A$2:$B$525,2,FALSE)","v":"N0045"},"D",null,null,1,null,null,null,null,null,{"$f":"VLOOKUP(UPPER(A431),Items!$B$2:$G$525,6)","v":"text(8)"},{"$f":"IF(VLOOKUP(UPPER(A431),Items!$B$2:$H$525,7,FALSE)<>0,VLOOKUP(UPPER(A431),Items!$B$2:$H$525,7,FALSE),\"\")","v":""},"BSC Party Id"]
["APC","R",1,null,"G",null,null,null,null,null,null,null,"Aggregate Party Day Charges"]
[{"$f":"VLOOKUP(UPPER(M433),Items!$A$2:$B$525,2,FALSE)","v":"N0048"},"D",null,null,null,1,null,null,null,null,{"$f":"VLOOKUP(UPPER(A433),Items!$B$2:$G$525,6)","v":"decimal(10,2)"},{"$f":"IF(VLOOKUP(UPPER(A433),Items!$B$2:$H$525,7,FALSE)<>0,VLOOKUP(UPPER(A433),Items!$B$2:$H$525,7,FALSE),\"\")","v":""},"BSSC Limited Cost Allocation"]
[{"$f":"VLOOKUP(UPPER(M434),Items!$A$2:$B$525,2,FALSE)","v":"N0031"},"D",null,null,null,1,null,null,null,null,{"$f":"VLOOKUP(UPPER(A434),Items!$B$2:$G$525,6)","v":"decimal(10,2)"},{"$f":"IF(VLOOKUP(UPPER(A434),Items!$B$2:$H$525,7,FALSE)<>0,VLOOKUP(UPPER(A434),Items!$B$2:$H$525,7,FALSE),\"\")","v":""},"BM Unit Cashflow"]
[{"$f":"VLOOKUP(UPPER(M435),Items!$A$2:$B$525,2,FALSE)","v":"N0086"},"D",null,null,null,1,null,null,null,null,{"$f":"VLOOKUP(UPPER(A435),Items!$B$2:$G$525,6)","v":"decimal(10,2)"},{"$f":"IF(VLOOKUP(UPPER(A435),Items!$B$2:$H$525,7,FALSE)<>0,VLOOKUP(UPPER(A435),Items!$B$2:$H$525,7,FALSE),\"\")","v":""},"Energy Imbalance Cashflow"]
[{"$f":"VLOOKUP(UPPER(M436),Items!$A$2:$B$525,2,FALSE)","v":"N0122"},"D",null,null,null,1,null,null,null,null,{"$f":"VLOOKUP(UPPER(A436),Items!$B$2:$G$525,6)","v":"decimal(10,2)"},{"$f":"IF(VLOOKUP(UPPER(A436),Items!$B$2:$H$525,7,FALSE)<>0,VLOOKUP(UPPER(A436),Items!$B$2:$H$525,7,FALSE),\"\")","v":""},"Information Imbalance Cashflow"]
[{"$f":"VLOOKUP(UPPER(M437),Items!$A$2:$B$525,2,FALSE)","v":"N0151"},"D",null,null,null,1,null,null,null,null,{"$f":"VLOOKUP(UPPER(A437),Items!$B$2:$G$525,6)","v":"decimal(10,2)"},{"$f":"IF(VLOOKUP(UPPER(A437),Items!$B$2:$H$525,7,FALSE)<>0,VLOOKUP(UPPER(A437),Items!$B$2:$H$525,7,FALSE),\"\")","v":""},"Non-Delivery Charge"]
[{"$f":"VLOOKUP(UPPER(M438),Items!$A$2:$B$525,2,FALSE)","v":"N0194"},"D",null,null,null,1,null,null,null,null,{"$f":"VLOOKUP(UPPER(A438),Items!$B$2:$G$525,6)","v":"decimal(10,2)"},{"$f":"IF(VLOOKUP(UPPER(A438),Items!$B$2:$H$525,7,FALSE)<>0,VLOOKUP(UPPER(A438),Items!$B$2:$H$525,7,FALSE),\"\")","v":""},"Residual Cashflow Reallocation Charge"]
[{"$f":"VLOOKUP(UPPER(M439),Items!$A$2:$B$620,2,FALSE)","v":"N0214"},"D",null,null,null,1,null,null,null,null,{"$f":"VLOOKUP(UPPER(A439),Items!$B$2:$G$620,6)","v":"decimal(10,2)"},{"$f":"IF(VLOOKUP(UPPER(A439),Items!$B$2:$H$525,7,FALSE)<>0,VLOOKUP(UPPER(A439),Items!$B$2:$H$525,7,FALSE),\"\")","v":""},"Daily System Operator Cashflow","Name updated post TERRE (BM removed)"]
[{"$f":"VLOOKUP(UPPER(M440),Items!$A$2:$B$620,2,FALSE)","v":"N0590"},"D",null,null,null,0,null,null,null,null,{"$f":"VLOOKUP(UPPER(A440),Items!$B$2:$G$620,6)","v":"decimal(10,2)"},null,"RR Cashflow","Populated for post TERRE settlement dates only"]
[{"$f":"VLOOKUP(UPPER(M441),Items!$A$2:$B$620,2,FALSE)","v":"N0591"},"D",null,null,null,0,null,null,null,null,{"$f":"VLOOKUP(UPPER(A441),Items!$B$2:$G$620,6)","v":"decimal(10,2)"},null,"RR Instructed Deviation Cashflow","Populated for post TERRE settlement dates only"]
[{"$f":"VLOOKUP(UPPER(M442),Items!$A$2:$B$620,2,FALSE)","v":"N0592"},"D",null,null,null,0,null,null,null,null,{"$f":"VLOOKUP(UPPER(A442),Items!$B$2:$G$620,6)","v":"decimal(10,2)"},null,"Total System RR Cashflow","Populated for post TERRE settlement dates only"]
["SPS","R","46-50","G",null,null,null,null,null,null,null,null,"Settlement Period Summary","either 46 or 48 or 50"]
[{"$f":"VLOOKUP(UPPER(M444),Items!$A$2:$B$525,2,FALSE)","v":"N0201"},"D",null,null,1,null,null,null,null,null,{"$f":"VLOOKUP(UPPER(A444),Items!$B$2:$G$525,6)","v":"integer(2)"},{"$f":"IF(VLOOKUP(UPPER(A444),Items!$B$2:$H$525,7,FALSE)<>0,VLOOKUP(UPPER(A444),Items!$B$2:$H$525,7,FALSE),\"\")","v":""},"Settlement Period"]
[{"$f":"VLOOKUP(UPPER(M445),Items!$A$2:$B$639,2,FALSE)","v":"N0312"},"D",null,null,1,null,null,null,null,null,{"$f":"VLOOKUP(UPPER(A445),Items!$B$2:$G$525,6)","v":"decimal(10,3)"},{"$f":"IF(VLOOKUP(UPPER(A445),Items!$B$2:$H$525,7,FALSE)<>0,VLOOKUP(UPPER(A445),Items!$B$2:$H$525,7,FALSE),\"\")","v":""},"Total Demand","MWh"]
[{"$f":"VLOOKUP(UPPER(M446),Items!$A$2:$B$639,2,FALSE)","v":"N0316"},"D",null,null,"O",null,null,null,null,null,{"$f":"VLOOKUP(UPPER(A446),Items!$B$2:$G$525,6)","v":"decimal(10,3)"},{"$f":"IF(VLOOKUP(UPPER(A446),Items!$B$2:$H$525,7,FALSE)<>0,VLOOKUP(UPPER(A446),Items!$B$2:$H$525,7,FALSE),\"\")","v":""},"Notional Reserve Limit","Null"]
[{"$f":"VLOOKUP(UPPER(M447),Items!$A$2:$B$639,2,FALSE)","v":"N0317"},"D",null,null,1,null,null,null,null,null,{"$f":"VLOOKUP(UPPER(A447),Items!$B$2:$G$525,6)","v":"boolean"},{"$f":"IF(VLOOKUP(UPPER(A447),Items!$B$2:$H$525,7,FALSE)<>0,VLOOKUP(UPPER(A447),Items!$B$2:$H$525,7,FALSE),\"\")","v":""},"Arbitrage Flag"]
[{"$f":"VLOOKUP(UPPER(M448),Items!$A$2:$B$639,2,FALSE)","v":"N0391"},"D",null,null,1,null,null,null,null,null,{"$f":"VLOOKUP(UPPER(A448),Items!$B$2:$G$525,6)","v":"integer(2)"},{"$f":"IF(VLOOKUP(UPPER(A448),Items!$B$2:$H$525,7,FALSE)<>0,VLOOKUP(UPPER(A448),Items!$B$2:$H$525,7,FALSE),\"\")","v":""},"Continuous Acceptance Duration Limit"]
[{"$f":"VLOOKUP(UPPER(M449),Items!$A$2:$B$639,2,FALSE)","v":"N0392"},"D",null,null,1,null,null,null,null,null,{"$f":"VLOOKUP(UPPER(A449),Items!$B$2:$G$525,6)","v":"decimal(10,3)"},{"$f":"IF(VLOOKUP(UPPER(A449),Items!$B$2:$H$525,7,FALSE)<>0,VLOOKUP(UPPER(A449),Items!$B$2:$H$525,7,FALSE),\"\")","v":""},"De Minimis Acceptance Threshold"]
["SSD","R",1,null,"G",null,null,null,null,null,null,null,"System Period Data"]
[{"$f":"VLOOKUP(UPPER(M451),Items!$A$2:$B$525,2,FALSE)","v":"N0172"},"D",null,null,null,1,null,null,null,null,{"$f":"VLOOKUP(UPPER(A451),Items!$B$2:$G$525,6)","v":"decimal(10,2)"},{"$f":"IF(VLOOKUP(UPPER(A451),Items!$B$2:$H$525,7,FALSE)<>0,VLOOKUP(UPPER(A451),Items!$B$2:$H$525,7,FALSE),\"\")","v":""},"Period BSSC Limited Costs"]
[{"$f":"VLOOKUP(UPPER(M452),Items!$A$2:$B$625,2,FALSE)","v":"N0213"},"D",null,null,null,1,null,null,null,null,{"$f":"VLOOKUP(UPPER(A452),Items!$B$2:$G$525,6)","v":"decimal(10,2)"},{"$f":"IF(VLOOKUP(UPPER(A452),Items!$B$2:$H$525,7,FALSE)<>0,VLOOKUP(UPPER(A452),Items!$B$2:$H$525,7,FALSE),\"\")","v":""},"System Operator Cashflow","Name updated post TERRE (BM removed)"]
[{"$f":"VLOOKUP(UPPER(M453),Items!$A$2:$B$525,2,FALSE)","v":"N0124"},"D",null,null,null,1,null,null,null,null,{"$f":"VLOOKUP(UPPER(A453),Items!$B$2:$G$525,6)","v":"decimal(10,5)"},{"$f":"IF(VLOOKUP(UPPER(A453),Items!$B$2:$H$525,7,FALSE)<>0,VLOOKUP(UPPER(A453),Items!$B$2:$H$525,7,FALSE),\"\")","v":""},"Information Imbalance Price 1"]
[{"$f":"VLOOKUP(UPPER(M454),Items!$A$2:$B$525,2,FALSE)","v":"N0125"},"D",null,null,null,1,null,null,null,null,{"$f":"VLOOKUP(UPPER(A454),Items!$B$2:$G$525,6)","v":"decimal(10,5)"},{"$f":"IF(VLOOKUP(UPPER(A454),Items!$B$2:$H$525,7,FALSE)<>0,VLOOKUP(UPPER(A454),Items!$B$2:$H$525,7,FALSE),\"\")","v":""},"Information Imbalance Price 2"]
[{"$f":"VLOOKUP(UPPER(M455),Items!$A$2:$B$525,2,FALSE)","v":"N0212"},"D",null,null,null,1,null,null,null,null,{"$f":"VLOOKUP(UPPER(A455),Items!$B$2:$G$525,6)","v":"decimal(10,5)"},{"$f":"IF(VLOOKUP(UPPER(A455),Items!$B$2:$H$525,7,FALSE)<>0,VLOOKUP(UPPER(A455),Items!$B$2:$H$525,7,FALSE),\"\")","v":""},"System Buy Price"]
[{"$f":"VLOOKUP(UPPER(M456),Items!$A$2:$B$525,2,FALSE)","v":"N0215"},"D",null,null,null,1,null,null,null,null,{"$f":"VLOOKUP(UPPER(A456),Items!$B$2:$G$525,6)","v":"decimal(10,5)"},{"$f":"IF(VLOOKUP(UPPER(A456),Items!$B$2:$H$525,7,FALSE)<>0,VLOOKUP(UPPER(A456),Items!$B$2:$H$525,7,FALSE),\"\")","v":""},"System Sell Price"]
[{"$f":"VLOOKUP(UPPER(M457),Items!$A$2:$B$639,2,FALSE)","v":"N0439"},"D",null,null,null,1,null,null,null,null,{"$f":"VLOOKUP(UPPER(A457),Items!$B$2:$G$525,6)","v":"text(2)"},{"$f":"IF(VLOOKUP(UPPER(A457),Items!$B$2:$H$748,7,FALSE)<>0,VLOOKUP(UPPER(A457),Items!$B$2:$H$748,7,FALSE),\"\")","v":"Price Derivation Code"},"Price Derivation Code"]
[{"$f":"VLOOKUP(UPPER(M458),Items!$A$2:$B$525,2,FALSE)","v":"N0333"},"D",null,null,null,1,null,null,null,null,{"$f":"VLOOKUP(UPPER(A458),Items!$B$2:$G$525,6)","v":"decimal(10,2)"},{"$f":"IF(VLOOKUP(UPPER(A458),Items!$B$2:$H$525,7,FALSE)<>0,VLOOKUP(UPPER(A458),Items!$B$2:$H$525,7,FALSE),\"\")","v":""},"Total System BM Cashflow"]
[{"$f":"VLOOKUP(UPPER(M459),Items!$A$2:$B$525,2,FALSE)","v":"N0225"},"D",null,null,null,1,null,null,null,null,{"$f":"VLOOKUP(UPPER(A459),Items!$B$2:$G$525,6)","v":"decimal(10,2)"},{"$f":"IF(VLOOKUP(UPPER(A459),Items!$B$2:$H$525,7,FALSE)<>0,VLOOKUP(UPPER(A459),Items!$B$2:$H$525,7,FALSE),\"\")","v":""},"Total System Energy Imbalance Cashflow"]
[{"$f":"VLOOKUP(UPPER(M460),Items!$A$2:$B$525,2,FALSE)","v":"N0228"},"D",null,null,null,1,null,null,null,null,{"$f":"VLOOKUP(UPPER(A460),Items!$B$2:$G$525,6)","v":"decimal(10,2)"},{"$f":"IF(VLOOKUP(UPPER(A460),Items!$B$2:$H$525,7,FALSE)<>0,VLOOKUP(UPPER(A460),Items!$B$2:$H$525,7,FALSE),\"\")","v":""},"Total System Non-Delivery Charge"]
[{"$f":"VLOOKUP(UPPER(M461),Items!$A$2:$B$525,2,FALSE)","v":"N0216"},"D",null,null,null,1,null,null,null,null,"decimal(10,3)",{"$f":"IF(VLOOKUP(UPPER(A461),Items!$B$2:$H$525,7,FALSE)<>0,VLOOKUP(UPPER(A461),Items!$B$2:$H$525,7,FALSE),\"\")","v":""},"System Total Accepted Bid Volume"]
[{"$f":"VLOOKUP(UPPER(M462),Items!$A$2:$B$525,2,FALSE)","v":"N0386"},{"$f":"IF(LEN(K462)>0,\"D\",IF(LEN(A462)=5,\"F\",IF(LEN(A462)=3,\"R\",\" \")))","v":"D"},null,null,null,"O",null,null,null,null,{"$f":"VLOOKUP(UPPER(A462),Items!$B$2:$G$525,6)","v":"decimal(10,3)"},{"$f":"IF(VLOOKUP(UPPER(A462),Items!$B$2:$H$525,7,FALSE)<>0,VLOOKUP(UPPER(A462),Items!$B$2:$H$525,7,FALSE),\"\")","v":""},"System Total Unpriced Accepted Bid Volume","Populated for pre-P217 Settlement Dates. This field will be null for post-P217 Settlement Dates"]
[{"$f":"VLOOKUP(UPPER(M463),Items!$A$2:$B$525,2,FALSE)","v":"N0393"},{"$f":"IF(LEN(K463)>0,\"D\",IF(LEN(A463)=5,\"F\",IF(LEN(A463)=3,\"R\",\" \")))","v":"D"},null,null,null,1,null,null,null,null,{"$f":"VLOOKUP(UPPER(A463),Items!$B$2:$G$525,6)","v":"decimal(10,3)"},{"$f":"IF(VLOOKUP(UPPER(A463),Items!$B$2:$H$525,7,FALSE)<>0,VLOOKUP(UPPER(A463),Items!$B$2:$H$525,7,FALSE),\"\")","v":""},"System Total Priced Accepted Bid Volume"]
[{"$f":"VLOOKUP(UPPER(M464),Items!$A$2:$B$525,2,FALSE)","v":"N0224"},{"$f":"IF(LEN(K464)>0,\"D\",IF(LEN(A464)=5,\"F\",IF(LEN(A464)=3,\"R\",\" \")))","v":"D"},null,null,null,1,null,null,null,null,{"$f":"VLOOKUP(UPPER(A464),Items!$B$2:$G$525,6)","v":"decimal(10,3)"},{"$f":"IF(VLOOKUP(UPPER(A464),Items!$B$2:$H$525,7,FALSE)<>0,VLOOKUP(UPPER(A464),Items!$B$2:$H$525,7,FALSE),\"\")","v":""},"Total System Energy Contract Volume"]
[{"$f":"VLOOKUP(UPPER(M465),Items!$A$2:$B$748,2,FALSE)","v":"N0428"},{"$f":"IF(LEN(K465)>0,\"D\",IF(LEN(A465)=5,\"F\",IF(LEN(A465)=3,\"R\",\" \")))","v":"D"},null,null,null,"O",null,null,null,null,{"$f":"VLOOKUP(UPPER(A465),Items!$B$2:$G$525,6)","v":"decimal(10,3)"},{"$f":"IF(VLOOKUP(UPPER(A465),Items!$B$2:$H$748,7,FALSE)<>0,VLOOKUP(UPPER(A465),Items!$B$2:$H$748,7,FALSE),\"\")","v":""},"NIV Tagged System Total Unpriced Bid Volume","Populated for pre-P217 Settlement Dates. This field will be null for post-P217 Settlement Dates"]
["N0217","D",null,null,null,1,null,null,null,null,"decimal(10,3)",{"$f":"IF(VLOOKUP(UPPER(A466),Items!$B$2:$H$525,7,FALSE)<>0,VLOOKUP(UPPER(A466),Items!$B$2:$H$525,7,FALSE),\"\")","v":""},"Total System Accepted Offer Volume"]
[{"$f":"VLOOKUP(UPPER(M467),Items!$A$2:$B$748,2,FALSE)","v":"N0429"},{"$f":"IF(LEN(K467)>0,\"D\",IF(LEN(A467)=5,\"F\",IF(LEN(A467)=3,\"R\",\" \")))","v":"D"},null,null,null,"O",null,null,null,null,{"$f":"VLOOKUP(UPPER(A467),Items!$B$2:$G$525,6)","v":"decimal(10,3)"},null,"NIV Tagged System Total Unpriced Offer Volume","Populated for pre-P217 Settlement Dates. This field will be null for post-P217 Settlement Dates"]
[{"$f":"VLOOKUP(UPPER(M468),Items!$A$2:$B$748,2,FALSE)","v":"N0430"},"D",null,null,null,1,null,null,null,null,{"$f":"VLOOKUP(UPPER(A468),Items!$B$2:$G$525,6)","v":"decimal(10,3)"},null,"Net Imbalance Volume"]
[{"$f":"VLOOKUP(UPPER(M469),Items!$A$2:$B$748,2,FALSE)","v":"N0431"},"D",null,null,null,1,null,null,null,null,{"$f":"VLOOKUP(UPPER(A469),Items!$B$2:$G$525,6)","v":"decimal(10,3)"},null,"Total NIV Tagged Volume"]
[{"$f":"VLOOKUP(UPPER(M470),Items!$A$2:$B$748,2,FALSE)","v":"N0432"},"D",null,null,null,"O",null,null,null,null,{"$f":"VLOOKUP(UPPER(A470),Items!$B$2:$G$525,6)","v":"decimal(10,3)"},null,"NIV Tagged SBVA","Populated for pre-P217 Settlement Dates. This field will be null for post-P217 Settlement Dates"]
[{"$f":"VLOOKUP(UPPER(M471),Items!$A$2:$B$748,2,FALSE)","v":"N0433"},"D",null,null,null,"O",null,null,null,null,{"$f":"VLOOKUP(UPPER(A471),Items!$B$2:$G$525,6)","v":"decimal(10,3)"},null,"NIV Tagged SSVA","Populated for pre-P217 Settlement Dates. This field will be null for post-P217 Settlement Dates"]
[{"$f":"VLOOKUP(UPPER(M472),Items!$A$2:$B$525,2,FALSE)","v":"N0387"},"D",null,null,null,"O",null,null,null,null,{"$f":"VLOOKUP(UPPER(A472),Items!$B$2:$G$525,6)","v":"decimal(10,3)"},{"$f":"IF(VLOOKUP(UPPER(A472),Items!$B$2:$H$525,7,FALSE)<>0,VLOOKUP(UPPER(A472),Items!$B$2:$H$525,7,FALSE),\"\")","v":""},"System Total Unpriced Accepted Offer Volume","Populated for pre-P217 Settlement Dates. This field will be null for post-P217 Settlement Dates"]
[{"$f":"VLOOKUP(UPPER(M473),Items!$A$2:$B$525,2,FALSE)","v":"N0394"},"D",null,null,null,1,null,null,null,null,{"$f":"VLOOKUP(UPPER(A473),Items!$B$2:$G$525,6)","v":"decimal(10,3)"},{"$f":"IF(VLOOKUP(UPPER(A473),Items!$B$2:$H$525,7,FALSE)<>0,VLOOKUP(UPPER(A473),Items!$B$2:$H$525,7,FALSE),\"\")","v":""},"System Total Priced Accepted Offer Volume"]
[{"$f":"VLOOKUP(UPPER(M474),Items!$A$2:$B$525,2,FALSE)","v":"N0226"},"D",null,null,null,1,null,null,null,null,{"$f":"VLOOKUP(UPPER(A474),Items!$B$2:$G$525,6)","v":"decimal(10,3)"},{"$f":"IF(VLOOKUP(UPPER(A474),Items!$B$2:$H$525,7,FALSE)<>0,VLOOKUP(UPPER(A474),Items!$B$2:$H$525,7,FALSE),\"\")","v":""},"Total System Energy Imbalance Volume"]
[{"$f":"VLOOKUP(UPPER(M475),Items!$A$2:$B$525,2,FALSE)","v":"N0395"},"D",null,null,null,1,null,null,null,null,{"$f":"VLOOKUP(UPPER(A475),Items!$B$2:$G$525,6)","v":"decimal(10,3)"},{"$f":"IF(VLOOKUP(UPPER(A475),Items!$B$2:$H$525,7,FALSE)<>0,VLOOKUP(UPPER(A475),Items!$B$2:$H$525,7,FALSE),\"\")","v":""},"Residual Cashflow Reallocation Denominator"]
[{"$f":"VLOOKUP(UPPER(M476),Items!$A$2:$B$525,2,FALSE)","v":"N0230"},"D",null,null,null,1,null,null,null,null,{"$f":"VLOOKUP(UPPER(A476),Items!$B$2:$G$525,6)","v":"decimal(10,2)"},{"$f":"IF(VLOOKUP(UPPER(A476),Items!$B$2:$H$525,7,FALSE)<>0,VLOOKUP(UPPER(A476),Items!$B$2:$H$525,7,FALSE),\"\")","v":""},"Total System Residual Cashflow"]
[{"$f":"VLOOKUP(UPPER(M477),Items!$A$2:$B$525,2,FALSE)","v":"N0227"},"D",null,null,null,1,null,null,null,null,{"$f":"VLOOKUP(UPPER(A477),Items!$B$2:$G$525,6)","v":"decimal(10,2)"},{"$f":"IF(VLOOKUP(UPPER(A477),Items!$B$2:$H$525,7,FALSE)<>0,VLOOKUP(UPPER(A477),Items!$B$2:$H$525,7,FALSE),\"\")","v":""},"Total System Information Imbalance Charge"]
[{"$f":"VLOOKUP(UPPER(M478),Items!$A$2:$B$525,2,FALSE)","v":"N0420"},"D",null,null,null,"O",null,null,null,null,{"$f":"VLOOKUP(UPPER(A478),Items!$B$2:$G$525,6)","v":"decimal(10,2)"},{"$f":"IF(VLOOKUP(UPPER(A478),Items!$B$2:$H$525,7,FALSE)<>0,VLOOKUP(UPPER(A478),Items!$B$2:$H$525,7,FALSE),\"\")","v":""},"Net Energy Sell-Price Cost Adjustment","Populated for pre-P217 Settlement Dates. This field will be null for post-P217 Settlement Dates"]
[{"$f":"VLOOKUP(UPPER(M479),Items!$A$2:$B$525,2,FALSE)","v":"N0419"},"D",null,null,null,"O",null,null,null,null,{"$f":"VLOOKUP(UPPER(A479),Items!$B$2:$G$525,6)","v":"decimal(10,2)"},{"$f":"IF(VLOOKUP(UPPER(A479),Items!$B$2:$H$525,7,FALSE)<>0,VLOOKUP(UPPER(A479),Items!$B$2:$H$525,7,FALSE),\"\")","v":""},"Net Energy Buy-Price Cost Adjustment","Populated for pre-P217 Settlement Dates. This field will be null for post-P217 Settlement Dates"]
[{"$f":"VLOOKUP(UPPER(M480),Items!$A$2:$B$525,2,FALSE)","v":"N0418"},"D",null,null,null,"O",null,null,null,null,{"$f":"VLOOKUP(UPPER(A480),Items!$B$2:$G$525,6)","v":"decimal(10,3)"},{"$f":"IF(VLOOKUP(UPPER(A480),Items!$B$2:$H$525,7,FALSE)<>0,VLOOKUP(UPPER(A480),Items!$B$2:$H$525,7,FALSE),\"\")","v":""},"Net Energy Sell-Price Volume Adjustment","Populated for pre-P217 Settlement Dates. This field will be null for post-P217 Settlement Dates"]
[{"$f":"VLOOKUP(UPPER(M481),Items!$A$2:$B$525,2,FALSE)","v":"N0417"},"D",null,null,null,"O",null,null,null,null,{"$f":"VLOOKUP(UPPER(A481),Items!$B$2:$G$525,6)","v":"decimal(10,3)"},{"$f":"IF(VLOOKUP(UPPER(A481),Items!$B$2:$H$525,7,FALSE)<>0,VLOOKUP(UPPER(A481),Items!$B$2:$H$525,7,FALSE),\"\")","v":""},"Net Energy Buy-Price Volume Adjustment","Populated for pre-P217 Settlement Dates. This field will be null for post-P217 Settlement Dates"]
[{"$f":"VLOOKUP(UPPER(M482),Items!$A$2:$B$639,2,FALSE)","v":"N0416"},"D",null,null,null,"O",null,null,null,null,{"$f":"VLOOKUP(UPPER(A482),Items!$B$2:$G$525,6)","v":"decimal(10,3)"},{"$f":"IF(VLOOKUP(UPPER(A482),Items!$B$2:$H$748,7,FALSE)<>0,VLOOKUP(UPPER(A482),Items!$B$2:$H$748,7,FALSE),\"\")","v":""},"Net System Sell-Price Volume Adjustment","Populated for pre-P217 Settlement Dates. This field will be null for post-P217 Settlement Dates"]
[{"$f":"VLOOKUP(UPPER(M483),Items!$A$2:$B$748,2,FALSE)","v":"N0415"},"D",null,null,null,"O",null,null,null,null,{"$f":"VLOOKUP(UPPER(A483),Items!$B$2:$G$525,6)","v":"decimal(10,3)"},{"$f":"IF(VLOOKUP(UPPER(A483),Items!$B$2:$H$748,7,FALSE)<>0,VLOOKUP(UPPER(A483),Items!$B$2:$H$748,7,FALSE),\"\")","v":""},"Net System Buy-Price Volume Adjustment","Populated for pre-P217 Settlement Dates. This field will be null for post-P217 Settlement Dates"]
[{"$f":"VLOOKUP(UPPER(M484),Items!$A$2:$B$525,2,FALSE)","v":"N0371"},"D",null,null,null,1,null,null,null,null,{"$f":"VLOOKUP(UPPER(A484),Items!$B$2:$G$525,6)","v":"decimal(10,2)"},{"$f":"IF(VLOOKUP(UPPER(A484),Items!$B$2:$H$525,7,FALSE)<>0,VLOOKUP(UPPER(A484),Items!$B$2:$H$525,7,FALSE),\"\")","v":""},"Sell-Price Price Adjust"]
[{"$f":"VLOOKUP(UPPER(M485),Items!$A$2:$B$525,2,FALSE)","v":"N0372"},"D",null,null,null,1,null,null,null,null,{"$f":"VLOOKUP(UPPER(A485),Items!$B$2:$G$525,6)","v":"decimal(10,2)"},{"$f":"IF(VLOOKUP(UPPER(A485),Items!$B$2:$H$525,7,FALSE)<>0,VLOOKUP(UPPER(A485),Items!$B$2:$H$525,7,FALSE),\"\")","v":""},"Buy-Price Price Adjust"]
[{"$f":"VLOOKUP(UPPER(M486),Items!$A$2:$B$748,2,FALSE)","v":"N0438"},"D",null,null,null,1,null,null,null,null,{"$f":"VLOOKUP(UPPER(A486),Items!$B$2:$G$525,6)","v":"decimal(10,3)"},{"$f":"IF(VLOOKUP(UPPER(A486),Items!$B$2:$H$748,7,FALSE)<>0,VLOOKUP(UPPER(A486),Items!$B$2:$H$748,7,FALSE),\"\")","v":""},"Total Period Applicable Balancing Services Volume","MWh"]
[{"$f":"VLOOKUP(UPPER(M487),Items!$A$2:$B$525,2,FALSE)","v":"N0335"},"D",null,null,null,1,null,null,null,null,{"$f":"VLOOKUP(UPPER(A487),Items!$B$2:$G$525,6)","v":"decimal(10,3)"},null,"System Operator Production Imbalance"]
[{"$f":"VLOOKUP(UPPER(M488),Items!$A$2:$B$525,2,FALSE)","v":"N0336"},"D",null,null,null,1,null,null,null,null,{"$f":"VLOOKUP(UPPER(A488),Items!$B$2:$G$525,6)","v":"decimal(10,3)"},null,"System Operator Consumption Imbalance"]
[{"$f":"VLOOKUP(UPPER(M489),Items!$A$2:$B$748,2,FALSE)","v":"N0501"},"D",null,null,null,"O",null,null,null,null,{"$f":"VLOOKUP(UPPER(A489),Items!$B$2:$G$525,6)","v":"decimal(10,3)"},{"$f":"IF(VLOOKUP(UPPER(A489),Items!$B$2:$H$748,7,FALSE)<>0,VLOOKUP(UPPER(A489),Items!$B$2:$H$748,7,FALSE),\"\")","v":""},"NIV Tagged Energy Buy Volume Adjustment","Populated for pre-P217 Settlement Dates. These fields will be null for all other Settlement Dates."]
[{"$f":"VLOOKUP(UPPER(M490),Items!$A$2:$B$748,2,FALSE)","v":"N0502"},"D",null,null,null,"O",null,null,null,null,{"$f":"VLOOKUP(UPPER(A490),Items!$B$2:$G$525,6)","v":"decimal(10,3)"},{"$f":"IF(VLOOKUP(UPPER(A490),Items!$B$2:$H$748,7,FALSE)<>0,VLOOKUP(UPPER(A490),Items!$B$2:$H$748,7,FALSE),\"\")","v":""},"NIV Tagged Energy Sell Volume Adjustment","Populated for pre-P217 Settlement Dates. These fields will be null for all other Settlement Dates."]
[{"$f":"VLOOKUP(UPPER(M491),Items!$A$2:$B$748,2,FALSE)","v":"N0503"},"D",null,null,null,"O",null,null,null,null,{"$f":"VLOOKUP(UPPER(A491),Items!$B$2:$G$525,6)","v":"decimal(10,3)"},{"$f":"IF(VLOOKUP(UPPER(A491),Items!$B$2:$H$748,7,FALSE)<>0,VLOOKUP(UPPER(A491),Items!$B$2:$H$748,7,FALSE),\"\")","v":""},"PAR Tagged Energy Buy Volume Adjustment","Populated for pre-P217 Settlement Dates. These fields will be null for all other Settlement Dates."]
[{"$f":"VLOOKUP(UPPER(M492),Items!$A$2:$B$748,2,FALSE)","v":"N0504"},"D",null,null,null,"O",null,null,null,null,{"$f":"VLOOKUP(UPPER(A492),Items!$B$2:$G$525,6)","v":"decimal(10,3)"},{"$f":"IF(VLOOKUP(UPPER(A492),Items!$B$2:$H$748,7,FALSE)<>0,VLOOKUP(UPPER(A492),Items!$B$2:$H$748,7,FALSE),\"\")","v":""},"PAR Tagged Energy Sell Volume Adjustment","Populated for pre-P217 Settlement Dates. These fields will be null for all other Settlement Dates."]
[{"$f":"VLOOKUP(UPPER(M493),Items!$A$2:$B$748,2,FALSE)","v":"N0434"},"D",null,null,null,"O",null,null,null,null,{"$f":"VLOOKUP(UPPER(A493),Items!$B$2:$G$525,6)","v":"decimal(10,2)"},{"$f":"IF(VLOOKUP(UPPER(A493),Items!$B$2:$H$748,7,FALSE)<>0,VLOOKUP(UPPER(A493),Items!$B$2:$H$748,7,FALSE),\"\")","v":""},"Untagged EBCA","Populated for pre-P217 Settlement Dates. This field will be null for post-P217 Settlement Dates"]
[{"$f":"VLOOKUP(UPPER(M494),Items!$A$2:$B$748,2,FALSE)","v":"N0435"},"D",null,null,null,"O",null,null,null,null,{"$f":"VLOOKUP(UPPER(A494),Items!$B$2:$G$525,6)","v":"decimal(10,3)"},{"$f":"IF(VLOOKUP(UPPER(A494),Items!$B$2:$H$748,7,FALSE)<>0,VLOOKUP(UPPER(A494),Items!$B$2:$H$748,7,FALSE),\"\")","v":""},"Untagged EBVA","Populated for pre-P217 Settlement Dates. This field will be null for post-P217 Settlement Dates"]
[{"$f":"VLOOKUP(UPPER(M495),Items!$A$2:$B$748,2,FALSE)","v":"N0436"},"D",null,null,null,"O",null,null,null,null,{"$f":"VLOOKUP(UPPER(A495),Items!$B$2:$G$525,6)","v":"decimal(10,2)"},{"$f":"IF(VLOOKUP(UPPER(A495),Items!$B$2:$H$748,7,FALSE)<>0,VLOOKUP(UPPER(A495),Items!$B$2:$H$748,7,FALSE),\"\")","v":""},"Untagged ESCA","Populated for pre-P217 Settlement Dates. This field will be null for post-P217 Settlement Dates"]
[{"$f":"VLOOKUP(UPPER(M496),Items!$A$2:$B$748,2,FALSE)","v":"N0437"},"D",null,null,null,"O",null,null,null,null,{"$f":"VLOOKUP(UPPER(A496),Items!$B$2:$G$525,6)","v":"decimal(10,3)"},{"$f":"IF(VLOOKUP(UPPER(A496),Items!$B$2:$H$748,7,FALSE)<>0,VLOOKUP(UPPER(A496),Items!$B$2:$H$748,7,FALSE),\"\")","v":""},"Untagged ESVA","Populated for pre-P217 Settlement Dates. This field will be null for post-P217 Settlement Dates"]
[{"$f":"VLOOKUP(UPPER(M497),Items!$A$2:$B$525,2,FALSE)","v":"N0517"},"D",null,null,null,"O",null,null,null,null,{"$f":"VLOOKUP(UPPER(A497),Items!$B$2:$G$525,6)","v":"decimal(10,3)"},{"$f":"IF(VLOOKUP(UPPER(A497),Items!$B$2:$H$525,7,FALSE)<>0,VLOOKUP(UPPER(A497),Items!$B$2:$H$525,7,FALSE),\"\")","v":""},"Total System Tagged Accepted Bid Volume","Populated for post-P217 Settlement Dates. This field will be null for pre-P217 Settlement Dates"]
[{"$f":"VLOOKUP(UPPER(M498),Items!$A$2:$B$639,2,FALSE)","v":"N0518"},"D",null,null,null,"O",null,null,null,null,{"$f":"VLOOKUP(UPPER(A498),Items!$B$2:$G$525,6)","v":"decimal(10,3)"},{"$f":"IF(VLOOKUP(UPPER(A498),Items!$B$2:$H$748,7,FALSE)<>0,VLOOKUP(UPPER(A498),Items!$B$2:$H$748,7,FALSE),\"\")","v":""},"Total System Tagged Accepted Offer Volume","Populated for post-P217 Settlement Dates. This field will be null for pre-P217 Settlement Dates"]
[{"$f":"VLOOKUP(UPPER(M499),Items!$A$2:$B$748,2,FALSE)","v":"N0519"},"D",null,null,null,"O",null,null,null,null,{"$f":"VLOOKUP(UPPER(A499),Items!$B$2:$G$525,6)","v":"decimal(10,3)"},{"$f":"IF(VLOOKUP(UPPER(A499),Items!$B$2:$H$748,7,FALSE)<>0,VLOOKUP(UPPER(A499),Items!$B$2:$H$748,7,FALSE),\"\")","v":""},"Total System Repriced Accepted Bid Volume","Populated for post-P217 Settlement Dates. This field will be null for pre-P217 Settlement Dates"]
[{"$f":"VLOOKUP(UPPER(M500),Items!$A$2:$B$525,2,FALSE)","v":"N0520"},"D",null,null,null,"O",null,null,null,null,{"$f":"VLOOKUP(UPPER(A500),Items!$B$2:$G$525,6)","v":"decimal(10,3)"},{"$f":"IF(VLOOKUP(UPPER(A500),Items!$B$2:$H$525,7,FALSE)<>0,VLOOKUP(UPPER(A500),Items!$B$2:$H$525,7,FALSE),\"\")","v":""},"Total System Repriced Accepted Offer Volume","Populated for post-P217 Settlement Dates. This field will be null for pre-P217 Settlement Dates"]
[{"$f":"VLOOKUP(UPPER(M501),Items!$A$2:$B$525,2,FALSE)","v":"N0521"},"D",null,null,null,"O",null,null,null,null,{"$f":"VLOOKUP(UPPER(A501),Items!$B$2:$G$525,6)","v":"decimal(10,3)"},{"$f":"IF(VLOOKUP(UPPER(A501),Items!$B$2:$H$525,7,FALSE)<>0,VLOOKUP(UPPER(A501),Items!$B$2:$H$525,7,FALSE),\"\")","v":""},"Total System Originally-priced Accepted Bid Volume","Populated for post-P217 Settlement Dates. This field will be null for pre-P217 Settlement Dates"]
[{"$f":"VLOOKUP(UPPER(M502),Items!$A$2:$B$748,2,FALSE)","v":"N0522"},"D",null,null,null,"O",null,null,null,null,{"$f":"VLOOKUP(UPPER(A502),Items!$B$2:$G$525,6)","v":"decimal(10,3)"},{"$f":"IF(VLOOKUP(UPPER(A502),Items!$B$2:$H$748,7,FALSE)<>0,VLOOKUP(UPPER(A502),Items!$B$2:$H$748,7,FALSE),\"\")","v":""},"Total System Originally-priced Accepted Offer Volume","Populated for post-P217 Settlement Dates. This field will be null for pre-P217 Settlement Dates"]
[{"$f":"VLOOKUP(UPPER(M503),Items!$A$2:$B$525,2,FALSE)","v":"N0523"},"D",null,null,null,"O",null,null,null,null,{"$f":"VLOOKUP(UPPER(A503),Items!$B$2:$G$525,6)","v":"decimal(10,3)"},null,"Total System Adjustment Sell Volume","Populated for post-P217 Settlement Dates. This field will be null for pre-P217 Settlement Dates"]
[{"$f":"VLOOKUP(UPPER(M504),Items!$A$2:$B$525,2,FALSE)","v":"N0524"},"D",null,null,null,"O",null,null,null,null,{"$f":"VLOOKUP(UPPER(A504),Items!$B$2:$G$525,6)","v":"decimal(10,3)"},null,"Total System Adjustment Buy Volume","Populated for post-P217 Settlement Dates. This field will be null for pre-P217 Settlement Dates"]
[{"$f":"VLOOKUP(UPPER(M505),Items!$A$2:$B$748,2,FALSE)","v":"N0525"},"D",null,null,null,"O",null,null,null,null,{"$f":"VLOOKUP(UPPER(A505),Items!$B$2:$G$525,6)","v":"decimal(10,3)"},{"$f":"IF(VLOOKUP(UPPER(A505),Items!$B$2:$H$748,7,FALSE)<>0,VLOOKUP(UPPER(A505),Items!$B$2:$H$748,7,FALSE),\"\")","v":""},"Total System Tagged Adjustment Sell Volume","Populated for post-P217 Settlement Dates. This field will be null for pre-P217 Settlement Dates"]
[{"$f":"VLOOKUP(UPPER(M506),Items!$A$2:$B$748,2,FALSE)","v":"N0526"},"D",null,null,null,"O",null,null,null,null,{"$f":"VLOOKUP(UPPER(A506),Items!$B$2:$G$525,6)","v":"decimal(10,3)"},{"$f":"IF(VLOOKUP(UPPER(A506),Items!$B$2:$H$748,7,FALSE)<>0,VLOOKUP(UPPER(A506),Items!$B$2:$H$748,7,FALSE),\"\")","v":""},"Total System Tagged Adjustment Buy Volume","Populated for post-P217 Settlement Dates. This field will be null for pre-P217 Settlement Dates"]
[{"$f":"VLOOKUP(UPPER(M507),Items!$A$2:$B$748,2,FALSE)","v":"N0527"},"D",null,null,null,"O",null,null,null,null,{"$f":"VLOOKUP(UPPER(A507),Items!$B$2:$G$525,6)","v":"decimal(10,3)"},{"$f":"IF(VLOOKUP(UPPER(A507),Items!$B$2:$H$748,7,FALSE)<>0,VLOOKUP(UPPER(A507),Items!$B$2:$H$748,7,FALSE),\"\")","v":""},"Total System Repriced Adjustment Sell Volume","Populated for post-P217 Settlement Dates. This field will be null for pre-P217 Settlement Dates"]
[{"$f":"VLOOKUP(UPPER(M508),Items!$A$2:$B$748,2,FALSE)","v":"N0528"},"D",null,null,null,"O",null,null,null,null,{"$f":"VLOOKUP(UPPER(A508),Items!$B$2:$G$525,6)","v":"decimal(10,3)"},{"$f":"IF(VLOOKUP(UPPER(A508),Items!$B$2:$H$748,7,FALSE)<>0,VLOOKUP(UPPER(A508),Items!$B$2:$H$748,7,FALSE),\"\")","v":""},"Total System Repriced Adjustment Buy Volume","Populated for post-P217 Settlement Dates. This field will be null for pre-P217 Settlement Dates"]
[{"$f":"VLOOKUP(UPPER(M509),Items!$A$2:$B$748,2,FALSE)","v":"N0529"},"D",null,null,null,"O",null,null,null,null,{"$f":"VLOOKUP(UPPER(A509),Items!$B$2:$G$525,6)","v":"decimal(10,3)"},{"$f":"IF(VLOOKUP(UPPER(A509),Items!$B$2:$H$748,7,FALSE)<>0,VLOOKUP(UPPER(A509),Items!$B$2:$H$748,7,FALSE),\"\")","v":""},"Total System Originally-priced Adjustment Sell Volume","Populated for post-P217 Settlement Dates. This field will be null for pre-P217 Settlement Dates"]
[{"$f":"VLOOKUP(UPPER(M510),Items!$A$2:$B$748,2,FALSE)","v":"N0530"},"D",null,null,null,"O",null,null,null,null,{"$f":"VLOOKUP(UPPER(A510),Items!$B$2:$G$525,6)","v":"decimal(10,3)"},{"$f":"IF(VLOOKUP(UPPER(A510),Items!$B$2:$H$748,7,FALSE)<>0,VLOOKUP(UPPER(A510),Items!$B$2:$H$748,7,FALSE),\"\")","v":""},"Total System Originally-priced Adjustment Buy Volume","Populated for post-P217 Settlement Dates. This field will be null for pre-P217 Settlement Dates"]
[{"$f":"VLOOKUP(UPPER(M511),Items!$A$2:$B$748,2,FALSE)","v":"N0531"},"D",null,null,null,"O",null,null,null,null,{"$f":"VLOOKUP(UPPER(A511),Items!$B$2:$G$525,6)","v":"decimal(10,2)"},{"$f":"IF(VLOOKUP(UPPER(A511),Items!$B$2:$H$748,7,FALSE)<>0,VLOOKUP(UPPER(A511),Items!$B$2:$H$748,7,FALSE),\"\")","v":""},"Replacement Price","Populated for post-P217 Settlement Dates. This field will be null for pre-P217 Settlement Dates"]
[{"$f":"VLOOKUP(UPPER(M512),Items!$A$2:$B$748,2,FALSE)","v":"N0532"},"D",null,null,null,"O",null,null,null,null,{"$f":"VLOOKUP(UPPER(A512),Items!$B$2:$G$525,6)","v":"decimal(10,3)"},{"$f":"IF(VLOOKUP(UPPER(A512),Items!$B$2:$H$748,7,FALSE)<>0,VLOOKUP(UPPER(A512),Items!$B$2:$H$748,7,FALSE),\"\")","v":""},"Replacement Price Calculation Volume","Populated for post-P217 Settlement Dates. This field will be null for pre-P217 Settlement Dates"]
[{"$f":"VLOOKUP(UPPER(M513),Items!$A$2:$B$639,2,FALSE)","v":"N0558"},"D",null,null,null,"O",null,null,null,null,{"$f":"VLOOKUP(UPPER(A513),Items!$B$2:$G$553,6)","v":"boolean"},null,"Stor Availability Window Flag","Populated for post-P305 Settlement Dates. This field will be null for pre-P305 Settlement Dates"]
[{"$f":"VLOOKUP(UPPER(M514),Items!$A$2:$B$639,2,FALSE)","v":"N0559"},"D",null,null,null,"O",null,null,null,null,{"$f":"VLOOKUP(UPPER(A514),Items!$B$2:$G$553,6)","v":"decimal(10,9)"},null,"Loss Of Load Probability","Populated for post-P305 Settlement Dates (but will be null if the Transmission Company does not provide a value and the BMRA/SAA does not use a default value). This field will be null for pre-P305 Settlement Dates"]
[{"$f":"VLOOKUP(UPPER(M515),Items!$A$2:$B$639,2,FALSE)","v":"N0560"},"D",null,null,null,"O",null,null,null,null,{"$f":"VLOOKUP(UPPER(A515),Items!$B$2:$G$553,6)","v":"decimal(15,7)"},null,"De-rated Margin","Populated for post-P305 Settlement Dates (but will be null if the Transmission Company does not provide a value). This field will be null for pre-P305 Settlement Dates"]
[{"$f":"VLOOKUP(UPPER(M516),Items!$A$2:$B$639,2,FALSE)","v":"N0561"},"D",null,null,null,"O",null,null,null,null,{"$f":"VLOOKUP(UPPER(A516),Items!$B$2:$G$553,6)","v":"decimal(10,2)"},null,"Value Of Lost Load","Populated for post-P305 Settlement Dates. This field will be null for pre-P305 Settlement Dates"]
[{"$f":"VLOOKUP(UPPER(M517),Items!$A$2:$B$639,2,FALSE)","v":"N0562"},"D",null,null,null,"O",null,null,null,null,{"$f":"VLOOKUP(UPPER(A517),Items!$B$2:$G$553,6)","v":"decimal(10,5)"},null,"Reserve Scarcity Price","Populated for post-P305 Settlement Dates (but will be null for any post P305 Settlement Period that is not within a STOR Availability Window). This field will be null for pre-P305 Settlement Dates"]
[{"$f":"VLOOKUP(UPPER(M518),Items!$A$2:$B$639,2,FALSE)","v":"N0592"},"D",null,null,null,"O",null,null,null,null,{"$f":"VLOOKUP(UPPER(A518),Items!$B$2:$G$602,6)","v":"decimal(10,2)"},null,"Total System RR Cashflow","Populated for post TERRE settlement dates only - same value for all periods in day"]
[{"$f":"VLOOKUP(UPPER(M519),Items!$A$2:$B$639,2,FALSE)","v":"N0593"},"D",null,null,null,"O",null,null,null,null,{"$f":"VLOOKUP(UPPER(A519),Items!$B$2:$G$553,6)","v":"decimal(8,3)"},null,"GBP-EUR Exchange Rate","Populated for post TERRE settlement dates only"]
[{"$f":"VLOOKUP(UPPER(M520),Items!$A$2:$B$639,2,FALSE)","v":"N0591"},"D",null,null,null,"O",null,null,null,null,{"$f":"VLOOKUP(UPPER(A520),Items!$B$2:$G$553,6)","v":"decimal(8,3)"},null,"RR Instructed Deviation Cashflow","Populated for post TERRE settlement dates only"]
[{"$f":"VLOOKUP(UPPER(M521),Items!$A$2:$B$639,2,FALSE)","v":"N0595"},"D",null,null,null,"O",null,null,null,null,{"$f":"VLOOKUP(UPPER(A521),Items!$B$2:$G$553,6)","v":"decimal(8,3)"},null,"Volume of GB Need Met","Populated for post TERRE settlement dates only"]
[{"$f":"VLOOKUP(UPPER(M522),Items!$A$2:$B$639,2,FALSE)","v":"N0596"},"D",null,null,null,"O",null,null,null,null,{"$f":"VLOOKUP(UPPER(A522),Items!$B$2:$G$553,6)","v":"decimal(8,3)"},null,"RR Aggregated Unpriced System Buy Action Volume","Populated for post TERRE settlement dates only"]
[{"$f":"VLOOKUP(UPPER(M523),Items!$A$2:$B$639,2,FALSE)","v":"N0598"},"D",null,null,null,"O",null,null,null,null,{"$f":"VLOOKUP(UPPER(A523),Items!$B$2:$G$553,6)","v":"decimal(8,3)"},null,"RR Interconnector Schedule Volume","Populated for post TERRE settlement dates only"]
[{"$f":"VLOOKUP(UPPER(M524),Items!$A$2:$B$639,2,FALSE)","v":"N0599"},"D",null,null,null,"O",null,null,null,null,{"$f":"VLOOKUP(UPPER(A524),Items!$B$2:$G$553,6)","v":"decimal(8,3)"},null,"Period RR Accepted Offer Volume","Populated for post TERRE settlement dates only"]
["MD2","R","0-*",null,null,"G",null,null,null,null,null,null,"Market Index Data Information"]
[{"$f":"VLOOKUP(UPPER(M526),Items!$A$2:$B$748,2,FALSE)","v":"N0423"},"D",null,null,null,null,1,null,null,null,{"$f":"VLOOKUP(UPPER(A526),Items!$B$2:$G$525,6)","v":"text(8)"},{"$f":"IF(VLOOKUP(UPPER(A526),Items!$B$2:$H$748,7,FALSE)<>0,VLOOKUP(UPPER(A526),Items!$B$2:$H$748,7,FALSE),\"\")","v":""},"Market Index Data Provider ID"]
[{"$f":"VLOOKUP(UPPER(M527),Items!$A$2:$B$748,2,FALSE)","v":"N0412"},"D",null,null,null,null,1,null,null,null,{"$f":"VLOOKUP(UPPER(A527),Items!$B$2:$G$525,6)","v":"decimal(10,3)"},{"$f":"IF(VLOOKUP(UPPER(A527),Items!$B$2:$H$748,7,FALSE)<>0,VLOOKUP(UPPER(A527),Items!$B$2:$H$748,7,FALSE),\"\")","v":""},"Individual Liquidity Threshold"]
[{"$f":"VLOOKUP(UPPER(M528),Items!$A$2:$B$748,2,FALSE)","v":"N0413"},"D",null,null,null,null,"O",null,null,null,{"$f":"VLOOKUP(UPPER(A528),Items!$B$2:$G$525,6)","v":"decimal(10,2)"},{"$f":"IF(VLOOKUP(UPPER(A528),Items!$B$2:$H$748,7,FALSE)<>0,VLOOKUP(UPPER(A528),Items!$B$2:$H$748,7,FALSE),\"\")","v":""},"Market Index Price","Null if no data provided by MIDP"]
[{"$f":"VLOOKUP(UPPER(M529),Items!$A$2:$B$748,2,FALSE)","v":"N0414"},"D",null,null,null,null,"O",null,null,null,{"$f":"VLOOKUP(UPPER(A529),Items!$B$2:$G$525,6)","v":"decimal(10,3)"},{"$f":"IF(VLOOKUP(UPPER(A529),Items!$B$2:$H$748,7,FALSE)<>0,VLOOKUP(UPPER(A529),Items!$B$2:$H$748,7,FALSE),\"\")","v":""},"Market Index Volume","Null if no data provided by MIDP"]
["DB2","R",1,null,"G",null,null,null,null,null,null,null,"Balancing Services Adjustment Action Data"]
[{"$f":"VLOOKUP(UPPER(M531),Items!$A$2:$B$525,2,FALSE)","v":"N0533"},"D",null,null,null,1,null,null,null,null,{"$f":"VLOOKUP(UPPER(A531),Items!$B$2:$G$525,6)","v":"integer(4)"},{"$f":"IF(VLOOKUP(UPPER(A531),Items!$B$2:$H$525,7,FALSE)<>0,VLOOKUP(UPPER(A531),Items!$B$2:$H$525,7,FALSE),\"\")","v":""},"Balancing Services Adjustment Action Id"]
[{"$f":"VLOOKUP(UPPER(M532),Items!$A$2:$B$525,2,FALSE)","v":"N0534"},"D",null,null,null,"O",null,null,null,null,{"$f":"VLOOKUP(UPPER(A532),Items!$B$2:$G$525,6)","v":"decimal(10,2)"},{"$f":"IF(VLOOKUP(UPPER(A532),Items!$B$2:$H$525,7,FALSE)<>0,VLOOKUP(UPPER(A532),Items!$B$2:$H$525,7,FALSE),\"\")","v":""},"Balancing Services Adjustment Action Cost","£ Null if Action is unpriced"]
[{"$f":"VLOOKUP(UPPER(M533),Items!$A$2:$B$525,2,FALSE)","v":"N0535"},"D",null,null,null,1,null,null,null,null,{"$f":"VLOOKUP(UPPER(A533),Items!$B$2:$G$525,6)","v":"decimal(10,3)"},{"$f":"IF(VLOOKUP(UPPER(A533),Items!$B$2:$H$525,7,FALSE)<>0,VLOOKUP(UPPER(A533),Items!$B$2:$H$525,7,FALSE),\"\")","v":""},"Balancing Services Adjustment Action Volume"]
[{"$f":"VLOOKUP(UPPER(M534),Items!$A$2:$B$525,2,FALSE)","v":"N0536"},"D",null,null,null,1,null,null,null,null,{"$f":"VLOOKUP(UPPER(A534),Items!$B$2:$G$525,6)","v":"decimal(10,3)"},{"$f":"IF(VLOOKUP(UPPER(A534),Items!$B$2:$H$525,7,FALSE)<>0,VLOOKUP(UPPER(A534),Items!$B$2:$H$525,7,FALSE),\"\")","v":""},"Tagged Balancing Services Adjustment Action Volume"]
[{"$f":"VLOOKUP(UPPER(M535),Items!$A$2:$B$525,2,FALSE)","v":"N0537"},"D",null,null,null,1,null,null,null,null,{"$f":"VLOOKUP(UPPER(A535),Items!$B$2:$G$525,6)","v":"decimal(10,3)"},{"$f":"IF(VLOOKUP(UPPER(A535),Items!$B$2:$H$525,7,FALSE)<>0,VLOOKUP(UPPER(A535),Items!$B$2:$H$525,7,FALSE),\"\")","v":""},"Repriced Balancing Services Adjustment Action Volume"]
[{"$f":"VLOOKUP(UPPER(M536),Items!$A$2:$B$525,2,FALSE)","v":"N0538"},"D",null,null,null,1,null,null,null,null,{"$f":"VLOOKUP(UPPER(A536),Items!$B$2:$G$525,6)","v":"decimal(10,3)"},{"$f":"IF(VLOOKUP(UPPER(A536),Items!$B$2:$H$525,7,FALSE)<>0,VLOOKUP(UPPER(A536),Items!$B$2:$H$525,7,FALSE),\"\")","v":""},"Originally-Priced Balancing Services Adjustment Action Volume"]
[{"$f":"VLOOKUP(UPPER(M537),Items!$A$2:$B$639,2,FALSE)","v":"N0539"},"D",null,null,null,1,null,null,null,null,{"$f":"VLOOKUP(UPPER(A537),Items!$B$2:$G$525,6)","v":"boolean"},{"$f":"IF(VLOOKUP(UPPER(A537),Items!$B$2:$H$748,7,FALSE)<>0,VLOOKUP(UPPER(A537),Items!$B$2:$H$748,7,FALSE),\"\")","v":""},"Balancing Services Adjustment Action SO-Flag"]
[{"$f":"VLOOKUP(UPPER(M538),Items!$A$2:$B$553,2,FALSE)","v":"N0563"},"D",null,null,null,"O",null,null,null,null,{"$f":"VLOOKUP(UPPER(A538),Items!$B$2:$G$553,6)","v":"boolean"},null,"Balancing Services Adjustment Action Stor Provider Flag","Populated for post-P305 Settlement Dates. This field will be null for pre-P305 Settlement Dates"]
[{"$f":"VLOOKUP(UPPER(M539),Items!$A$2:$B$553,2,FALSE)","v":"N0566"},"D",null,null,null,"O",null,null,null,null,{"$f":"VLOOKUP(UPPER(A539),Items!$B$2:$G$553,6)","v":"boolean"},null,"Reserve Scarcity Price Flag","Populated for post-P305 Settlement Dates. This field will be null for pre-P305 Settlement Dates"]
["TRA","R","1-*",null,"G",null,null,null,null,null,null,null,"Trading Unit Period Information"]
[{"$f":"VLOOKUP(UPPER(M541),Items!$A$2:$B$525,2,FALSE)","v":"N0232"},"D",null,null,null,1,null,null,null,null,{"$f":"VLOOKUP(UPPER(A541),Items!$B$2:$G$525,6)","v":"text(30)"},{"$f":"IF(VLOOKUP(UPPER(A541),Items!$B$2:$H$525,7,FALSE)<>0,VLOOKUP(UPPER(A541),Items!$B$2:$H$525,7,FALSE),\"\")","v":""},"Trading Unit Name"]
[{"$f":"VLOOKUP(UPPER(M542),Items!$A$2:$B$525,2,FALSE)","v":"N0231"},"D",null,null,null,1,null,null,null,null,{"$f":"VLOOKUP(UPPER(A542),Items!$B$2:$G$525,6)","v":"decimal(10,3)"},{"$f":"IF(VLOOKUP(UPPER(A542),Items!$B$2:$H$525,7,FALSE)<>0,VLOOKUP(UPPER(A542),Items!$B$2:$H$525,7,FALSE),\"\")","v":""},"Total Trading Unit Metered Volume","MWh"]
["BUI","R","1-*",null,"G",null,null,null,null,null,null,null,"BM Unit Period Information"]
[{"$f":"VLOOKUP(UPPER(M544),Items!$A$2:$B$525,2,FALSE)","v":"N0034"},"D",null,null,null,1,null,null,null,null,{"$f":"VLOOKUP(UPPER(A544),Items!$B$2:$G$525,6)","v":"text(11)"},{"$f":"IF(VLOOKUP(UPPER(A544),Items!$B$2:$H$525,7,FALSE)<>0,VLOOKUP(UPPER(A544),Items!$B$2:$H$525,7,FALSE),\"\")","v":""},"BM Unit Id"]
[{"$f":"VLOOKUP(UPPER(M545),Items!$A$2:$B$525,2,FALSE)","v":"N0232"},{"$f":"IF(LEN(K545)>0,\"D\",IF(LEN(A545)=5,\"F\",IF(LEN(A545)=3,\"R\",\" \")))","v":"D"},null,null,null,"O",null,null,null,null,{"$f":"VLOOKUP(UPPER(A545),Items!$B$2:$G$525,6)","v":"text(30)"},{"$f":"IF(VLOOKUP(UPPER(A545),Items!$B$2:$H$525,7,FALSE)<>0,VLOOKUP(UPPER(A545),Items!$B$2:$H$525,7,FALSE),\"\")","v":""},"Trading Unit Name","Omit if \"default\" trading unit"]
[{"$f":"VLOOKUP(UPPER(M546),Items!$A$2:$B$525,2,FALSE)","v":"N0174"},"D",null,null,null,1,null,null,null,null,{"$f":"VLOOKUP(UPPER(A546),Items!$B$2:$G$525,6)","v":"decimal(10,3)"},{"$f":"IF(VLOOKUP(UPPER(A546),Items!$B$2:$H$525,7,FALSE)<>0,VLOOKUP(UPPER(A546),Items!$B$2:$H$525,7,FALSE),\"\")","v":""},"Period FPN","MWh"]
[{"$f":"VLOOKUP(UPPER(M547),Items!$A$2:$B$525,2,FALSE)","v":"N0035"},"D",null,null,null,1,null,null,null,null,{"$f":"VLOOKUP(UPPER(A547),Items!$B$2:$G$525,6)","v":"decimal(10,3)"},{"$f":"IF(VLOOKUP(UPPER(A547),Items!$B$2:$H$525,7,FALSE)<>0,VLOOKUP(UPPER(A547),Items!$B$2:$H$525,7,FALSE),\"\")","v":""},"BM Unit Metered Volume","MWh"]
[{"$f":"VLOOKUP(UPPER(M548),Items!$A$2:$B$525,2,FALSE)","v":"N0234"},"D",null,null,null,1,null,null,null,null,{"$f":"VLOOKUP(UPPER(A548),Items!$B$2:$G$525,6)","v":"decimal(8,7)"},{"$f":"IF(VLOOKUP(UPPER(A548),Items!$B$2:$H$525,7,FALSE)<>0,VLOOKUP(UPPER(A548),Items!$B$2:$H$525,7,FALSE),\"\")","v":""},"Transmission Loss Multiplier"]
[{"$f":"VLOOKUP(UPPER(M549),Items!$A$2:$B$748,2,FALSE)","v":"N0421"},"D",null,null,null,1,null,null,null,null,{"$f":"VLOOKUP(UPPER(A549),Items!$B$2:$G$525,6)","v":"decimal(10,3)"},{"$f":"IF(VLOOKUP(UPPER(A549),Items!$B$2:$H$748,7,FALSE)<>0,VLOOKUP(UPPER(A549),Items!$B$2:$H$748,7,FALSE),\"\")","v":""},"BM Unit Applicable Balancing Services Volume","MWh"]
["BBO","R","0-*",null,null,"G",null,null,null,null,null,null,"BM Unit Period Bid-Offer Information"]
[{"$f":"VLOOKUP(UPPER(M551),Items!$A$2:$B$525,2,FALSE)","v":"N0025"},"D",null,null,null,null,1,null,null,null,{"$f":"VLOOKUP(UPPER(A551),Items!$B$2:$G$525,6)","v":"integer(2)"},{"$f":"IF(VLOOKUP(UPPER(A551),Items!$B$2:$H$525,7,FALSE)<>0,VLOOKUP(UPPER(A551),Items!$B$2:$H$525,7,FALSE),\"\")","v":""},"Bid-Offer Pair Number"]
[{"$f":"VLOOKUP(UPPER(M552),Items!$A$2:$B$525,2,FALSE)","v":"N0030"},"D",null,null,null,null,"O",null,null,null,{"$f":"VLOOKUP(UPPER(A552),Items!$B$2:$G$525,6)","v":"decimal(10,5)"},{"$f":"IF(VLOOKUP(UPPER(A552),Items!$B$2:$H$525,7,FALSE)<>0,VLOOKUP(UPPER(A552),Items!$B$2:$H$525,7,FALSE),\"\")","v":""},"Bid Price"]
[{"$f":"VLOOKUP(UPPER(M553),Items!$A$2:$B$525,2,FALSE)","v":"N0153"},"D",null,null,null,null,"O",null,null,null,{"$f":"VLOOKUP(UPPER(A553),Items!$B$2:$G$525,6)","v":"decimal(10,5)"},{"$f":"IF(VLOOKUP(UPPER(A553),Items!$B$2:$H$525,7,FALSE)<>0,VLOOKUP(UPPER(A553),Items!$B$2:$H$525,7,FALSE),\"\")","v":""},"Offer Price"]
["BO2","R","0-*",null,null,null,"G",null,null,null,null,null,"BMU Period Bid-Offer Value Pair"]
[{"$f":"VLOOKUP(UPPER(M555),Items!$A$2:$B$525,2,FALSE)","v":"N0220"},"D",null,null,null,null,null,1,null,null,{"$f":"VLOOKUP(UPPER(A555),Items!$B$2:$G$525,6)","v":"integer(2)"},{"$f":"IF(VLOOKUP(UPPER(A555),Items!$B$2:$H$525,7,FALSE)<>0,VLOOKUP(UPPER(A555),Items!$B$2:$H$525,7,FALSE),\"\")","v":""},"Time from","minutes from start of period"]
[{"$f":"VLOOKUP(UPPER(M556),Items!$A$2:$B$525,2,FALSE)","v":"N0028"},"D",null,null,null,null,null,"O",null,null,{"$f":"VLOOKUP(UPPER(A556),Items!$B$2:$G$525,6)","v":"decimal(10,3)"},{"$f":"IF(VLOOKUP(UPPER(A556),Items!$B$2:$H$525,7,FALSE)<>0,VLOOKUP(UPPER(A556),Items!$B$2:$H$525,7,FALSE),\"\")","v":""},"Bid Offer Volume Value From"]
[{"$f":"VLOOKUP(UPPER(M557),Items!$A$2:$B$525,2,FALSE)","v":"N0221"},"D",null,null,null,null,null,1,null,null,{"$f":"VLOOKUP(UPPER(A557),Items!$B$2:$G$525,6)","v":"integer(2)"},{"$f":"IF(VLOOKUP(UPPER(A557),Items!$B$2:$H$525,7,FALSE)<>0,VLOOKUP(UPPER(A557),Items!$B$2:$H$525,7,FALSE),\"\")","v":""},"Time To","minutes from start of period"]
[{"$f":"VLOOKUP(UPPER(M558),Items!$A$2:$B$525,2,FALSE)","v":"N0029"},"D",null,null,null,null,null,"O",null,null,{"$f":"VLOOKUP(UPPER(A558),Items!$B$2:$G$525,6)","v":"decimal(10,3)"},{"$f":"IF(VLOOKUP(UPPER(A558),Items!$B$2:$H$525,7,FALSE)<>0,VLOOKUP(UPPER(A558),Items!$B$2:$H$525,7,FALSE),\"\")","v":""},"Bid Offer Volume Value To"]
["MEL","R","0-*",null,null,"G",null,null,null,null,null,null,"Maximum Export Limit Information"]
[{"$f":"VLOOKUP(UPPER(M560),Items!$A$2:$B$525,2,FALSE)","v":"N0220"},"D",null,null,null,null,1,null,null,null,{"$f":"VLOOKUP(UPPER(A560),Items!$B$2:$G$525,6)","v":"integer(2)"},{"$f":"IF(VLOOKUP(UPPER(A560),Items!$B$2:$H$525,7,FALSE)<>0,VLOOKUP(UPPER(A560),Items!$B$2:$H$525,7,FALSE),\"\")","v":""},"Time From","minutes from start of period"]
[{"$f":"VLOOKUP(UPPER(M561),Items!$A$2:$B$525,2,FALSE)","v":"N0130"},"D",null,null,null,null,"O",null,null,null,{"$f":"VLOOKUP(UPPER(A561),Items!$B$2:$G$525,6)","v":"decimal(10,3)"},{"$f":"IF(VLOOKUP(UPPER(A561),Items!$B$2:$H$525,7,FALSE)<>0,VLOOKUP(UPPER(A561),Items!$B$2:$H$525,7,FALSE),\"\")","v":""},"Level From","MW"]
[{"$f":"VLOOKUP(UPPER(M562),Items!$A$2:$B$525,2,FALSE)","v":"N0221"},"D",null,null,null,null,1,null,null,null,{"$f":"VLOOKUP(UPPER(A562),Items!$B$2:$G$525,6)","v":"integer(2)"},{"$f":"IF(VLOOKUP(UPPER(A562),Items!$B$2:$H$525,7,FALSE)<>0,VLOOKUP(UPPER(A562),Items!$B$2:$H$525,7,FALSE),\"\")","v":""},"Time To","minutes from start of period"]
[{"$f":"VLOOKUP(UPPER(M563),Items!$A$2:$B$525,2,FALSE)","v":"N0131"},"D",null,null,null,null,"O",null,null,null,{"$f":"VLOOKUP(UPPER(A563),Items!$B$2:$G$525,6)","v":"decimal(10,3)"},{"$f":"IF(VLOOKUP(UPPER(A563),Items!$B$2:$H$525,7,FALSE)<>0,VLOOKUP(UPPER(A563),Items!$B$2:$H$525,7,FALSE),\"\")","v":""},"Level To","MW"]
["MIL","R","0-*",null,null,"G",null,null,null,null,null,null,"Maximum Import Limit Information"," "]
[{"$f":"VLOOKUP(UPPER(M565),Items!$A$2:$B$525,2,FALSE)","v":"N0220"},"D",null,null,null,null,1,null,null,null,{"$f":"VLOOKUP(UPPER(A565),Items!$B$2:$G$525,6)","v":"integer(2)"},{"$f":"IF(VLOOKUP(UPPER(A565),Items!$B$2:$H$525,7,FALSE)<>0,VLOOKUP(UPPER(A565),Items!$B$2:$H$525,7,FALSE),\"\")","v":""},"Time From","minutes from start of period"]
[{"$f":"VLOOKUP(UPPER(M566),Items!$A$2:$B$525,2,FALSE)","v":"N0130"},"D",null,null,null,null,"O",null,null,null,{"$f":"VLOOKUP(UPPER(A566),Items!$B$2:$G$525,6)","v":"decimal(10,3)"},{"$f":"IF(VLOOKUP(UPPER(A566),Items!$B$2:$H$525,7,FALSE)<>0,VLOOKUP(UPPER(A566),Items!$B$2:$H$525,7,FALSE),\"\")","v":""},"Level From","MW"]
[{"$f":"VLOOKUP(UPPER(M567),Items!$A$2:$B$525,2,FALSE)","v":"N0221"},"D",null,null,null,null,1,null,null,null,{"$f":"VLOOKUP(UPPER(A567),Items!$B$2:$G$525,6)","v":"integer(2)"},{"$f":"IF(VLOOKUP(UPPER(A567),Items!$B$2:$H$525,7,FALSE)<>0,VLOOKUP(UPPER(A567),Items!$B$2:$H$525,7,FALSE),\"\")","v":""},"Time To","minutes from start of period"]
[{"$f":"VLOOKUP(UPPER(M568),Items!$A$2:$B$525,2,FALSE)","v":"N0131"},"D",null,null,null,null,"O",null,null,null,{"$f":"VLOOKUP(UPPER(A568),Items!$B$2:$G$525,6)","v":"decimal(10,3)"},{"$f":"IF(VLOOKUP(UPPER(A568),Items!$B$2:$H$525,7,FALSE)<>0,VLOOKUP(UPPER(A568),Items!$B$2:$H$525,7,FALSE),\"\")","v":""},"Level To","MW"]
["BQH",null,"0-*",null,null,"G",null,null,null,null,null,null,"BM Unit Quarter Hour Data"]
[{"$f":"VLOOKUP(UPPER(M570),Items!$A$2:$B$602,2,FALSE)","v":"N0609"},"D",null,null,null,null,1,null,null,null,{"$f":"VLOOKUP(UPPER(A570),Items!$B$2:$G$602,6)","v":"integer(1)"},null,"Quarter Hour Period","Populated for post TERRE settlement dates only"]
["N0608","D",null,null,null,null,1,null,null,null,{"$f":"VLOOKUP(UPPER(A571),Items!$B$2:$G$602,6)","v":"decimal(10,3)  "},null,"RR Activation Volume","Populated for post TERRE settlement dates only"]
["N0590","D",null,null,null,null,1,null,null,null,{"$f":"VLOOKUP(UPPER(A572),Items!$B$2:$G$602,6)","v":"decimal(10,2)"},null,"RR Cashflow","Populated for post TERRE settlement dates only"]
["N0610","D",null,null,null,null,1,null,null,null,{"$f":"VLOOKUP(UPPER(A573),Items!$B$2:$G$602,6)","v":"decimal(10,3)  "},null,"Deemed Standard Product Offer Volume","Populated for post TERRE settlement dates only"]
["N0611","D",null,null,null,null,1,null,null,null,{"$f":"VLOOKUP(UPPER(A574),Items!$B$2:$G$602,6)","v":"decimal(10,3)  "},null,"Deemed Standard Product Bid Volume","Populated for post TERRE settlement dates only"]
["RRB","R","0-*",null,null,null,1,null,null,null,null,null,"Replacement Reserve Bid"]
["N0612",{"$f":"IF(LEN(K576)>0,\"D\",IF(LEN(A576)=5,\"F\",IF(LEN(A576)=3,\"R\",\" \")))","v":"D"},null,null,null,null,null,1,null,null,{"$f":"VLOOKUP(UPPER(A576),Items!$B$2:$G$602,6)","v":"varchar2(16)"},null,"RR Associated Transmission System Operator","Populated for post TERRE settlement dates only"]
["N0613","D",null,null,null,null,null,1,null,null,{"$f":"VLOOKUP(UPPER(A577),Items!$B$2:$G$602,6)","v":"varchar2(8)"},null,"RR Market Balance Area","Populated for post TERRE settlement dates only"]
["N0614","D",null,null,null,null,null,1,null,null,{"$f":"VLOOKUP(UPPER(A578),Items!$B$2:$G$602,6)","v":"varchar2(3)"},null,"RR Divisible","Populated for post TERRE settlement dates only"]
["N0615","D",null,null,null,null,null,"O",null,null,{"$f":"VLOOKUP(UPPER(A579),Items!$B$2:$G$602,6)","v":"varchar2(8)"},null,"RR Linking Bid ID","Populated for post TERRE settlement dates only"]
["N0616","D",null,null,null,null,null,"O",null,null,{"$f":"VLOOKUP(UPPER(A580),Items!$B$2:$G$602,6)","v":"varchar2(8)"},null,"RR Multipart Bid ID","Populated for post TERRE settlement dates only"]
["N0617","D",null,null,null,null,null,"O",null,null,{"$f":"VLOOKUP(UPPER(A581),Items!$B$2:$G$602,6)","v":"varchar2(8)"},null,"RR Exclusive Bid ID","Populated for post TERRE settlement dates only"]
["N0618","D",null,null,null,null,null,1,null,null,{"$f":"VLOOKUP(UPPER(A582),Items!$B$2:$G$602,6)","v":"varchar2(3)"},null,"RR Flow Direction","Populated for post TERRE settlement dates only"]
["N0619","D",null,null,null,null,null,1,null,null,{"$f":"VLOOKUP(UPPER(A583),Items!$B$2:$G$602,6)","v":"varchar2(3)"},null,"RR Incremental Size","Populated for post TERRE settlement dates only"]
["N0620","D",null,null,null,null,null,1,null,null,{"$f":"VLOOKUP(UPPER(A584),Items!$B$2:$G$602,6)","v":"decimal(10,3)  "},null,"RR Minimum Quantity","Populated for post TERRE settlement dates only"]
["N0621","D",null,null,null,null,null,1,null,null,{"$f":"VLOOKUP(UPPER(A585),Items!$B$2:$G$602,6)","v":"decimal(10,3)  "},null,"RR Maximum Quantity","Populated for post TERRE settlement dates only"]
["N0622","D",null,null,null,null,null,1,null,null,{"$f":"VLOOKUP(UPPER(A586),Items!$B$2:$G$602,6)","v":"varchar2(5)"},null,"RR Bid Resolution","Populated for post TERRE settlement dates only"]
["N0623","D",null,null,null,null,null,1,null,null,{"$f":"VLOOKUP(UPPER(A587),Items!$B$2:$G$602,6)","v":"varchar2(5)"},null,"RR Position","Populated for post TERRE settlement dates only"]
["N0624","D",null,null,null,null,null,1,null,null,{"$f":"VLOOKUP(UPPER(A588),Items!$B$2:$G$602,6)","v":"decimal(10,5)"},null,"RR Price","Populated for post TERRE settlement dates only"]
["N0625","D",null,null,null,null,null,1,null,null,{"$f":"VLOOKUP(UPPER(A589),Items!$B$2:$G$602,6)","v":"varchar2(3)"},null,"RR Status","Populated for post TERRE settlement dates only"]
["RRA","R","0-*",null,null,null,"G",null,null,null,null,null,"Replacement Reserve Activation"]
["N0618","D",null,null,null,null,null,1,null,null,{"$f":"VLOOKUP(UPPER(A591),Items!$B$2:$G$602,6)","v":"varchar2(3)"},null,"RR Flow Direction","Populated for post TERRE settlement dates only"]
["N0626","D",null,null,null,null,null,1,null,null,{"$f":"VLOOKUP(UPPER(A592),Items!$B$2:$G$602,6)","v":"decimal(10,3)  "},null,"RR Activation Quantity","Populated for post TERRE settlement dates only"]
["N0622","D",null,null,null,null,null,1,null,null,{"$f":"VLOOKUP(UPPER(A593),Items!$B$2:$G$602,6)","v":"varchar2(5)"},null,"RR Bid Resolution","Populated for post TERRE settlement dates only"]
["N0623","D",null,null,null,null,null,1,null,null,{"$f":"VLOOKUP(UPPER(A594),Items!$B$2:$G$602,6)","v":"varchar2(5)"},null,"RR Position","Populated for post TERRE settlement dates only"]
["N0627","D",null,null,null,null,null,1,null,null,{"$f":"VLOOKUP(UPPER(A595),Items!$B$2:$G$602,6)","v":"decimal(10,5)"},null,"RR Activation Price","Populated for post TERRE settlement dates only"]
["SQH","R",1,null,"G",null,null,null,null,null,null,null,"System Quarter Hour Data"]
["N0609",{"$f":"IF(LEN(K597)>0,\"D\",IF(LEN(A597)=5,\"F\",IF(LEN(A597)=3,\"R\",\" \")))","v":"D"},null,null,null,1,null,null,null,null,{"$f":"VLOOKUP(UPPER(A597),Items!$B$2:$G$602,6)","v":"integer(1)"},null,"Quarter Hour Period","Populated for post TERRE settlement dates only"]
["N0595","D",null,null,null,"O",null,null,null,null,{"$f":"VLOOKUP(UPPER(A598),Items!$B$2:$G$602,6)","v":"decimal(10,3)  "},null,"Volume of GB Need Met","Populated for post TERRE settlement dates only"]
["N0598",{"$f":"IF(LEN(K599)>0,\"D\",IF(LEN(A599)=5,\"F\",IF(LEN(A599)=3,\"R\",\" \")))","v":"D"},null,null,null,"O",null,null,null,null,{"$f":"VLOOKUP(UPPER(A599),Items!$B$2:$G$602,6)","v":"decimal(10,3)  "},null,"RR Interconnector Schedule Volume","Populated for post TERRE settlement dates only","Total across all Interconnectors"]
["N0601",{"$f":"IF(LEN(K600)>0,\"D\",IF(LEN(A600)=5,\"F\",IF(LEN(A600)=3,\"R\",\" \")))","v":"D"},null,null,null,"O",null,null,null,null,{"$f":"VLOOKUP(UPPER(A600),Items!$B$2:$G$602,6)","v":"decimal(10,5)"},null,"TERRE Clearing Price","Populated for post TERRE settlement dates only"]
[]
[]
["S0191",{"$f":"IF(LEN(K603)>0,\"D\",IF(LEN(A603)=5,\"F\",IF(LEN(A603)=3,\"R\",\" \")))","v":"F"},"001",null,null,null,null,null,null,null,null,null,"SAA-I019: BSC Party Performance Report"]
[null," "]
["NOT","R","0-*","G",null,null,null,null,null,null,null,null,"Number of Trades"]
[{"$f":"VLOOKUP(UPPER(M606),Items!$A$2:$B$525,2,FALSE)","v":"N0180"},"D",null,null,1,null,null,null,null,null,{"$f":"VLOOKUP(UPPER(A606),Items!$B$2:$G$525,6)","v":"integer(4)"},{"$f":"IF(VLOOKUP(UPPER(A606),Items!$B$2:$H$525,7,FALSE)<>0,VLOOKUP(UPPER(A606),Items!$B$2:$H$525,7,FALSE),\"\")","v":""},"Ranking"]
[{"$f":"VLOOKUP(UPPER(M607),Items!$A$2:$B$525,2,FALSE)","v":"N0045"},"D",null,null,1,null,null,null,null,null,{"$f":"VLOOKUP(UPPER(A607),Items!$B$2:$G$525,6)","v":"text(8)"},{"$f":"IF(VLOOKUP(UPPER(A607),Items!$B$2:$H$525,7,FALSE)<>0,VLOOKUP(UPPER(A607),Items!$B$2:$H$525,7,FALSE),\"\")","v":""},"BSC Party Id"]
[{"$f":"VLOOKUP(UPPER(M608),Items!$A$2:$B$525,2,FALSE)","v":"N0152"},"D",null,null,1,null,null,null,null,null,{"$f":"VLOOKUP(UPPER(A608),Items!$B$2:$G$525,6)","v":"integer(8)"},{"$f":"IF(VLOOKUP(UPPER(A608),Items!$B$2:$H$525,7,FALSE)<>0,VLOOKUP(UPPER(A608),Items!$B$2:$H$525,7,FALSE),\"\")","v":""},"Number Of Trades"]
[{"$f":"VLOOKUP(UPPER(M609),Items!$A$2:$B$525,2,FALSE)","v":"N0236"},"D",null,null,1,null,null,null,null,null,{"$f":"VLOOKUP(UPPER(A609),Items!$B$2:$G$525,6)","v":"decimal(10,3)"},{"$f":"IF(VLOOKUP(UPPER(A609),Items!$B$2:$H$525,7,FALSE)<>0,VLOOKUP(UPPER(A609),Items!$B$2:$H$525,7,FALSE),\"\")","v":""},"Volume Of Trades"]
["IBV","R","0-*","G",null,null,null,null,null,null,null,null,"Imbalance Volumes"]
[{"$f":"VLOOKUP(UPPER(M611),Items!$A$2:$B$525,2,FALSE)","v":"N0180"},"D",null,null,1,null,null,null,null,null,{"$f":"VLOOKUP(UPPER(A611),Items!$B$2:$G$525,6)","v":"integer(4)"},{"$f":"IF(VLOOKUP(UPPER(A611),Items!$B$2:$H$525,7,FALSE)<>0,VLOOKUP(UPPER(A611),Items!$B$2:$H$525,7,FALSE),\"\")","v":""},"Ranking"]
[{"$f":"VLOOKUP(UPPER(M612),Items!$A$2:$B$525,2,FALSE)","v":"N0045"},"D",null,null,1,null,null,null,null,null,{"$f":"VLOOKUP(UPPER(A612),Items!$B$2:$G$525,6)","v":"text(8)"},{"$f":"IF(VLOOKUP(UPPER(A612),Items!$B$2:$H$525,7,FALSE)<>0,VLOOKUP(UPPER(A612),Items!$B$2:$H$525,7,FALSE),\"\")","v":""},"BSC Party Id"]
[{"$f":"VLOOKUP(UPPER(M613),Items!$A$2:$B$525,2,FALSE)","v":"N0120"},"D",null,null,1,null,null,null,null,null,{"$f":"VLOOKUP(UPPER(A613),Items!$B$2:$G$525,6)","v":"decimal(10,3)"},{"$f":"IF(VLOOKUP(UPPER(A613),Items!$B$2:$H$525,7,FALSE)<>0,VLOOKUP(UPPER(A613),Items!$B$2:$H$525,7,FALSE),\"\")","v":""},"Imbalance Volume"]
[]
["R0351","F","001",null,null,null,null,null,null,null,null,null,"CRA-I035: CRA BSC Section D Charging Data"]
[null," "]
["SDC","R","1-*","G",null,null,null,null,null,null,null,null,"Section D CRA data"]
[{"$f":"VLOOKUP(UPPER(M618),Items!$A$2:$B$525,2,FALSE)","v":"N0374"},{"$f":"IF(LEN(K618)>0,\"D\",IF(LEN(A618)=5,\"F\",IF(LEN(A618)=3,\"R\",\" \")))","v":"D"},null,null,1,null,null,null,null,null,{"$f":"VLOOKUP(UPPER(A618),Items!$B$2:$G$525,6)","v":"text(7)"},null,"Month","MONYYYY e.g. AUG2001"]
[{"$f":"VLOOKUP(UPPER(M619),Items!$A$2:$B$525,2,FALSE)","v":"N0045"},"D",null,null,1,null,null,null,null,null,{"$f":"VLOOKUP(UPPER(A619),Items!$B$2:$G$525,6)","v":"text(8)"},{"$f":"IF(VLOOKUP(UPPER(A619),Items!$B$2:$H$525,7,FALSE)<>0,VLOOKUP(UPPER(A619),Items!$B$2:$H$525,7,FALSE),\"\")","v":""},"BSC Party id"]
[{"$f":"VLOOKUP(UPPER(M620),Items!$A$2:$B$525,2,FALSE)","v":"N0046"},"D",null,null,1,null,null,null,null,null,{"$f":"VLOOKUP(UPPER(A620),Items!$B$2:$G$525,6)","v":"text(30)"},{"$f":"IF(VLOOKUP(UPPER(A620),Items!$B$2:$H$525,7,FALSE)<>0,VLOOKUP(UPPER(A620),Items!$B$2:$H$525,7,FALSE),\"\")","v":""},"Bsc Party Name"]
[{"$f":"VLOOKUP(UPPER(M621),Items!$A$2:$B$525,2,FALSE)","v":"N0375"},"D",null,null,1,null,null,null,null,null,{"$f":"VLOOKUP(UPPER(A621),Items!$B$2:$G$525,6)","v":"integer(7)"},null,"Count of CVA Metering Systems"]
[{"$f":"VLOOKUP(UPPER(M622),Items!$A$2:$B$525,2,FALSE)","v":"N0376"},"D",null,null,1,null,null,null,null,null,{"$f":"VLOOKUP(UPPER(A622),Items!$B$2:$G$525,6)","v":"integer(7)"},null,"Count of CVA BM Units"]
[{"$f":"VLOOKUP(UPPER(M623),Items!$A$2:$B$525,2,FALSE)","v":"N0377"},"D",null,null,1,null,null,null,null,null,{"$f":"VLOOKUP(UPPER(A623),Items!$B$2:$G$525,6)","v":"integer(7)"},null,"Count of SVA Base BM Units"]
[{"$f":"VLOOKUP(UPPER(M624),Items!$A$2:$B$525,2,FALSE)","v":"N0378"},"D",null,null,1,null,null,null,null,null,{"$f":"VLOOKUP(UPPER(A624),Items!$B$2:$G$525,6)","v":"integer(7)"},null,"Count of SVA additional BM Units"]
[{"$f":"VLOOKUP(UPPER(M625),Items!$A$2:$B$525,2,FALSE)","v":"N0379"},"D",null,null,1,null,null,null,null,null,{"$f":"VLOOKUP(UPPER(A625),Items!$B$2:$G$525,6)","v":"integer(7)"},null,"Count of SVA Replacement Base BM Units"]
[{"$f":"VLOOKUP(UPPER(M626),Items!$A$2:$B$525,2,FALSE)","v":"N0380"},"D",null,null,1,null,null,null,null,null,{"$f":"VLOOKUP(UPPER(A626),Items!$B$2:$G$525,6)","v":"integer(7)"},null,"Count of SVA Replacement additional BM Units"]
[]
["R0351","F","002",null,null,null,null,null,null,null,null,null,"CRA-I035: CRA BSC Section D Charging Data"]
[null," "]
["SDC","R","1-*","G",null,null,null,null,null,null,null,null,"Section D CRA data"]
[{"$f":"VLOOKUP(UPPER(M631),Items!$A$2:$B$525,2,FALSE)","v":"N0374"},{"$f":"IF(LEN(K631)>0,\"D\",IF(LEN(A631)=5,\"F\",IF(LEN(A631)=3,\"R\",\" \")))","v":"D"},null,null,1,null,null,null,null,null,{"$f":"VLOOKUP(UPPER(A631),Items!$B$2:$G$525,6)","v":"text(7)"},null,"Month","MONYYYY e.g. AUG2001"]
[{"$f":"VLOOKUP(UPPER(M632),Items!$A$2:$B$525,2,FALSE)","v":"N0045"},"D",null,null,1,null,null,null,null,null,{"$f":"VLOOKUP(UPPER(A632),Items!$B$2:$G$525,6)","v":"text(8)"},{"$f":"IF(VLOOKUP(UPPER(A632),Items!$B$2:$H$525,7,FALSE)<>0,VLOOKUP(UPPER(A632),Items!$B$2:$H$525,7,FALSE),\"\")","v":""},"BSC Party id"]
[{"$f":"VLOOKUP(UPPER(M633),Items!$A$2:$B$525,2,FALSE)","v":"N0046"},"D",null,null,1,null,null,null,null,null,{"$f":"VLOOKUP(UPPER(A633),Items!$B$2:$G$525,6)","v":"text(30)"},{"$f":"IF(VLOOKUP(UPPER(A633),Items!$B$2:$H$525,7,FALSE)<>0,VLOOKUP(UPPER(A633),Items!$B$2:$H$525,7,FALSE),\"\")","v":""},"Bsc Party Name"]
[{"$f":"VLOOKUP(UPPER(M634),Items!$A$2:$B$525,2,FALSE)","v":"N0375"},"D",null,null,1,null,null,null,null,null,{"$f":"VLOOKUP(UPPER(A634),Items!$B$2:$G$525,6)","v":"integer(7)"},null,"Count of CVA Metering Systems"]
[{"$f":"VLOOKUP(UPPER(M635),Items!$A$2:$B$525,2,FALSE)","v":"N0376"},"D",null,null,1,null,null,null,null,null,{"$f":"VLOOKUP(UPPER(A635),Items!$B$2:$G$525,6)","v":"integer(7)"},null,"Count of CVA BM Units"]
[{"$f":"VLOOKUP(UPPER(M636),Items!$A$2:$B$525,2,FALSE)","v":"N0473"},"D",null,null,1,null,null,null,null,null,{"$f":"VLOOKUP(UPPER(A636),Items!$B$2:$G$525,6)","v":"integer(7)"},null,"Count Of CVA Exempt Export BM Units","Included in above count"]
[{"$f":"VLOOKUP(UPPER(M637),Items!$A$2:$B$525,2,FALSE)","v":"N0377"},"D",null,null,1,null,null,null,null,null,{"$f":"VLOOKUP(UPPER(A637),Items!$B$2:$G$525,6)","v":"integer(7)"},null,"Count of SVA Base BM Units"]
[{"$f":"VLOOKUP(UPPER(M638),Items!$A$2:$B$525,2,FALSE)","v":"N0378"},"D",null,null,1,null,null,null,null,null,{"$f":"VLOOKUP(UPPER(A638),Items!$B$2:$G$525,6)","v":"integer(7)"},null,"Count of SVA additional BM Units"]
[{"$f":"VLOOKUP(UPPER(M639),Items!$A$2:$B$525,2,FALSE)","v":"N0379"},"D",null,null,1,null,null,null,null,null,{"$f":"VLOOKUP(UPPER(A639),Items!$B$2:$G$525,6)","v":"integer(7)"},null,"Count of SVA Replacement Base BM Units"]
[{"$f":"VLOOKUP(UPPER(M640),Items!$A$2:$B$525,2,FALSE)","v":"N0380"},"D",null,null,1,null,null,null,null,null,{"$f":"VLOOKUP(UPPER(A640),Items!$B$2:$G$525,6)","v":"integer(7)"},null,"Count of SVA Replacement additional BM Units"]
[{"$f":"VLOOKUP(UPPER(M641),Items!$A$2:$B$525,2,FALSE)","v":"N0474"},"D",null,null,1,null,null,null,null,null,{"$f":"VLOOKUP(UPPER(A641),Items!$B$2:$G$525,6)","v":"integer(7)"},null,"Count of SVA Exempt Export BM Units","Included in above count"]
[]
["R0351","F","003",null,null,null,null,null,null,null,null,null,"CRA-I035: CRA BSC Section D Charging Data"]
[null," "]
["SDC","R","1-*","G",null,null,null,null,null,null,null,null,"Section D CRA data"]
[{"$f":"VLOOKUP(UPPER(M646),Items!$A$2:$B$525,2,FALSE)","v":"N0374"},{"$f":"IF(LEN(K646)>0,\"D\",IF(LEN(A646)=5,\"F\",IF(LEN(A646)=3,\"R\",\" \")))","v":"D"},null,null,1,null,null,null,null,null,{"$f":"VLOOKUP(UPPER(A646),Items!$B$2:$G$525,6)","v":"text(7)"},null,"Month","MONYYYY e.g. AUG2001"]
[{"$f":"VLOOKUP(UPPER(M647),Items!$A$2:$B$525,2,FALSE)","v":"N0045"},"D",null,null,1,null,null,null,null,null,{"$f":"VLOOKUP(UPPER(A647),Items!$B$2:$G$525,6)","v":"text(8)"},{"$f":"IF(VLOOKUP(UPPER(A647),Items!$B$2:$H$525,7,FALSE)<>0,VLOOKUP(UPPER(A647),Items!$B$2:$H$525,7,FALSE),\"\")","v":""},"BSC Party id"]
[{"$f":"VLOOKUP(UPPER(M648),Items!$A$2:$B$525,2,FALSE)","v":"N0046"},"D",null,null,1,null,null,null,null,null,{"$f":"VLOOKUP(UPPER(A648),Items!$B$2:$G$525,6)","v":"text(30)"},{"$f":"IF(VLOOKUP(UPPER(A648),Items!$B$2:$H$525,7,FALSE)<>0,VLOOKUP(UPPER(A648),Items!$B$2:$H$525,7,FALSE),\"\")","v":""},"Bsc Party Name"]
[{"$f":"VLOOKUP(UPPER(M649),Items!$A$2:$B$525,2,FALSE)","v":"N0375"},"D",null,null,1,null,null,null,null,null,{"$f":"VLOOKUP(UPPER(A649),Items!$B$2:$G$525,6)","v":"integer(7)"},null,"Count of CVA Metering Systems"]
[{"$f":"VLOOKUP(UPPER(M650),Items!$A$2:$B$525,2,FALSE)","v":"N0376"},"D",null,null,1,null,null,null,null,null,{"$f":"VLOOKUP(UPPER(A650),Items!$B$2:$G$525,6)","v":"integer(7)"},null,"Count of CVA BM Units"]
[{"$f":"VLOOKUP(UPPER(M651),Items!$A$2:$B$525,2,FALSE)","v":"N0473"},"D",null,null,1,null,null,null,null,null,{"$f":"VLOOKUP(UPPER(A651),Items!$B$2:$G$525,6)","v":"integer(7)"},null,"Count Of CVA Exempt Export BM Units","Included in above count"]
[{"$f":"VLOOKUP(UPPER(M652),Items!$A$2:$B$525,2,FALSE)","v":"N0377"},"D",null,null,1,null,null,null,null,null,{"$f":"VLOOKUP(UPPER(A652),Items!$B$2:$G$525,6)","v":"integer(7)"},null,"Count of SVA Base BM Units"]
[{"$f":"VLOOKUP(UPPER(M653),Items!$A$2:$B$525,2,FALSE)","v":"N0378"},"D",null,null,1,null,null,null,null,null,{"$f":"VLOOKUP(UPPER(A653),Items!$B$2:$G$525,6)","v":"integer(7)"},null,"Count of SVA additional BM Units"]
[{"$f":"VLOOKUP(UPPER(M654),Items!$A$2:$B$525,2,FALSE)","v":"N0379"},"D",null,null,1,null,null,null,null,null,{"$f":"VLOOKUP(UPPER(A654),Items!$B$2:$G$525,6)","v":"integer(7)"},null,"Count of SVA Replacement Base BM Units"]
[{"$f":"VLOOKUP(UPPER(M655),Items!$A$2:$B$525,2,FALSE)","v":"N0380"},"D",null,null,1,null,null,null,null,null,{"$f":"VLOOKUP(UPPER(A655),Items!$B$2:$G$525,6)","v":"integer(7)"},null,"Count of SVA Replacement additional BM Units"]
[{"$f":"VLOOKUP(UPPER(M656),Items!$A$2:$B$525,2,FALSE)","v":"N0474"},"D",null,null,1,null,null,null,null,null,{"$f":"VLOOKUP(UPPER(A656),Items!$B$2:$G$525,6)","v":"integer(7)"},null,"Count of SVA Exempt Export BM Units","Included in above count"]
[{"$f":"VLOOKUP(UPPER(M657),Items!$A$2:$B$600,2,FALSE)","v":"N0589"},"D",null,null,1,null,null,null,null,null,{"$f":"VLOOKUP(UPPER(A657),Items!$B$2:$G$600,6)","v":"integer(7)"},null,"Count of Secondary BM Units"]
[]
["E0231","F","001",null,null,null,null,null,null,null,null,null,"ECVAA-I023: ECVAA BSC Section D Charging Data"]
[null," "]
["SDV","R","1-*","G",null,null,null,null,null,null,null,null,"Section D ECVAA data"]
[{"$f":"VLOOKUP(UPPER(M662),Items!$A$2:$B$525,2,FALSE)","v":"N0374"},{"$f":"IF(LEN(K662)>0,\"D\",IF(LEN(A662)=5,\"F\",IF(LEN(A662)=3,\"R\",\" \")))","v":"D"},null,null,1,null,null,null,null,null,{"$f":"VLOOKUP(UPPER(A662),Items!$B$2:$G$525,6)","v":"text(7)"},null,"Month","MONYYYY e.g. SEP2001"]
[{"$f":"VLOOKUP(UPPER(M663),Items!$A$2:$B$525,2,FALSE)","v":"N0045"},{"$f":"IF(LEN(K663)>0,\"D\",IF(LEN(A663)=5,\"F\",IF(LEN(A663)=3,\"R\",\" \")))","v":"D"},null,null,1,null,null,null,null,null,{"$f":"VLOOKUP(UPPER(A663),Items!$B$2:$G$525,6)","v":"text(8)"},null,"BSC Party id"]
[{"$f":"VLOOKUP(UPPER(M664),Items!$A$2:$B$525,2,FALSE)","v":"N0046"},{"$f":"IF(LEN(K664)>0,\"D\",IF(LEN(A664)=5,\"F\",IF(LEN(A664)=3,\"R\",\" \")))","v":"D"},null,null,1,null,null,null,null,null,{"$f":"VLOOKUP(UPPER(A664),Items!$B$2:$G$525,6)","v":"text(30)"},null,"Bsc Party Name"]
[{"$f":"VLOOKUP(UPPER(M665),Items!$A$2:$B$525,2,FALSE)","v":"N0381"},{"$f":"IF(LEN(K665)>0,\"D\",IF(LEN(A665)=5,\"F\",IF(LEN(A665)=3,\"R\",\" \")))","v":"D"},null,null,1,null,null,null,null,null,{"$f":"VLOOKUP(UPPER(A665),Items!$B$2:$G$525,6)","v":"number(14,4)"},null,"Gross Contract Volume"]
[]
["S0251","F","001",null,null,null,null,null,null,null,null,null,"SAA-I025: SAA BSC Section D Charging Data"]
[null," "]
["SDS","R","1-*","G",null,null,null,null,null,null,null,null,"Section D SAA data","One record per energy account"]
[{"$f":"VLOOKUP(UPPER(M670),Items!$A$2:$B$525,2,FALSE)","v":"N0374"},{"$f":"IF(LEN(K670)>0,\"D\",IF(LEN(A670)=5,\"F\",IF(LEN(A670)=3,\"R\",\" \")))","v":"D"},null,null,1,null,null,null,null,null,{"$f":"VLOOKUP(UPPER(A670),Items!$B$2:$G$525,6)","v":"text(7)"},null,"Month","MONYYYY e.g. OCT2001"]
[{"$f":"VLOOKUP(UPPER(M671),Items!$A$2:$B$525,2,FALSE)","v":"N0045"},{"$f":"IF(LEN(K671)>0,\"D\",IF(LEN(A671)=5,\"F\",IF(LEN(A671)=3,\"R\",\" \")))","v":"D"},null,null,1,null,null,null,null,null,{"$f":"VLOOKUP(UPPER(A671),Items!$B$2:$G$525,6)","v":"text(8)"},{"$f":"IF(VLOOKUP(UPPER(A671),Items!$B$2:$H$525,7,FALSE)<>0,VLOOKUP(UPPER(A671),Items!$B$2:$H$525,7,FALSE),\"\")","v":""},"BSC Party id"]
[{"$f":"VLOOKUP(UPPER(M672),Items!$A$2:$B$525,2,FALSE)","v":"N0046"},{"$f":"IF(LEN(K672)>0,\"D\",IF(LEN(A672)=5,\"F\",IF(LEN(A672)=3,\"R\",\" \")))","v":"D"},null,null,1,null,null,null,null,null,{"$f":"VLOOKUP(UPPER(A672),Items!$B$2:$G$525,6)","v":"text(30)"},{"$f":"IF(VLOOKUP(UPPER(A672),Items!$B$2:$H$525,7,FALSE)<>0,VLOOKUP(UPPER(A672),Items!$B$2:$H$525,7,FALSE),\"\")","v":""},"Bsc Party Name"]
[{"$f":"VLOOKUP(UPPER(M673),Items!$A$2:$B$525,2,FALSE)","v":"N0177"},{"$f":"IF(LEN(K673)>0,\"D\",IF(LEN(A673)=5,\"F\",IF(LEN(A673)=3,\"R\",\" \")))","v":"D"},null,null,1,null,null,null,null,null,{"$f":"VLOOKUP(UPPER(A673),Items!$B$2:$G$525,6)","v":"char"},{"$f":"IF(VLOOKUP(UPPER(A673),Items!$B$2:$H$525,7,FALSE)<>0,VLOOKUP(UPPER(A673),Items!$B$2:$H$525,7,FALSE),\"\")","v":"P/C Flag"},"Production/Consumption Flag","Identifies which energy account"]
[{"$f":"VLOOKUP(UPPER(M674),Items!$A$2:$B$525,2,FALSE)","v":"N0382"},{"$f":"IF(LEN(K674)>0,\"D\",IF(LEN(A674)=5,\"F\",IF(LEN(A674)=3,\"R\",\" \")))","v":"D"},null,null,1,null,null,null,null,null,{"$f":"VLOOKUP(UPPER(A674),Items!$B$2:$G$525,6)","v":"number(13,3)"},{"$f":"IF(VLOOKUP(UPPER(A674),Items!$B$2:$H$525,7,FALSE)<>0,VLOOKUP(UPPER(A674),Items!$B$2:$H$525,7,FALSE),\"\")","v":""},"Volume"]
[]
["C0641","F","001",null,null,null,null,null,null,null,null,null,"CDCA-I064: MOA Proving Tests Report"]
[null," "]
["SB1","R","1-*","G",null,null,null,null,null,null,null,null,"Subject Participant Header"]
[{"$f":"VLOOKUP(UPPER(M679),Items!$A$2:$B$525,2,FALSE)","v":"N0458"},{"$f":"IF(LEN(K679)>0,\"D\",IF(LEN(A679)=5,\"F\",IF(LEN(A679)=3,\"R\",\" \")))","v":"D"},null,null,1,null,null,null,null,null,{"$f":"VLOOKUP(UPPER(A679),Items!$B$2:$G$525,6)","v":"text(1)"},null,"Market Sector","=H"]
[{"$f":"VLOOKUP(UPPER(M680),Items!$A$2:$B$525,2,FALSE)","v":"N0459"},{"$f":"IF(LEN(K680)>0,\"D\",IF(LEN(A680)=5,\"F\",IF(LEN(A680)=3,\"R\",\" \")))","v":"D"},null,null,1,null,null,null,null,null,{"$f":"VLOOKUP(UPPER(A680),Items!$B$2:$G$525,6)","v":"text(1)"},{"$f":"IF(VLOOKUP(UPPER(A680),Items!$B$2:$H$525,7,FALSE)<>0,VLOOKUP(UPPER(A680),Items!$B$2:$H$525,7,FALSE),\"\")","v":""},"Market Participant Role Code","=M"]
[{"$f":"VLOOKUP(UPPER(M681),Items!$A$2:$B$525,2,FALSE)","v":"N0135"},{"$f":"IF(LEN(K681)>0,\"D\",IF(LEN(A681)=5,\"F\",IF(LEN(A681)=3,\"R\",\" \")))","v":"D"},null,null,1,null,null,null,null,null,{"$f":"VLOOKUP(UPPER(A681),Items!$B$2:$G$525,6)","v":"text(8)"},{"$f":"IF(VLOOKUP(UPPER(A681),Items!$B$2:$H$525,7,FALSE)<>0,VLOOKUP(UPPER(A681),Items!$B$2:$H$525,7,FALSE),\"\")","v":""},"Meter Operator Agent ID"]
[{"$f":"VLOOKUP(UPPER(M682),Items!$A$2:$B$525,2,FALSE)","v":"N0460"},{"$f":"IF(LEN(K682)>0,\"D\",IF(LEN(A682)=5,\"F\",IF(LEN(A682)=3,\"R\",\" \")))","v":"D"},null,null,1,null,null,null,null,null,{"$f":"VLOOKUP(UPPER(A682),Items!$B$2:$G$525,6)","v":"date"},null,"Period End Date"]
[{"$f":"VLOOKUP(UPPER(M683),Items!$A$2:$B$525,2,FALSE)","v":"N0461"},{"$f":"IF(LEN(K683)>0,\"D\",IF(LEN(A683)=5,\"F\",IF(LEN(A683)=3,\"R\",\" \")))","v":"D"},null,null,1,null,null,null,null,null,{"$f":"VLOOKUP(UPPER(A683),Items!$B$2:$G$525,6)","v":"text(1)"},null,"Periodicity","=M"]
["CM1","R","1-*",null,"G",null,null,null,null,null,null,null,"CM01 CVA MOA Serial 1 data"]
[{"$f":"VLOOKUP(UPPER(M685),Items!$A$2:$B$525,2,FALSE)","v":"N0116"},{"$f":"IF(LEN(K685)>0,\"D\",IF(LEN(A685)=5,\"F\",IF(LEN(A685)=3,\"R\",\" \")))","v":"D"},null,null,null,"O",null,null,null,null,{"$f":"VLOOKUP(UPPER(A685),Items!$B$2:$G$525,6)","v":"text(2)"},null,"GSP Group ID"]
[{"$f":"VLOOKUP(UPPER(M686),Items!$A$2:$B$525,2,FALSE)","v":"N0462"},{"$f":"IF(LEN(K686)>0,\"D\",IF(LEN(A686)=5,\"F\",IF(LEN(A686)=3,\"R\",\" \")))","v":"D"},null,null,null,1,null,null,null,null,{"$f":"VLOOKUP(UPPER(A686),Items!$B$2:$G$525,6)","v":"integer(7)"},null,"Number Of MSIDs For Which Proving Test Outstanding"]
[{"$f":"VLOOKUP(UPPER(M687),Items!$A$2:$B$525,2,FALSE)","v":"N0463"},{"$f":"IF(LEN(K687)>0,\"D\",IF(LEN(A687)=5,\"F\",IF(LEN(A687)=3,\"R\",\" \")))","v":"D"},null,null,null,1,null,null,null,null,{"$f":"VLOOKUP(UPPER(A687),Items!$B$2:$G$525,6)","v":"decimal(4,1)"},null,"Average Number Of Days Proving Test Outstanding"]
[{"$f":"VLOOKUP(UPPER(M688),Items!$A$2:$B$525,2,FALSE)","v":"N0464"},{"$f":"IF(LEN(K688)>0,\"D\",IF(LEN(A688)=5,\"F\",IF(LEN(A688)=3,\"R\",\" \")))","v":"D"},null,null,null,1,null,null,null,null,{"$f":"VLOOKUP(UPPER(A688),Items!$B$2:$G$525,6)","v":"integer(7)"},null,"Count Of faults Outstanding"]
[]
["C0651","F","001",null,null,null,null,null,null,null,null,null,"CDCA-I065: MOA Fault Resolution Report"]
[null," "]
["SB2","R","1-*","G",null,null,null,null,null,null,null,null,"Subject Participant Header"]
[{"$f":"VLOOKUP(UPPER(M693),Items!$A$2:$B$525,2,FALSE)","v":"N0458"},{"$f":"IF(LEN(K693)>0,\"D\",IF(LEN(A693)=5,\"F\",IF(LEN(A693)=3,\"R\",\" \")))","v":"D"},null,null,1,null,null,null,null,null,{"$f":"VLOOKUP(UPPER(A693),Items!$B$2:$G$525,6)","v":"text(1)"},null,"Market Sector","=H"]
[{"$f":"VLOOKUP(UPPER(M694),Items!$A$2:$B$525,2,FALSE)","v":"N0459"},{"$f":"IF(LEN(K694)>0,\"D\",IF(LEN(A694)=5,\"F\",IF(LEN(A694)=3,\"R\",\" \")))","v":"D"},null,null,1,null,null,null,null,null,{"$f":"VLOOKUP(UPPER(A694),Items!$B$2:$G$525,6)","v":"text(1)"},{"$f":"IF(VLOOKUP(UPPER(A694),Items!$B$2:$H$525,7,FALSE)<>0,VLOOKUP(UPPER(A694),Items!$B$2:$H$525,7,FALSE),\"\")","v":""},"Market Participant Role Code","=M"]
[{"$f":"VLOOKUP(UPPER(M695),Items!$A$2:$B$525,2,FALSE)","v":"N0135"},{"$f":"IF(LEN(K695)>0,\"D\",IF(LEN(A695)=5,\"F\",IF(LEN(A695)=3,\"R\",\" \")))","v":"D"},null,null,1,null,null,null,null,null,{"$f":"VLOOKUP(UPPER(A695),Items!$B$2:$G$525,6)","v":"text(8)"},{"$f":"IF(VLOOKUP(UPPER(A695),Items!$B$2:$H$525,7,FALSE)<>0,VLOOKUP(UPPER(A695),Items!$B$2:$H$525,7,FALSE),\"\")","v":""},"Meter Operator Agent ID"]
[{"$f":"VLOOKUP(UPPER(M696),Items!$A$2:$B$525,2,FALSE)","v":"N0460"},{"$f":"IF(LEN(K696)>0,\"D\",IF(LEN(A696)=5,\"F\",IF(LEN(A696)=3,\"R\",\" \")))","v":"D"},null,null,1,null,null,null,null,null,{"$f":"VLOOKUP(UPPER(A696),Items!$B$2:$G$525,6)","v":"date"},null,"Period End Date"]
[{"$f":"VLOOKUP(UPPER(M697),Items!$A$2:$B$525,2,FALSE)","v":"N0461"},{"$f":"IF(LEN(K697)>0,\"D\",IF(LEN(A697)=5,\"F\",IF(LEN(A697)=3,\"R\",\" \")))","v":"D"},null,null,1,null,null,null,null,null,{"$f":"VLOOKUP(UPPER(A697),Items!$B$2:$G$525,6)","v":"text(1)"},null,"Periodicity","=M"]
["CM2","R","1-*",null,"G",null,null,null,null,null,null,null,"CM02 CVA MOA Serial 2 data"]
[{"$f":"VLOOKUP(UPPER(M699),Items!$A$2:$B$525,2,FALSE)","v":"N0116"},{"$f":"IF(LEN(K699)>0,\"D\",IF(LEN(A699)=5,\"F\",IF(LEN(A699)=3,\"R\",\" \")))","v":"D"},null,null,null,"O",null,null,null,null,{"$f":"VLOOKUP(UPPER(A699),Items!$B$2:$G$525,6)","v":"text(2)"},null,"GSP Group ID"]
[{"$f":"VLOOKUP(UPPER(M700),Items!$A$2:$B$525,2,FALSE)","v":"N0465"},{"$f":"IF(LEN(K700)>0,\"D\",IF(LEN(A700)=5,\"F\",IF(LEN(A700)=3,\"R\",\" \")))","v":"D"},null,null,null,1,null,null,null,null,{"$f":"VLOOKUP(UPPER(A700),Items!$B$2:$G$525,6)","v":"integer(7)"},null,"Number of MSIDs With Fault"]
[{"$f":"VLOOKUP(UPPER(M701),Items!$A$2:$B$525,2,FALSE)","v":"N0466"},{"$f":"IF(LEN(K701)>0,\"D\",IF(LEN(A701)=5,\"F\",IF(LEN(A701)=3,\"R\",\" \")))","v":"D"},null,null,null,1,null,null,null,null,{"$f":"VLOOKUP(UPPER(A701),Items!$B$2:$G$525,6)","v":"integer(7)"},null,"Count Of Faults Identified"]
[{"$f":"VLOOKUP(UPPER(M702),Items!$A$2:$B$525,2,FALSE)","v":"N0467"},{"$f":"IF(LEN(K702)>0,\"D\",IF(LEN(A702)=5,\"F\",IF(LEN(A702)=3,\"R\",\" \")))","v":"D"},null,null,null,1,null,null,null,null,{"$f":"VLOOKUP(UPPER(A702),Items!$B$2:$G$525,6)","v":"decimal(4,1)"},null,"Average Number Of Days faults Outstanding"]
[{"$f":"VLOOKUP(UPPER(M703),Items!$A$2:$B$525,2,FALSE)","v":"N0468"},{"$f":"IF(LEN(K703)>0,\"D\",IF(LEN(A703)=5,\"F\",IF(LEN(A703)=3,\"R\",\" \")))","v":"D"},null,null,null,1,null,null,null,null,{"$f":"VLOOKUP(UPPER(A703),Items!$B$2:$G$525,6)","v":"decimal(4,1)"},null,"Average Number Of Days Taken To Resolve Fault"]
[]
["C0631",{"$f":"IF(LEN(K705)>0,\"D\",IF(LEN(A705)=5,\"F\",IF(LEN(A705)=3,\"R\",\" \")))","v":"F"},"001",null,null,null,null,null,null,null,null,null,"CDCA-I063: Metered Volume Data for Sample Settlement Periods","TLFA functionality was added for the Introduction of Zonal Transmission Losses on an Average Basis (P82)  and reintroduced as part of P350."]
[null," "]
["BUV",{"$f":"IF(LEN(K707)>0,\"D\",IF(LEN(A707)=5,\"F\",IF(LEN(A707)=3,\"R\",\" \")))","v":"R"},"0-*","G",null,null,null,null,null,null,null,null,"BM Unit Metered Volume Data"]
[{"$f":"VLOOKUP(UPPER(M708),Items!$A$2:$B$525,2,FALSE)","v":"N0034"},{"$f":"IF(LEN(K708)>0,\"D\",IF(LEN(A708)=5,\"F\",IF(LEN(A708)=3,\"R\",\" \")))","v":"D"},null,null,1,null,null,null,null,null,{"$f":"VLOOKUP(UPPER(A708),Items!$B$2:$G$525,6)","v":"text(11)"},{"$f":"IF(VLOOKUP(UPPER(A708),Items!$B$2:$H$525,7,FALSE)<>0,VLOOKUP(UPPER(A708),Items!$B$2:$H$525,7,FALSE),\"\")","v":""},"BM Unit ID"]
[{"$f":"VLOOKUP(UPPER(M709),Items!$A$2:$B$525,2,FALSE)","v":"N0200"},{"$f":"IF(LEN(K709)>0,\"D\",IF(LEN(A709)=5,\"F\",IF(LEN(A709)=3,\"R\",\" \")))","v":"D"},null,null,1,null,null,null,null,null,{"$f":"VLOOKUP(UPPER(A709),Items!$B$2:$G$525,6)","v":"date"},{"$f":"IF(VLOOKUP(UPPER(A709),Items!$B$2:$H$525,7,FALSE)<>0,VLOOKUP(UPPER(A709),Items!$B$2:$H$525,7,FALSE),\"\")","v":""},"Settlement Date"]
[{"$f":"VLOOKUP(UPPER(M710),Items!$A$2:$B$525,2,FALSE)","v":"N0201"},{"$f":"IF(LEN(K710)>0,\"D\",IF(LEN(A710)=5,\"F\",IF(LEN(A710)=3,\"R\",\" \")))","v":"D"},null,null,1,null,null,null,null,null,{"$f":"VLOOKUP(UPPER(A710),Items!$B$2:$G$525,6)","v":"integer(2)"},{"$f":"IF(VLOOKUP(UPPER(A710),Items!$B$2:$H$525,7,FALSE)<>0,VLOOKUP(UPPER(A710),Items!$B$2:$H$525,7,FALSE),\"\")","v":""},"Settlement Period"]
[{"$f":"VLOOKUP(UPPER(M711),Items!$A$2:$B$525,2,FALSE)","v":"N0139"},{"$f":"IF(LEN(K711)>0,\"D\",IF(LEN(A711)=5,\"F\",IF(LEN(A711)=3,\"R\",\" \")))","v":"D"},null,null,1,null,null,null,null,null,{"$f":"VLOOKUP(UPPER(A711),Items!$B$2:$G$525,6)","v":"decimal(10,3)"},{"$f":"IF(VLOOKUP(UPPER(A711),Items!$B$2:$H$525,7,FALSE)<>0,VLOOKUP(UPPER(A711),Items!$B$2:$H$525,7,FALSE),\"\")","v":""},"Meter Volume"]
["GPV","R","0-*","G",null,null,null,null,null,null,null,null,"GSP Metered Volume Data"]
[{"$f":"VLOOKUP(UPPER(M713),Items!$A$2:$B$525,2,FALSE)","v":"N0119"},"D",null,null,1,null,null,null,null,null,{"$f":"VLOOKUP(UPPER(A713),Items!$B$2:$G$525,6)","v":"text(10)"},{"$f":"IF(VLOOKUP(UPPER(A713),Items!$B$2:$H$525,7,FALSE)<>0,VLOOKUP(UPPER(A713),Items!$B$2:$H$525,7,FALSE),\"\")","v":""},"GSP ID"]
[{"$f":"VLOOKUP(UPPER(M714),Items!$A$2:$B$525,2,FALSE)","v":"N0200"},"D",null,null,1,null,null,null,null,null,{"$f":"VLOOKUP(UPPER(A714),Items!$B$2:$G$525,6)","v":"date"},{"$f":"IF(VLOOKUP(UPPER(A714),Items!$B$2:$H$525,7,FALSE)<>0,VLOOKUP(UPPER(A714),Items!$B$2:$H$525,7,FALSE),\"\")","v":""},"Settlement Date"]
[{"$f":"VLOOKUP(UPPER(M715),Items!$A$2:$B$525,2,FALSE)","v":"N0201"},"D",null,null,1,null,null,null,null,null,{"$f":"VLOOKUP(UPPER(A715),Items!$B$2:$G$525,6)","v":"integer(2)"},{"$f":"IF(VLOOKUP(UPPER(A715),Items!$B$2:$H$525,7,FALSE)<>0,VLOOKUP(UPPER(A715),Items!$B$2:$H$525,7,FALSE),\"\")","v":""},"Settlement Period"]
[{"$f":"VLOOKUP(UPPER(M716),Items!$A$2:$B$525,2,FALSE)","v":"N0139"},"D",null,null,1,null,null,null,null,null,{"$f":"VLOOKUP(UPPER(A716),Items!$B$2:$G$525,6)","v":"decimal(10,3)"},{"$f":"IF(VLOOKUP(UPPER(A716),Items!$B$2:$H$525,7,FALSE)<>0,VLOOKUP(UPPER(A716),Items!$B$2:$H$525,7,FALSE),\"\")","v":""},"Meter Volume"]
["ICV","R","0-*","G",null,null,null,null,null,null,null,null,"Interconnector Metered Volume Data"]
[{"$f":"VLOOKUP(UPPER(M718),Items!$A$2:$B$525,2,FALSE)","v":"N0098"},"D",null,null,1,null,null,null,null,null,{"$f":"VLOOKUP(UPPER(A718),Items!$B$2:$G$525,6)","v":"text(10)"},{"$f":"IF(VLOOKUP(UPPER(A718),Items!$B$2:$H$525,7,FALSE)<>0,VLOOKUP(UPPER(A718),Items!$B$2:$H$525,7,FALSE),\"\")","v":""},"Interconnector ID"]
[{"$f":"VLOOKUP(UPPER(M719),Items!$A$2:$B$525,2,FALSE)","v":"N0200"},"D",null,null,1,null,null,null,null,null,{"$f":"VLOOKUP(UPPER(A719),Items!$B$2:$G$525,6)","v":"date"},{"$f":"IF(VLOOKUP(UPPER(A719),Items!$B$2:$H$525,7,FALSE)<>0,VLOOKUP(UPPER(A719),Items!$B$2:$H$525,7,FALSE),\"\")","v":""},"Settlement Date"]
[{"$f":"VLOOKUP(UPPER(M720),Items!$A$2:$B$525,2,FALSE)","v":"N0201"},"D",null,null,1,null,null,null,null,null,{"$f":"VLOOKUP(UPPER(A720),Items!$B$2:$G$525,6)","v":"integer(2)"},{"$f":"IF(VLOOKUP(UPPER(A720),Items!$B$2:$H$525,7,FALSE)<>0,VLOOKUP(UPPER(A720),Items!$B$2:$H$525,7,FALSE),\"\")","v":""},"Settlement Period"]
[{"$f":"VLOOKUP(UPPER(M721),Items!$A$2:$B$525,2,FALSE)","v":"N0139"},"D",null,null,1,null,null,null,null,null,{"$f":"VLOOKUP(UPPER(A721),Items!$B$2:$G$525,6)","v":"decimal(10,3)"},{"$f":"IF(VLOOKUP(UPPER(A721),Items!$B$2:$H$525,7,FALSE)<>0,VLOOKUP(UPPER(A721),Items!$B$2:$H$525,7,FALSE),\"\")","v":""},"Meter Volume"]
[]
[]
[]
[]
[]
[]
[]
[]
[]
[]
[]
[]
[]
[]
[]
[]
[]
[]
[]
[]
[]
[]
[]
[]
[]
[]
[]
[]
[]
[]
[]
[]
[]
[]
[]
[]
[]
[]
[]
[]
[]
[]
[]
[]
[]
[]
[]
[]
[]
[]
[]
[]
[]
[]
[]
[]
[]
[]
[]
[]
[]
[]
[]
[]
[]
[]
[]
[]
[]
[]
[]
[]
[]
[]
[]
[]
[]
[]
[]
[]
[]
[]
[]
[]
[]
[]
[]
[]
[]
[]
[]
[]
[]
[]
[]
[]
[]
[]
[]
[]
[]
[]
[]
[]
[]
[]
[]
[]
[]
[]
[]
[]
[]
[]
[]
["CHECKS"]
[]
["Total Col A",null,{"$f":"COUNTIF($A$2:$A$833,\"<>\")","v":685},null,null,null,null,null,null,null,null,"All OK?"]
["Total Col B",null,{"$f":"C841+C842+C843","v":684},{"$f":"IF(C839=C840,\"OK\", \"Problem\")","v":"Problem"},null,null,null,null,null,null,null,{"$f":"AND(D840=\"OK\",D844=\"OK\",D845=\"OK\",D846=\"OK\",D847=\"OK\")","v":false}]
[null,"\"F\"",{"$f":"COUNTIF($B$2:$B$833,\"F\")","v":17}]
[null,"\"R\"",{"$f":"COUNTIF($B$2:$B$833,\"R\")","v":74}]
[null,"\"D\"",{"$f":"COUNTIF($B$2:$B$833,\"D\")","v":593}]
["Total Col C",null,{"$f":"COUNTIF($C$2:$C$833,\"<>\")","v":92},{"$f":"IF(C842+C841=C844,\"OK\",\"Problem\")","v":"Problem"}]
["Total G",null,{"$f":"COUNTIF($D$2:$J$833,\"G\")","v":74},{"$f":"IF(C842=C845,\"OK\",\"Problem\")","v":"OK"}]
["Total 1 /  O",null,{"$f":"COUNTIF($D$2:$J$833,\"1\")+COUNTIF($D$2:$J$833,\"O\")","v":591},{"$f":"IF(C843=C846,\"OK\",\"Problem\")","v":"Problem"}]
["Total Col K",null,{"$f":"COUNTIF($K$2:$K$833,\"<>\")","v":593},{"$f":"IF(C843=C847,\"OK\",\"Problem\")","v":"OK"}]
["Total Col M",null,{"$f":"COUNTIF($M$2:$M$835,\"<>\")","v":685},{"$f":"IF(C839=C848,\"OK\", \"Problem\")","v":"OK"}]

{"sheet":"FAA","index":3,"n_rows":675,"n_cols":14,"rows_kept":675,"cut":false,"hidden":false,"merged":[]}
["Id","type","flow version / range","L1","L2","L3","L4","L5","L6","L7","data type","Valid Set","item name/group description","comments"]
["E0061",{"$f":"IF(LEN(K2)>0,\"D\",IF(LEN(A2)=5,\"F\",IF(LEN(A2)=3,\"R\",\" \")))","v":"F"},"001",null,null,null,null,null,null,null,null,null,"ECVAA-I006: Credit Limit Data"]
[null," ",null,null,null,null,null,null,null,null,null,{"$f":"IF($L$582=TRUE,\"\",\"Problem in Consistency Checks at bottom of sheet\")","v":""}]
["PD4","R",1,"G",null,null,null,null,null,null,null,null,"BSC Party Details"]
[{"$f":"VLOOKUP(UPPER(M5),Items!$A$2:$B$525,2,FALSE)","v":"N0045"},"D",null,null,1,null,null,null,null,null,{"$f":"VLOOKUP(UPPER(A5),Items!$B$2:$G$525,6)","v":"text(8)"},{"$f":"IF(VLOOKUP(UPPER(A5),Items!$B$2:$H$525,7,FALSE)<>0,VLOOKUP(UPPER(A5),Items!$B$2:$H$525,7,FALSE),\"\")","v":""},"BSC Party Id"]
["CLD","R","1-*",null,"G",null,null,null,null,null,null,null,"Credit Limit Details"]
[{"$f":"VLOOKUP(UPPER(M7),Items!$A$2:$B$525,2,FALSE)","v":"N0082"},"D",null,null,null,1,null,null,null,null,{"$f":"VLOOKUP(UPPER(A7),Items!$B$2:$G$525,6)","v":"date"},{"$f":"IF(VLOOKUP(UPPER(A7),Items!$B$2:$H$525,7,FALSE)<>0,VLOOKUP(UPPER(A7),Items!$B$2:$H$525,7,FALSE),\"\")","v":""},"Effective From Settlement Date"]
[{"$f":"VLOOKUP(UPPER(M8),Items!$A$2:$B$525,2,FALSE)","v":"N0196"},"D",null,null,null,1,null,null,null,null,{"$f":"VLOOKUP(UPPER(A8),Items!$B$2:$G$525,6)","v":"decimal(13,3)"},{"$f":"IF(VLOOKUP(UPPER(A8),Items!$B$2:$H$525,7,FALSE)<>0,VLOOKUP(UPPER(A8),Items!$B$2:$H$525,7,FALSE),\"\")","v":""},"Credit Limit","MWh"]
[]
["S0131",{"$f":"IF(LEN(K10)>0,\"D\",IF(LEN(A10)=5,\"F\",IF(LEN(A10)=3,\"R\",\" \")))","v":"F"},"001",null,null,null,null,null,null,null,null,null,"SAA-I013: Credit /Debit"]
[]
["CDR",{"$f":"IF(LEN(K12)>0,\"D\",IF(LEN(A12)=5,\"F\",IF(LEN(A12)=3,\"R\",\" \")))","v":"R"},"1-*","G",null,null,null,null,null,null,null,null,"Credit/Debit"]
[{"$f":"VLOOKUP(UPPER(M13),Items!$A$2:$B$525,2,FALSE)","v":"N0200"},"D",null,null,1,null,null,null,null,null,{"$f":"VLOOKUP(UPPER(A13),Items!$B$2:$G$525,6)","v":"date"},{"$f":"IF(VLOOKUP(UPPER(A13),Items!$B$2:$H$525,7,FALSE)<>0,VLOOKUP(UPPER(A13),Items!$B$2:$H$525,7,FALSE),\"\")","v":""},"Settlement Date"]
[{"$f":"VLOOKUP(UPPER(M14),Items!$A$2:$B$525,2,FALSE)","v":"N0202"},"D",null,null,1,null,null,null,null,null,{"$f":"VLOOKUP(UPPER(A14),Items!$B$2:$G$525,6)","v":"text(2)"},{"$f":"IF(VLOOKUP(UPPER(A14),Items!$B$2:$H$525,7,FALSE)<>0,VLOOKUP(UPPER(A14),Items!$B$2:$H$525,7,FALSE),\"\")","v":"Run Type"},"Settlement Run Type"]
["PTY","R","1-*",null,"G"," ",null,null,null,null,null,null,"BSC Party"]
[{"$f":"VLOOKUP(UPPER(M16),Items!$A$2:$B$525,2,FALSE)","v":"N0045"},"D",null,null," ",1,null,null,null,null,{"$f":"VLOOKUP(UPPER(A16),Items!$B$2:$G$525,6)","v":"text(8)"},{"$f":"IF(VLOOKUP(UPPER(A16),Items!$B$2:$H$525,7,FALSE)<>0,VLOOKUP(UPPER(A16),Items!$B$2:$H$525,7,FALSE),\"\")","v":""},"BSC Party Id"]
["CHG","R","1-*",null,null,"G",null,null,null,null,null,null,"Charges"]
[{"$f":"VLOOKUP(UPPER(M18),Items!$A$2:$B$525,2,FALSE)","v":"N0054"},"D",null,null,null,null,1,null,null,null,{"$f":"VLOOKUP(UPPER(A18),Items!$B$2:$G$525,6)","v":"char"},{"$f":"IF(VLOOKUP(UPPER(A18),Items!$B$2:$H$525,7,FALSE)<>0,VLOOKUP(UPPER(A18),Items!$B$2:$H$525,7,FALSE),\"\")","v":"Charge Type"},"Charge Type"]
[{"$f":"VLOOKUP(UPPER(M19),Items!$A$2:$B$525,2,FALSE)","v":"N0053"},"D",null,null,null,null,1,null,null,null,{"$f":"VLOOKUP(UPPER(A19),Items!$B$2:$G$525,6)","v":"decimal(10,2)"},{"$f":"IF(VLOOKUP(UPPER(A19),Items!$B$2:$H$525,7,FALSE)<>0,VLOOKUP(UPPER(A19),Items!$B$2:$H$525,7,FALSE),\"\")","v":""},"Charge"]
[]
[]
[]
[]
[]
[]
[]
[]
[]
[]
[]
[]
[]
[]
[]
[]
[]
[]
[]
[]
[]
[]
[]
[]
[]
[]
[]
[]
[]
[]
[]
[]
[]
[]
[]
[]
[]
[]
[]
[]
[]
[]
[]
[]
[]
[]
[]
[]
[]
[]
[]
[]
[]
[]
[]
[]
[]
[]
[]
[]
[]
[]
[]
[]
[]
[]
[]
[]
[]
[]
[]
[]
[]
[]
[]
[]
[]
[]
[]
[]
[]
[]
[]
[]
[]
[]
[]
[]
[]
[]
[]
[]
[]
[]
[]
[]
[]
[]
[]
[]
[]
[]
[]
[]
[]
[]
[]
[]
[]
[]
[]
[]
[]
[]
[]
[]
[]
[]
[]
[]
[]
[]
[]
[]
[]
[]
[]
[]
[]
[]
[]
[]
[]
[]
[]
[]
[]
[]
[]
[]
[]
[]
[]
[]
[]
[]
[]
[]
[]
[]
[]
[]
[]
[]
[]
[]
[]
[]
[]
[]
[]
[]
[]
[]
[]
[]
[]
[]
[]
[]
[]
[]
[]
[]
[]
[]
[]
[]
[]
[]
[]
[]
[]
[]
[]
[]
[]
[]
[]
[]
[]
[]
[]
[]
[]
[]
[]
[]
[]
[]
[]
[]
[]
[]
[]
[]
[]
[]
[]
[]
[]
[]
[]
[]
[]
[]
[]
[]
[]
[]
[]
[]
[]
[]
[]
[]
[]
[]
[]
[]
[]
[]
[]
[]
[]
[]
[]
[]
[]
[]
[]
[]
[]
[]
[]
[]
[]
[]
[]
[]
[]
[]
[]
[]
[]
[]
[]
[]
[]
[]
[]
[]
[]
[]
[]
[]
[]
[]
[]
[]
[]
[]
[]
[]
[]
[]
[]
[]
[]
[]
[]
[]
[]
[]
[]
[]
[]
[]
[]
[]
[]
[]
[]
[]
[]
[]
[]
[]
[]
[]
[]
[]
[]
[]
[]
[]
[]
[]
[]
[]
[]
[]
[]
[]
[]
[]
[]
[]
[]
[]
[]
[]
[]
[]
[]
[]
[]
[]
[]
[]
[]
[]
[]
[]
[]
[]
[]
[]
[]
[]
[]
[]
[]
[]
[]
[]
[]
[]
[]
[]
[]
[]
[]
[]
[]
[]
[]
[]
[]
[]
[]
[]
[]
[]
[]
[]
[]
[]
[]
[]
[]
[]
[]
[]
[]
[]
[]
[]
[]
[]
[]
[]
[]
[]
[]
[]
[]
[]
[]
[]
[]
[]
[]
[]
[]
[]
[]
[]
[]
[]
[]
[]
[]
[]
[]
[]
[]
[]
[]
[]
[]
[]
[]
[]
[]
[]
[]
[]
[]
[]
[]
[]
[]
[]
[]
[]
[]
[]
[]
[]
[]
[]
[]
[]
[]
[]
[]
[]
[]
[]
[]
[]
[]
[]
[]
[]
[]
[]
[]
[]
[]
[]
[]
[]
[]
[]
[]
[]
[]
[]
[]
[]
[]
[]
[]
[]
[]
[]
[]
[]
[]
[]
[]
[]
[]
[]
[]
[]
[]
[]
[]
[]
[]
[]
[]
[]
[]
[]
[]
[]
[]
[]
[]
[]
[]
[]
[]
[]
[]
[]
[]
[]
[]
[]
[]
[]
[]
[]
[]
[]
[]
[]
[]
[]
[]
[]
[]
[]
[]
[]
[]
[]
[]
[]
[]
[]
[]
[]
[]
[]
[]
[]
[]
[]
[]
[]
[]
[]
[]
[]
[]
[]
[]
[]
[]
[]
[]
[]
[]
[]
[]
[]
[]
[]
[]
[]
[]
[]
[]
["CHECKS"]
[]
["Total Col A",null,{"$f":"COUNTIF($A$2:$A$575,\"<>\")","v":15},null,null,null,null,null,null,null,null,"All OK?"]
["Total Col B",null,{"$f":"C583+C584+C585","v":15},{"$f":"IF(C581=C582,\"OK\", \"Problem\")","v":"OK"},null,null,null,null,null,null,null,{"$f":"AND(D582=\"OK\",D586=\"OK\",D587=\"OK\",D588=\"OK\",D589=\"OK\")","v":true}]
[null,"\"F\"",{"$f":"COUNTIF($B$2:$B$575,\"F\")","v":2}]
[null,"\"R\"",{"$f":"COUNTIF($B$2:$B$575,\"R\")","v":5}]
[null,"\"D\"",{"$f":"COUNTIF($B$2:$B$575,\"D\")","v":8}]
["Total Col C",null,{"$f":"COUNTIF($C$2:$C$575,\"<>\")","v":7},{"$f":"IF(C586=C584+C583,\"OK\",\"Problem\")","v":"OK"}]
["Total G",null,{"$f":"COUNTIF($D$2:$J$575,\"G\")","v":5},{"$f":"IF(C584=C587,\"OK\",\"Problem\")","v":"OK"}]
["Total 1 /  O",null,{"$f":"COUNTIF($D$2:$J$575,\"1\")+COUNTIF($D$2:$J$575,\"O\")","v":8},{"$f":"IF(C585=C588,\"OK\",\"Problem\")","v":"OK"}]
["Total Col K",null,{"$f":"COUNTIF($K$2:$K$575,\"<>\")","v":8},{"$f":"IF(C585=C589,\"OK\",\"Problem\")","v":"OK"}]
["Total Col M",null,{"$f":"COUNTIF($M$2:$M$577,\"<>\")","v":15},{"$f":"IF(C581=C590,\"OK\", \"Problem\")","v":"OK"}]
[]
[]
[]
[]
[]
[]
[]
[]
[]
[]
[]
[]
[]
[]
[]
[]
[]
[]
[]
[]
[]
[]
[]
[]
[]
[]
[]
[]
[]
[]
[]
[]
[]
[]
[]
[]
[]
[]
[]
[]
[]
[]
[]
[]
[]
[]
[]
[]
[]
[]
[]
[]
[]
[]
[]
[]
[]
[]
[]
[]
[]
[]
[]
[]
[]
[]
[]
[]
[]
[]
[]
[]
[]
[]
[]
[]
[]
[]
[]
[]
[null,null,null,null,null,null,null,null,null,null,null,{"$f":"AND(D671=\"OK\",D675=\"OK\",D676=\"OK\",D677=\"OK\",D678=\"OK\",D679=\"OK\")","v":false}]
[]
[]
[]
[null,null,null,{"$f":"IF(C673+C672=C675,\"OK\",\"Problem\")","v":"OK"}]

{"sheet":"Stage 2","index":4,"n_rows":736,"n_cols":14,"rows_kept":736,"cut":false,"hidden":false,"merged":[]}
["Id","type","flow version / range","L1","L2","L3","L4","L5","L6","L7","data type","Valid Set","item name/group description","comments"]
[null,null,null,null,null,null,null,null,null,null,null,{"$f":"IF($L$643=TRUE,\"\",\"Problem in Consistency Checks at bottom of sheet\")","v":""}]
["P0012",{"$f":"IF(LEN(K3)>0,\"D\",IF(LEN(A3)=5,\"F\",IF(LEN(A3)=3,\"R\",\" \")))","v":"F"},"001",null,null,null,null,null,null,null,null,null,"CDCA-I043: GSP Group Take To SVAA"]
["ZPD","R","1","G",null,null,null,null,null,null,null,null,"Data File Additional Header"]
[{"$f":"VLOOKUP(UPPER(M5),Items!$A$2:$B$525,2,FALSE)","v":"N0200"},"D",null,null,1,null,null,null,null,null,{"$f":"VLOOKUP(UPPER(A5),Items!$B$2:$G$525,6)","v":"date"},{"$f":"IF(VLOOKUP(UPPER(A5),Items!$B$2:$H$525,7,FALSE)<>0,VLOOKUP(UPPER(A5),Items!$B$2:$H$525,7,FALSE),\"\")","v":""},"Settlement Date"]
[{"$f":"VLOOKUP(UPPER(M6),Items!$A$2:$B$525,2,FALSE)","v":"N0103"},"D",null,null,"O",null,null,null,null,null,{"$f":"VLOOKUP(UPPER(A6),Items!$B$2:$G$525,6)","v":"text(2)"},{"$f":"IF(VLOOKUP(UPPER(A6),Items!$B$2:$H$525,7,FALSE)<>0,VLOOKUP(UPPER(A6),Items!$B$2:$H$525,7,FALSE),\"\")","v":""},"Filler 1","=NULL"]
[{"$f":"VLOOKUP(UPPER(M7),Items!$A$2:$B$525,2,FALSE)","v":"N0104"},"D",null,null,1,null,null,null,null,null,{"$f":"VLOOKUP(UPPER(A7),Items!$B$2:$G$525,6)","v":"text(1)"},{"$f":"IF(VLOOKUP(UPPER(A7),Items!$B$2:$H$525,7,FALSE)<>0,VLOOKUP(UPPER(A7),Items!$B$2:$H$525,7,FALSE),\"\")","v":""},"Filler 2","=E"]
[{"$f":"VLOOKUP(UPPER(M8),Items!$A$2:$B$525,2,FALSE)","v":"N0049"},"D",null,null,1,null,null,null,null,null,{"$f":"VLOOKUP(UPPER(A8),Items!$B$2:$G$525,6)","v":"integer(2)"},{"$f":"IF(VLOOKUP(UPPER(A8),Items!$B$2:$H$525,7,FALSE)<>0,VLOOKUP(UPPER(A8),Items!$B$2:$H$525,7,FALSE),\"\")","v":""},"CDCA Run Number"]
[{"$f":"VLOOKUP(UPPER(M9),Items!$A$2:$B$525,2,FALSE)","v":"N0116"},"D",null,null,1,null,null,null,null,null,{"$f":"VLOOKUP(UPPER(A9),Items!$B$2:$G$525,6)","v":"text(2)"},{"$f":"IF(VLOOKUP(UPPER(A9),Items!$B$2:$H$525,7,FALSE)<>0,VLOOKUP(UPPER(A9),Items!$B$2:$H$525,7,FALSE),\"\")","v":""},"GSP Group Id"]
["HDR","R","1","G",null,null,null,null,null,null,null,null,"Additional Header"]
[{"$f":"VLOOKUP(UPPER(M11),Items!$A$2:$B$525,2,FALSE)","v":"N0105"},"D",null,null,1,null,null,null,null,null,{"$f":"VLOOKUP(UPPER(A11),Items!$B$2:$G$525,6)","v":"integer(2)"},{"$f":"IF(VLOOKUP(UPPER(A11),Items!$B$2:$H$525,7,FALSE)<>0,VLOOKUP(UPPER(A11),Items!$B$2:$H$525,7,FALSE),\"\")","v":""},"Filler 3","=0"]
[{"$f":"VLOOKUP(UPPER(M12),Items!$A$2:$B$525,2,FALSE)","v":"N0106"},"D",null,null,1,null,null,null,null,null,{"$f":"VLOOKUP(UPPER(A12),Items!$B$2:$G$525,6)","v":"text(1)"},{"$f":"IF(VLOOKUP(UPPER(A12),Items!$B$2:$H$525,7,FALSE)<>0,VLOOKUP(UPPER(A12),Items!$B$2:$H$525,7,FALSE),\"\")","v":""},"Filler 4","=N"]
[{"$f":"VLOOKUP(UPPER(M13),Items!$A$2:$B$525,2,FALSE)","v":"N0107"},"D",null,null,1,null,null,null,null,null,{"$f":"VLOOKUP(UPPER(A13),Items!$B$2:$G$525,6)","v":"decimal(15,3)"},{"$f":"IF(VLOOKUP(UPPER(A13),Items!$B$2:$H$525,7,FALSE)<>0,VLOOKUP(UPPER(A13),Items!$B$2:$H$525,7,FALSE),\"\")","v":""},"Filler 5","=0.000"]
["GS2","R","46-50"," ","G",null,null,null,null,null,null,null,"GSP Group Takes"]
[{"$f":"VLOOKUP(UPPER(M15),Items!$A$2:$B$525,2,FALSE)","v":"N0201"},"D",null,null,null,1,null,null,null,null,{"$f":"VLOOKUP(UPPER(A15),Items!$B$2:$G$525,6)","v":"integer(2)"},{"$f":"IF(VLOOKUP(UPPER(A15),Items!$B$2:$H$525,7,FALSE)<>0,VLOOKUP(UPPER(A15),Items!$B$2:$H$525,7,FALSE),\"\")","v":""},"Settlement Period"]
[{"$f":"VLOOKUP(UPPER(M16),Items!$A$2:$B$525,2,FALSE)","v":"N0108"},"D",null,null,null,1,null,null,null,null,{"$f":"VLOOKUP(UPPER(A16),Items!$B$2:$G$525,6)","v":"decimal(15,3)"},{"$f":"IF(VLOOKUP(UPPER(A16),Items!$B$2:$H$525,7,FALSE)<>0,VLOOKUP(UPPER(A16),Items!$B$2:$H$525,7,FALSE),\"\")","v":""},"Filler 6","=0.000"]
[{"$f":"VLOOKUP(UPPER(M17),Items!$A$2:$B$525,2,FALSE)","v":"N0118"},"D",null,null,null,1,null,null,null,null,{"$f":"VLOOKUP(UPPER(A17),Items!$B$2:$G$525,6)","v":"decimal(14,4)"},{"$f":"IF(VLOOKUP(UPPER(A17),Items!$B$2:$H$525,7,FALSE)<>0,VLOOKUP(UPPER(A17),Items!$B$2:$H$525,7,FALSE),\"\")","v":""},"GSP Group Take","MWh signed positive = consumption"]
[null," "]
[null," "]
["P0182","F","001",null,null,null,null,null,null,null,null,null,"SAA-I007: BM Unit Allocated Demand Volume"]
["ZP2","R","1","G",null,null,null,null,null,null,null,null,"Data File Additional Header"]
[{"$f":"VLOOKUP(UPPER(M22),Items!$A$2:$B$525,2,FALSE)","v":"N0200"},"D",null,null,1,null,null,null,null,null,{"$f":"VLOOKUP(UPPER(A22),Items!$B$2:$G$525,6)","v":"date"},{"$f":"IF(VLOOKUP(UPPER(A22),Items!$B$2:$H$525,7,FALSE)<>0,VLOOKUP(UPPER(A22),Items!$B$2:$H$525,7,FALSE),\"\")","v":""},"Settlement Date"]
[{"$f":"VLOOKUP(UPPER(M23),Items!$A$2:$B$525,2,FALSE)","v":"N0199"},"D",null,null,1,null,null,null,null,null,{"$f":"VLOOKUP(UPPER(A23),Items!$B$2:$G$525,6)","v":"text(2)"},{"$f":"IF(VLOOKUP(UPPER(A23),Items!$B$2:$H$525,7,FALSE)<>0,VLOOKUP(UPPER(A23),Items!$B$2:$H$525,7,FALSE),\"\")","v":""},"Settlement Code"]
[{"$f":"VLOOKUP(UPPER(M24),Items!$A$2:$B$525,2,FALSE)","v":"N0206"},"D",null,null,1,null,null,null,null,null,{"$f":"VLOOKUP(UPPER(A24),Items!$B$2:$G$525,6)","v":"text(2)"},{"$f":"IF(VLOOKUP(UPPER(A24),Items!$B$2:$H$525,7,FALSE)<>0,VLOOKUP(UPPER(A24),Items!$B$2:$H$525,7,FALSE),\"\")","v":""},"SSR Run Type Id"]
[{"$f":"VLOOKUP(UPPER(M25),Items!$A$2:$B$525,2,FALSE)","v":"N0205"},"D",null,null,1,null,null,null,null,null,{"$f":"VLOOKUP(UPPER(A25),Items!$B$2:$G$525,6)","v":"integer(7)"},{"$f":"IF(VLOOKUP(UPPER(A25),Items!$B$2:$H$525,7,FALSE)<>0,VLOOKUP(UPPER(A25),Items!$B$2:$H$525,7,FALSE),\"\")","v":""},"SSR Run Number"]
[{"$f":"VLOOKUP(UPPER(M26),Items!$A$2:$B$525,2,FALSE)","v":"N0116"},"D",null,null,"O",null,null,null,null,null,{"$f":"VLOOKUP(UPPER(A26),Items!$B$2:$G$525,6)","v":"text(2)"},{"$f":"IF(VLOOKUP(UPPER(A26),Items!$B$2:$H$525,7,FALSE)<>0,VLOOKUP(UPPER(A26),Items!$B$2:$H$525,7,FALSE),\"\")","v":""},"GSP Group Id","always null"]
["RDT","R","1","G",null,null,null,null,null,null,null,null,"Report Details"]
[{"$f":"VLOOKUP(UPPER(M28),Items!$A$2:$B$525,2,FALSE)","v":"N0235"},"D",null,null,1,null,null,null,null,null,{"$f":"VLOOKUP(UPPER(A28),Items!$B$2:$G$525,6)","v":"text(8)"},{"$f":"IF(VLOOKUP(UPPER(A28),Items!$B$2:$H$525,7,FALSE)<>0,VLOOKUP(UPPER(A28),Items!$B$2:$H$525,7,FALSE),\"\")","v":""},"User Name","for internal use of SVAA irrelevant to SAA"]
[{"$f":"VLOOKUP(UPPER(M29),Items!$A$2:$B$525,2,FALSE)","v":"N0189"},"D",null,null,1,null,null,null,null,null,{"$f":"VLOOKUP(UPPER(A29),Items!$B$2:$G$525,6)","v":"text(30)"},{"$f":"IF(VLOOKUP(UPPER(A29),Items!$B$2:$H$525,7,FALSE)<>0,VLOOKUP(UPPER(A29),Items!$B$2:$H$525,7,FALSE),\"\")","v":""},"Report Parameters","for internal use of SVAA irrelevant to SAA"]
["HD2","R","1","G",null,null,null,null,null,null,null,null,"Additional Header"]
[{"$f":"VLOOKUP(UPPER(M31),Items!$A$2:$B$525,2,FALSE)","v":"N0204"},"D",null,null,1,null,null,null,null,null,{"$f":"VLOOKUP(UPPER(A31),Items!$B$2:$G$525,6)","v":"date"},{"$f":"IF(VLOOKUP(UPPER(A31),Items!$B$2:$H$525,7,FALSE)<>0,VLOOKUP(UPPER(A31),Items!$B$2:$H$525,7,FALSE),\"\")","v":""},"SSR Run Date"]
[{"$f":"VLOOKUP(UPPER(M32),Items!$A$2:$B$525,2,FALSE)","v":"N0049"},"D",null,null,1,null,null,null,null,null,{"$f":"VLOOKUP(UPPER(A32),Items!$B$2:$G$525,6)","v":"integer(2)"},{"$f":"IF(VLOOKUP(UPPER(A32),Items!$B$2:$H$525,7,FALSE)<>0,VLOOKUP(UPPER(A32),Items!$B$2:$H$525,7,FALSE),\"\")","v":""},"CDCA Run Number","reported as SVAA CDCA Run Number in SAA-I014"]
[{"$f":"VLOOKUP(UPPER(M33),Items!$A$2:$B$525,2,FALSE)","v":"N0050"},"D",null,null,1,null,null,null,null,null,{"$f":"VLOOKUP(UPPER(A33),Items!$B$2:$G$525,6)","v":"date"},{"$f":"IF(VLOOKUP(UPPER(A33),Items!$B$2:$H$525,7,FALSE)<>0,VLOOKUP(UPPER(A33),Items!$B$2:$H$525,7,FALSE),\"\")","v":""},"CDCA Settlement Date","reported as SVAA CDCA Settlement Date in SAA-I014"]
["GS8","R","1-*","G"," ",null,null,null,null,null,null,null,"GSP Group Ids"]
[{"$f":"VLOOKUP(UPPER(M35),Items!$A$2:$B$525,2,FALSE)","v":"N0116"},"D",null,null,1,null,null,null,null,null,{"$f":"VLOOKUP(UPPER(A35),Items!$B$2:$G$525,6)","v":"text(2)"},{"$f":"IF(VLOOKUP(UPPER(A35),Items!$B$2:$H$525,7,FALSE)<>0,VLOOKUP(UPPER(A35),Items!$B$2:$H$525,7,FALSE),\"\")","v":""},"GSP Group Id"]
["SU2","R","1-*",null,"G",null,null,null,null,null,null,null,"Supplier Detail"]
[{"$f":"VLOOKUP(UPPER(M37),Items!$A$2:$B$525,2,FALSE)","v":"N0296"},"D",null,null,null,1,null,null,null,null,{"$f":"VLOOKUP(UPPER(A37),Items!$B$2:$G$525,6)","v":"text(4)"},{"$f":"IF(VLOOKUP(UPPER(A37),Items!$B$2:$H$525,7,FALSE)<>0,VLOOKUP(UPPER(A37),Items!$B$2:$H$525,7,FALSE),\"\")","v":""},"Supplier Id"]
["BM2","R","1-*",null,null,"G",null,null,null,null,null,null,"BM Unit Ids"]
[{"$f":"VLOOKUP(UPPER(M39),Items!$A$2:$B$525,2,FALSE)","v":"N0034"},"D",null,null,null,null,1,null,null,null,{"$f":"VLOOKUP(UPPER(A39),Items!$B$2:$G$525,6)","v":"text(11)"},{"$f":"IF(VLOOKUP(UPPER(A39),Items!$B$2:$H$525,7,FALSE)<>0,VLOOKUP(UPPER(A39),Items!$B$2:$H$525,7,FALSE),\"\")","v":""},"BM Unit Id"]
["BMV","R","46-50",null,null,null,"G",null,null,null,null,null,"Period BM Unit Total Allocated Volumes"]
[{"$f":"VLOOKUP(UPPER(M41),Items!$A$2:$B$525,2,FALSE)","v":"N0201"},"D",null,null,null,null,null,1,null,null,{"$f":"VLOOKUP(UPPER(A41),Items!$B$2:$G$525,6)","v":"integer(2)"},{"$f":"IF(VLOOKUP(UPPER(A41),Items!$B$2:$H$525,7,FALSE)<>0,VLOOKUP(UPPER(A41),Items!$B$2:$H$525,7,FALSE),\"\")","v":""},"Settlement Period"]
[{"$f":"VLOOKUP(UPPER(M42),Items!$A$2:$B$525,2,FALSE)","v":"N0171"},"D",null,null,null,null,null,1,null,null,{"$f":"VLOOKUP(UPPER(A42),Items!$B$2:$G$525,6)","v":"decimal(14,4)"},{"$f":"IF(VLOOKUP(UPPER(A42),Items!$B$2:$H$525,7,FALSE)<>0,VLOOKUP(UPPER(A42),Items!$B$2:$H$525,7,FALSE),\"\")","v":""},"Period BM Unit Total Allocated Volume","signed positive = consumption"]
[]
[null,{"$f":"IF(LEN(K44)>0,\"D\",IF(LEN(A44)=5,\"F\",IF(LEN(A44)=3,\"R\",\" \")))","v":" "}]
["P0236","F","001",null,null,null,null,null,null,null,null,null,"SAA-I041: SVA  Gross Demand Volume"]
["ZP2","R","1","G",null,null,null,null,null,null,null,null,"Data File Additional Header"]
[{"$f":"VLOOKUP(UPPER(M47),Items!$A$2:$B$525,2,FALSE)","v":"N0200"},"D",null,null,1,null,null,null,null,null,{"$f":"VLOOKUP(UPPER(A47),Items!$B$2:$G$525,6)","v":"date"},{"$f":"IF(VLOOKUP(UPPER(A47),Items!$B$2:$H$525,7,FALSE)<>0,VLOOKUP(UPPER(A47),Items!$B$2:$H$525,7,FALSE),\"\")","v":""},"Settlement Date"]
[{"$f":"VLOOKUP(UPPER(M48),Items!$A$2:$B$525,2,FALSE)","v":"N0199"},"D",null,null,1,null,null,null,null,null,{"$f":"VLOOKUP(UPPER(A48),Items!$B$2:$G$525,6)","v":"text(2)"},{"$f":"IF(VLOOKUP(UPPER(A48),Items!$B$2:$H$525,7,FALSE)<>0,VLOOKUP(UPPER(A48),Items!$B$2:$H$525,7,FALSE),\"\")","v":""},"Settlement Code"]
[{"$f":"VLOOKUP(UPPER(M49),Items!$A$2:$B$525,2,FALSE)","v":"N0206"},"D",null,null,1,null,null,null,null,null,{"$f":"VLOOKUP(UPPER(A49),Items!$B$2:$G$525,6)","v":"text(2)"},{"$f":"IF(VLOOKUP(UPPER(A49),Items!$B$2:$H$525,7,FALSE)<>0,VLOOKUP(UPPER(A49),Items!$B$2:$H$525,7,FALSE),\"\")","v":""},"SSR Run Type Id"]
[{"$f":"VLOOKUP(UPPER(M50),Items!$A$2:$B$525,2,FALSE)","v":"N0205"},"D",null,null,1,null,null,null,null,null,{"$f":"VLOOKUP(UPPER(A50),Items!$B$2:$G$525,6)","v":"integer(7)"},{"$f":"IF(VLOOKUP(UPPER(A50),Items!$B$2:$H$525,7,FALSE)<>0,VLOOKUP(UPPER(A50),Items!$B$2:$H$525,7,FALSE),\"\")","v":""},"SSR Run Number"]
[{"$f":"VLOOKUP(UPPER(M51),Items!$A$2:$B$525,2,FALSE)","v":"N0116"},"D",null,null,"O",null,null,null,null,null,{"$f":"VLOOKUP(UPPER(A51),Items!$B$2:$G$525,6)","v":"text(2)"},{"$f":"IF(VLOOKUP(UPPER(A51),Items!$B$2:$H$525,7,FALSE)<>0,VLOOKUP(UPPER(A51),Items!$B$2:$H$525,7,FALSE),\"\")","v":""},"GSP Group Id","always null"]
["RDT","R","1","G",null,null,null,null,null,null,null,null,"Report Details"]
[{"$f":"VLOOKUP(UPPER(M53),Items!$A$2:$B$525,2,FALSE)","v":"N0235"},"D",null,null,1,null,null,null,null,null,{"$f":"VLOOKUP(UPPER(A53),Items!$B$2:$G$525,6)","v":"text(8)"},{"$f":"IF(VLOOKUP(UPPER(A53),Items!$B$2:$H$525,7,FALSE)<>0,VLOOKUP(UPPER(A53),Items!$B$2:$H$525,7,FALSE),\"\")","v":""},"User Name","for internal use of SVAA irrelevant to SAA"]
[{"$f":"VLOOKUP(UPPER(M54),Items!$A$2:$B$525,2,FALSE)","v":"N0189"},"D",null,null,1,null,null,null,null,null,{"$f":"VLOOKUP(UPPER(A54),Items!$B$2:$G$525,6)","v":"text(30)"},{"$f":"IF(VLOOKUP(UPPER(A54),Items!$B$2:$H$525,7,FALSE)<>0,VLOOKUP(UPPER(A54),Items!$B$2:$H$525,7,FALSE),\"\")","v":""},"Report Parameters","for internal use of SVAA irrelevant to SAA"]
["HD2","R","1","G",null,null,null,null,null,null,null,null,"Additional Header"]
[{"$f":"VLOOKUP(UPPER(M56),Items!$A$2:$B$525,2,FALSE)","v":"N0204"},"D",null,null,1,null,null,null,null,null,{"$f":"VLOOKUP(UPPER(A56),Items!$B$2:$G$525,6)","v":"date"},{"$f":"IF(VLOOKUP(UPPER(A56),Items!$B$2:$H$525,7,FALSE)<>0,VLOOKUP(UPPER(A56),Items!$B$2:$H$525,7,FALSE),\"\")","v":""},"SSR Run Date"]
[{"$f":"VLOOKUP(UPPER(M57),Items!$A$2:$B$525,2,FALSE)","v":"N0049"},"D",null,null,1,null,null,null,null,null,{"$f":"VLOOKUP(UPPER(A57),Items!$B$2:$G$525,6)","v":"integer(2)"},{"$f":"IF(VLOOKUP(UPPER(A57),Items!$B$2:$H$525,7,FALSE)<>0,VLOOKUP(UPPER(A57),Items!$B$2:$H$525,7,FALSE),\"\")","v":""},"CDCA Run Number","reported as SVAA CDCA Run Number in SAA-I014"]
[{"$f":"VLOOKUP(UPPER(M58),Items!$A$2:$B$525,2,FALSE)","v":"N0050"},"D",null,null,1,null,null,null,null,null,{"$f":"VLOOKUP(UPPER(A58),Items!$B$2:$G$525,6)","v":"date"},{"$f":"IF(VLOOKUP(UPPER(A58),Items!$B$2:$H$525,7,FALSE)<>0,VLOOKUP(UPPER(A58),Items!$B$2:$H$525,7,FALSE),\"\")","v":""},"CDCA Settlement Date","reported as SVAA CDCA Settlement Date in SAA-I014"]
["GS9","R","1-*","G"," ",null,null,null,null,null,null,null,"GSP Group Ids"]
[{"$f":"VLOOKUP(UPPER(M60),Items!$A$2:$B$525,2,FALSE)","v":"N0116"},"D",null,null,1,null,null,null,null,null,{"$f":"VLOOKUP(UPPER(A60),Items!$B$2:$G$525,6)","v":"text(2)"},{"$f":"IF(VLOOKUP(UPPER(A60),Items!$B$2:$H$525,7,FALSE)<>0,VLOOKUP(UPPER(A60),Items!$B$2:$H$525,7,FALSE),\"\")","v":""},"GSP Group Id"]
["SU3","R","1-*",null,"G",null,null,null,null,null,null,null,"Supplier Detail"]
[{"$f":"VLOOKUP(UPPER(M62),Items!$A$2:$B$525,2,FALSE)","v":"N0296"},"D",null,null,null,1,null,null,null,null,{"$f":"VLOOKUP(UPPER(A62),Items!$B$2:$G$525,6)","v":"text(4)"},{"$f":"IF(VLOOKUP(UPPER(A62),Items!$B$2:$H$525,7,FALSE)<>0,VLOOKUP(UPPER(A62),Items!$B$2:$H$525,7,FALSE),\"\")","v":""},"Supplier Id"]
["BM3","R","1-*",null,null,"G",null,null,null,null,null,null,"BM Unit Ids"]
[{"$f":"VLOOKUP(UPPER(M64),Items!$A$2:$B$525,2,FALSE)","v":"N0034"},"D",null,null,null,null,1,null,null,null,{"$f":"VLOOKUP(UPPER(A64),Items!$B$2:$G$525,6)","v":"text(11)"},{"$f":"IF(VLOOKUP(UPPER(A64),Items!$B$2:$H$525,7,FALSE)<>0,VLOOKUP(UPPER(A64),Items!$B$2:$H$525,7,FALSE),\"\")","v":""},"BM Unit Id"]
["BDV","R","46-50",null,null,null,"G",null,null,null,null,null,"Period BM Unit Gross Demand Volumes"]
[{"$f":"VLOOKUP(UPPER(M66),Items!$A$2:$B$525,2,FALSE)","v":"N0201"},"D",null,null,null,null,null,1,null,null,{"$f":"VLOOKUP(UPPER(A66),Items!$B$2:$G$525,6)","v":"integer(2)"},{"$f":"IF(VLOOKUP(UPPER(A66),Items!$B$2:$H$525,7,FALSE)<>0,VLOOKUP(UPPER(A66),Items!$B$2:$H$525,7,FALSE),\"\")","v":""},"Settlement Period"]
[{"$f":"VLOOKUP(UPPER(M67),Items!$A$2:$B$528,2,FALSE)","v":"N0554"},"D",null,null,null,null,null,1,null,null,{"$f":"VLOOKUP(UPPER(A67),Items!$B$2:$G$528,6)","v":"decimal(14,4)"},{"$f":"IF(VLOOKUP(UPPER(A67),Items!$B$2:$H$528,7,FALSE)<>0,VLOOKUP(UPPER(A67),Items!$B$2:$H$528,7,FALSE),\"\")","v":""},"Period Bm Unit Gross Demand Volume","signed positive = consumption"]
[]
[null,{"$f":"IF(LEN(K69)>0,\"D\",IF(LEN(A69)=5,\"F\",IF(LEN(A69)=3,\"R\",\" \")))","v":" "}]
["P0237","F","001",null,null,null,null,null,null,null,null,null,"SAA-I045: SVA  Demand Disconnection Volume"]
["ZP2","R","1","G",null,null,null,null,null,null,null,null,"Data File Additional Header"]
[{"$f":"VLOOKUP(UPPER(M72),Items!$A$2:$B$525,2,FALSE)","v":"N0200"},"D",null,null,1,null,null,null,null,null,{"$f":"VLOOKUP(UPPER(A72),Items!$B$2:$G$525,6)","v":"date"},{"$f":"IF(VLOOKUP(UPPER(A72),Items!$B$2:$H$525,7,FALSE)<>0,VLOOKUP(UPPER(A72),Items!$B$2:$H$525,7,FALSE),\"\")","v":""},"Settlement Date"]
[{"$f":"VLOOKUP(UPPER(M73),Items!$A$2:$B$525,2,FALSE)","v":"N0199"},"D",null,null,1,null,null,null,null,null,{"$f":"VLOOKUP(UPPER(A73),Items!$B$2:$G$525,6)","v":"text(2)"},{"$f":"IF(VLOOKUP(UPPER(A73),Items!$B$2:$H$525,7,FALSE)<>0,VLOOKUP(UPPER(A73),Items!$B$2:$H$525,7,FALSE),\"\")","v":""},"Settlement Code"]
[{"$f":"VLOOKUP(UPPER(M74),Items!$A$2:$B$525,2,FALSE)","v":"N0206"},"D",null,null,1,null,null,null,null,null,{"$f":"VLOOKUP(UPPER(A74),Items!$B$2:$G$525,6)","v":"text(2)"},{"$f":"IF(VLOOKUP(UPPER(A74),Items!$B$2:$H$525,7,FALSE)<>0,VLOOKUP(UPPER(A74),Items!$B$2:$H$525,7,FALSE),\"\")","v":""},"SSR Run Type Id"]
[{"$f":"VLOOKUP(UPPER(M75),Items!$A$2:$B$525,2,FALSE)","v":"N0205"},"D",null,null,1,null,null,null,null,null,{"$f":"VLOOKUP(UPPER(A75),Items!$B$2:$G$525,6)","v":"integer(7)"},{"$f":"IF(VLOOKUP(UPPER(A75),Items!$B$2:$H$525,7,FALSE)<>0,VLOOKUP(UPPER(A75),Items!$B$2:$H$525,7,FALSE),\"\")","v":""},"SSR Run Number"]
[{"$f":"VLOOKUP(UPPER(M76),Items!$A$2:$B$525,2,FALSE)","v":"N0116"},"D",null,null,"O",null,null,null,null,null,{"$f":"VLOOKUP(UPPER(A76),Items!$B$2:$G$525,6)","v":"text(2)"},{"$f":"IF(VLOOKUP(UPPER(A76),Items!$B$2:$H$525,7,FALSE)<>0,VLOOKUP(UPPER(A76),Items!$B$2:$H$525,7,FALSE),\"\")","v":""},"GSP Group Id","always null"]
["RDT","R","1","G",null,null,null,null,null,null,null,null,"Report Details"]
[{"$f":"VLOOKUP(UPPER(M78),Items!$A$2:$B$525,2,FALSE)","v":"N0235"},"D",null,null,1,null,null,null,null,null,{"$f":"VLOOKUP(UPPER(A78),Items!$B$2:$G$525,6)","v":"text(8)"},{"$f":"IF(VLOOKUP(UPPER(A78),Items!$B$2:$H$525,7,FALSE)<>0,VLOOKUP(UPPER(A78),Items!$B$2:$H$525,7,FALSE),\"\")","v":""},"User Name","for internal use of SVAA irrelevant to SAA"]
[{"$f":"VLOOKUP(UPPER(M79),Items!$A$2:$B$525,2,FALSE)","v":"N0189"},"D",null,null,1,null,null,null,null,null,{"$f":"VLOOKUP(UPPER(A79),Items!$B$2:$G$525,6)","v":"text(30)"},{"$f":"IF(VLOOKUP(UPPER(A79),Items!$B$2:$H$525,7,FALSE)<>0,VLOOKUP(UPPER(A79),Items!$B$2:$H$525,7,FALSE),\"\")","v":""},"Report Parameters","for internal use of SVAA irrelevant to SAA"]
["HD2","R","1","G",null,null,null,null,null,null,null,null,"Additional Header"]
[{"$f":"VLOOKUP(UPPER(M81),Items!$A$2:$B$525,2,FALSE)","v":"N0204"},"D",null,null,1,null,null,null,null,null,{"$f":"VLOOKUP(UPPER(A81),Items!$B$2:$G$525,6)","v":"date"},{"$f":"IF(VLOOKUP(UPPER(A81),Items!$B$2:$H$525,7,FALSE)<>0,VLOOKUP(UPPER(A81),Items!$B$2:$H$525,7,FALSE),\"\")","v":""},"SSR Run Date"]
[{"$f":"VLOOKUP(UPPER(M82),Items!$A$2:$B$525,2,FALSE)","v":"N0049"},"D",null,null,1,null,null,null,null,null,{"$f":"VLOOKUP(UPPER(A82),Items!$B$2:$G$525,6)","v":"integer(2)"},{"$f":"IF(VLOOKUP(UPPER(A82),Items!$B$2:$H$525,7,FALSE)<>0,VLOOKUP(UPPER(A82),Items!$B$2:$H$525,7,FALSE),\"\")","v":""},"CDCA Run Number","reported as SVAA CDCA Run Number in SAA-I014"]
[{"$f":"VLOOKUP(UPPER(M83),Items!$A$2:$B$525,2,FALSE)","v":"N0050"},"D",null,null,1,null,null,null,null,null,{"$f":"VLOOKUP(UPPER(A83),Items!$B$2:$G$525,6)","v":"date"},{"$f":"IF(VLOOKUP(UPPER(A83),Items!$B$2:$H$525,7,FALSE)<>0,VLOOKUP(UPPER(A83),Items!$B$2:$H$525,7,FALSE),\"\")","v":""},"CDCA Settlement Date","reported as SVAA CDCA Settlement Date in SAA-I014"]
["GS6","R","1-*","G"," ",null,null,null,null,null,null,null,"GSP Group Ids"]
[{"$f":"VLOOKUP(UPPER(M85),Items!$A$2:$B$525,2,FALSE)","v":"N0116"},"D",null,null,1,null,null,null,null,null,{"$f":"VLOOKUP(UPPER(A85),Items!$B$2:$G$525,6)","v":"text(2)"},{"$f":"IF(VLOOKUP(UPPER(A85),Items!$B$2:$H$525,7,FALSE)<>0,VLOOKUP(UPPER(A85),Items!$B$2:$H$525,7,FALSE),\"\")","v":""},"GSP Group Id"]
["SU4","R","1-*",null,"G",null,null,null,null,null,null,null,"Supplier Detail"]
[{"$f":"VLOOKUP(UPPER(M87),Items!$A$2:$B$525,2,FALSE)","v":"N0296"},"D",null,null,null,1,null,null,null,null,{"$f":"VLOOKUP(UPPER(A87),Items!$B$2:$G$525,6)","v":"text(4)"},{"$f":"IF(VLOOKUP(UPPER(A87),Items!$B$2:$H$525,7,FALSE)<>0,VLOOKUP(UPPER(A87),Items!$B$2:$H$525,7,FALSE),\"\")","v":""},"Supplier Id"]
["BM4","R","1-*",null,null,"G",null,null,null,null,null,null,"BM Unit Ids"]
[{"$f":"VLOOKUP(UPPER(M89),Items!$A$2:$B$525,2,FALSE)","v":"N0034"},"D",null,null,null,null,1,null,null,null,{"$f":"VLOOKUP(UPPER(A89),Items!$B$2:$G$525,6)","v":"text(11)"},{"$f":"IF(VLOOKUP(UPPER(A89),Items!$B$2:$H$525,7,FALSE)<>0,VLOOKUP(UPPER(A89),Items!$B$2:$H$525,7,FALSE),\"\")","v":""},"BM Unit Id"]
["BDD","R","46-50",null,null,null,"G",null,null,null,null,null,"Period BM Unit Demand Disconnection Volumes"]
[{"$f":"VLOOKUP(UPPER(M91),Items!$A$2:$B$525,2,FALSE)","v":"N0201"},"D",null,null,null,null,null,1,null,null,{"$f":"VLOOKUP(UPPER(A91),Items!$B$2:$G$525,6)","v":"integer(2)"},{"$f":"IF(VLOOKUP(UPPER(A91),Items!$B$2:$H$525,7,FALSE)<>0,VLOOKUP(UPPER(A91),Items!$B$2:$H$525,7,FALSE),\"\")","v":""},"Settlement Period"]
[{"$f":"VLOOKUP(UPPER(M92),Items!$A$2:$B$545,2,FALSE)","v":"N0557"},"D",null,null,null,null,null,1,null,null,{"$f":"VLOOKUP(UPPER(A92),Items!$B$2:$G$528,6)","v":"decimal(14,4)"},{"$f":"IF(VLOOKUP(UPPER(A92),Items!$B$2:$H$545,7,FALSE)<>0,VLOOKUP(UPPER(A92),Items!$B$2:$H$545,7,FALSE),\"\")","v":""},"Period BM Unit Demand Disconnection Volume","signed positive = consumption"]
[null,{"$f":"IF(LEN(K93)>0,\"D\",IF(LEN(A93)=5,\"F\",IF(LEN(A93)=3,\"R\",\" \")))","v":" "}]
["P0240",{"$f":"IF(LEN(K94)>0,\"D\",IF(LEN(A94)=5,\"F\",IF(LEN(A94)=3,\"R\",\" \")))","v":"F"},"001",null,null,null,null,null,null,null,null,null,"BMRA-I032: Demand Control Instructions"]
["DCI",{"$f":"IF(LEN(K95)>0,\"D\",IF(LEN(A95)=5,\"F\",IF(LEN(A95)=3,\"R\",\" \")))","v":"R"},"1-*","G"," ",null,null,null,null,null,null,null,"Demand Control Instructions"]
[{"$f":"VLOOKUP(UPPER(M96),Items!$A$2:$B$545,2,FALSE)","v":"N0567"},{"$f":"IF(LEN(K96)>0,\"D\",IF(LEN(A96)=5,\"F\",IF(LEN(A96)=3,\"R\",\" \")))","v":"D"},null,null,"O",null,null,null,null,null,{"$f":"VLOOKUP(UPPER(A96),Items!$B$2:$G$566,6)","v":"varchar2(10)"},{"$f":"IF(VLOOKUP(UPPER(A96),Items!$B$2:$H$545,7,FALSE)<>0,VLOOKUP(UPPER(A96),Items!$B$2:$H$545,7,FALSE),\"\")","v":""},"Affected Dso"]
[{"$f":"VLOOKUP(UPPER(M97),Items!$A$2:$B$545,2,FALSE)","v":"N0568"},{"$f":"IF(LEN(K97)>0,\"D\",IF(LEN(A97)=5,\"F\",IF(LEN(A97)=3,\"R\",\" \")))","v":"D"},null,null,1,null,null,null,null,null,{"$f":"VLOOKUP(UPPER(A97),Items!$B$2:$G$566,6)","v":"varchar2(5)"},{"$f":"IF(VLOOKUP(UPPER(A97),Items!$B$2:$H$545,7,FALSE)<>0,VLOOKUP(UPPER(A97),Items!$B$2:$H$545,7,FALSE),\"\")","v":""},"Demand Control Identification Number"]
[{"$f":"VLOOKUP(UPPER(M98),Items!$A$2:$B$545,2,FALSE)","v":"N0569"},"D",null,null,1,null,null,null,null,null,{"$f":"VLOOKUP(UPPER(A98),Items!$B$2:$G$566,6)","v":"integer(2)"},{"$f":"IF(VLOOKUP(UPPER(A98),Items!$B$2:$H$545,7,FALSE)<>0,VLOOKUP(UPPER(A98),Items!$B$2:$H$545,7,FALSE),\"\")","v":""},"Instruction Sequence"]
[{"$f":"VLOOKUP(UPPER(M99),Items!$A$2:$B$545,2,FALSE)","v":"N0570"},"D",null,null,1,null,null,null,null,null,{"$f":"VLOOKUP(UPPER(A99),Items!$B$2:$G$566,6)","v":"char"},{"$f":"IF(VLOOKUP(UPPER(A99),Items!$B$2:$H$545,7,FALSE)<>0,VLOOKUP(UPPER(A99),Items!$B$2:$H$545,7,FALSE),\"\")","v":"Demand Control Event Flag"},"Demand Control Event Flag","I (Demand reduction instructed by the Transmission Company and Emergency Manual Disconnection ) or L(o Automatic Low Frequency Demand Disconnection)"]
[{"$f":"VLOOKUP(UPPER(M100),Items!$A$2:$B$545,2,FALSE)","v":"N0571"},"D",null,null,1,null,null,null,null,null,{"$f":"VLOOKUP(UPPER(A100),Items!$B$2:$G$566,6)","v":"datetime"},{"$f":"IF(VLOOKUP(UPPER(A100),Items!$B$2:$H$545,7,FALSE)<>0,VLOOKUP(UPPER(A100),Items!$B$2:$H$545,7,FALSE),\"\")","v":""},"From Time"]
[{"$f":"VLOOKUP(UPPER(M101),Items!$A$2:$B$566,2,FALSE)","v":"N0572"},{"$f":"IF(LEN(K101)>0,\"D\",IF(LEN(A101)=5,\"F\",IF(LEN(A101)=3,\"R\",\" \")))","v":"D"},null,null,"O",null,null,null,null,null,{"$f":"VLOOKUP(UPPER(A101),Items!$B$2:$G$566,6)","v":"datetime"},{"$f":"IF(VLOOKUP(UPPER(A101),Items!$B$2:$H$566,7,FALSE)<>0,VLOOKUP(UPPER(A101),Items!$B$2:$H$566,7,FALSE),\"\")","v":""},"To Time"]
[{"$f":"VLOOKUP(UPPER(M102),Items!$A$2:$B$545,2,FALSE)","v":"N0382"},{"$f":"IF(LEN(K102)>0,\"D\",IF(LEN(A102)=5,\"F\",IF(LEN(A102)=3,\"R\",\" \")))","v":"D"},null,null,1,null,null,null,null,null,{"$f":"VLOOKUP(UPPER(A102),Items!$B$2:$G$566,6)","v":"number(13,3)"},{"$f":"IF(VLOOKUP(UPPER(A102),Items!$B$2:$H$545,7,FALSE)<>0,VLOOKUP(UPPER(A102),Items!$B$2:$H$545,7,FALSE),\"\")","v":""},"Volume"]
[{"$f":"VLOOKUP(UPPER(M103),Items!$A$2:$B$545,2,FALSE)","v":"N0549"},"D",null,null,1,null,null,null,null,null,{"$f":"VLOOKUP(UPPER(A103),Items!$B$2:$G$566,6)","v":"varchar2(5)"},{"$f":"IF(VLOOKUP(UPPER(A103),Items!$B$2:$H$545,7,FALSE)<>0,VLOOKUP(UPPER(A103),Items!$B$2:$H$545,7,FALSE),\"\")","v":""},"So-Flag"]
[{"$f":"VLOOKUP(UPPER(M104),Items!$A$2:$B$545,2,FALSE)","v":"N0550"},{"$f":"IF(LEN(K104)>0,\"D\",IF(LEN(A104)=5,\"F\",IF(LEN(A104)=3,\"R\",\" \")))","v":"D"},null,null,1,null,null,null,null,null,{"$f":"VLOOKUP(UPPER(A104),Items!$B$2:$G$566,6)","v":"varchar2(5)"},{"$f":"IF(VLOOKUP(UPPER(A104),Items!$B$2:$H$545,7,FALSE)<>0,VLOOKUP(UPPER(A104),Items!$B$2:$H$545,7,FALSE),\"\")","v":""},"Amendment Flag"]
[]
["P0181",{"$f":"IF(LEN(K106)>0,\"D\",IF(LEN(A106)=5,\"F\",IF(LEN(A106)=3,\"R\",\" \")))","v":"F"},"001",null,null,null,null,null,null,null,null,null,"CRA-I015: Stage 2 BM Unit Registration (CRA-0015 sub-flow 2)"]
["GS7","R","1-*","G"," ",null,null,null,null,null,null,null,"GSP Group Ids"]
[{"$f":"VLOOKUP(UPPER(M108),Items!$A$2:$B$525,2,FALSE)","v":"N0116"},"D",null,null,1,null,null,null,null,null,{"$f":"VLOOKUP(UPPER(A108),Items!$B$2:$G$525,6)","v":"text(2)"},{"$f":"IF(VLOOKUP(UPPER(A108),Items!$B$2:$H$525,7,FALSE)<>0,VLOOKUP(UPPER(A108),Items!$B$2:$H$525,7,FALSE),\"\")","v":""},"GSP Group Id"]
["SUP","R","1-*",null,"G",null,null,null,null,null,null,null,"Supplier Detail"]
[{"$f":"VLOOKUP(UPPER(M110),Items!$A$2:$B$525,2,FALSE)","v":"N0296"},"D",null,null,null,1,null,null,null,null,{"$f":"VLOOKUP(UPPER(A110),Items!$B$2:$G$525,6)","v":"text(4)"},{"$f":"IF(VLOOKUP(UPPER(A110),Items!$B$2:$H$525,7,FALSE)<>0,VLOOKUP(UPPER(A110),Items!$B$2:$H$525,7,FALSE),\"\")","v":""},"Supplier Id"]
["BMU","R","1-*",null,null,"G",null,null,null,null,null,null,"BM Unit Ids"]
[{"$f":"VLOOKUP(UPPER(M112),Items!$A$2:$B$525,2,FALSE)","v":"N0034"},"D",null,null,null,null,1,null,null,null,{"$f":"VLOOKUP(UPPER(A112),Items!$B$2:$G$525,6)","v":"text(11)"},{"$f":"IF(VLOOKUP(UPPER(A112),Items!$B$2:$H$525,7,FALSE)<>0,VLOOKUP(UPPER(A112),Items!$B$2:$H$525,7,FALSE),\"\")","v":""},"BM Unit Id"]
[{"$f":"VLOOKUP(UPPER(M113),Items!$A$2:$B$525,2,FALSE)","v":"N0082"},"D",null,null,null,null,1,null,null,null,{"$f":"VLOOKUP(UPPER(A113),Items!$B$2:$G$525,6)","v":"date"},{"$f":"IF(VLOOKUP(UPPER(A113),Items!$B$2:$H$525,7,FALSE)<>0,VLOOKUP(UPPER(A113),Items!$B$2:$H$525,7,FALSE),\"\")","v":""},"Effective From Settlement Date"]
[{"$f":"VLOOKUP(UPPER(M114),Items!$A$2:$B$525,2,FALSE)","v":"N0084"},"D",null,null,null,null,"O",null,null,null,{"$f":"VLOOKUP(UPPER(A114),Items!$B$2:$G$525,6)","v":"date"},{"$f":"IF(VLOOKUP(UPPER(A114),Items!$B$2:$H$525,7,FALSE)<>0,VLOOKUP(UPPER(A114),Items!$B$2:$H$525,7,FALSE),\"\")","v":""},"Effective To Settlement Date"]
[{"$f":"VLOOKUP(UPPER(M115),Items!$A$2:$B$525,2,FALSE)","v":"N0063"},"D",null,null,null,null,1,null,null,null,{"$f":"VLOOKUP(UPPER(A115),Items!$B$2:$G$525,6)","v":"boolean"},{"$f":"IF(VLOOKUP(UPPER(A115),Items!$B$2:$H$525,7,FALSE)<>0,VLOOKUP(UPPER(A115),Items!$B$2:$H$525,7,FALSE),\"\")","v":""},"Default Flag","T' - it is the default BM unit for this GSP Group / Supplier combination; 'F' - it is not"]
[]
["P0183",{"$f":"IF(LEN(K117)>0,\"D\",IF(LEN(A117)=5,\"F\",IF(LEN(A117)=3,\"R\",\" \")))","v":"F"},"001",null,null,null,null,null,null,null,null,null,"Stage 2 Acknowledgement Message"]
["ACK","R","1-*","G",null,null,null,null,null,null,null,null,"Acknowledgement Details"]
[{"$f":"VLOOKUP(UPPER(M119),Items!$A$2:$B$525,2,FALSE)","v":"N0101"},"D",null,null,1,null,null,null,null,null,{"$f":"VLOOKUP(UPPER(A119),Items!$B$2:$G$525,6)","v":"text(10)"},{"$f":"IF(VLOOKUP(UPPER(A119),Items!$B$2:$H$525,7,FALSE)<>0,VLOOKUP(UPPER(A119),Items!$B$2:$H$525,7,FALSE),\"\")","v":""},"File Identifier","File Id of file being acknowledged"]
[{"$f":"VLOOKUP(UPPER(M120),Items!$A$2:$B$525,2,FALSE)","v":"N0102"},"D",null,null,1,null,null,null,null,null,{"$f":"VLOOKUP(UPPER(A120),Items!$B$2:$G$525,6)","v":"text(8)"},{"$f":"IF(VLOOKUP(UPPER(A120),Items!$B$2:$H$525,7,FALSE)<>0,VLOOKUP(UPPER(A120),Items!$B$2:$H$525,7,FALSE),\"\")","v":""},"File Type","File Type of file being acknowledged"]
[{"$f":"VLOOKUP(UPPER(M121),Items!$A$2:$B$525,2,FALSE)","v":"N0302"},"D",null,null,1,null,null,null,null,null,{"$f":"VLOOKUP(UPPER(A121),Items!$B$2:$G$525,6)","v":"integer(3)"},{"$f":"IF(VLOOKUP(UPPER(A121),Items!$B$2:$H$525,7,FALSE)<>0,VLOOKUP(UPPER(A121),Items!$B$2:$H$525,7,FALSE),\"\")","v":""},"Response Code"]
[{"$f":"VLOOKUP(UPPER(M122),Items!$A$2:$B$525,2,FALSE)","v":"N0303"},"D",null,null,"O",null,null,null,null,null,{"$f":"VLOOKUP(UPPER(A122),Items!$B$2:$G$525,6)","v":"text(80)"},{"$f":"IF(VLOOKUP(UPPER(A122),Items!$B$2:$H$525,7,FALSE)<>0,VLOOKUP(UPPER(A122),Items!$B$2:$H$525,7,FALSE),\"\")","v":""},"Response Data"]
[]
[]
[]
[]
[]
[]
[]
[]
[]
[]
[]
[]
[]
[]
[]
[]
[]
[]
[]
[]
[]
[]
[]
[]
[]
[]
[]
[]
[]
[]
[]
[]
[]
[]
[]
[]
[]
[]
[]
[]
[]
[]
[]
[]
[]
[]
[]
[]
[]
[]
[]
[]
[]
[]
[]
[]
[]
[]
[]
[]
[]
[]
[]
[]
[]
[]
[]
[]
[]
[]
[]
[]
[]
[]
[]
[]
[]
[]
[]
[]
[]
[]
[]
[]
[]
[]
[]
[]
[]
[]
[]
[]
[]
[]
[]
[]
[]
[]
[]
[]
[]
[]
[]
[]
[]
[]
[]
[]
[]
[]
[]
[]
[]
[]
[]
[]
[]
[]
[]
[]
[]
[]
[]
[]
[]
[]
[]
[]
[]
[]
[]
[]
[]
[]
[]
[]
[]
[]
[]
[]
[]
[]
[]
[]
[]
[]
[]
[]
[]
[]
[]
[]
[]
[]
[]
[]
[]
[]
[]
[]
[]
[]
[]
[]
[]
[]
[]
[]
[]
[]
[]
[]
[]
[]
[]
[]
[]
[]
[]
[]
[]
[]
[]
[]
[]
[]
[]
[]
[]
[]
[]
[]
[]
[]
[]
[]
[]
[]
[]
[]
[]
[]
[]
[]
[]
[]
[]
[]
[]
[]
[]
[]
[]
[]
[]
[]
[]
[]
[]
[]
[]
[]
[]
[]
[]
[]
[]
[]
[]
[]
[]
[]
[]
[]
[]
[]
[]
[]
[]
[]
[]
[]
[]
[]
[]
[]
[]
[]
[]
[]
[]
[]
[]
[]
[]
[]
[]
[]
[]
[]
[]
[]
[]
[]
[]
[]
[]
[]
[]
[]
[]
[]
[]
[]
[]
[]
[]
[]
[]
[]
[]
[]
[]
[]
[]
[]
[]
[]
[]
[]
[]
[]
[]
[]
[]
[]
[]
[]
[]
[]
[]
[]
[]
[]
[]
[]
[]
[]
[]
[]
[]
[]
[]
[]
[]
[]
[]
[]
[]
[]
[]
[]
[]
[]
[]
[]
[]
[]
[]
[]
[]
[]
[]
[]
[]
[]
[]
[]
[]
[]
[]
[]
[]
[]
[]
[]
[]
[]
[]
[]
[]
[]
[]
[]
[]
[]
[]
[]
[]
[]
[]
[]
[]
[]
[]
[]
[]
[]
[]
[]
[]
[]
[]
[]
[]
[]
[]
[]
[]
[]
[]
[]
[]
[]
[]
[]
[]
[]
[]
[]
[]
[]
[]
[]
[]
[]
[]
[]
[]
[]
[]
[]
[]
[]
[]
[]
[]
[]
[]
[]
[]
[]
[]
[]
[]
[]
[]
[]
[]
[]
[]
[]
[]
[]
[]
[]
[]
[]
[]
[]
[]
[]
[]
[]
[]
[]
[]
[]
[]
[]
[]
[]
[]
[]
[]
[]
[]
[]
[]
[]
[]
[]
[]
[]
[]
[]
[]
[]
[]
[]
[]
[]
[]
[]
[]
[]
[]
[]
[]
[]
[]
[]
[]
[]
[]
[]
[]
[]
[]
[]
[]
[]
[]
[]
[]
[]
[]
[]
[]
[]
[]
[]
[]
[]
[]
[]
[]
[]
[]
[]
[]
[]
[]
[]
[]
[]
[]
[]
[]
[]
[]
[]
[]
[]
[]
[]
[]
["CHECKS"]
[]
["Total Col A",null,{"$f":"COUNTIF($A$2:$A$625,\"<>\")","v":111},null,null,null,null,null,null,null,null,"All OK?"]
["Total Col B",null,{"$f":"C644+C645+C646","v":111},{"$f":"IF(C642=C643,\"OK\", \"Problem\")","v":"OK"},null,null,null,null,null,null,null,{"$f":"AND(D643=\"OK\",D647=\"OK\",D648=\"OK\",D649=\"OK\",D650=\"OK\",D651=\"OK\")","v":true}]
[null,"\"F\"",{"$f":"COUNTIF($B$2:$B$625,\"F\")","v":7}]
[null,"\"R\"",{"$f":"COUNTIF($B$2:$B$625,\"R\")","v":29}]
[null,"\"D\"",{"$f":"COUNTIF($B$2:$B$625,\"D\")","v":75}]
["Total Col C",null,{"$f":"COUNTIF($C$2:$C$625,\"<>\")","v":36},{"$f":"IF(C647=C645+C644,\"OK\",\"Problem\")","v":"OK"}]
["Total G",null,{"$f":"COUNTIF($D$2:$J$625,\"G\")","v":29},{"$f":"IF(C645=C648,\"OK\",\"Problem\")","v":"OK"}]
["Total 1 /  O",null,{"$f":"COUNTIF($D$2:$J$625,\"1\")+COUNTIF($D$2:$J$625,\"O\")","v":75},{"$f":"IF(C646=C649,\"OK\",\"Problem\")","v":"OK"}]
["Total Col K",null,{"$f":"COUNTIF($K$2:$K$625,\"<>\")","v":75},{"$f":"IF(C646=C650,\"OK\",\"Problem\")","v":"OK"}]
["Total Col M",null,{"$f":"COUNTIF($M$2:$M$627,\"<>\")","v":111},{"$f":"IF(C642=C651,\"OK\", \"Problem\")","v":"OK"}]
[]
[]
[]
[]
[]
[]
[]
[]
[]
[]
[]
[]
[]
[]
[]
[]
[]
[]
[]
[]
[]
[]
[]
[]
[]
[]
[]
[]
[]
[]
[]
[]
[]
[]
[]
[]
[]
[]
[]
[]
[]
[]
[]
[]
[]
[]
[]
[]
[]
[]
[]
[]
[]
[]
[]
[]
[]
[]
[]
[]
[]
[]
[]
[]
[]
[]
[]
[]
[]
[]
[]
[]
[]
[]
[]
[]
[]
[]
[]
[]
[null,null,null,null,null,null,null,null,null,null,null,{"$f":"AND(D732=\"OK\",D736=\"OK\",D737=\"OK\",D738=\"OK\",D739=\"OK\",D740=\"OK\")","v":false}]
[]
[]
[]
[null,null,null,{"$f":"IF(C734+C733=C736,\"OK\",\"Problem\")","v":"OK"}]

{"sheet":"Internal","index":5,"n_rows":656,"n_cols":14,"rows_kept":656,"cut":false,"hidden":false,"merged":[]}
["Id","type","flow version / range","L1","L2","L3","L4","L5","L6","L7","data type","Valid Set","item name/group description","comments"]
[null,null,null,null,null,null,null,null,null,null,null,{"$f":"IF($L$648=TRUE,\"\",\"Problem in Consistency Checks at bottom of sheet\")","v":""}]
["R0171",{"$f":"IF(LEN(K3)>0,\"D\",IF(LEN(A3)=5,\"F\",IF(LEN(A3)=3,\"R\",\" \")))","v":"F"},"001",null,null,null,null,null,null,null,null,null,"CRA-I017: Credit Assessment Export Capability"]
[null," "]
["CAE","R","0-1","G",null,null,null,null,null,null,null,null,"Credit Assessment Export Details"]
[{"$f":"VLOOKUP(UPPER(M6),Items!$A$2:$B$525,2,FALSE)","v":"N0034"},"D",null,null,1,null,null,null,null,null,{"$f":"VLOOKUP(UPPER(A6),Items!$B$2:$G$525,6)","v":"text(11)"},{"$f":"IF(VLOOKUP(UPPER(A6),Items!$B$2:$H$525,7,FALSE)<>0,VLOOKUP(UPPER(A6),Items!$B$2:$H$525,7,FALSE),\"\")","v":""},"BM Unit Id"]
[{"$f":"VLOOKUP(UPPER(M7),Items!$A$2:$B$525,2,FALSE)","v":"N0032"},"D",null,null,"O",null,null,null,null,null,{"$f":"VLOOKUP(UPPER(A7),Items!$B$2:$G$525,6)","v":"decimal(13,3)"},{"$f":"IF(VLOOKUP(UPPER(A7),Items!$B$2:$H$525,7,FALSE)<>0,VLOOKUP(UPPER(A7),Items!$B$2:$H$525,7,FALSE),\"\")","v":""},"BM Unit Credit Assessment Export Capability","BMCAEC"]
[{"$f":"VLOOKUP(UPPER(M8),Items!$A$2:$B$525,2,FALSE)","v":"N0033"},"D",null,null,"O",null,null,null,null,null,{"$f":"VLOOKUP(UPPER(A8),Items!$B$2:$G$525,6)","v":"decimal(13,3)"},{"$f":"IF(VLOOKUP(UPPER(A8),Items!$B$2:$H$525,7,FALSE)<>0,VLOOKUP(UPPER(A8),Items!$B$2:$H$525,7,FALSE),\"\")","v":""},"BM Unit Credit Assessment Import Capability","BMCAIC"]
[{"$f":"VLOOKUP(UPPER(M9),Items!$A$2:$B$525,2,FALSE)","v":"N0081"},"D",null,null,1,null,null,null,null,null,{"$f":"VLOOKUP(UPPER(A9),Items!$B$2:$G$525,6)","v":"date"},{"$f":"IF(VLOOKUP(UPPER(A9),Items!$B$2:$H$525,7,FALSE)<>0,VLOOKUP(UPPER(A9),Items!$B$2:$H$525,7,FALSE),\"\")","v":""},"Effective From Date"]
[{"$f":"VLOOKUP(UPPER(M10),Items!$A$2:$B$525,2,FALSE)","v":"N0083"},"D",null,null,"O",null,null,null,null,null,{"$f":"VLOOKUP(UPPER(A10),Items!$B$2:$G$525,6)","v":"date"},{"$f":"IF(VLOOKUP(UPPER(A10),Items!$B$2:$H$525,7,FALSE)<>0,VLOOKUP(UPPER(A10),Items!$B$2:$H$525,7,FALSE),\"\")","v":""},"Effective To Date"]
[null," "]
["R0171",{"$f":"IF(LEN(K12)>0,\"D\",IF(LEN(A12)=5,\"F\",IF(LEN(A12)=3,\"R\",\" \")))","v":"F"},"002",null,null,null,null,null,null,null,null,null,"CRA-I017: Credit Assessment Capability"]
[null," "]
["CAE","R","0-*","G",null,null,null,null,null,null,null,null,"Credit Assessment Details"]
[{"$f":"VLOOKUP(UPPER(M15),Items!$A$2:$B$525,2,FALSE)","v":"N0034"},"D",null,null,1,null,null,null,null,null,{"$f":"VLOOKUP(UPPER(A15),Items!$B$2:$G$525,6)","v":"text(11)"},{"$f":"IF(VLOOKUP(UPPER(A15),Items!$B$2:$H$525,7,FALSE)<>0,VLOOKUP(UPPER(A15),Items!$B$2:$H$525,7,FALSE),\"\")","v":""},"BM Unit Id"]
[{"$f":"VLOOKUP(UPPER(M16),Items!$A$2:$B$565,2,FALSE)","v":"N0575"},"D",null,null,"O",null,null,null,null,null,{"$f":"VLOOKUP(UPPER(A16),Items!$B$2:$G$565,6)","v":"decimal(8,3)"},{"$f":"IF(VLOOKUP(UPPER(A16),Items!$B$2:$H$565,7,FALSE)<>0,VLOOKUP(UPPER(A16),Items!$B$2:$H$565,7,FALSE),\"\")","v":""},"Working Day Bm Unit Credit Assessment Export Capability","WDBMCAEC"]
[{"$f":"VLOOKUP(UPPER(M17),Items!$A$2:$B$565,2,FALSE)","v":"N0578"},{"$f":"IF(LEN(K17)>0,\"D\",IF(LEN(A17)=5,\"F\",IF(LEN(A17)=3,\"R\",\" \")))","v":"D"},null,null,"O",null,null,null,null,null,{"$f":"VLOOKUP(UPPER(A17),Items!$B$2:$G$565,6)","v":"decimal(8,3)"},{"$f":"IF(VLOOKUP(UPPER(A17),Items!$B$2:$H$565,7,FALSE)<>0,VLOOKUP(UPPER(A17),Items!$B$2:$H$565,7,FALSE),\"\")","v":""},"Non-Working Day BM Unit Credit Assessment Export Capability","NWDBMCAEC"]
[{"$f":"VLOOKUP(UPPER(M18),Items!$A$2:$B$565,2,FALSE)","v":"N0576"},"D",null,null,"O",null,null,null,null,null,{"$f":"VLOOKUP(UPPER(A18),Items!$B$2:$G$565,6)","v":"decimal(8,3)"},{"$f":"IF(VLOOKUP(UPPER(A18),Items!$B$2:$H$565,7,FALSE)<>0,VLOOKUP(UPPER(A18),Items!$B$2:$H$565,7,FALSE),\"\")","v":""},"Working Day BM Unit Credit Assessment Import Capability","WDBMCAIC"]
[{"$f":"VLOOKUP(UPPER(M19),Items!$A$2:$B$565,2,FALSE)","v":"N0579"},{"$f":"IF(LEN(K19)>0,\"D\",IF(LEN(A19)=5,\"F\",IF(LEN(A19)=3,\"R\",\" \")))","v":"D"},null,null,"O",null,null,null,null,null,{"$f":"VLOOKUP(UPPER(A19),Items!$B$2:$G$565,6)","v":"decimal(8,3)"},{"$f":"IF(VLOOKUP(UPPER(A19),Items!$B$2:$H$565,7,FALSE)<>0,VLOOKUP(UPPER(A19),Items!$B$2:$H$565,7,FALSE),\"\")","v":""},"Non-Working Day BM Unit Credit Assessment Import Capability","NWDBMCAIC"]
[{"$f":"VLOOKUP(UPPER(M20),Items!$A$2:$B$525,2,FALSE)","v":"N0081"},"D",null,null,1,null,null,null,null,null,{"$f":"VLOOKUP(UPPER(A20),Items!$B$2:$G$525,6)","v":"date"},{"$f":"IF(VLOOKUP(UPPER(A20),Items!$B$2:$H$525,7,FALSE)<>0,VLOOKUP(UPPER(A20),Items!$B$2:$H$525,7,FALSE),\"\")","v":""},"Effective From Date"]
[{"$f":"VLOOKUP(UPPER(M21),Items!$A$2:$B$525,2,FALSE)","v":"N0083"},"D",null,null,"O",null,null,null,null,null,{"$f":"VLOOKUP(UPPER(A21),Items!$B$2:$G$525,6)","v":"date"},null,"Effective To Date"]
[null," "]
["R0221","F","001",null,null,null,null,null,null,null,null,null,"CRA-I022: Metering System Details"]
[]
["MSD",{"$f":"IF(LEN(K25)>0,\"D\",IF(LEN(A25)=5,\"F\",IF(LEN(A25)=3,\"R\",\" \")))","v":"R"},"0-*","G",null,null,null,null,null,null,null,null,"Metering System Details"]
[{"$f":"VLOOKUP(UPPER(M26),Items!$A$2:$B$525,2,FALSE)","v":"N0339"},"D",null,null,"O",null,null,null,null,null,{"$f":"VLOOKUP(UPPER(A26),Items!$B$2:$G$525,6)","v":"text(9)"},{"$f":"IF(VLOOKUP(UPPER(A26),Items!$B$2:$H$525,7,FALSE)<>0,VLOOKUP(UPPER(A26),Items!$B$2:$H$525,7,FALSE),\"\")","v":""},"Action Code"]
[{"$f":"VLOOKUP(UPPER(M27),Items!$A$2:$B$525,2,FALSE)","v":"N0142"},"D",null,null,1,null,null,null,null,null,{"$f":"VLOOKUP(UPPER(A27),Items!$B$2:$G$525,6)","v":"text(13)"},{"$f":"IF(VLOOKUP(UPPER(A27),Items!$B$2:$H$525,7,FALSE)<>0,VLOOKUP(UPPER(A27),Items!$B$2:$H$525,7,FALSE),\"\")","v":""},"Metering System Id"]
[{"$f":"VLOOKUP(UPPER(M28),Items!$A$2:$B$525,2,FALSE)","v":"N0045"},"D",null,null,1,null,null,null,null,null,{"$f":"VLOOKUP(UPPER(A28),Items!$B$2:$G$525,6)","v":"text(8)"},{"$f":"IF(VLOOKUP(UPPER(A28),Items!$B$2:$H$525,7,FALSE)<>0,VLOOKUP(UPPER(A28),Items!$B$2:$H$525,7,FALSE),\"\")","v":""},"BSC Party Id"]
[{"$f":"VLOOKUP(UPPER(M29),Items!$A$2:$B$525,2,FALSE)","v":"N0135"},"D",null,null,1,null,null,null,null,null,{"$f":"VLOOKUP(UPPER(A29),Items!$B$2:$G$525,6)","v":"text(8)"},{"$f":"IF(VLOOKUP(UPPER(A29),Items!$B$2:$H$525,7,FALSE)<>0,VLOOKUP(UPPER(A29),Items!$B$2:$H$525,7,FALSE),\"\")","v":""},"Meter Operator Agent Id"]
[{"$f":"VLOOKUP(UPPER(M30),Items!$A$2:$B$525,2,FALSE)","v":"N0081"},"D",null,null,1,null,null,null,null,null,{"$f":"VLOOKUP(UPPER(A30),Items!$B$2:$G$525,6)","v":"date"},{"$f":"IF(VLOOKUP(UPPER(A30),Items!$B$2:$H$525,7,FALSE)<>0,VLOOKUP(UPPER(A30),Items!$B$2:$H$525,7,FALSE),\"\")","v":""},"Effective From Date"]
[{"$f":"VLOOKUP(UPPER(M31),Items!$A$2:$B$525,2,FALSE)","v":"N0083"},"D",null,null,"O",null,null,null,null,null,{"$f":"VLOOKUP(UPPER(A31),Items!$B$2:$G$525,6)","v":"date"},{"$f":"IF(VLOOKUP(UPPER(A31),Items!$B$2:$H$525,7,FALSE)<>0,VLOOKUP(UPPER(A31),Items!$B$2:$H$525,7,FALSE),\"\")","v":""},"Effective To Date"]
[]
["E0111",{"$f":"IF(LEN(K33)>0,\"D\",IF(LEN(A33)=5,\"F\",IF(LEN(A33)=3,\"R\",\" \")))","v":"F"},"001",null,null,null,null,null,null,null,null,null,"ECVAA-I011: Account Bilateral Contract Volume Report"]
[null," "]
["ABH","R","1","G",null,null,null,null,null,null,null,null,"Account Bilateral Header"]
[{"$f":"VLOOKUP(UPPER(M36),Items!$A$2:$B$525,2,FALSE)","v":"N0200"},"D",null,null,1,null,null,null,null,null,{"$f":"VLOOKUP(UPPER(A36),Items!$B$2:$G$525,6)","v":"date"},{"$f":"IF(VLOOKUP(UPPER(A36),Items!$B$2:$H$525,7,FALSE)<>0,VLOOKUP(UPPER(A36),Items!$B$2:$H$525,7,FALSE),\"\")","v":""},"Settlement Date"]
[{"$f":"VLOOKUP(UPPER(M37),Items!$A$2:$B$525,2,FALSE)","v":"N0076"},"D",null,null,"O",null,null,null,null,null,{"$f":"VLOOKUP(UPPER(A37),Items!$B$2:$G$525,6)","v":"integer(3)"},{"$f":"IF(VLOOKUP(UPPER(A37),Items!$B$2:$H$525,7,FALSE)<>0,VLOOKUP(UPPER(A37),Items!$B$2:$H$525,7,FALSE),\"\")","v":""},"ECVAA Run Number"]
["PTD","R","0-*","G",null,null,null,null,null,null,null,null,"Party Details"]
[{"$f":"VLOOKUP(UPPER(M39),Items!$A$2:$B$525,2,FALSE)","v":"N0045"},"D",null,null,1,null,null,null,null,null,{"$f":"VLOOKUP(UPPER(A39),Items!$B$2:$G$525,6)","v":"text(8)"},{"$f":"IF(VLOOKUP(UPPER(A39),Items!$B$2:$H$525,7,FALSE)<>0,VLOOKUP(UPPER(A39),Items!$B$2:$H$525,7,FALSE),\"\")","v":""},"BSC Party Id"]
["PCD","R","1-2",null,"G",null,null,null,null,null,null,null,"P/C Details"]
[{"$f":"VLOOKUP(UPPER(M41),Items!$A$2:$B$525,2,FALSE)","v":"N0177"},"D",null,null,null,1,null,null,null,null,{"$f":"VLOOKUP(UPPER(A41),Items!$B$2:$G$525,6)","v":"char"},{"$f":"IF(VLOOKUP(UPPER(A41),Items!$B$2:$H$525,7,FALSE)<>0,VLOOKUP(UPPER(A41),Items!$B$2:$H$525,7,FALSE),\"\")","v":"P/C Flag"},"Production/Consumption Flag"]
["SPD","R","1-50",null,null,"G",null,null,null,null,null,null,"Settlement Period Details"]
[{"$f":"VLOOKUP(UPPER(M43),Items!$A$2:$B$525,2,FALSE)","v":"N0201"},"D",null,null,null,null,1,null,null,null,{"$f":"VLOOKUP(UPPER(A43),Items!$B$2:$G$525,6)","v":"integer(2)"},{"$f":"IF(VLOOKUP(UPPER(A43),Items!$B$2:$H$525,7,FALSE)<>0,VLOOKUP(UPPER(A43),Items!$B$2:$H$525,7,FALSE),\"\")","v":""},"Settlement Period"]
[{"$f":"VLOOKUP(UPPER(M44),Items!$A$2:$B$525,2,FALSE)","v":"N0001"},"D",null,null,null,null,1,null,null,null,{"$f":"VLOOKUP(UPPER(A44),Items!$B$2:$G$525,6)","v":"decimal(10,3)"},{"$f":"IF(VLOOKUP(UPPER(A44),Items!$B$2:$H$525,7,FALSE)<>0,VLOOKUP(UPPER(A44),Items!$B$2:$H$525,7,FALSE),\"\")","v":""},"Account Bilateral Contract Volume"]
[null," "]
["E0121","F","001",null,null,null,null,null,null,null,null,null,"ECVAA-I012: MVR Notification Report"]
[null," "]
["MRH","R","1","G",null,null,null,null,null,null,null,null,"MVR Notification Report Header"]
[{"$f":"VLOOKUP(UPPER(M49),Items!$A$2:$B$525,2,FALSE)","v":"N0200"},"D",null,null,1,null,null,null,null,null,{"$f":"VLOOKUP(UPPER(A49),Items!$B$2:$G$525,6)","v":"date"},{"$f":"IF(VLOOKUP(UPPER(A49),Items!$B$2:$H$525,7,FALSE)<>0,VLOOKUP(UPPER(A49),Items!$B$2:$H$525,7,FALSE),\"\")","v":""},"Settlement Date"]
[{"$f":"VLOOKUP(UPPER(M50),Items!$A$2:$B$525,2,FALSE)","v":"N0076"},"D",null,null,1,null,null,null,null,null,{"$f":"VLOOKUP(UPPER(A50),Items!$B$2:$G$525,6)","v":"integer(3)"},{"$f":"IF(VLOOKUP(UPPER(A50),Items!$B$2:$H$525,7,FALSE)<>0,VLOOKUP(UPPER(A50),Items!$B$2:$H$525,7,FALSE),\"\")","v":""},"ECVAA Run Number"]
["BMD","R","0-*","G",null,null,null,null,null,null,null,null,"BM Unit Details"]
[{"$f":"VLOOKUP(UPPER(M52),Items!$A$2:$B$525,2,FALSE)","v":"N0034"},"D",null,null,1,null,null,null,null,null,{"$f":"VLOOKUP(UPPER(A52),Items!$B$2:$G$525,6)","v":"text(11)"},{"$f":"IF(VLOOKUP(UPPER(A52),Items!$B$2:$H$525,7,FALSE)<>0,VLOOKUP(UPPER(A52),Items!$B$2:$H$525,7,FALSE),\"\")","v":""},"BM Unit Id"]
[{"$f":"VLOOKUP(UPPER(M53),Items!$A$2:$B$525,2,FALSE)","v":"N0129"},"D",null,null,1,null,null,null,null,null,{"$f":"VLOOKUP(UPPER(A53),Items!$B$2:$G$525,6)","v":"char"},{"$f":"IF(VLOOKUP(UPPER(A53),Items!$B$2:$H$525,7,FALSE)<>0,VLOOKUP(UPPER(A53),Items!$B$2:$H$525,7,FALSE),\"\")","v":"P/C Flag"},"Lead Party Production/Consumption Flag"]
["SUD","R","1-*",null,"G",null,null,null,null,null,null,null,"Subsidiary Party Details"]
[{"$f":"VLOOKUP(UPPER(M55),Items!$A$2:$B$525,2,FALSE)","v":"N0208"},"D",null,null,null,1,null,null,null,null,{"$f":"VLOOKUP(UPPER(A55),Items!$B$2:$G$525,6)","v":"text(8)"},{"$f":"IF(VLOOKUP(UPPER(A55),Items!$B$2:$H$525,7,FALSE)<>0,VLOOKUP(UPPER(A55),Items!$B$2:$H$525,7,FALSE),\"\")","v":""},"Subsidiary Party Id"]
[{"$f":"VLOOKUP(UPPER(M56),Items!$A$2:$B$525,2,FALSE)","v":"N0209"},"D",null,null,null,1,null,null,null,null,{"$f":"VLOOKUP(UPPER(A56),Items!$B$2:$G$525,6)","v":"char"},{"$f":"IF(VLOOKUP(UPPER(A56),Items!$B$2:$H$525,7,FALSE)<>0,VLOOKUP(UPPER(A56),Items!$B$2:$H$525,7,FALSE),\"\")","v":"P/C Flag"},"Subsidiary Party Production/Consumption Flag"]
["SP2","R","1-50",null,null,"G",null,null,null,null,null,null,"Settlement Period Details"]
[{"$f":"VLOOKUP(UPPER(M58),Items!$A$2:$B$525,2,FALSE)","v":"N0201"},"D",null,null,null,null,1,null,null,null,{"$f":"VLOOKUP(UPPER(A58),Items!$B$2:$G$525,6)","v":"integer(2)"},{"$f":"IF(VLOOKUP(UPPER(A58),Items!$B$2:$H$525,7,FALSE)<>0,VLOOKUP(UPPER(A58),Items!$B$2:$H$525,7,FALSE),\"\")","v":""},"Settlement Period"]
[{"$f":"VLOOKUP(UPPER(M59),Items!$A$2:$B$525,2,FALSE)","v":"N0140"},"D",null,null,null,null,1,null,null,null,{"$f":"VLOOKUP(UPPER(A59),Items!$B$2:$G$525,6)","v":"decimal(10,3)"},{"$f":"IF(VLOOKUP(UPPER(A59),Items!$B$2:$H$525,7,FALSE)<>0,VLOOKUP(UPPER(A59),Items!$B$2:$H$525,7,FALSE),\"\")","v":""},"Metered Volume Fixed Reallocation","MWh"]
[{"$f":"VLOOKUP(UPPER(M60),Items!$A$2:$B$525,2,FALSE)","v":"N0141"},"D",null,null,null,null,1,null,null,null,{"$f":"VLOOKUP(UPPER(A60),Items!$B$2:$G$525,6)","v":"decimal(8,5)"},{"$f":"IF(VLOOKUP(UPPER(A60),Items!$B$2:$H$525,7,FALSE)<>0,VLOOKUP(UPPER(A60),Items!$B$2:$H$525,7,FALSE),\"\")","v":""},"Metered Volume Percentage Reallocation","%"]
[]
["V0001","F","001",null,null,null,null,null,null,null,null,null,"CRA Daily Validation Report flow to CRA Operator"]
[]
["V1A",{"$f":"IF(LEN(K64)>0,\"D\",IF(LEN(A64)=5,\"F\",IF(LEN(A64)=3,\"R\",\" \")))","v":"R"},"0-*","G",null,null,null,null,null,null,null,null,"ERROR (1A) Interconnector without Administrator"]
[{"$f":"VLOOKUP(UPPER(M65),Items!$A$2:$B$525,2,FALSE)","v":"N0098"},"D",null,null,1,null,null,null,null,null,{"$f":"VLOOKUP(UPPER(A65),Items!$B$2:$G$525,6)","v":"text(10)"},{"$f":"IF(VLOOKUP(UPPER(A65),Items!$B$2:$H$525,7,FALSE)<>0,VLOOKUP(UPPER(A65),Items!$B$2:$H$525,7,FALSE),\"\")","v":""},"Interconnector Id"]
["V1B","R","0-*","G",null,null,null,null,null,null,null,null,"ERROR (1B) Interconnector without Error Administrator"]
[{"$f":"VLOOKUP(UPPER(M67),Items!$A$2:$B$525,2,FALSE)","v":"N0095"},"D",null,null,1,null,null,null,null,null,{"$f":"VLOOKUP(UPPER(A67),Items!$B$2:$G$525,6)","v":"text(8)"},{"$f":"IF(VLOOKUP(UPPER(A67),Items!$B$2:$H$525,7,FALSE)<>0,VLOOKUP(UPPER(A67),Items!$B$2:$H$525,7,FALSE),\"\")","v":""},"Interconnector Administrator Id"]
[{"$f":"VLOOKUP(UPPER(M68),Items!$A$2:$B$525,2,FALSE)","v":"N0098"},"D",null,null,1,null,null,null,null,null,{"$f":"VLOOKUP(UPPER(A68),Items!$B$2:$G$525,6)","v":"text(10)"},{"$f":"IF(VLOOKUP(UPPER(A68),Items!$B$2:$H$525,7,FALSE)<>0,VLOOKUP(UPPER(A68),Items!$B$2:$H$525,7,FALSE),\"\")","v":""},"Interconnector Id"]
[{"$f":"VLOOKUP(UPPER(M69),Items!$A$2:$B$525,2,FALSE)","v":"N0097"},"D",null,null,"O",null,null,null,null,null,{"$f":"VLOOKUP(UPPER(A69),Items!$B$2:$G$525,6)","v":"text(8)"},{"$f":"IF(VLOOKUP(UPPER(A69),Items!$B$2:$H$525,7,FALSE)<>0,VLOOKUP(UPPER(A69),Items!$B$2:$H$525,7,FALSE),\"\")","v":""},"Interconnector Error Administrator Id"]
[{"$f":"VLOOKUP(UPPER(M70),Items!$A$2:$B$525,2,FALSE)","v":"N0081"},"D",null,null,1,null,null,null,null,null,{"$f":"VLOOKUP(UPPER(A70),Items!$B$2:$G$525,6)","v":"date"},{"$f":"IF(VLOOKUP(UPPER(A70),Items!$B$2:$H$525,7,FALSE)<>0,VLOOKUP(UPPER(A70),Items!$B$2:$H$525,7,FALSE),\"\")","v":""},"Effective From Date"]
["V2A","R","0-*","G",null,null,null,null,null,null,null,null,"WARNING (2A) Interconnector Admin pending, overlap of dates"]
[{"$f":"VLOOKUP(UPPER(M72),Items!$A$2:$B$525,2,FALSE)","v":"N0095"},"D",null,null,1,null,null,null,null,null,{"$f":"VLOOKUP(UPPER(A72),Items!$B$2:$G$525,6)","v":"text(8)"},{"$f":"IF(VLOOKUP(UPPER(A72),Items!$B$2:$H$525,7,FALSE)<>0,VLOOKUP(UPPER(A72),Items!$B$2:$H$525,7,FALSE),\"\")","v":""},"Interconnector Administrator Id"]
[{"$f":"VLOOKUP(UPPER(M73),Items!$A$2:$B$525,2,FALSE)","v":"N0098"},"D",null,null,1,null,null,null,null,null,{"$f":"VLOOKUP(UPPER(A73),Items!$B$2:$G$525,6)","v":"text(10)"},{"$f":"IF(VLOOKUP(UPPER(A73),Items!$B$2:$H$525,7,FALSE)<>0,VLOOKUP(UPPER(A73),Items!$B$2:$H$525,7,FALSE),\"\")","v":""},"Interconnector Id"]
[{"$f":"VLOOKUP(UPPER(M74),Items!$A$2:$B$525,2,FALSE)","v":"N0097"},"D",null,null,"O",null,null,null,null,null,{"$f":"VLOOKUP(UPPER(A74),Items!$B$2:$G$525,6)","v":"text(8)"},{"$f":"IF(VLOOKUP(UPPER(A74),Items!$B$2:$H$525,7,FALSE)<>0,VLOOKUP(UPPER(A74),Items!$B$2:$H$525,7,FALSE),\"\")","v":""},"Interconnector Error Administrator Id"]
[{"$f":"VLOOKUP(UPPER(M75),Items!$A$2:$B$525,2,FALSE)","v":"N0081"},"D",null,null,1,null,null,null,null,null,{"$f":"VLOOKUP(UPPER(A75),Items!$B$2:$G$525,6)","v":"date"},{"$f":"IF(VLOOKUP(UPPER(A75),Items!$B$2:$H$525,7,FALSE)<>0,VLOOKUP(UPPER(A75),Items!$B$2:$H$525,7,FALSE),\"\")","v":""},"Effective From Date"]
["V3A","R","0-*","G",null,null,null,null,null,null,null,null,"WARNING (3A) BM Unit pending, overlap of dates"]
[{"$f":"VLOOKUP(UPPER(M77),Items!$A$2:$B$525,2,FALSE)","v":"N0034"},"D",null,null,1,null,null,null,null,null,{"$f":"VLOOKUP(UPPER(A77),Items!$B$2:$G$525,6)","v":"text(11)"},{"$f":"IF(VLOOKUP(UPPER(A77),Items!$B$2:$H$525,7,FALSE)<>0,VLOOKUP(UPPER(A77),Items!$B$2:$H$525,7,FALSE),\"\")","v":""},"BM Unit Id"]
[{"$f":"VLOOKUP(UPPER(M78),Items!$A$2:$B$525,2,FALSE)","v":"N0081"},"D",null,null,1,null,null,null,null,null,{"$f":"VLOOKUP(UPPER(A78),Items!$B$2:$G$525,6)","v":"date"},{"$f":"IF(VLOOKUP(UPPER(A78),Items!$B$2:$H$525,7,FALSE)<>0,VLOOKUP(UPPER(A78),Items!$B$2:$H$525,7,FALSE),\"\")","v":""},"Effective From Date"]
["V3B","R","0-*","G",null,null,null,null,null,null,null,null,"WARNING (3B) Boundary Point pending, overlap of dates"]
[{"$f":"VLOOKUP(UPPER(M80),Items!$A$2:$B$525,2,FALSE)","v":"N0039"},"D",null,null,1,null,null,null,null,null,{"$f":"VLOOKUP(UPPER(A80),Items!$B$2:$G$525,6)","v":"text(10)"},{"$f":"IF(VLOOKUP(UPPER(A80),Items!$B$2:$H$525,7,FALSE)<>0,VLOOKUP(UPPER(A80),Items!$B$2:$H$525,7,FALSE),\"\")","v":""},"Point Id"]
[{"$f":"VLOOKUP(UPPER(M81),Items!$A$2:$B$525,2,FALSE)","v":"N0081"},"D",null,null,1,null,null,null,null,null,{"$f":"VLOOKUP(UPPER(A81),Items!$B$2:$G$525,6)","v":"date"},{"$f":"IF(VLOOKUP(UPPER(A81),Items!$B$2:$H$525,7,FALSE)<>0,VLOOKUP(UPPER(A81),Items!$B$2:$H$525,7,FALSE),\"\")","v":""},"Effective From Date"]
["V3C","R","0-*","G",null,null,null,null,null,null,null,null,"WARNING (3C) Metering System pending, overlap of dates"]
[{"$f":"VLOOKUP(UPPER(M83),Items!$A$2:$B$525,2,FALSE)","v":"N0142"},"D",null,null,1,null,null,null,null,null,{"$f":"VLOOKUP(UPPER(A83),Items!$B$2:$G$525,6)","v":"text(13)"},{"$f":"IF(VLOOKUP(UPPER(A83),Items!$B$2:$H$525,7,FALSE)<>0,VLOOKUP(UPPER(A83),Items!$B$2:$H$525,7,FALSE),\"\")","v":""},"Metering System Id"]
[{"$f":"VLOOKUP(UPPER(M84),Items!$A$2:$B$525,2,FALSE)","v":"N0081"},"D",null,null,1,null,null,null,null,null,{"$f":"VLOOKUP(UPPER(A84),Items!$B$2:$G$525,6)","v":"date"},{"$f":"IF(VLOOKUP(UPPER(A84),Items!$B$2:$H$525,7,FALSE)<>0,VLOOKUP(UPPER(A84),Items!$B$2:$H$525,7,FALSE),\"\")","v":""},"Effective From Date"]
["V4A","R","0-*","G",null,null,null,null,null,null,null,null,"WARNING (4A) Metering System without MOA"]
[{"$f":"VLOOKUP(UPPER(M86),Items!$A$2:$B$525,2,FALSE)","v":"N0142"},"D",null,null,1,null,null,null,null,null,{"$f":"VLOOKUP(UPPER(A86),Items!$B$2:$G$525,6)","v":"text(13)"},{"$f":"IF(VLOOKUP(UPPER(A86),Items!$B$2:$H$525,7,FALSE)<>0,VLOOKUP(UPPER(A86),Items!$B$2:$H$525,7,FALSE),\"\")","v":""},"Metering System Id"]
[{"$f":"VLOOKUP(UPPER(M87),Items!$A$2:$B$525,2,FALSE)","v":"N0081"},"D",null,null,1,null,null,null,null,null,{"$f":"VLOOKUP(UPPER(A87),Items!$B$2:$G$525,6)","v":"date"},{"$f":"IF(VLOOKUP(UPPER(A87),Items!$B$2:$H$525,7,FALSE)<>0,VLOOKUP(UPPER(A87),Items!$B$2:$H$525,7,FALSE),\"\")","v":""},"Effective From Date"]
["V5A","R","0-*","G",null,null,null,null,null,null,null,null,"WARNING (5A) Metering System’s MOA expires"]
[{"$f":"VLOOKUP(UPPER(M89),Items!$A$2:$B$525,2,FALSE)","v":"N0142"},"D",null,null,1,null,null,null,null,null,{"$f":"VLOOKUP(UPPER(A89),Items!$B$2:$G$525,6)","v":"text(13)"},{"$f":"IF(VLOOKUP(UPPER(A89),Items!$B$2:$H$525,7,FALSE)<>0,VLOOKUP(UPPER(A89),Items!$B$2:$H$525,7,FALSE),\"\")","v":""},"Metering System Id"]
[{"$f":"VLOOKUP(UPPER(M90),Items!$A$2:$B$525,2,FALSE)","v":"N0081"},"D",null,null,1,null,null,null,null,null,{"$f":"VLOOKUP(UPPER(A90),Items!$B$2:$G$525,6)","v":"date"},{"$f":"IF(VLOOKUP(UPPER(A90),Items!$B$2:$H$525,7,FALSE)<>0,VLOOKUP(UPPER(A90),Items!$B$2:$H$525,7,FALSE),\"\")","v":""},"Effective From Date"]
[]
["V0001","F","002",null,null,null,null,null,null,null,null,null,"CRA Daily Validation Report flow to CRA Operator"]
[]
["V1A",{"$f":"IF(LEN(K94)>0,\"D\",IF(LEN(A94)=5,\"F\",IF(LEN(A94)=3,\"R\",\" \")))","v":"R"},"0-*","G",null,null,null,null,null,null,null,null,"ERROR (1A) Interconnector without Administrator"]
[{"$f":"VLOOKUP(UPPER(M95),Items!$A$2:$B$525,2,FALSE)","v":"N0098"},"D",null,null,1,null,null,null,null,null,{"$f":"VLOOKUP(UPPER(A95),Items!$B$2:$G$525,6)","v":"text(10)"},{"$f":"IF(VLOOKUP(UPPER(A95),Items!$B$2:$H$525,7,FALSE)<>0,VLOOKUP(UPPER(A95),Items!$B$2:$H$525,7,FALSE),\"\")","v":""},"Interconnector Id"]
["V1B","R","0-*","G",null,null,null,null,null,null,null,null,"ERROR (1B) Interconnector without Error Administrator"]
[{"$f":"VLOOKUP(UPPER(M97),Items!$A$2:$B$525,2,FALSE)","v":"N0095"},"D",null,null,1,null,null,null,null,null,{"$f":"VLOOKUP(UPPER(A97),Items!$B$2:$G$525,6)","v":"text(8)"},{"$f":"IF(VLOOKUP(UPPER(A97),Items!$B$2:$H$525,7,FALSE)<>0,VLOOKUP(UPPER(A97),Items!$B$2:$H$525,7,FALSE),\"\")","v":""},"Interconnector Administrator Id"]
[{"$f":"VLOOKUP(UPPER(M98),Items!$A$2:$B$525,2,FALSE)","v":"N0098"},"D",null,null,1,null,null,null,null,null,{"$f":"VLOOKUP(UPPER(A98),Items!$B$2:$G$525,6)","v":"text(10)"},{"$f":"IF(VLOOKUP(UPPER(A98),Items!$B$2:$H$525,7,FALSE)<>0,VLOOKUP(UPPER(A98),Items!$B$2:$H$525,7,FALSE),\"\")","v":""},"Interconnector Id"]
[{"$f":"VLOOKUP(UPPER(M99),Items!$A$2:$B$525,2,FALSE)","v":"N0097"},"D",null,null,"O",null,null,null,null,null,{"$f":"VLOOKUP(UPPER(A99),Items!$B$2:$G$525,6)","v":"text(8)"},{"$f":"IF(VLOOKUP(UPPER(A99),Items!$B$2:$H$525,7,FALSE)<>0,VLOOKUP(UPPER(A99),Items!$B$2:$H$525,7,FALSE),\"\")","v":""},"Interconnector Error Administrator Id"]
[{"$f":"VLOOKUP(UPPER(M100),Items!$A$2:$B$525,2,FALSE)","v":"N0081"},"D",null,null,1,null,null,null,null,null,{"$f":"VLOOKUP(UPPER(A100),Items!$B$2:$G$525,6)","v":"date"},{"$f":"IF(VLOOKUP(UPPER(A100),Items!$B$2:$H$525,7,FALSE)<>0,VLOOKUP(UPPER(A100),Items!$B$2:$H$525,7,FALSE),\"\")","v":""},"Effective From Date"]
["V2A","R","0-*","G",null,null,null,null,null,null,null,null,"WARNING (2A) Interconnector Admin pending, overlap of dates"]
[{"$f":"VLOOKUP(UPPER(M102),Items!$A$2:$B$525,2,FALSE)","v":"N0095"},"D",null,null,1,null,null,null,null,null,{"$f":"VLOOKUP(UPPER(A102),Items!$B$2:$G$525,6)","v":"text(8)"},{"$f":"IF(VLOOKUP(UPPER(A102),Items!$B$2:$H$525,7,FALSE)<>0,VLOOKUP(UPPER(A102),Items!$B$2:$H$525,7,FALSE),\"\")","v":""},"Interconnector Administrator Id"]
[{"$f":"VLOOKUP(UPPER(M103),Items!$A$2:$B$525,2,FALSE)","v":"N0098"},"D",null,null,1,null,null,null,null,null,{"$f":"VLOOKUP(UPPER(A103),Items!$B$2:$G$525,6)","v":"text(10)"},{"$f":"IF(VLOOKUP(UPPER(A103),Items!$B$2:$H$525,7,FALSE)<>0,VLOOKUP(UPPER(A103),Items!$B$2:$H$525,7,FALSE),\"\")","v":""},"Interconnector Id"]
[{"$f":"VLOOKUP(UPPER(M104),Items!$A$2:$B$525,2,FALSE)","v":"N0097"},"D",null,null,"O",null,null,null,null,null,{"$f":"VLOOKUP(UPPER(A104),Items!$B$2:$G$525,6)","v":"text(8)"},{"$f":"IF(VLOOKUP(UPPER(A104),Items!$B$2:$H$525,7,FALSE)<>0,VLOOKUP(UPPER(A104),Items!$B$2:$H$525,7,FALSE),\"\")","v":""},"Interconnector Error Administrator Id"]
[{"$f":"VLOOKUP(UPPER(M105),Items!$A$2:$B$525,2,FALSE)","v":"N0081"},"D",null,null,1,null,null,null,null,null,{"$f":"VLOOKUP(UPPER(A105),Items!$B$2:$G$525,6)","v":"date"},{"$f":"IF(VLOOKUP(UPPER(A105),Items!$B$2:$H$525,7,FALSE)<>0,VLOOKUP(UPPER(A105),Items!$B$2:$H$525,7,FALSE),\"\")","v":""},"Effective From Date"]
["V3A","R","0-*","G",null,null,null,null,null,null,null,null,"WARNING (3A) BM Unit pending, overlap of dates"]
[{"$f":"VLOOKUP(UPPER(M107),Items!$A$2:$B$525,2,FALSE)","v":"N0034"},"D",null,null,1,null,null,null,null,null,{"$f":"VLOOKUP(UPPER(A107),Items!$B$2:$G$525,6)","v":"text(11)"},{"$f":"IF(VLOOKUP(UPPER(A107),Items!$B$2:$H$525,7,FALSE)<>0,VLOOKUP(UPPER(A107),Items!$B$2:$H$525,7,FALSE),\"\")","v":""},"BM Unit Id"]
[{"$f":"VLOOKUP(UPPER(M108),Items!$A$2:$B$525,2,FALSE)","v":"N0081"},"D",null,null,1,null,null,null,null,null,{"$f":"VLOOKUP(UPPER(A108),Items!$B$2:$G$525,6)","v":"date"},{"$f":"IF(VLOOKUP(UPPER(A108),Items!$B$2:$H$525,7,FALSE)<>0,VLOOKUP(UPPER(A108),Items!$B$2:$H$525,7,FALSE),\"\")","v":""},"Effective From Date"]
["V3B","R","0-*","G",null,null,null,null,null,null,null,null,"WARNING (3B) Boundary Point pending, overlap of dates"]
[{"$f":"VLOOKUP(UPPER(M110),Items!$A$2:$B$525,2,FALSE)","v":"N0039"},"D",null,null,1,null,null,null,null,null,{"$f":"VLOOKUP(UPPER(A110),Items!$B$2:$G$525,6)","v":"text(10)"},{"$f":"IF(VLOOKUP(UPPER(A110),Items!$B$2:$H$525,7,FALSE)<>0,VLOOKUP(UPPER(A110),Items!$B$2:$H$525,7,FALSE),\"\")","v":""},"Point Id"]
[{"$f":"VLOOKUP(UPPER(M111),Items!$A$2:$B$525,2,FALSE)","v":"N0081"},"D",null,null,1,null,null,null,null,null,{"$f":"VLOOKUP(UPPER(A111),Items!$B$2:$G$525,6)","v":"date"},{"$f":"IF(VLOOKUP(UPPER(A111),Items!$B$2:$H$525,7,FALSE)<>0,VLOOKUP(UPPER(A111),Items!$B$2:$H$525,7,FALSE),\"\")","v":""},"Effective From Date"]
["V3C","R","0-*","G",null,null,null,null,null,null,null,null,"WARNING (3C) Metering System pending, overlap of dates"]
[{"$f":"VLOOKUP(UPPER(M113),Items!$A$2:$B$525,2,FALSE)","v":"N0142"},"D",null,null,1,null,null,null,null,null,{"$f":"VLOOKUP(UPPER(A113),Items!$B$2:$G$525,6)","v":"text(13)"},{"$f":"IF(VLOOKUP(UPPER(A113),Items!$B$2:$H$525,7,FALSE)<>0,VLOOKUP(UPPER(A113),Items!$B$2:$H$525,7,FALSE),\"\")","v":""},"Metering System Id"]
[{"$f":"VLOOKUP(UPPER(M114),Items!$A$2:$B$525,2,FALSE)","v":"N0081"},"D",null,null,1,null,null,null,null,null,{"$f":"VLOOKUP(UPPER(A114),Items!$B$2:$G$525,6)","v":"date"},{"$f":"IF(VLOOKUP(UPPER(A114),Items!$B$2:$H$525,7,FALSE)<>0,VLOOKUP(UPPER(A114),Items!$B$2:$H$525,7,FALSE),\"\")","v":""},"Effective From Date"]
["V4A","R","0-*","G",null,null,null,null,null,null,null,null,"WARNING (4A) Metering System without MOA"]
[{"$f":"VLOOKUP(UPPER(M116),Items!$A$2:$B$525,2,FALSE)","v":"N0142"},"D",null,null,1,null,null,null,null,null,{"$f":"VLOOKUP(UPPER(A116),Items!$B$2:$G$525,6)","v":"text(13)"},{"$f":"IF(VLOOKUP(UPPER(A116),Items!$B$2:$H$525,7,FALSE)<>0,VLOOKUP(UPPER(A116),Items!$B$2:$H$525,7,FALSE),\"\")","v":""},"Metering System Id"]
[{"$f":"VLOOKUP(UPPER(M117),Items!$A$2:$B$525,2,FALSE)","v":"N0081"},"D",null,null,1,null,null,null,null,null,{"$f":"VLOOKUP(UPPER(A117),Items!$B$2:$G$525,6)","v":"date"},{"$f":"IF(VLOOKUP(UPPER(A117),Items!$B$2:$H$525,7,FALSE)<>0,VLOOKUP(UPPER(A117),Items!$B$2:$H$525,7,FALSE),\"\")","v":""},"Effective From Date"]
["V5A","R","0-*","G",null,null,null,null,null,null,null,null,"WARNING (5A) Metering System’s MOA expires"]
[{"$f":"VLOOKUP(UPPER(M119),Items!$A$2:$B$525,2,FALSE)","v":"N0142"},"D",null,null,1,null,null,null,null,null,{"$f":"VLOOKUP(UPPER(A119),Items!$B$2:$G$525,6)","v":"text(13)"},{"$f":"IF(VLOOKUP(UPPER(A119),Items!$B$2:$H$525,7,FALSE)<>0,VLOOKUP(UPPER(A119),Items!$B$2:$H$525,7,FALSE),\"\")","v":""},"Metering System Id"]
[{"$f":"VLOOKUP(UPPER(M120),Items!$A$2:$B$525,2,FALSE)","v":"N0081"},"D",null,null,1,null,null,null,null,null,{"$f":"VLOOKUP(UPPER(A120),Items!$B$2:$G$525,6)","v":"date"},{"$f":"IF(VLOOKUP(UPPER(A120),Items!$B$2:$H$525,7,FALSE)<>0,VLOOKUP(UPPER(A120),Items!$B$2:$H$525,7,FALSE),\"\")","v":""},"Effective From Date"]
["V6A","R","0-*","G",null,null,null,null,null,null,null,null,"WARNING (6A) Exempt Export Type G/S BM Unit without Base TU"]
[{"$f":"VLOOKUP(UPPER(M122),Items!$A$2:$B$525,2,FALSE)","v":"N0034"},"D",null,null,1,null,null,null,null,null,{"$f":"VLOOKUP(UPPER(A122),Items!$B$2:$G$525,6)","v":"text(11)"},{"$f":"IF(VLOOKUP(UPPER(A122),Items!$B$2:$H$525,7,FALSE)<>0,VLOOKUP(UPPER(A122),Items!$B$2:$H$525,7,FALSE),\"\")","v":""},"BM Unit Id"]
[{"$f":"VLOOKUP(UPPER(M123),Items!$A$2:$B$525,2,FALSE)","v":"N0081"},"D",null,null,1,null,null,null,null,null,{"$f":"VLOOKUP(UPPER(A123),Items!$B$2:$G$525,6)","v":"date"},{"$f":"IF(VLOOKUP(UPPER(A123),Items!$B$2:$H$525,7,FALSE)<>0,VLOOKUP(UPPER(A123),Items!$B$2:$H$525,7,FALSE),\"\")","v":""},"Effective From Date"]
[]
["C0401",{"$f":"IF(LEN(K125)>0,\"D\",IF(LEN(A125)=5,\"F\",IF(LEN(A125)=3,\"R\",\" \")))","v":"F"},"001",null,null,null,null,null,null,null,null,null,"CDCA-I040 BM Unit Credit Cover Meter Volume Data Report"]
[null,{"$f":"IF(LEN(K126)>0,\"D\",IF(LEN(A126)=5,\"F\",IF(LEN(A126)=3,\"R\",\" \")))","v":" "}]
["BUC","R","1-*","G",null,null,null,null,null,null,null,null,"BM Unit Credit Cover","for a BM Unit"]
[{"$f":"VLOOKUP(UPPER(M128),Items!$A$2:$B$525,2,FALSE)","v":"N0034"},"D",null,null,1,null,null,null,null,null,{"$f":"VLOOKUP(UPPER(A128),Items!$B$2:$G$565,6)","v":"text(11)"},null,"BM Unit Id"]
[{"$f":"VLOOKUP(UPPER(M129),Items!$A$2:$B$525,2,FALSE)","v":"N0200"},"D",null,null,1,null,null,null,null,null,{"$f":"VLOOKUP(UPPER(A129),Items!$B$2:$G$565,6)","v":"date"},null,"Settlement Date"]
["BPV","R","46-50",null,"G",null,null,null,null,null,null,null,"BM Unit Period Meter Volume","46 or 48 or 50 of these"]
[{"$f":"VLOOKUP(UPPER(M131),Items!$A$2:$B$525,2,FALSE)","v":"N0201"},"D",null,null,null,1,null,null,null,null,{"$f":"VLOOKUP(UPPER(A131),Items!$B$2:$G$565,6)","v":"integer(2)"},null,"Settlement Period","1-50"]
[{"$f":"VLOOKUP(UPPER(M132),Items!$A$2:$B$525,2,FALSE)","v":"N0139"},"D",null,null,null,"O",null,null,null,null,{"$f":"VLOOKUP(UPPER(A132),Items!$B$2:$G$565,6)","v":"decimal(10,3)"},null,"Meter Volume"]
[]
["E0361","F","001",null,null,null,null,null,null,null,null,null,"ECVAA-I036: Publish Credit Default Report"]
[]
["CDN",{"$f":"IF(LEN(K136)>0,\"D\",IF(LEN(A136)=5,\"F\",IF(LEN(A136)=3,\"R\",\" \")))","v":"R"},1,"G",null,null,null,null,null,null,null,null,"Credit Default Notification"]
["N0045","D",null,null,1,null,null,null,null,null,"text(8)",null,"BSC Party Id"]
["N0441","D",null,null,1,null,null,null,null,null,"integer(1)","Credit Default Level","Credit Default Level"]
["N0442","D",null,null,1,null,null,null,null,null,"date",null,"Entered Default Settlement Day"]
["N0443","D",null,null,1,null,null,null,null,null,"integer(2)",null,"Entered Default Settlement Period"]
["N0444","D",null,null,"O",null,null,null,null,null,"date",null,"Cleared Default Settlement Day"]
["N0445","D",null,null,"O",null,null,null,null,null,"integer(2)",null,"Cleared Default Settlement Period"]
["N0446","D",null,null,"O",null,null,null,null,null,"text(128)",null,"Cleared Default Text"]
[]
["S0491",{"$f":"IF(LEN(K145)>0,\"D\",IF(LEN(A145)=5,\"F\",IF(LEN(A145)=3,\"R\",\" \")))","v":"F"},"001",null,null,null,null,null,null,null,null,null,"SAA-I049: Trading Unit Meter Volume Report"]
[null," "]
["SDD","R",1,"G",null,null,null,null,null,null,null,null,"Trading Unit Settlement Details"]
[{"$f":"VLOOKUP(UPPER(M148),Items!$A$2:$B$533,2,FALSE)","v":"N0200"},"D",null,null,1,null,null,null,null,null,{"$f":"VLOOKUP(UPPER(A148),Items!$B$2:$G$533,6)","v":"date"},{"$f":"IF(VLOOKUP(UPPER(A148),Items!$B$2:$H$570,7,FALSE)<>0,VLOOKUP(UPPER(A148),Items!$B$2:$H$570,7,FALSE),\"\")","v":""},"Settlement Date"]
[{"$f":"VLOOKUP(UPPER(M149),Items!$A$2:$B$533,2,FALSE)","v":"N0202"},"D",null,null,1,null,null,null,null,null,{"$f":"VLOOKUP(UPPER(A149),Items!$B$2:$G$533,6)","v":"text(2)"},{"$f":"IF(VLOOKUP(UPPER(A149),Items!$B$2:$H$570,7,FALSE)<>0,VLOOKUP(UPPER(A149),Items!$B$2:$H$570,7,FALSE),\"\")","v":"Run Type"},"Settlement Run Type"]
["TMV","R","1-50",null,"G",null,null,null,null,null,null,null,"Settlement Period Trading Unit Meter Voume Data"]
[{"$f":"VLOOKUP(UPPER(M151),Items!$A$2:$B$533,2,FALSE)","v":"N0201"},"D",null,null,null,1,null,null,null,null,{"$f":"VLOOKUP(UPPER(A151),Items!$B$2:$G$533,6)","v":"integer(2)"},{"$f":"IF(VLOOKUP(UPPER(A151),Items!$B$2:$H$570,7,FALSE)<>0,VLOOKUP(UPPER(A151),Items!$B$2:$H$570,7,FALSE),\"\")","v":""},"Settlement Period"]
[{"$f":"VLOOKUP(UPPER(M152),Items!$A$2:$B$533,2,FALSE)","v":"N0232"},"D",null,null,null,1,null,null,null,null,{"$f":"VLOOKUP(UPPER(A152),Items!$B$2:$G$533,6)","v":"text(30)"},{"$f":"IF(VLOOKUP(UPPER(A152),Items!$B$2:$H$570,7,FALSE)<>0,VLOOKUP(UPPER(A152),Items!$B$2:$H$570,7,FALSE),\"\")","v":""},"Trading Unit Name"]
[{"$f":"VLOOKUP(UPPER(M153),Items!$A$2:$B$570,2,FALSE)","v":"N0585"},"D",null,null,null,1,null,null,null,null,{"$f":"VLOOKUP(UPPER(A153),Items!$B$2:$G$570,6)","v":"char"},{"$f":"IF(VLOOKUP(UPPER(A153),Items!$B$2:$H$570,7,FALSE)<>0,VLOOKUP(UPPER(A153),Items!$B$2:$H$570,7,FALSE),\"\")","v":"Trading Unit Type"},"Trading Unit Type","Sole (S) or  Base (B) or Others (O)"]
[{"$f":"VLOOKUP(UPPER(M154),Items!$A$2:$B$570,2,FALSE)","v":"N0586"},{"$f":"IF(LEN(K154)>0,\"D\",IF(LEN(A154)=5,\"F\",IF(LEN(A154)=3,\"R\",\" \")))","v":"D"},null,null,null,1,null,null,null,null,{"$f":"VLOOKUP(UPPER(A154),Items!$B$2:$G$570,6)","v":"char"},{"$f":"IF(VLOOKUP(UPPER(A154),Items!$B$2:$H$570,7,FALSE)<>0,VLOOKUP(UPPER(A154),Items!$B$2:$H$570,7,FALSE),\"\")","v":"Delivery Mode"},"Delivery Mode","Delivering (D)  or Offtaking (O)"]
[{"$f":"VLOOKUP(UPPER(M155),Items!$A$2:$B$570,2,FALSE)","v":"N0587"},{"$f":"IF(LEN(K155)>0,\"D\",IF(LEN(A155)=5,\"F\",IF(LEN(A155)=3,\"R\",\" \")))","v":"D"},null,null,null,1,null,null,null,null,{"$f":"VLOOKUP(UPPER(A155),Items!$B$2:$G$570,6)","v":"decimal(10,3)  "},{"$f":"IF(VLOOKUP(UPPER(A155),Items!$B$2:$H$570,7,FALSE)<>0,VLOOKUP(UPPER(A155),Items!$B$2:$H$570,7,FALSE),\"\")","v":""},"Trading Unit Export Metered Volume","MWh"]
[{"$f":"VLOOKUP(UPPER(M156),Items!$A$2:$B$570,2,FALSE)","v":"N0588"},{"$f":"IF(LEN(K156)>0,\"D\",IF(LEN(A156)=5,\"F\",IF(LEN(A156)=3,\"R\",\" \")))","v":"D"},null,null,null,1,null,null,null,null,{"$f":"VLOOKUP(UPPER(A156),Items!$B$2:$G$570,6)","v":"decimal(10,3)  "},{"$f":"IF(VLOOKUP(UPPER(A156),Items!$B$2:$H$570,7,FALSE)<>0,VLOOKUP(UPPER(A156),Items!$B$2:$H$570,7,FALSE),\"\")","v":""},"Trading Unit Import Metered Volume","MWh"]
[{"$f":"VLOOKUP(UPPER(M157),Items!$A$2:$B$570,2,FALSE)","v":"N0231"},{"$f":"IF(LEN(K157)>0,\"D\",IF(LEN(A157)=5,\"F\",IF(LEN(A157)=3,\"R\",\" \")))","v":"D"},null,null,null,1,null,null,null,null,{"$f":"VLOOKUP(UPPER(A157),Items!$B$2:$G$570,6)","v":"decimal(10,3)"},{"$f":"IF(VLOOKUP(UPPER(A157),Items!$B$2:$H$570,7,FALSE)<>0,VLOOKUP(UPPER(A157),Items!$B$2:$H$570,7,FALSE),\"\")","v":""},"Total Trading Unit Metered Volume","MWh"]
[]
["C0231",{"$f":"IF(LEN(K159)>0,\"D\",IF(LEN(A159)=5,\"F\",IF(LEN(A159)=3,\"R\",\" \")))","v":"F"},"001",null,null,null,null,null,null,null,null,null,"CDCA Missing Line Loss Factors to CDCA Operator"]
[null," ",null,null,null,null,null,null,null,null,null,null,null,"(no content defn reqd)"]
[null," "]
["C0251","F","001",null,null,null,null,null,null,null,null,null,"CDCA Invalid or Missing Aggregation Rules to CDCA Operator"]
[null," ",null,null,null,null,null,null,null,null,null,null,null,"(no content defn reqd)"]
[null," "]
["U0001","F","001",null,null,null,null,null,null,null,null,null,"CDCA Missing Meter Technical Data to CDCA Operator"]
[null," ",null,null,null,null,null,null,null,null,null,null,null,"(no content defn reqd)"]
[null," "]
["U0002","F","001",null,null,null,null,null,null,null,null,null,"CDCA Missing Meter Readings to CDCA Operator"]
[null," ",null,null,null,null,null,null,null,null,null,null,null,"(no content defn reqd)"]
[null," "]
["U0003","F","001",null,null,null,null,null,null,null,null,null,"CDCA Missing Settlement Data to CDCA Operator"]
[null,null,null,null,null,null,null,null,null,null,null,null,null,"(no content defn reqd)"]
["W0001",{"$f":"IF(LEN(K173)>0,\"D\",IF(LEN(A173)=5,\"F\",IF(LEN(A173)=3,\"R\",\" \")))","v":"F"},"001",null,null,null,null,null,null,null,null,null,"ECVAA Credit Check Report to CDCA Operator"]
[null,null,null,null,null,null,null,null,null,null,null,null,null,"(no content defn reqd)"]
[]
["V0002","F","001",null,null,null,null,null,null,null,null,null,"System Event Log Report"]
[null,null,null,null,null,null,null,null,null,null,null,null,null,"(no content defn reqd)"]
[]
[]
[]
[]
[]
[]
[]
[]
[]
[]
[]
[]
[]
[]
[]
[]
[]
[]
[]
[]
[]
[]
[]
[]
[]
[]
[]
[]
[]
[]
[]
[]
[]
[]
[]
[]
[]
[]
[]
[]
[]
[]
[]
[]
[]
[]
[]
[]
[]
[]
[]
[]
[]
[]
[]
[]
[]
[]
[]
[]
[]
[]
[]
[]
[]
[]
[]
[]
[]
[]
[]
[]
[]
[]
[]
[]
[]
[]
[]
[]
[]
[]
[]
[]
[]
[]
[]
[]
[]
[]
[]
[]
[]
[]
[]
[]
[]
[]
[]
[]
[]
[]
[]
[]
[]
[]
[]
[]
[]
[]
[]
[]
[]
[]
[]
[]
[]
[]
[]
[]
[]
[]
[]
[]
[]
[]
[]
[]
[]
[]
[]
[]
[]
[]
[]
[]
[]
[]
[]
[]
[]
[]
[]
[]
[]
[]
[]
[]
[]
[]
[]
[]
[]
[]
[]
[]
[]
[]
[]
[]
[]
[]
[]
[]
[]
[]
[]
[]
[]
[]
[]
[]
[]
[]
[]
[]
[]
[]
[]
[]
[]
[]
[]
[]
[]
[]
[]
[]
[]
[]
[]
[]
[]
[]
[]
[]
[]
[]
[]
[]
[]
[]
[]
[]
[]
[]
[]
[]
[]
[]
[]
[]
[]
[]
[]
[]
[]
[]
[]
[]
[]
[]
[]
[]
[]
[]
[]
[]
[]
[]
[]
[]
[]
[]
[]
[]
[]
[]
[]
[]
[]
[]
[]
[]
[]
[]
[]
[]
[]
[]
[]
[]
[]
[]
[]
[]
[]
[]
[]
[]
[]
[]
[]
[]
[]
[]
[]
[]
[]
[]
[]
[]
[]
[]
[]
[]
[]
[]
[]
[]
[]
[]
[]
[]
[]
[]
[]
[]
[]
[]
[]
[]
[]
[]
[]
[]
[]
[]
[]
[]
[]
[]
[]
[]
[]
[]
[]
[]
[]
[]
[]
[]
[]
[]
[]
[]
[]
[]
[]
[]
[]
[]
[]
[]
[]
[]
[]
[]
[]
[]
[]
[]
[]
[]
[]
[]
[]
[]
[]
[]
[]
[]
[]
[]
[]
[]
[]
[]
[]
[]
[]
[]
[]
[]
[]
[]
[]
[]
[]
[]
[]
[]
[]
[]
[]
[]
[]
[]
[]
[]
[]
[]
[]
[]
[]
[]
[]
[]
[]
[]
[]
[]
[]
[]
[]
[]
[]
[]
[]
[]
[]
[]
[]
[]
[]
[]
[]
[]
[]
[]
[]
[]
[]
[]
[]
[]
[]
[]
[]
[]
[]
[]
[]
[]
[]
[]
[]
[]
[]
[]
[]
[]
[]
[]
[]
[]
[]
[]
[]
[]
[]
[]
[]
[]
[]
[]
[]
[]
[]
[]
[]
[]
[]
[]
[]
[]
[]
[]
[]
[]
[]
[]
[]
[]
[]
[]
[]
[]
[]
[]
[]
[]
[]
[]
[]
[]
[]
["CHECKS"]
[]
["Total Col A",null,{"$f":"COUNTIF($A$2:$A$641,\"<>\")","v":143},null,null,null,null,null,null,null,null,"All OK?"]
["Total Col B",null,{"$f":"C649+C650+C651","v":143},{"$f":"IF(C647=C648,\"OK\", \"Problem\")","v":"OK"},null,null,null,null,null,null,null,{"$f":"AND(D648=\"OK\",D652=\"OK\",D653=\"OK\",D654=\"OK\",D655=\"OK\",D656=\"OK\")","v":true}]
[null,"\"F\"",{"$f":"COUNTIF($B$2:$B$641,\"F\")","v":17}]
[null,"\"R\"",{"$f":"COUNTIF($B$2:$B$641,\"R\")","v":33}]
[null,"\"D\"",{"$f":"COUNTIF($B$2:$B$641,\"D\")","v":93}]
["Total Col C",null,{"$f":"COUNTIF($C$2:$C$641,\"<>\")","v":50},{"$f":"IF(C649+C650=C652,\"OK\",\"Problem\")","v":"OK"}]
["Total G",null,{"$f":"COUNTIF($D$2:$J$641,\"G\")","v":33},{"$f":"IF(C650=C653,\"OK\",\"Problem\")","v":"OK"}]
["Total 1 /  O",null,{"$f":"COUNTIF($D$2:$J$641,\"1\")+COUNTIF($D$2:$J$641,\"O\")","v":93},{"$f":"IF(C651=C654,\"OK\",\"Problem\")","v":"OK"}]
["Total Col K",null,{"$f":"COUNTIF($K$2:$K$641,\"<>\")","v":93},{"$f":"IF(C651=C655,\"OK\",\"Problem\")","v":"OK"}]
["Total Col M",null,{"$f":"COUNTIF($M$2:$M$643,\"<>\")","v":143},{"$f":"IF(C647=C656,\"OK\", \"Problem\")","v":"OK"}]

{"sheet":"NGC","index":6,"n_rows":622,"n_cols":14,"rows_kept":622,"cut":false,"hidden":false,"merged":[[2,2,2,13]]}
["Id","type","flow version / range","L1","L2","L3","L4","L5","L6","L7","data type","Valid Set","item name/group description","Comments"]
[]
[null,null,"Note that although the repeating group count for NGC files is shown as 1, the files may in fact contain multiple records.  This tab is included for completeness to define the format of each record within a file from NGC.  The software which uses this data requires the repeat count to be 1"]
["NGC01",{"$f":"IF(LEN(K4)>0,\"D\",IF(LEN(A4)=5,\"F\",IF(LEN(A4)=3,\"R\",\" \")))","v":"F"},null,null,null,null,null,null,null,null,null,null,"PN-Physical Notification File"]
[{"$f":"\"NGG\" &MID(A4,4,2)","v":"NGG01"},"R",1,"G",null,null,null,null,null,null,null,null,{"$f":"LEFT(M4,FIND(\"-\",M4)-1)","v":"PN"},"Dummy Group"]
["N0290","D",null,null,1,null,null,null,null,null,{"$f":"VLOOKUP(UPPER(A6),Items!$B$2:$G$542,6,FALSE)","v":"varchar2(8)"},{"$f":"IF(VLOOKUP(UPPER(A6),Items!$B$2:$H$542,7,FALSE)<>0,VLOOKUP(UPPER(A6),Items!$B$2:$H$542,7,FALSE),\"\")","v":""},{"$f":"VLOOKUP(UPPER(A6),Items!$B$2:$C$542,2,FALSE)","v":"Data Type"}]
["N0291","D",null,null,1,null,null,null,null,null,{"$f":"VLOOKUP(UPPER(A7),Items!$B$2:$G$542,6,FALSE)","v":"varchar2(9)"},{"$f":"IF(VLOOKUP(UPPER(A7),Items!$B$2:$H$542,7,FALSE)<>0,VLOOKUP(UPPER(A7),Items!$B$2:$H$542,7,FALSE),\"\")","v":""},{"$f":"VLOOKUP(UPPER(A7),Items!$B$2:$C$542,2,FALSE)","v":"BMU Name"}]
["N0288","D",null,null,1,null,null,null,null,null,{"$f":"VLOOKUP(UPPER(A8),Items!$B$2:$G$542,6,FALSE)","v":"datetime"},{"$f":"IF(VLOOKUP(UPPER(A8),Items!$B$2:$H$542,7,FALSE)<>0,VLOOKUP(UPPER(A8),Items!$B$2:$H$542,7,FALSE),\"\")","v":""},{"$f":"VLOOKUP(UPPER(A8),Items!$B$2:$C$542,2,FALSE)","v":"Time From"}]
["N0268","D",null,null,1,null,null,null,null,null,{"$f":"VLOOKUP(UPPER(A9),Items!$B$2:$G$542,6,FALSE)","v":"number(4)"},{"$f":"IF(VLOOKUP(UPPER(A9),Items!$B$2:$H$542,7,FALSE)<>0,VLOOKUP(UPPER(A9),Items!$B$2:$H$542,7,FALSE),\"\")","v":""},{"$f":"VLOOKUP(UPPER(A9),Items!$B$2:$C$542,2,FALSE)","v":"PN Level From"}]
["N0289","D",null,null,1,null,null,null,null,null,{"$f":"VLOOKUP(UPPER(A10),Items!$B$2:$G$542,6,FALSE)","v":"datetime"},{"$f":"IF(VLOOKUP(UPPER(A10),Items!$B$2:$H$542,7,FALSE)<>0,VLOOKUP(UPPER(A10),Items!$B$2:$H$542,7,FALSE),\"\")","v":""},{"$f":"VLOOKUP(UPPER(A10),Items!$B$2:$C$542,2,FALSE)","v":"Time To"}]
["N0269","D",null,null,1,null,null,null,null,null,{"$f":"VLOOKUP(UPPER(A11),Items!$B$2:$G$542,6,FALSE)","v":"number(4)"},{"$f":"IF(VLOOKUP(UPPER(A11),Items!$B$2:$H$542,7,FALSE)<>0,VLOOKUP(UPPER(A11),Items!$B$2:$H$542,7,FALSE),\"\")","v":""},{"$f":"VLOOKUP(UPPER(A11),Items!$B$2:$C$542,2,FALSE)","v":"PN Level To"}]
[]
["NGC02",{"$f":"IF(LEN(K13)>0,\"D\",IF(LEN(A13)=5,\"F\",IF(LEN(A13)=3,\"R\",\" \")))","v":"F"},null,null,null,null,null,null,null,null,null,null,"QPN-Quiescent Physical Notification File"]
[{"$f":"\"NGG\" &MID(A13,4,2)","v":"NGG02"},"R",1,"G",null,null,null,null,null,null,null,null,{"$f":"LEFT(M13,FIND(\"-\",M13)-1)","v":"QPN"},"Dummy Group"]
["N0290","D",null,null,1,null,null,null,null,null,{"$f":"VLOOKUP(UPPER(A15),Items!$B$2:$G$542,6,FALSE)","v":"varchar2(8)"},{"$f":"IF(VLOOKUP(UPPER(A15),Items!$B$2:$H$542,7,FALSE)<>0,VLOOKUP(UPPER(A15),Items!$B$2:$H$542,7,FALSE),\"\")","v":""},{"$f":"VLOOKUP(UPPER(A15),Items!$B$2:$C$542,2,FALSE)","v":"Data Type"}]
["N0291","D",null,null,1,null,null,null,null,null,{"$f":"VLOOKUP(UPPER(A16),Items!$B$2:$G$542,6,FALSE)","v":"varchar2(9)"},{"$f":"IF(VLOOKUP(UPPER(A16),Items!$B$2:$H$542,7,FALSE)<>0,VLOOKUP(UPPER(A16),Items!$B$2:$H$542,7,FALSE),\"\")","v":""},{"$f":"VLOOKUP(UPPER(A16),Items!$B$2:$C$542,2,FALSE)","v":"BMU Name"}]
["N0288","D",null,null,1,null,null,null,null,null,{"$f":"VLOOKUP(UPPER(A17),Items!$B$2:$G$542,6,FALSE)","v":"datetime"},{"$f":"IF(VLOOKUP(UPPER(A17),Items!$B$2:$H$542,7,FALSE)<>0,VLOOKUP(UPPER(A17),Items!$B$2:$H$542,7,FALSE),\"\")","v":""},{"$f":"VLOOKUP(UPPER(A17),Items!$B$2:$C$542,2,FALSE)","v":"Time From"}]
["N0271","D",null,null,1,null,null,null,null,null,{"$f":"VLOOKUP(UPPER(A18),Items!$B$2:$G$542,6,FALSE)","v":"number(4)"},{"$f":"IF(VLOOKUP(UPPER(A18),Items!$B$2:$H$542,7,FALSE)<>0,VLOOKUP(UPPER(A18),Items!$B$2:$H$542,7,FALSE),\"\")","v":""},{"$f":"VLOOKUP(UPPER(A18),Items!$B$2:$C$542,2,FALSE)","v":"QPN Level From"}]
["N0289","D",null,null,1,null,null,null,null,null,{"$f":"VLOOKUP(UPPER(A19),Items!$B$2:$G$542,6,FALSE)","v":"datetime"},{"$f":"IF(VLOOKUP(UPPER(A19),Items!$B$2:$H$542,7,FALSE)<>0,VLOOKUP(UPPER(A19),Items!$B$2:$H$542,7,FALSE),\"\")","v":""},{"$f":"VLOOKUP(UPPER(A19),Items!$B$2:$C$542,2,FALSE)","v":"Time To"}]
["N0272","D",null,null,1,null,null,null,null,null,{"$f":"VLOOKUP(UPPER(A20),Items!$B$2:$G$542,6,FALSE)","v":"number(4)"},{"$f":"IF(VLOOKUP(UPPER(A20),Items!$B$2:$H$542,7,FALSE)<>0,VLOOKUP(UPPER(A20),Items!$B$2:$H$542,7,FALSE),\"\")","v":""},{"$f":"VLOOKUP(UPPER(A20),Items!$B$2:$C$542,2,FALSE)","v":"QPN Level To"}]
[]
["NGC03",{"$f":"IF(LEN(K22)>0,\"D\",IF(LEN(A22)=5,\"F\",IF(LEN(A22)=3,\"R\",\" \")))","v":"F"},null,null,null,null,null,null,null,null,null,null,"BOD-Bid Offer Data File"]
[{"$f":"\"NGG\" &MID(A22,4,2)","v":"NGG03"},"R",1,"G",null,null,null,null,null,null,null,null,{"$f":"LEFT(M22,FIND(\"-\",M22)-1)","v":"BOD"},"Dummy Group"]
["N0290","D",null,null,1,null,null,null,null,null,{"$f":"VLOOKUP(UPPER(A24),Items!$B$2:$G$542,6,FALSE)","v":"varchar2(8)"},{"$f":"IF(VLOOKUP(UPPER(A24),Items!$B$2:$H$542,7,FALSE)<>0,VLOOKUP(UPPER(A24),Items!$B$2:$H$542,7,FALSE),\"\")","v":""},{"$f":"VLOOKUP(UPPER(A24),Items!$B$2:$C$542,2,FALSE)","v":"Data Type"}]
["N0291","D",null,null,1,null,null,null,null,null,{"$f":"VLOOKUP(UPPER(A25),Items!$B$2:$G$542,6,FALSE)","v":"varchar2(9)"},{"$f":"IF(VLOOKUP(UPPER(A25),Items!$B$2:$H$542,7,FALSE)<>0,VLOOKUP(UPPER(A25),Items!$B$2:$H$542,7,FALSE),\"\")","v":""},{"$f":"VLOOKUP(UPPER(A25),Items!$B$2:$C$542,2,FALSE)","v":"BMU Name"}]
["N0288","D",null,null,1,null,null,null,null,null,{"$f":"VLOOKUP(UPPER(A26),Items!$B$2:$G$542,6,FALSE)","v":"datetime"},{"$f":"IF(VLOOKUP(UPPER(A26),Items!$B$2:$H$542,7,FALSE)<>0,VLOOKUP(UPPER(A26),Items!$B$2:$H$542,7,FALSE),\"\")","v":""},{"$f":"VLOOKUP(UPPER(A26),Items!$B$2:$C$542,2,FALSE)","v":"Time From"}]
["N0289","D",null,null,1,null,null,null,null,null,{"$f":"VLOOKUP(UPPER(A27),Items!$B$2:$G$542,6,FALSE)","v":"datetime"},{"$f":"IF(VLOOKUP(UPPER(A27),Items!$B$2:$H$542,7,FALSE)<>0,VLOOKUP(UPPER(A27),Items!$B$2:$H$542,7,FALSE),\"\")","v":""},{"$f":"VLOOKUP(UPPER(A27),Items!$B$2:$C$542,2,FALSE)","v":"Time To"}]
["N0247","D",null,null,1,null,null,null,null,null,{"$f":"VLOOKUP(UPPER(A28),Items!$B$2:$G$542,6,FALSE)","v":"number(2)"},{"$f":"IF(VLOOKUP(UPPER(A28),Items!$B$2:$H$542,7,FALSE)<>0,VLOOKUP(UPPER(A28),Items!$B$2:$H$542,7,FALSE),\"\")","v":""},{"$f":"VLOOKUP(UPPER(A28),Items!$B$2:$C$542,2,FALSE)","v":"Bid Offer Pair Number"}]
["N0245","D",null,null,1,null,null,null,null,null,{"$f":"VLOOKUP(UPPER(A29),Items!$B$2:$G$542,6,FALSE)","v":"number(4)"},{"$f":"IF(VLOOKUP(UPPER(A29),Items!$B$2:$H$542,7,FALSE)<>0,VLOOKUP(UPPER(A29),Items!$B$2:$H$542,7,FALSE),\"\")","v":""},{"$f":"VLOOKUP(UPPER(A29),Items!$B$2:$C$542,2,FALSE)","v":"Bid Offer Level From"}]
["N0246","D",null,null,1,null,null,null,null,null,{"$f":"VLOOKUP(UPPER(A30),Items!$B$2:$G$542,6,FALSE)","v":"number(4)"},{"$f":"IF(VLOOKUP(UPPER(A30),Items!$B$2:$H$542,7,FALSE)<>0,VLOOKUP(UPPER(A30),Items!$B$2:$H$542,7,FALSE),\"\")","v":""},{"$f":"VLOOKUP(UPPER(A30),Items!$B$2:$C$542,2,FALSE)","v":"Bid Offer Level To"}]
["N0267","D",null,null,1,null,null,null,null,null,{"$f":"VLOOKUP(UPPER(A31),Items!$B$2:$G$542,6,FALSE)","v":"number(7,2)"},{"$f":"IF(VLOOKUP(UPPER(A31),Items!$B$2:$H$542,7,FALSE)<>0,VLOOKUP(UPPER(A31),Items!$B$2:$H$542,7,FALSE),\"\")","v":""},{"$f":"VLOOKUP(UPPER(A31),Items!$B$2:$C$542,2,FALSE)","v":"Offer Price"}]
["N0244","D",null,null,1,null,null,null,null,null,{"$f":"VLOOKUP(UPPER(A32),Items!$B$2:$G$542,6,FALSE)","v":"number(7,2)"},{"$f":"IF(VLOOKUP(UPPER(A32),Items!$B$2:$H$542,7,FALSE)<>0,VLOOKUP(UPPER(A32),Items!$B$2:$H$542,7,FALSE),\"\")","v":""},{"$f":"VLOOKUP(UPPER(A32),Items!$B$2:$C$542,2,FALSE)","v":"Bid Price"}]
[]
["NGC04",{"$f":"IF(LEN(K34)>0,\"D\",IF(LEN(A34)=5,\"F\",IF(LEN(A34)=3,\"R\",\" \")))","v":"F"},null,null,null,null,null,null,null,null,null,null,"BOAL-Bid Offer Acceptance Level File"]
[{"$f":"\"NGG\" &MID(A34,4,2)","v":"NGG04"},"R",1,"G",null,null,null,null,null,null,null,null,{"$f":"LEFT(M34,FIND(\"-\",M34)-1)","v":"BOAL"},"Dummy Group"]
["N0290","D",null,null,1,null,null,null,null,null,{"$f":"VLOOKUP(UPPER(A36),Items!$B$2:$G$542,6,FALSE)","v":"varchar2(8)"},{"$f":"IF(VLOOKUP(UPPER(A36),Items!$B$2:$H$542,7,FALSE)<>0,VLOOKUP(UPPER(A36),Items!$B$2:$H$542,7,FALSE),\"\")","v":""},{"$f":"VLOOKUP(UPPER(A36),Items!$B$2:$C$542,2,FALSE)","v":"Data Type"}]
["N0291","D",null,null,1,null,null,null,null,null,{"$f":"VLOOKUP(UPPER(A37),Items!$B$2:$G$542,6,FALSE)","v":"varchar2(9)"},{"$f":"IF(VLOOKUP(UPPER(A37),Items!$B$2:$H$542,7,FALSE)<>0,VLOOKUP(UPPER(A37),Items!$B$2:$H$542,7,FALSE),\"\")","v":""},{"$f":"VLOOKUP(UPPER(A37),Items!$B$2:$C$542,2,FALSE)","v":"BMU Name"}]
["N0243","D",null,null,1,null,null,null,null,null,{"$f":"VLOOKUP(UPPER(A38),Items!$B$2:$G$542,6,FALSE)","v":"number(10)"},{"$f":"IF(VLOOKUP(UPPER(A38),Items!$B$2:$H$542,7,FALSE)<>0,VLOOKUP(UPPER(A38),Items!$B$2:$H$542,7,FALSE),\"\")","v":""},{"$f":"VLOOKUP(UPPER(A38),Items!$B$2:$C$542,2,FALSE)","v":"Bid Offer Acceptance Number"}]
["N0242","D",null,null,1,null,null,null,null,null,{"$f":"VLOOKUP(UPPER(A39),Items!$B$2:$G$542,6,FALSE)","v":"datetime"},{"$f":"IF(VLOOKUP(UPPER(A39),Items!$B$2:$H$542,7,FALSE)<>0,VLOOKUP(UPPER(A39),Items!$B$2:$H$542,7,FALSE),\"\")","v":""},{"$f":"VLOOKUP(UPPER(A39),Items!$B$2:$C$542,2,FALSE)","v":"Acceptance Time"}]
["N0250","D",null,null,1,null,null,null,null,null,{"$f":"VLOOKUP(UPPER(A40),Items!$B$2:$G$542,6,FALSE)","v":"varchar2(5)"},{"$f":"IF(VLOOKUP(UPPER(A40),Items!$B$2:$H$542,7,FALSE)<>0,VLOOKUP(UPPER(A40),Items!$B$2:$H$542,7,FALSE),\"\")","v":""},{"$f":"VLOOKUP(UPPER(A40),Items!$B$2:$C$542,2,FALSE)","v":"Deemed Bid Offer Flag"}]
["N0288","D",null,null,1,null,null,null,null,null,{"$f":"VLOOKUP(UPPER(A41),Items!$B$2:$G$542,6,FALSE)","v":"datetime"},{"$f":"IF(VLOOKUP(UPPER(A41),Items!$B$2:$H$542,7,FALSE)<>0,VLOOKUP(UPPER(A41),Items!$B$2:$H$542,7,FALSE),\"\")","v":""},{"$f":"VLOOKUP(UPPER(A41),Items!$B$2:$C$542,2,FALSE)","v":"Time From"}]
["N0245","D",null,null,1,null,null,null,null,null,{"$f":"VLOOKUP(UPPER(A42),Items!$B$2:$G$542,6,FALSE)","v":"number(4)"},{"$f":"IF(VLOOKUP(UPPER(A42),Items!$B$2:$H$542,7,FALSE)<>0,VLOOKUP(UPPER(A42),Items!$B$2:$H$542,7,FALSE),\"\")","v":""},{"$f":"VLOOKUP(UPPER(A42),Items!$B$2:$C$542,2,FALSE)","v":"Bid Offer Level From"}]
["N0289","D",null,null,1,null,null,null,null,null,{"$f":"VLOOKUP(UPPER(A43),Items!$B$2:$G$542,6,FALSE)","v":"datetime"},{"$f":"IF(VLOOKUP(UPPER(A43),Items!$B$2:$H$542,7,FALSE)<>0,VLOOKUP(UPPER(A43),Items!$B$2:$H$542,7,FALSE),\"\")","v":""},{"$f":"VLOOKUP(UPPER(A43),Items!$B$2:$C$542,2,FALSE)","v":"Time To"}]
["N0246","D",null,null,1,null,null,null,null,null,{"$f":"VLOOKUP(UPPER(A44),Items!$B$2:$G$542,6,FALSE)","v":"number(4)"},{"$f":"IF(VLOOKUP(UPPER(A44),Items!$B$2:$H$542,7,FALSE)<>0,VLOOKUP(UPPER(A44),Items!$B$2:$H$542,7,FALSE),\"\")","v":""},{"$f":"VLOOKUP(UPPER(A44),Items!$B$2:$C$542,2,FALSE)","v":"Bid Offer Level To"}]
[]
["NGC05",{"$f":"IF(LEN(K46)>0,\"D\",IF(LEN(A46)=5,\"F\",IF(LEN(A46)=3,\"R\",\" \")))","v":"F"},null,null,null,null,null,null,null,null,null,null,"MEL-Maximum Export Limit File"]
[{"$f":"\"NGG\" &MID(A46,4,2)","v":"NGG05"},"R",1,"G",null,null,null,null,null,null,null,null,{"$f":"LEFT(M46,FIND(\"-\",M46)-1)","v":"MEL"},"Dummy Group"]
["N0290","D",null,null,1,null,null,null,null,null,{"$f":"VLOOKUP(UPPER(A48),Items!$B$2:$G$542,6,FALSE)","v":"varchar2(8)"},{"$f":"IF(VLOOKUP(UPPER(A48),Items!$B$2:$H$542,7,FALSE)<>0,VLOOKUP(UPPER(A48),Items!$B$2:$H$542,7,FALSE),\"\")","v":""},{"$f":"VLOOKUP(UPPER(A48),Items!$B$2:$C$542,2,FALSE)","v":"Data Type"}]
["N0291","D",null,null,1,null,null,null,null,null,{"$f":"VLOOKUP(UPPER(A49),Items!$B$2:$G$542,6,FALSE)","v":"varchar2(9)"},{"$f":"IF(VLOOKUP(UPPER(A49),Items!$B$2:$H$542,7,FALSE)<>0,VLOOKUP(UPPER(A49),Items!$B$2:$H$542,7,FALSE),\"\")","v":""},{"$f":"VLOOKUP(UPPER(A49),Items!$B$2:$C$542,2,FALSE)","v":"BMU Name"}]
["N0288","D",null,null,1,null,null,null,null,null,{"$f":"VLOOKUP(UPPER(A50),Items!$B$2:$G$542,6,FALSE)","v":"datetime"},{"$f":"IF(VLOOKUP(UPPER(A50),Items!$B$2:$H$542,7,FALSE)<>0,VLOOKUP(UPPER(A50),Items!$B$2:$H$542,7,FALSE),\"\")","v":""},{"$f":"VLOOKUP(UPPER(A50),Items!$B$2:$C$542,2,FALSE)","v":"Time From"}]
["N0257","D",null,null,1,null,null,null,null,null,{"$f":"VLOOKUP(UPPER(A51),Items!$B$2:$G$542,6,FALSE)","v":"number(4)"},{"$f":"IF(VLOOKUP(UPPER(A51),Items!$B$2:$H$542,7,FALSE)<>0,VLOOKUP(UPPER(A51),Items!$B$2:$H$542,7,FALSE),\"\")","v":""},{"$f":"VLOOKUP(UPPER(A51),Items!$B$2:$C$542,2,FALSE)","v":"Maximum Export Level From"}]
["N0289","D",null,null,1,null,null,null,null,null,{"$f":"VLOOKUP(UPPER(A52),Items!$B$2:$G$542,6,FALSE)","v":"datetime"},{"$f":"IF(VLOOKUP(UPPER(A52),Items!$B$2:$H$542,7,FALSE)<>0,VLOOKUP(UPPER(A52),Items!$B$2:$H$542,7,FALSE),\"\")","v":""},{"$f":"VLOOKUP(UPPER(A52),Items!$B$2:$C$542,2,FALSE)","v":"Time To"}]
["N0258","D",null,null,1,null,null,null,null,null,{"$f":"VLOOKUP(UPPER(A53),Items!$B$2:$G$542,6,FALSE)","v":"number(4)"},{"$f":"IF(VLOOKUP(UPPER(A53),Items!$B$2:$H$542,7,FALSE)<>0,VLOOKUP(UPPER(A53),Items!$B$2:$H$542,7,FALSE),\"\")","v":""},{"$f":"VLOOKUP(UPPER(A53),Items!$B$2:$C$542,2,FALSE)","v":"Maximum Export Level To"}]
[]
["NGC06",{"$f":"IF(LEN(K55)>0,\"D\",IF(LEN(A55)=5,\"F\",IF(LEN(A55)=3,\"R\",\" \")))","v":"F"},null,null,null,null,null,null,null,null,null,null,"MIL-Maximum Import Limit File"]
[{"$f":"\"NGG\" &MID(A55,4,2)","v":"NGG06"},"R",1,"G",null,null,null,null,null,null,null,null,{"$f":"LEFT(M55,FIND(\"-\",M55)-1)","v":"MIL"},"Dummy Group"]
["N0290","D",null,null,1,null,null,null,null,null,{"$f":"VLOOKUP(UPPER(A57),Items!$B$2:$G$542,6,FALSE)","v":"varchar2(8)"},{"$f":"IF(VLOOKUP(UPPER(A57),Items!$B$2:$H$542,7,FALSE)<>0,VLOOKUP(UPPER(A57),Items!$B$2:$H$542,7,FALSE),\"\")","v":""},{"$f":"VLOOKUP(UPPER(A57),Items!$B$2:$C$542,2,FALSE)","v":"Data Type"}]
["N0291","D",null,null,1,null,null,null,null,null,{"$f":"VLOOKUP(UPPER(A58),Items!$B$2:$G$542,6,FALSE)","v":"varchar2(9)"},{"$f":"IF(VLOOKUP(UPPER(A58),Items!$B$2:$H$542,7,FALSE)<>0,VLOOKUP(UPPER(A58),Items!$B$2:$H$542,7,FALSE),\"\")","v":""},{"$f":"VLOOKUP(UPPER(A58),Items!$B$2:$C$542,2,FALSE)","v":"BMU Name"}]
["N0288","D",null,null,1,null,null,null,null,null,{"$f":"VLOOKUP(UPPER(A59),Items!$B$2:$G$542,6,FALSE)","v":"datetime"},{"$f":"IF(VLOOKUP(UPPER(A59),Items!$B$2:$H$542,7,FALSE)<>0,VLOOKUP(UPPER(A59),Items!$B$2:$H$542,7,FALSE),\"\")","v":""},{"$f":"VLOOKUP(UPPER(A59),Items!$B$2:$C$542,2,FALSE)","v":"Time From"}]
["N0292","D",null,null,1,null,null,null,null,null,{"$f":"VLOOKUP(UPPER(A60),Items!$B$2:$G$542,6,FALSE)","v":"number(4)"},{"$f":"IF(VLOOKUP(UPPER(A60),Items!$B$2:$H$542,7,FALSE)<>0,VLOOKUP(UPPER(A60),Items!$B$2:$H$542,7,FALSE),\"\")","v":""},{"$f":"VLOOKUP(UPPER(A60),Items!$B$2:$C$542,2,FALSE)","v":"Maximum Import Level From"}]
["N0289","D",null,null,1,null,null,null,null,null,{"$f":"VLOOKUP(UPPER(A61),Items!$B$2:$G$542,6,FALSE)","v":"datetime"},{"$f":"IF(VLOOKUP(UPPER(A61),Items!$B$2:$H$542,7,FALSE)<>0,VLOOKUP(UPPER(A61),Items!$B$2:$H$542,7,FALSE),\"\")","v":""},{"$f":"VLOOKUP(UPPER(A61),Items!$B$2:$C$542,2,FALSE)","v":"Time To"}]
["N0293","D",null,null,1,null,null,null,null,null,{"$f":"VLOOKUP(UPPER(A62),Items!$B$2:$G$542,6,FALSE)","v":"number(4)"},{"$f":"IF(VLOOKUP(UPPER(A62),Items!$B$2:$H$542,7,FALSE)<>0,VLOOKUP(UPPER(A62),Items!$B$2:$H$542,7,FALSE),\"\")","v":""},{"$f":"VLOOKUP(UPPER(A62),Items!$B$2:$C$542,2,FALSE)","v":"Maximum Import Level To"}]
[]
["NGC07",{"$f":"IF(LEN(K64)>0,\"D\",IF(LEN(A64)=5,\"F\",IF(LEN(A64)=3,\"R\",\" \")))","v":"F"},null,null,null,null,null,null,null,null,null,null,"RURE-Run Up Rate Export File"]
[{"$f":"\"NGG\" &MID(A64,4,2)","v":"NGG07"},"R",1,"G",null,null,null,null,null,null,null,null,{"$f":"LEFT(M64,FIND(\"-\",M64)-1)","v":"RURE"},"Dummy Group"]
["N0290","D",null,null,1,null,null,null,null,null,{"$f":"VLOOKUP(UPPER(A66),Items!$B$2:$G$542,6,FALSE)","v":"varchar2(8)"},{"$f":"IF(VLOOKUP(UPPER(A66),Items!$B$2:$H$542,7,FALSE)<>0,VLOOKUP(UPPER(A66),Items!$B$2:$H$542,7,FALSE),\"\")","v":""},{"$f":"VLOOKUP(UPPER(A66),Items!$B$2:$C$542,2,FALSE)","v":"Data Type"}]
["N0291","D",null,null,1,null,null,null,null,null,{"$f":"VLOOKUP(UPPER(A67),Items!$B$2:$G$542,6,FALSE)","v":"varchar2(9)"},{"$f":"IF(VLOOKUP(UPPER(A67),Items!$B$2:$H$542,7,FALSE)<>0,VLOOKUP(UPPER(A67),Items!$B$2:$H$542,7,FALSE),\"\")","v":""},{"$f":"VLOOKUP(UPPER(A67),Items!$B$2:$C$542,2,FALSE)","v":"BMU Name"}]
["N0252","D",null,null,1,null,null,null,null,null,{"$f":"VLOOKUP(UPPER(A68),Items!$B$2:$G$542,6,FALSE)","v":"datetime"},{"$f":"IF(VLOOKUP(UPPER(A68),Items!$B$2:$H$542,7,FALSE)<>0,VLOOKUP(UPPER(A68),Items!$B$2:$H$542,7,FALSE),\"\")","v":""},{"$f":"VLOOKUP(UPPER(A68),Items!$B$2:$C$542,2,FALSE)","v":"Effective Time"}]
["N0275","D",null,null,1,null,null,null,null,null,{"$f":"VLOOKUP(UPPER(A69),Items!$B$2:$G$542,6,FALSE)","v":"number(4,1)"},{"$f":"IF(VLOOKUP(UPPER(A69),Items!$B$2:$H$542,7,FALSE)<>0,VLOOKUP(UPPER(A69),Items!$B$2:$H$542,7,FALSE),\"\")","v":""},{"$f":"VLOOKUP(UPPER(A69),Items!$B$2:$C$542,2,FALSE)","v":"Run Up Rate 1"}]
["N0273","D",null,null,"O",null,null,null,null,null,{"$f":"VLOOKUP(UPPER(A70),Items!$B$2:$G$542,6,FALSE)","v":"number(4)"},{"$f":"IF(VLOOKUP(UPPER(A70),Items!$B$2:$H$542,7,FALSE)<>0,VLOOKUP(UPPER(A70),Items!$B$2:$H$542,7,FALSE),\"\")","v":""},{"$f":"VLOOKUP(UPPER(A70),Items!$B$2:$C$542,2,FALSE)","v":"Run Up Elbow 2"}]
["N0276","D",null,null,"O",null,null,null,null,null,{"$f":"VLOOKUP(UPPER(A71),Items!$B$2:$G$542,6,FALSE)","v":"number(4,1)"},{"$f":"IF(VLOOKUP(UPPER(A71),Items!$B$2:$H$542,7,FALSE)<>0,VLOOKUP(UPPER(A71),Items!$B$2:$H$542,7,FALSE),\"\")","v":""},{"$f":"VLOOKUP(UPPER(A71),Items!$B$2:$C$542,2,FALSE)","v":"Run Up Rate 2"}]
["N0274","D",null,null,"O",null,null,null,null,null,{"$f":"VLOOKUP(UPPER(A72),Items!$B$2:$G$542,6,FALSE)","v":"number(4)"},{"$f":"IF(VLOOKUP(UPPER(A72),Items!$B$2:$H$542,7,FALSE)<>0,VLOOKUP(UPPER(A72),Items!$B$2:$H$542,7,FALSE),\"\")","v":""},{"$f":"VLOOKUP(UPPER(A72),Items!$B$2:$C$542,2,FALSE)","v":"Run Up Elbow 3"}]
["N0277","D",null,null,"O",null,null,null,null,null,{"$f":"VLOOKUP(UPPER(A73),Items!$B$2:$G$542,6,FALSE)","v":"number(4,1)"},{"$f":"IF(VLOOKUP(UPPER(A73),Items!$B$2:$H$542,7,FALSE)<>0,VLOOKUP(UPPER(A73),Items!$B$2:$H$542,7,FALSE),\"\")","v":""},{"$f":"VLOOKUP(UPPER(A73),Items!$B$2:$C$542,2,FALSE)","v":"Run Up Rate 3"}]
[]
["NGC08",{"$f":"IF(LEN(K75)>0,\"D\",IF(LEN(A75)=5,\"F\",IF(LEN(A75)=3,\"R\",\" \")))","v":"F"},null,null,null,null,null,null,null,null,null,null,"RURI-Run Up Rate Import File"]
[{"$f":"\"NGG\" &MID(A75,4,2)","v":"NGG08"},"R",1,"G",null,null,null,null,null,null,null,null,{"$f":"LEFT(M75,FIND(\"-\",M75)-1)","v":"RURI"},"Dummy Group"]
["N0290","D",null,null,1,null,null,null,null,null,{"$f":"VLOOKUP(UPPER(A77),Items!$B$2:$G$542,6,FALSE)","v":"varchar2(8)"},{"$f":"IF(VLOOKUP(UPPER(A77),Items!$B$2:$H$542,7,FALSE)<>0,VLOOKUP(UPPER(A77),Items!$B$2:$H$542,7,FALSE),\"\")","v":""},{"$f":"VLOOKUP(UPPER(A77),Items!$B$2:$C$542,2,FALSE)","v":"Data Type"}]
["N0291","D",null,null,1,null,null,null,null,null,{"$f":"VLOOKUP(UPPER(A78),Items!$B$2:$G$542,6,FALSE)","v":"varchar2(9)"},{"$f":"IF(VLOOKUP(UPPER(A78),Items!$B$2:$H$542,7,FALSE)<>0,VLOOKUP(UPPER(A78),Items!$B$2:$H$542,7,FALSE),\"\")","v":""},{"$f":"VLOOKUP(UPPER(A78),Items!$B$2:$C$542,2,FALSE)","v":"BMU Name"}]
["N0252","D",null,null,1,null,null,null,null,null,{"$f":"VLOOKUP(UPPER(A79),Items!$B$2:$G$542,6,FALSE)","v":"datetime"},{"$f":"IF(VLOOKUP(UPPER(A79),Items!$B$2:$H$542,7,FALSE)<>0,VLOOKUP(UPPER(A79),Items!$B$2:$H$542,7,FALSE),\"\")","v":""},{"$f":"VLOOKUP(UPPER(A79),Items!$B$2:$C$542,2,FALSE)","v":"Effective Time"}]
["N0275","D",null,null,1,null,null,null,null,null,{"$f":"VLOOKUP(UPPER(A80),Items!$B$2:$G$542,6,FALSE)","v":"number(4,1)"},{"$f":"IF(VLOOKUP(UPPER(A80),Items!$B$2:$H$542,7,FALSE)<>0,VLOOKUP(UPPER(A80),Items!$B$2:$H$542,7,FALSE),\"\")","v":""},{"$f":"VLOOKUP(UPPER(A80),Items!$B$2:$C$542,2,FALSE)","v":"Run Up Rate 1"}]
["N0273","D",null,null,"O",null,null,null,null,null,{"$f":"VLOOKUP(UPPER(A81),Items!$B$2:$G$542,6,FALSE)","v":"number(4)"},{"$f":"IF(VLOOKUP(UPPER(A81),Items!$B$2:$H$542,7,FALSE)<>0,VLOOKUP(UPPER(A81),Items!$B$2:$H$542,7,FALSE),\"\")","v":""},{"$f":"VLOOKUP(UPPER(A81),Items!$B$2:$C$542,2,FALSE)","v":"Run Up Elbow 2"}]
["N0276","D",null,null,"O",null,null,null,null,null,{"$f":"VLOOKUP(UPPER(A82),Items!$B$2:$G$542,6,FALSE)","v":"number(4,1)"},{"$f":"IF(VLOOKUP(UPPER(A82),Items!$B$2:$H$542,7,FALSE)<>0,VLOOKUP(UPPER(A82),Items!$B$2:$H$542,7,FALSE),\"\")","v":""},{"$f":"VLOOKUP(UPPER(A82),Items!$B$2:$C$542,2,FALSE)","v":"Run Up Rate 2"}]
["N0274","D",null,null,"O",null,null,null,null,null,{"$f":"VLOOKUP(UPPER(A83),Items!$B$2:$G$542,6,FALSE)","v":"number(4)"},{"$f":"IF(VLOOKUP(UPPER(A83),Items!$B$2:$H$542,7,FALSE)<>0,VLOOKUP(UPPER(A83),Items!$B$2:$H$542,7,FALSE),\"\")","v":""},{"$f":"VLOOKUP(UPPER(A83),Items!$B$2:$C$542,2,FALSE)","v":"Run Up Elbow 3"}]
["N0277","D",null,null,"O",null,null,null,null,null,{"$f":"VLOOKUP(UPPER(A84),Items!$B$2:$G$542,6,FALSE)","v":"number(4,1)"},{"$f":"IF(VLOOKUP(UPPER(A84),Items!$B$2:$H$542,7,FALSE)<>0,VLOOKUP(UPPER(A84),Items!$B$2:$H$542,7,FALSE),\"\")","v":""},{"$f":"VLOOKUP(UPPER(A84),Items!$B$2:$C$542,2,FALSE)","v":"Run Up Rate 3"}]
[]
["NGC09",{"$f":"IF(LEN(K86)>0,\"D\",IF(LEN(A86)=5,\"F\",IF(LEN(A86)=3,\"R\",\" \")))","v":"F"},null,null,null,null,null,null,null,null,null,null,"RDRE-Run Down Rate Export File"]
[{"$f":"\"NGG\" &MID(A86,4,2)","v":"NGG09"},"R",1,"G",null,null,null,null,null,null,null,null,{"$f":"LEFT(M86,FIND(\"-\",M86)-1)","v":"RDRE"},"Dummy Group"]
["N0290","D",null,null,1,null,null,null,null,null,{"$f":"VLOOKUP(UPPER(A88),Items!$B$2:$G$542,6,FALSE)","v":"varchar2(8)"},{"$f":"IF(VLOOKUP(UPPER(A88),Items!$B$2:$H$542,7,FALSE)<>0,VLOOKUP(UPPER(A88),Items!$B$2:$H$542,7,FALSE),\"\")","v":""},{"$f":"VLOOKUP(UPPER(A88),Items!$B$2:$C$542,2,FALSE)","v":"Data Type"}]
["N0291","D",null,null,1,null,null,null,null,null,{"$f":"VLOOKUP(UPPER(A89),Items!$B$2:$G$542,6,FALSE)","v":"varchar2(9)"},{"$f":"IF(VLOOKUP(UPPER(A89),Items!$B$2:$H$542,7,FALSE)<>0,VLOOKUP(UPPER(A89),Items!$B$2:$H$542,7,FALSE),\"\")","v":""},{"$f":"VLOOKUP(UPPER(A89),Items!$B$2:$C$542,2,FALSE)","v":"BMU Name"}]
["N0252","D",null,null,1,null,null,null,null,null,{"$f":"VLOOKUP(UPPER(A90),Items!$B$2:$G$542,6,FALSE)","v":"datetime"},{"$f":"IF(VLOOKUP(UPPER(A90),Items!$B$2:$H$542,7,FALSE)<>0,VLOOKUP(UPPER(A90),Items!$B$2:$H$542,7,FALSE),\"\")","v":""},{"$f":"VLOOKUP(UPPER(A90),Items!$B$2:$C$542,2,FALSE)","v":"Effective Time"}]
["N0280","D",null,null,1,null,null,null,null,null,{"$f":"VLOOKUP(UPPER(A91),Items!$B$2:$G$542,6,FALSE)","v":"number(4,1)"},{"$f":"IF(VLOOKUP(UPPER(A91),Items!$B$2:$H$542,7,FALSE)<>0,VLOOKUP(UPPER(A91),Items!$B$2:$H$542,7,FALSE),\"\")","v":""},{"$f":"VLOOKUP(UPPER(A91),Items!$B$2:$C$542,2,FALSE)","v":"Run Down Rate 1"}]
["N0278","D",null,null,"O",null,null,null,null,null,{"$f":"VLOOKUP(UPPER(A92),Items!$B$2:$G$542,6,FALSE)","v":"number(4)"},{"$f":"IF(VLOOKUP(UPPER(A92),Items!$B$2:$H$542,7,FALSE)<>0,VLOOKUP(UPPER(A92),Items!$B$2:$H$542,7,FALSE),\"\")","v":""},{"$f":"VLOOKUP(UPPER(A92),Items!$B$2:$C$542,2,FALSE)","v":"Run Down Elbow 2"}]
["N0281","D",null,null,"O",null,null,null,null,null,{"$f":"VLOOKUP(UPPER(A93),Items!$B$2:$G$542,6,FALSE)","v":"number(4,1)"},{"$f":"IF(VLOOKUP(UPPER(A93),Items!$B$2:$H$542,7,FALSE)<>0,VLOOKUP(UPPER(A93),Items!$B$2:$H$542,7,FALSE),\"\")","v":""},{"$f":"VLOOKUP(UPPER(A93),Items!$B$2:$C$542,2,FALSE)","v":"Run Down Rate 2"}]
["N0279","D",null,null,"O",null,null,null,null,null,{"$f":"VLOOKUP(UPPER(A94),Items!$B$2:$G$542,6,FALSE)","v":"number(4)"},{"$f":"IF(VLOOKUP(UPPER(A94),Items!$B$2:$H$542,7,FALSE)<>0,VLOOKUP(UPPER(A94),Items!$B$2:$H$542,7,FALSE),\"\")","v":""},{"$f":"VLOOKUP(UPPER(A94),Items!$B$2:$C$542,2,FALSE)","v":"Run Down Elbow 3"}]
["N0282","D",null,null,"O",null,null,null,null,null,{"$f":"VLOOKUP(UPPER(A95),Items!$B$2:$G$542,6,FALSE)","v":"number(4,1)"},{"$f":"IF(VLOOKUP(UPPER(A95),Items!$B$2:$H$542,7,FALSE)<>0,VLOOKUP(UPPER(A95),Items!$B$2:$H$542,7,FALSE),\"\")","v":""},{"$f":"VLOOKUP(UPPER(A95),Items!$B$2:$C$542,2,FALSE)","v":"Run Down Rate 3"}]
[]
["NGC10",{"$f":"IF(LEN(K97)>0,\"D\",IF(LEN(A97)=5,\"F\",IF(LEN(A97)=3,\"R\",\" \")))","v":"F"},null,null,null,null,null,null,null,null,null,null,"RDRI-Run Down Rate Import File"]
[{"$f":"\"NGG\" &MID(A97,4,2)","v":"NGG10"},"R",1,"G",null,null,null,null,null,null,null,null,{"$f":"LEFT(M97,FIND(\"-\",M97)-1)","v":"RDRI"},"Dummy Group"]
["N0290","D",null,null,1,null,null,null,null,null,{"$f":"VLOOKUP(UPPER(A99),Items!$B$2:$G$542,6,FALSE)","v":"varchar2(8)"},{"$f":"IF(VLOOKUP(UPPER(A99),Items!$B$2:$H$542,7,FALSE)<>0,VLOOKUP(UPPER(A99),Items!$B$2:$H$542,7,FALSE),\"\")","v":""},{"$f":"VLOOKUP(UPPER(A99),Items!$B$2:$C$542,2,FALSE)","v":"Data Type"}]
["N0291","D",null,null,1,null,null,null,null,null,{"$f":"VLOOKUP(UPPER(A100),Items!$B$2:$G$542,6,FALSE)","v":"varchar2(9)"},{"$f":"IF(VLOOKUP(UPPER(A100),Items!$B$2:$H$542,7,FALSE)<>0,VLOOKUP(UPPER(A100),Items!$B$2:$H$542,7,FALSE),\"\")","v":""},{"$f":"VLOOKUP(UPPER(A100),Items!$B$2:$C$542,2,FALSE)","v":"BMU Name"}]
["N0252","D",null,null,1,null,null,null,null,null,{"$f":"VLOOKUP(UPPER(A101),Items!$B$2:$G$542,6,FALSE)","v":"datetime"},{"$f":"IF(VLOOKUP(UPPER(A101),Items!$B$2:$H$542,7,FALSE)<>0,VLOOKUP(UPPER(A101),Items!$B$2:$H$542,7,FALSE),\"\")","v":""},{"$f":"VLOOKUP(UPPER(A101),Items!$B$2:$C$542,2,FALSE)","v":"Effective Time"}]
["N0280","D",null,null,1,null,null,null,null,null,{"$f":"VLOOKUP(UPPER(A102),Items!$B$2:$G$542,6,FALSE)","v":"number(4,1)"},{"$f":"IF(VLOOKUP(UPPER(A102),Items!$B$2:$H$542,7,FALSE)<>0,VLOOKUP(UPPER(A102),Items!$B$2:$H$542,7,FALSE),\"\")","v":""},{"$f":"VLOOKUP(UPPER(A102),Items!$B$2:$C$542,2,FALSE)","v":"Run Down Rate 1"}]
["N0278","D",null,null,"O",null,null,null,null,null,{"$f":"VLOOKUP(UPPER(A103),Items!$B$2:$G$542,6,FALSE)","v":"number(4)"},{"$f":"IF(VLOOKUP(UPPER(A103),Items!$B$2:$H$542,7,FALSE)<>0,VLOOKUP(UPPER(A103),Items!$B$2:$H$542,7,FALSE),\"\")","v":""},{"$f":"VLOOKUP(UPPER(A103),Items!$B$2:$C$542,2,FALSE)","v":"Run Down Elbow 2"}]
["N0281","D",null,null,"O",null,null,null,null,null,{"$f":"VLOOKUP(UPPER(A104),Items!$B$2:$G$542,6,FALSE)","v":"number(4,1)"},{"$f":"IF(VLOOKUP(UPPER(A104),Items!$B$2:$H$542,7,FALSE)<>0,VLOOKUP(UPPER(A104),Items!$B$2:$H$542,7,FALSE),\"\")","v":""},{"$f":"VLOOKUP(UPPER(A104),Items!$B$2:$C$542,2,FALSE)","v":"Run Down Rate 2"}]
["N0279","D",null,null,"O",null,null,null,null,null,{"$f":"VLOOKUP(UPPER(A105),Items!$B$2:$G$542,6,FALSE)","v":"number(4)"},{"$f":"IF(VLOOKUP(UPPER(A105),Items!$B$2:$H$542,7,FALSE)<>0,VLOOKUP(UPPER(A105),Items!$B$2:$H$542,7,FALSE),\"\")","v":""},{"$f":"VLOOKUP(UPPER(A105),Items!$B$2:$C$542,2,FALSE)","v":"Run Down Elbow 3"}]
["N0282","D",null,null,"O",null,null,null,null,null,{"$f":"VLOOKUP(UPPER(A106),Items!$B$2:$G$542,6,FALSE)","v":"number(4,1)"},{"$f":"IF(VLOOKUP(UPPER(A106),Items!$B$2:$H$542,7,FALSE)<>0,VLOOKUP(UPPER(A106),Items!$B$2:$H$542,7,FALSE),\"\")","v":""},{"$f":"VLOOKUP(UPPER(A106),Items!$B$2:$C$542,2,FALSE)","v":"Run Down Rate 3"}]
[]
["NGC11",{"$f":"IF(LEN(K108)>0,\"D\",IF(LEN(A108)=5,\"F\",IF(LEN(A108)=3,\"R\",\" \")))","v":"F"},null,null,null,null,null,null,null,null,null,null,"NDZ-Notice To Deviate From Zero File"]
[{"$f":"\"NGG\" &MID(A108,4,2)","v":"NGG11"},"R",1,"G",null,null,null,null,null,null,null,null,{"$f":"LEFT(M108,FIND(\"-\",M108)-1)","v":"NDZ"},"Dummy Group"]
["N0290","D",null,null,1,null,null,null,null,null,{"$f":"VLOOKUP(UPPER(A110),Items!$B$2:$G$542,6,FALSE)","v":"varchar2(8)"},{"$f":"IF(VLOOKUP(UPPER(A110),Items!$B$2:$H$542,7,FALSE)<>0,VLOOKUP(UPPER(A110),Items!$B$2:$H$542,7,FALSE),\"\")","v":""},{"$f":"VLOOKUP(UPPER(A110),Items!$B$2:$C$542,2,FALSE)","v":"Data Type"}]
["N0291","D",null,null,1,null,null,null,null,null,{"$f":"VLOOKUP(UPPER(A111),Items!$B$2:$G$542,6,FALSE)","v":"varchar2(9)"},{"$f":"IF(VLOOKUP(UPPER(A111),Items!$B$2:$H$542,7,FALSE)<>0,VLOOKUP(UPPER(A111),Items!$B$2:$H$542,7,FALSE),\"\")","v":""},{"$f":"VLOOKUP(UPPER(A111),Items!$B$2:$C$542,2,FALSE)","v":"BMU Name"}]
["N0252","D",null,null,1,null,null,null,null,null,{"$f":"VLOOKUP(UPPER(A112),Items!$B$2:$G$542,6,FALSE)","v":"datetime"},{"$f":"IF(VLOOKUP(UPPER(A112),Items!$B$2:$H$542,7,FALSE)<>0,VLOOKUP(UPPER(A112),Items!$B$2:$H$542,7,FALSE),\"\")","v":""},{"$f":"VLOOKUP(UPPER(A112),Items!$B$2:$C$542,2,FALSE)","v":"Effective Time"}]
["N0266","D",null,null,1,null,null,null,null,null,{"$f":"VLOOKUP(UPPER(A113),Items!$B$2:$G$542,6,FALSE)","v":"number(5)"},{"$f":"IF(VLOOKUP(UPPER(A113),Items!$B$2:$H$542,7,FALSE)<>0,VLOOKUP(UPPER(A113),Items!$B$2:$H$542,7,FALSE),\"\")","v":""},{"$f":"VLOOKUP(UPPER(A113),Items!$B$2:$C$542,2,FALSE)","v":"Notice To Deviate From Zero"},"Only 3 digits expected but all dynmaic data defined as 5 digits for ease of loading"]
[]
["NGC12",{"$f":"IF(LEN(K115)>0,\"D\",IF(LEN(A115)=5,\"F\",IF(LEN(A115)=3,\"R\",\" \")))","v":"F"},null,null,null,null,null,null,null,null,null,null,"NTO-Notice To Deliver Offers File"]
[{"$f":"\"NGG\" &MID(A115,4,2)","v":"NGG12"},"R",1,"G",null,null,null,null,null,null,null,null,{"$f":"LEFT(M115,FIND(\"-\",M115)-1)","v":"NTO"},"Dummy Group"]
["N0290","D",null,null,1,null,null,null,null,null,{"$f":"VLOOKUP(UPPER(A117),Items!$B$2:$G$542,6,FALSE)","v":"varchar2(8)"},{"$f":"IF(VLOOKUP(UPPER(A117),Items!$B$2:$H$542,7,FALSE)<>0,VLOOKUP(UPPER(A117),Items!$B$2:$H$542,7,FALSE),\"\")","v":""},{"$f":"VLOOKUP(UPPER(A117),Items!$B$2:$C$542,2,FALSE)","v":"Data Type"}]
["N0291","D",null,null,1,null,null,null,null,null,{"$f":"VLOOKUP(UPPER(A118),Items!$B$2:$G$542,6,FALSE)","v":"varchar2(9)"},{"$f":"IF(VLOOKUP(UPPER(A118),Items!$B$2:$H$542,7,FALSE)<>0,VLOOKUP(UPPER(A118),Items!$B$2:$H$542,7,FALSE),\"\")","v":""},{"$f":"VLOOKUP(UPPER(A118),Items!$B$2:$C$542,2,FALSE)","v":"BMU Name"}]
["N0252","D",null,null,1,null,null,null,null,null,{"$f":"VLOOKUP(UPPER(A119),Items!$B$2:$G$542,6,FALSE)","v":"datetime"},{"$f":"IF(VLOOKUP(UPPER(A119),Items!$B$2:$H$542,7,FALSE)<>0,VLOOKUP(UPPER(A119),Items!$B$2:$H$542,7,FALSE),\"\")","v":""},{"$f":"VLOOKUP(UPPER(A119),Items!$B$2:$C$542,2,FALSE)","v":"Effective Time"}]
["N0265","D",null,null,1,null,null,null,null,null,{"$f":"VLOOKUP(UPPER(A120),Items!$B$2:$G$542,6,FALSE)","v":"number(5)"},{"$f":"IF(VLOOKUP(UPPER(A120),Items!$B$2:$H$542,7,FALSE)<>0,VLOOKUP(UPPER(A120),Items!$B$2:$H$542,7,FALSE),\"\")","v":""},{"$f":"VLOOKUP(UPPER(A120),Items!$B$2:$C$542,2,FALSE)","v":"Notice To Deliver Offers"},"Only 3 digits expected but all dynmaic data defined as 5 digits for ease of loading"]
[]
["NGC13",{"$f":"IF(LEN(K122)>0,\"D\",IF(LEN(A122)=5,\"F\",IF(LEN(A122)=3,\"R\",\" \")))","v":"F"},null,null,null,null,null,null,null,null,null,null,"NTB-Notice To Deliver Bids File"]
[{"$f":"\"NGG\" &MID(A122,4,2)","v":"NGG13"},"R",1,"G",null,null,null,null,null,null,null,null,{"$f":"LEFT(M122,FIND(\"-\",M122)-1)","v":"NTB"},"Dummy Group"]
["N0290","D",null,null,1,null,null,null,null,null,{"$f":"VLOOKUP(UPPER(A124),Items!$B$2:$G$542,6,FALSE)","v":"varchar2(8)"},{"$f":"IF(VLOOKUP(UPPER(A124),Items!$B$2:$H$542,7,FALSE)<>0,VLOOKUP(UPPER(A124),Items!$B$2:$H$542,7,FALSE),\"\")","v":""},{"$f":"VLOOKUP(UPPER(A124),Items!$B$2:$C$542,2,FALSE)","v":"Data Type"}]
["N0291","D",null,null,1,null,null,null,null,null,{"$f":"VLOOKUP(UPPER(A125),Items!$B$2:$G$542,6,FALSE)","v":"varchar2(9)"},{"$f":"IF(VLOOKUP(UPPER(A125),Items!$B$2:$H$542,7,FALSE)<>0,VLOOKUP(UPPER(A125),Items!$B$2:$H$542,7,FALSE),\"\")","v":""},{"$f":"VLOOKUP(UPPER(A125),Items!$B$2:$C$542,2,FALSE)","v":"BMU Name"}]
["N0252","D",null,null,1,null,null,null,null,null,{"$f":"VLOOKUP(UPPER(A126),Items!$B$2:$G$542,6,FALSE)","v":"datetime"},{"$f":"IF(VLOOKUP(UPPER(A126),Items!$B$2:$H$542,7,FALSE)<>0,VLOOKUP(UPPER(A126),Items!$B$2:$H$542,7,FALSE),\"\")","v":""},{"$f":"VLOOKUP(UPPER(A126),Items!$B$2:$C$542,2,FALSE)","v":"Effective Time"}]
["N0264","D",null,null,1,null,null,null,null,null,{"$f":"VLOOKUP(UPPER(A127),Items!$B$2:$G$542,6,FALSE)","v":"number(5)"},{"$f":"IF(VLOOKUP(UPPER(A127),Items!$B$2:$H$542,7,FALSE)<>0,VLOOKUP(UPPER(A127),Items!$B$2:$H$542,7,FALSE),\"\")","v":""},{"$f":"VLOOKUP(UPPER(A127),Items!$B$2:$C$542,2,FALSE)","v":"Notice To Deliver Bids"},"Only 3 digits expected but all dynmaic data defined as 5 digits for ease of loading"]
[]
["NGC14",{"$f":"IF(LEN(K129)>0,\"D\",IF(LEN(A129)=5,\"F\",IF(LEN(A129)=3,\"R\",\" \")))","v":"F"},null,null,null,null,null,null,null,null,null,null,"MZT-Minimum Zero Time File"]
[{"$f":"\"NGG\" &MID(A129,4,2)","v":"NGG14"},"R",1,"G",null,null,null,null,null,null,null,null,{"$f":"LEFT(M129,FIND(\"-\",M129)-1)","v":"MZT"},"Dummy Group"]
["N0290","D",null,null,1,null,null,null,null,null,{"$f":"VLOOKUP(UPPER(A131),Items!$B$2:$G$542,6,FALSE)","v":"varchar2(8)"},{"$f":"IF(VLOOKUP(UPPER(A131),Items!$B$2:$H$542,7,FALSE)<>0,VLOOKUP(UPPER(A131),Items!$B$2:$H$542,7,FALSE),\"\")","v":""},{"$f":"VLOOKUP(UPPER(A131),Items!$B$2:$C$542,2,FALSE)","v":"Data Type"}]
["N0291","D",null,null,1,null,null,null,null,null,{"$f":"VLOOKUP(UPPER(A132),Items!$B$2:$G$542,6,FALSE)","v":"varchar2(9)"},{"$f":"IF(VLOOKUP(UPPER(A132),Items!$B$2:$H$542,7,FALSE)<>0,VLOOKUP(UPPER(A132),Items!$B$2:$H$542,7,FALSE),\"\")","v":""},{"$f":"VLOOKUP(UPPER(A132),Items!$B$2:$C$542,2,FALSE)","v":"BMU Name"}]
["N0252","D",null,null,1,null,null,null,null,null,{"$f":"VLOOKUP(UPPER(A133),Items!$B$2:$G$542,6,FALSE)","v":"datetime"},{"$f":"IF(VLOOKUP(UPPER(A133),Items!$B$2:$H$542,7,FALSE)<>0,VLOOKUP(UPPER(A133),Items!$B$2:$H$542,7,FALSE),\"\")","v":""},{"$f":"VLOOKUP(UPPER(A133),Items!$B$2:$C$542,2,FALSE)","v":"Effective Time"}]
["N0262","D",null,null,1,null,null,null,null,null,{"$f":"VLOOKUP(UPPER(A134),Items!$B$2:$G$542,6,FALSE)","v":"number(5)"},{"$f":"IF(VLOOKUP(UPPER(A134),Items!$B$2:$H$542,7,FALSE)<>0,VLOOKUP(UPPER(A134),Items!$B$2:$H$542,7,FALSE),\"\")","v":""},{"$f":"VLOOKUP(UPPER(A134),Items!$B$2:$C$542,2,FALSE)","v":"Minimum Zero Time"},"Only 3 digits expected but all dynmaic data defined as 5 digits for ease of loading"]
[]
["NGC15",{"$f":"IF(LEN(K136)>0,\"D\",IF(LEN(A136)=5,\"F\",IF(LEN(A136)=3,\"R\",\" \")))","v":"F"},null,null,null,null,null,null,null,null,null,null,"MNZT-Minimum Non Zero Time File"]
[{"$f":"\"NGG\" &MID(A136,4,2)","v":"NGG15"},"R",1,"G",null,null,null,null,null,null,null,null,{"$f":"LEFT(M136,FIND(\"-\",M136)-1)","v":"MNZT"},"Dummy Group"]
["N0290","D",null,null,1,null,null,null,null,null,{"$f":"VLOOKUP(UPPER(A138),Items!$B$2:$G$542,6,FALSE)","v":"varchar2(8)"},{"$f":"IF(VLOOKUP(UPPER(A138),Items!$B$2:$H$542,7,FALSE)<>0,VLOOKUP(UPPER(A138),Items!$B$2:$H$542,7,FALSE),\"\")","v":""},{"$f":"VLOOKUP(UPPER(A138),Items!$B$2:$C$542,2,FALSE)","v":"Data Type"}]
["N0291","D",null,null,1,null,null,null,null,null,{"$f":"VLOOKUP(UPPER(A139),Items!$B$2:$G$542,6,FALSE)","v":"varchar2(9)"},{"$f":"IF(VLOOKUP(UPPER(A139),Items!$B$2:$H$542,7,FALSE)<>0,VLOOKUP(UPPER(A139),Items!$B$2:$H$542,7,FALSE),\"\")","v":""},{"$f":"VLOOKUP(UPPER(A139),Items!$B$2:$C$542,2,FALSE)","v":"BMU Name"}]
["N0252","D",null,null,1,null,null,null,null,null,{"$f":"VLOOKUP(UPPER(A140),Items!$B$2:$G$542,6,FALSE)","v":"datetime"},{"$f":"IF(VLOOKUP(UPPER(A140),Items!$B$2:$H$542,7,FALSE)<>0,VLOOKUP(UPPER(A140),Items!$B$2:$H$542,7,FALSE),\"\")","v":""},{"$f":"VLOOKUP(UPPER(A140),Items!$B$2:$C$542,2,FALSE)","v":"Effective Time"}]
["N0261","D",null,null,1,null,null,null,null,null,{"$f":"VLOOKUP(UPPER(A141),Items!$B$2:$G$542,6,FALSE)","v":"number(5)"},{"$f":"IF(VLOOKUP(UPPER(A141),Items!$B$2:$H$542,7,FALSE)<>0,VLOOKUP(UPPER(A141),Items!$B$2:$H$542,7,FALSE),\"\")","v":""},{"$f":"VLOOKUP(UPPER(A141),Items!$B$2:$C$542,2,FALSE)","v":"Minimum Non Zero Time"},"Only 3 digits expected but all dynmaic data defined as 5 digits for ease of loading"]
[]
["NGC16",{"$f":"IF(LEN(K143)>0,\"D\",IF(LEN(A143)=5,\"F\",IF(LEN(A143)=3,\"R\",\" \")))","v":"F"},null,null,null,null,null,null,null,null,null,null,"SEL-Stable Export Limit File"]
[{"$f":"\"NGG\" &MID(A143,4,2)","v":"NGG16"},"R",1,"G",null,null,null,null,null,null,null,null,{"$f":"LEFT(M143,FIND(\"-\",M143)-1)","v":"SEL"},"Dummy Group"]
["N0290","D",null,null,1,null,null,null,null,null,{"$f":"VLOOKUP(UPPER(A145),Items!$B$2:$G$542,6,FALSE)","v":"varchar2(8)"},{"$f":"IF(VLOOKUP(UPPER(A145),Items!$B$2:$H$542,7,FALSE)<>0,VLOOKUP(UPPER(A145),Items!$B$2:$H$542,7,FALSE),\"\")","v":""},{"$f":"VLOOKUP(UPPER(A145),Items!$B$2:$C$542,2,FALSE)","v":"Data Type"}]
["N0291","D",null,null,1,null,null,null,null,null,{"$f":"VLOOKUP(UPPER(A146),Items!$B$2:$G$542,6,FALSE)","v":"varchar2(9)"},{"$f":"IF(VLOOKUP(UPPER(A146),Items!$B$2:$H$542,7,FALSE)<>0,VLOOKUP(UPPER(A146),Items!$B$2:$H$542,7,FALSE),\"\")","v":""},{"$f":"VLOOKUP(UPPER(A146),Items!$B$2:$C$542,2,FALSE)","v":"BMU Name"}]
["N0252","D",null,null,1,null,null,null,null,null,{"$f":"VLOOKUP(UPPER(A147),Items!$B$2:$G$542,6,FALSE)","v":"datetime"},{"$f":"IF(VLOOKUP(UPPER(A147),Items!$B$2:$H$542,7,FALSE)<>0,VLOOKUP(UPPER(A147),Items!$B$2:$H$542,7,FALSE),\"\")","v":""},{"$f":"VLOOKUP(UPPER(A147),Items!$B$2:$C$542,2,FALSE)","v":"Effective Time"}]
["N0285","D",null,null,1,null,null,null,null,null,{"$f":"VLOOKUP(UPPER(A148),Items!$B$2:$G$542,6,FALSE)","v":"number(5)"},{"$f":"IF(VLOOKUP(UPPER(A148),Items!$B$2:$H$542,7,FALSE)<>0,VLOOKUP(UPPER(A148),Items!$B$2:$H$542,7,FALSE),\"\")","v":""},{"$f":"VLOOKUP(UPPER(A148),Items!$B$2:$C$542,2,FALSE)","v":"Stable Export Limit"},"Only 4 digits expected but all dynmaic data defined as 5 digits for ease of loading"]
[]
["NGC17",{"$f":"IF(LEN(K150)>0,\"D\",IF(LEN(A150)=5,\"F\",IF(LEN(A150)=3,\"R\",\" \")))","v":"F"},null,null,null,null,null,null,null,null,null,null,"SIL-Stable Import Limit File"]
[{"$f":"\"NGG\" &MID(A150,4,2)","v":"NGG17"},"R",1,"G",null,null,null,null,null,null,null,null,{"$f":"LEFT(M150,FIND(\"-\",M150)-1)","v":"SIL"},"Dummy Group"]
["N0290","D",null,null,1,null,null,null,null,null,{"$f":"VLOOKUP(UPPER(A152),Items!$B$2:$G$542,6,FALSE)","v":"varchar2(8)"},{"$f":"IF(VLOOKUP(UPPER(A152),Items!$B$2:$H$542,7,FALSE)<>0,VLOOKUP(UPPER(A152),Items!$B$2:$H$542,7,FALSE),\"\")","v":""},{"$f":"VLOOKUP(UPPER(A152),Items!$B$2:$C$542,2,FALSE)","v":"Data Type"}]
["N0291","D",null,null,1,null,null,null,null,null,{"$f":"VLOOKUP(UPPER(A153),Items!$B$2:$G$542,6,FALSE)","v":"varchar2(9)"},{"$f":"IF(VLOOKUP(UPPER(A153),Items!$B$2:$H$542,7,FALSE)<>0,VLOOKUP(UPPER(A153),Items!$B$2:$H$542,7,FALSE),\"\")","v":""},{"$f":"VLOOKUP(UPPER(A153),Items!$B$2:$C$542,2,FALSE)","v":"BMU Name"}]
["N0252","D",null,null,1,null,null,null,null,null,{"$f":"VLOOKUP(UPPER(A154),Items!$B$2:$G$542,6,FALSE)","v":"datetime"},{"$f":"IF(VLOOKUP(UPPER(A154),Items!$B$2:$H$542,7,FALSE)<>0,VLOOKUP(UPPER(A154),Items!$B$2:$H$542,7,FALSE),\"\")","v":""},{"$f":"VLOOKUP(UPPER(A154),Items!$B$2:$C$542,2,FALSE)","v":"Effective Time"}]
["N0286","D",null,null,1,null,null,null,null,null,{"$f":"VLOOKUP(UPPER(A155),Items!$B$2:$G$542,6,FALSE)","v":"number(5)"},{"$f":"IF(VLOOKUP(UPPER(A155),Items!$B$2:$H$542,7,FALSE)<>0,VLOOKUP(UPPER(A155),Items!$B$2:$H$542,7,FALSE),\"\")","v":""},{"$f":"VLOOKUP(UPPER(A155),Items!$B$2:$C$542,2,FALSE)","v":"Stable Import Limit"},"Only 4 digits expected but all dynmaic data defined as 5 digits for ease of loading"]
[]
["NGC18",{"$f":"IF(LEN(K157)>0,\"D\",IF(LEN(A157)=5,\"F\",IF(LEN(A157)=3,\"R\",\" \")))","v":"F"},null,null,null,null,null,null,null,null,null,null,"MDV-Maximum Delivery Volume File"]
[{"$f":"\"NGG\" &MID(A157,4,2)","v":"NGG18"},"R",1,"G",null,null,null,null,null,null,null,null,{"$f":"LEFT(M157,FIND(\"-\",M157)-1)","v":"MDV"},"Dummy Group"]
["N0290","D",null,null,1,null,null,null,null,null,{"$f":"VLOOKUP(UPPER(A159),Items!$B$2:$G$542,6,FALSE)","v":"varchar2(8)"},{"$f":"IF(VLOOKUP(UPPER(A159),Items!$B$2:$H$542,7,FALSE)<>0,VLOOKUP(UPPER(A159),Items!$B$2:$H$542,7,FALSE),\"\")","v":""},{"$f":"VLOOKUP(UPPER(A159),Items!$B$2:$C$542,2,FALSE)","v":"Data Type"}]
["N0291","D",null,null,1,null,null,null,null,null,{"$f":"VLOOKUP(UPPER(A160),Items!$B$2:$G$542,6,FALSE)","v":"varchar2(9)"},{"$f":"IF(VLOOKUP(UPPER(A160),Items!$B$2:$H$542,7,FALSE)<>0,VLOOKUP(UPPER(A160),Items!$B$2:$H$542,7,FALSE),\"\")","v":""},{"$f":"VLOOKUP(UPPER(A160),Items!$B$2:$C$542,2,FALSE)","v":"BMU Name"}]
["N0252","D",null,null,1,null,null,null,null,null,{"$f":"VLOOKUP(UPPER(A161),Items!$B$2:$G$542,6,FALSE)","v":"datetime"},{"$f":"IF(VLOOKUP(UPPER(A161),Items!$B$2:$H$542,7,FALSE)<>0,VLOOKUP(UPPER(A161),Items!$B$2:$H$542,7,FALSE),\"\")","v":""},{"$f":"VLOOKUP(UPPER(A161),Items!$B$2:$C$542,2,FALSE)","v":"Effective Time"}]
["N0256","D",null,null,1,null,null,null,null,null,{"$f":"VLOOKUP(UPPER(A162),Items!$B$2:$G$542,6,FALSE)","v":"number(5)"},{"$f":"IF(VLOOKUP(UPPER(A162),Items!$B$2:$H$542,7,FALSE)<>0,VLOOKUP(UPPER(A162),Items!$B$2:$H$542,7,FALSE),\"\")","v":""},{"$f":"VLOOKUP(UPPER(A162),Items!$B$2:$C$542,2,FALSE)","v":"Maximum Delivery Volume"},"No length specified but all dynmaic data defined as 5 digits for ease of loading"]
[]
["NGC19",{"$f":"IF(LEN(K164)>0,\"D\",IF(LEN(A164)=5,\"F\",IF(LEN(A164)=3,\"R\",\" \")))","v":"F"},null,null,null,null,null,null,null,null,null,null,"MDP-Maximum Delivery Period File"]
[{"$f":"\"NGG\" &MID(A164,4,2)","v":"NGG19"},"R",1,"G",null,null,null,null,null,null,null,null,{"$f":"LEFT(M164,FIND(\"-\",M164)-1)","v":"MDP"},"Dummy Group"]
["N0290","D",null,null,1,null,null,null,null,null,{"$f":"VLOOKUP(UPPER(A166),Items!$B$2:$G$542,6,FALSE)","v":"varchar2(8)"},{"$f":"IF(VLOOKUP(UPPER(A166),Items!$B$2:$H$542,7,FALSE)<>0,VLOOKUP(UPPER(A166),Items!$B$2:$H$542,7,FALSE),\"\")","v":""},{"$f":"VLOOKUP(UPPER(A166),Items!$B$2:$C$542,2,FALSE)","v":"Data Type"}]
["N0291","D",null,null,1,null,null,null,null,null,{"$f":"VLOOKUP(UPPER(A167),Items!$B$2:$G$542,6,FALSE)","v":"varchar2(9)"},{"$f":"IF(VLOOKUP(UPPER(A167),Items!$B$2:$H$542,7,FALSE)<>0,VLOOKUP(UPPER(A167),Items!$B$2:$H$542,7,FALSE),\"\")","v":""},{"$f":"VLOOKUP(UPPER(A167),Items!$B$2:$C$542,2,FALSE)","v":"BMU Name"}]
["N0252","D",null,null,1,null,null,null,null,null,{"$f":"VLOOKUP(UPPER(A168),Items!$B$2:$G$542,6,FALSE)","v":"datetime"},{"$f":"IF(VLOOKUP(UPPER(A168),Items!$B$2:$H$542,7,FALSE)<>0,VLOOKUP(UPPER(A168),Items!$B$2:$H$542,7,FALSE),\"\")","v":""},{"$f":"VLOOKUP(UPPER(A168),Items!$B$2:$C$542,2,FALSE)","v":"Effective Time"}]
["N0255","D",null,null,1,null,null,null,null,null,{"$f":"VLOOKUP(UPPER(A169),Items!$B$2:$G$542,6,FALSE)","v":"number(5)"},{"$f":"IF(VLOOKUP(UPPER(A169),Items!$B$2:$H$542,7,FALSE)<>0,VLOOKUP(UPPER(A169),Items!$B$2:$H$542,7,FALSE),\"\")","v":""},{"$f":"VLOOKUP(UPPER(A169),Items!$B$2:$C$542,2,FALSE)","v":"Maximum Delivery Period"},"No length specified but all dynmaic data defined as 5 digits for ease of loading"]
[]
["NGC20",{"$f":"IF(LEN(K171)>0,\"D\",IF(LEN(A171)=5,\"F\",IF(LEN(A171)=3,\"R\",\" \")))","v":"F"},null,null,null,null,null,null,null,null,null,null,"INDGEN-Indicated Generation File"]
[{"$f":"\"NGG\" &MID(A171,4,2)","v":"NGG20"},"R",1,"G",null,null,null,null,null,null,null,null,{"$f":"LEFT(M171,FIND(\"-\",M171)-1)","v":"INDGEN"},"Dummy Group"]
["N0290","D",null,null,1,null,null,null,null,null,{"$f":"VLOOKUP(UPPER(A173),Items!$B$2:$G$542,6,FALSE)","v":"varchar2(8)"},{"$f":"IF(VLOOKUP(UPPER(A173),Items!$B$2:$H$542,7,FALSE)<>0,VLOOKUP(UPPER(A173),Items!$B$2:$H$542,7,FALSE),\"\")","v":""},{"$f":"VLOOKUP(UPPER(A173),Items!$B$2:$C$542,2,FALSE)","v":"Data Type"}]
["N0270","D",null,null,1,null,null,null,null,null,{"$f":"VLOOKUP(UPPER(A174),Items!$B$2:$G$542,6,FALSE)","v":"datetime"},{"$f":"IF(VLOOKUP(UPPER(A174),Items!$B$2:$H$542,7,FALSE)<>0,VLOOKUP(UPPER(A174),Items!$B$2:$H$542,7,FALSE),\"\")","v":""},{"$f":"VLOOKUP(UPPER(A174),Items!$B$2:$C$542,2,FALSE)","v":"Publishing Period Commencing Time"}]
["N0287","D",null,null,1,null,null,null,null,null,{"$f":"VLOOKUP(UPPER(A175),Items!$B$2:$G$542,6,FALSE)","v":"datetime"},{"$f":"IF(VLOOKUP(UPPER(A175),Items!$B$2:$H$542,7,FALSE)<>0,VLOOKUP(UPPER(A175),Items!$B$2:$H$542,7,FALSE),\"\")","v":""},{"$f":"VLOOKUP(UPPER(A175),Items!$B$2:$C$542,2,FALSE)","v":"Start Time Of Half Hr Period"}]
["N0263","D",null,null,1,null,null,null,null,null,{"$f":"VLOOKUP(UPPER(A176),Items!$B$2:$G$542,6,FALSE)","v":"varchar2(3)"},{"$f":"IF(VLOOKUP(UPPER(A176),Items!$B$2:$H$542,7,FALSE)<>0,VLOOKUP(UPPER(A176),Items!$B$2:$H$542,7,FALSE),\"\")","v":"Zone Indicator"},{"$f":"VLOOKUP(UPPER(A176),Items!$B$2:$C$542,2,FALSE)","v":"National Boundary Identifier"}]
["N0284","D",null,null,1,null,null,null,null,null,{"$f":"VLOOKUP(UPPER(A177),Items!$B$2:$G$542,6,FALSE)","v":"number(5)"},{"$f":"IF(VLOOKUP(UPPER(A177),Items!$B$2:$H$542,7,FALSE)<>0,VLOOKUP(UPPER(A177),Items!$B$2:$H$542,7,FALSE),\"\")","v":"SPN Generation"},{"$f":"VLOOKUP(UPPER(A177),Items!$B$2:$C$542,2,FALSE)","v":"SPN Generation"}]
[]
["NGC21",{"$f":"IF(LEN(K179)>0,\"D\",IF(LEN(A179)=5,\"F\",IF(LEN(A179)=3,\"R\",\" \")))","v":"F"},null,null,null,null,null,null,null,null,null,null,"INDDEM-Indicated Demand File"]
[{"$f":"\"NGG\" &MID(A179,4,2)","v":"NGG21"},"R",1,"G",null,null,null,null,null,null,null,null,{"$f":"LEFT(M179,FIND(\"-\",M179)-1)","v":"INDDEM"},"Dummy Group"]
["N0290","D",null,null,1,null,null,null,null,null,{"$f":"VLOOKUP(UPPER(A181),Items!$B$2:$G$542,6,FALSE)","v":"varchar2(8)"},{"$f":"IF(VLOOKUP(UPPER(A181),Items!$B$2:$H$542,7,FALSE)<>0,VLOOKUP(UPPER(A181),Items!$B$2:$H$542,7,FALSE),\"\")","v":""},{"$f":"VLOOKUP(UPPER(A181),Items!$B$2:$C$542,2,FALSE)","v":"Data Type"}]
["N0270","D",null,null,1,null,null,null,null,null,{"$f":"VLOOKUP(UPPER(A182),Items!$B$2:$G$542,6,FALSE)","v":"datetime"},{"$f":"IF(VLOOKUP(UPPER(A182),Items!$B$2:$H$542,7,FALSE)<>0,VLOOKUP(UPPER(A182),Items!$B$2:$H$542,7,FALSE),\"\")","v":""},{"$f":"VLOOKUP(UPPER(A182),Items!$B$2:$C$542,2,FALSE)","v":"Publishing Period Commencing Time"}]
["N0287","D",null,null,1,null,null,null,null,null,{"$f":"VLOOKUP(UPPER(A183),Items!$B$2:$G$542,6,FALSE)","v":"datetime"},{"$f":"IF(VLOOKUP(UPPER(A183),Items!$B$2:$H$542,7,FALSE)<>0,VLOOKUP(UPPER(A183),Items!$B$2:$H$542,7,FALSE),\"\")","v":""},{"$f":"VLOOKUP(UPPER(A183),Items!$B$2:$C$542,2,FALSE)","v":"Start Time Of Half Hr Period"}]
["N0263","D",null,null,1,null,null,null,null,null,{"$f":"VLOOKUP(UPPER(A184),Items!$B$2:$G$542,6,FALSE)","v":"varchar2(3)"},{"$f":"IF(VLOOKUP(UPPER(A184),Items!$B$2:$H$542,7,FALSE)<>0,VLOOKUP(UPPER(A184),Items!$B$2:$H$542,7,FALSE),\"\")","v":"Zone Indicator"},{"$f":"VLOOKUP(UPPER(A184),Items!$B$2:$C$542,2,FALSE)","v":"National Boundary Identifier"}]
["N0283","D",null,null,1,null,null,null,null,null,{"$f":"VLOOKUP(UPPER(A185),Items!$B$2:$G$542,6,FALSE)","v":"number(5)"},{"$f":"IF(VLOOKUP(UPPER(A185),Items!$B$2:$H$542,7,FALSE)<>0,VLOOKUP(UPPER(A185),Items!$B$2:$H$542,7,FALSE),\"\")","v":"SPN Demand"},{"$f":"VLOOKUP(UPPER(A185),Items!$B$2:$C$542,2,FALSE)","v":"SPN Demand"}]
[]
["NGC22",{"$f":"IF(LEN(K187)>0,\"D\",IF(LEN(A187)=5,\"F\",IF(LEN(A187)=3,\"R\",\" \")))","v":"F"},null,null,null,null,null,null,null,null,null,null,"DF-Demand Forecast File"]
[{"$f":"\"NGG\" &MID(A187,4,2)","v":"NGG22"},"R",1,"G",null,null,null,null,null,null,null,null,{"$f":"LEFT(M187,FIND(\"-\",M187)-1)","v":"DF"},"Dummy Group"]
["N0290","D",null,null,1,null,null,null,null,null,{"$f":"VLOOKUP(UPPER(A189),Items!$B$2:$G$542,6,FALSE)","v":"varchar2(8)"},{"$f":"IF(VLOOKUP(UPPER(A189),Items!$B$2:$H$542,7,FALSE)<>0,VLOOKUP(UPPER(A189),Items!$B$2:$H$542,7,FALSE),\"\")","v":""},{"$f":"VLOOKUP(UPPER(A189),Items!$B$2:$C$525,2,FALSE)","v":"Data Type"}]
["N0270","D",null,null,1,null,null,null,null,null,{"$f":"VLOOKUP(UPPER(A190),Items!$B$2:$G$542,6,FALSE)","v":"datetime"},{"$f":"IF(VLOOKUP(UPPER(A190),Items!$B$2:$H$542,7,FALSE)<>0,VLOOKUP(UPPER(A190),Items!$B$2:$H$542,7,FALSE),\"\")","v":""},{"$f":"VLOOKUP(UPPER(A190),Items!$B$2:$C$525,2,FALSE)","v":"Publishing Period Commencing Time"}]
["N0287","D",null,null,1,null,null,null,null,null,{"$f":"VLOOKUP(UPPER(A191),Items!$B$2:$G$542,6,FALSE)","v":"datetime"},{"$f":"IF(VLOOKUP(UPPER(A191),Items!$B$2:$H$542,7,FALSE)<>0,VLOOKUP(UPPER(A191),Items!$B$2:$H$542,7,FALSE),\"\")","v":""},{"$f":"VLOOKUP(UPPER(A191),Items!$B$2:$C$525,2,FALSE)","v":"Start Time Of Half Hr Period"}]
["N0263","D",null,null,1,null,null,null,null,null,{"$f":"VLOOKUP(UPPER(A192),Items!$B$2:$G$542,6,FALSE)","v":"varchar2(3)"},{"$f":"IF(VLOOKUP(UPPER(A192),Items!$B$2:$H$542,7,FALSE)<>0,VLOOKUP(UPPER(A192),Items!$B$2:$H$542,7,FALSE),\"\")","v":"Zone Indicator"},{"$f":"VLOOKUP(UPPER(A192),Items!$B$2:$C$525,2,FALSE)","v":"National Boundary Identifier"}]
["N0251","D",null,null,1,null,null,null,null,null,{"$f":"VLOOKUP(UPPER(A193),Items!$B$2:$G$542,6,FALSE)","v":"number(5)"},{"$f":"IF(VLOOKUP(UPPER(A193),Items!$B$2:$H$542,7,FALSE)<>0,VLOOKUP(UPPER(A193),Items!$B$2:$H$542,7,FALSE),\"\")","v":"Demand"},{"$f":"VLOOKUP(UPPER(A193),Items!$B$2:$C$525,2,FALSE)","v":"Demand"}]
[]
["NGC23",{"$f":"IF(LEN(K195)>0,\"D\",IF(LEN(A195)=5,\"F\",IF(LEN(A195)=3,\"R\",\" \")))","v":"F"},null,null,null,null,null,null,null,null,null,null,"INDO-Initial National Demand Out Turn File"]
[{"$f":"\"NGG\" &MID(A195,4,2)","v":"NGG23"},"R",1,"G",null,null,null,null,null,null,null,null,{"$f":"LEFT(M195,FIND(\"-\",M195)-1)","v":"INDO"},"Dummy Group"]
["N0290","D",null,null,1,null,null,null,null,null,{"$f":"VLOOKUP(UPPER(A197),Items!$B$2:$G$542,6,FALSE)","v":"varchar2(8)"},{"$f":"IF(VLOOKUP(UPPER(A197),Items!$B$2:$H$542,7,FALSE)<>0,VLOOKUP(UPPER(A197),Items!$B$2:$H$542,7,FALSE),\"\")","v":""},{"$f":"VLOOKUP(UPPER(A197),Items!$B$2:$C$542,2,FALSE)","v":"Data Type"}]
["N0270","D",null,null,1,null,null,null,null,null,{"$f":"VLOOKUP(UPPER(A198),Items!$B$2:$G$542,6,FALSE)","v":"datetime"},{"$f":"IF(VLOOKUP(UPPER(A198),Items!$B$2:$H$542,7,FALSE)<>0,VLOOKUP(UPPER(A198),Items!$B$2:$H$542,7,FALSE),\"\")","v":""},{"$f":"VLOOKUP(UPPER(A198),Items!$B$2:$C$542,2,FALSE)","v":"Publishing Period Commencing Time"}]
["N0287","D",null,null,1,null,null,null,null,null,{"$f":"VLOOKUP(UPPER(A199),Items!$B$2:$G$542,6,FALSE)","v":"datetime"},{"$f":"IF(VLOOKUP(UPPER(A199),Items!$B$2:$H$542,7,FALSE)<>0,VLOOKUP(UPPER(A199),Items!$B$2:$H$542,7,FALSE),\"\")","v":""},{"$f":"VLOOKUP(UPPER(A199),Items!$B$2:$C$542,2,FALSE)","v":"Start Time Of Half Hr Period"}]
["N0251","D",null,null,1,null,null,null,null,null,{"$f":"VLOOKUP(UPPER(A200),Items!$B$2:$G$542,6,FALSE)","v":"number(5)"},{"$f":"IF(VLOOKUP(UPPER(A200),Items!$B$2:$H$542,7,FALSE)<>0,VLOOKUP(UPPER(A200),Items!$B$2:$H$542,7,FALSE),\"\")","v":"Demand"},{"$f":"VLOOKUP(UPPER(A200),Items!$B$2:$C$542,2,FALSE)","v":"Demand"}]
[]
["NGC24",{"$f":"IF(LEN(K202)>0,\"D\",IF(LEN(A202)=5,\"F\",IF(LEN(A202)=3,\"R\",\" \")))","v":"F"},null,null,null,null,null,null,null,null,null,null,"NDFD-National Demand Forecast Day File"]
[{"$f":"\"NGG\" &MID(A202,4,2)","v":"NGG24"},"R",1,"G",null,null,null,null,null,null,null,null,{"$f":"LEFT(M202,FIND(\"-\",M202)-1)","v":"NDFD"},"Dummy Group"]
["N0290","D",null,null,1,null,null,null,null,null,{"$f":"VLOOKUP(UPPER(A204),Items!$B$2:$G$542,6,FALSE)","v":"varchar2(8)"},{"$f":"IF(VLOOKUP(UPPER(A204),Items!$B$2:$H$542,7,FALSE)<>0,VLOOKUP(UPPER(A204),Items!$B$2:$H$542,7,FALSE),\"\")","v":""},{"$f":"VLOOKUP(UPPER(A204),Items!$B$2:$C$542,2,FALSE)","v":"Data Type"}]
["N0270","D",null,null,1,null,null,null,null,null,{"$f":"VLOOKUP(UPPER(A205),Items!$B$2:$G$542,6,FALSE)","v":"datetime"},{"$f":"IF(VLOOKUP(UPPER(A205),Items!$B$2:$H$542,7,FALSE)<>0,VLOOKUP(UPPER(A205),Items!$B$2:$H$542,7,FALSE),\"\")","v":""},{"$f":"VLOOKUP(UPPER(A205),Items!$B$2:$C$542,2,FALSE)","v":"Publishing Period Commencing Time"}]
["N0249","D",null,null,1,null,null,null,null,null,{"$f":"VLOOKUP(UPPER(A206),Items!$B$2:$G$542,6,FALSE)","v":"datetime"},{"$f":"IF(VLOOKUP(UPPER(A206),Items!$B$2:$H$542,7,FALSE)<>0,VLOOKUP(UPPER(A206),Items!$B$2:$H$542,7,FALSE),\"\")","v":""},{"$f":"VLOOKUP(UPPER(A206),Items!$B$2:$C$542,2,FALSE)","v":"Day Of Forecast"}]
["N0251","D",null,null,1,null,null,null,null,null,{"$f":"VLOOKUP(UPPER(A207),Items!$B$2:$G$542,6,FALSE)","v":"number(5)"},{"$f":"IF(VLOOKUP(UPPER(A207),Items!$B$2:$H$542,7,FALSE)<>0,VLOOKUP(UPPER(A207),Items!$B$2:$H$542,7,FALSE),\"\")","v":"Demand"},{"$f":"VLOOKUP(UPPER(A207),Items!$B$2:$C$542,2,FALSE)","v":"Demand"}]
[]
["NGC25",{"$f":"IF(LEN(K209)>0,\"D\",IF(LEN(A209)=5,\"F\",IF(LEN(A209)=3,\"R\",\" \")))","v":"F"},null,null,null,null,null,null,null,null,null,null,"NDFW-National Demand Forecast Week File"]
[{"$f":"\"NGG\" &MID(A209,4,2)","v":"NGG25"},"R",1,"G",null,null,null,null,null,null,null,null,{"$f":"LEFT(M209,FIND(\"-\",M209)-1)","v":"NDFW"},"Dummy Group"]
["N0290","D",null,null,1,null,null,null,null,null,{"$f":"VLOOKUP(UPPER(A211),Items!$B$2:$G$542,6,FALSE)","v":"varchar2(8)"},{"$f":"IF(VLOOKUP(UPPER(A211),Items!$B$2:$H$542,7,FALSE)<>0,VLOOKUP(UPPER(A211),Items!$B$2:$H$542,7,FALSE),\"\")","v":""},{"$f":"VLOOKUP(UPPER(A211),Items!$B$2:$C$542,2,FALSE)","v":"Data Type"}]
["N0270","D",null,null,1,null,null,null,null,null,{"$f":"VLOOKUP(UPPER(A212),Items!$B$2:$G$542,6,FALSE)","v":"datetime"},{"$f":"IF(VLOOKUP(UPPER(A212),Items!$B$2:$H$542,7,FALSE)<>0,VLOOKUP(UPPER(A212),Items!$B$2:$H$542,7,FALSE),\"\")","v":""},{"$f":"VLOOKUP(UPPER(A212),Items!$B$2:$C$542,2,FALSE)","v":"Publishing Period Commencing Time"}]
["N0248","D",null,null,1,null,null,null,null,null,{"$f":"VLOOKUP(UPPER(A213),Items!$B$2:$G$542,6,FALSE)","v":"number(2)"},{"$f":"IF(VLOOKUP(UPPER(A213),Items!$B$2:$H$542,7,FALSE)<>0,VLOOKUP(UPPER(A213),Items!$B$2:$H$542,7,FALSE),\"\")","v":"Week Number"},{"$f":"VLOOKUP(UPPER(A213),Items!$B$2:$C$542,2,FALSE)","v":"Calendar Week Number"}]
["N0251","D",null,null,1,null,null,null,null,null,{"$f":"VLOOKUP(UPPER(A214),Items!$B$2:$G$542,6,FALSE)","v":"number(5)"},{"$f":"IF(VLOOKUP(UPPER(A214),Items!$B$2:$H$542,7,FALSE)<>0,VLOOKUP(UPPER(A214),Items!$B$2:$H$542,7,FALSE),\"\")","v":"Demand"},{"$f":"VLOOKUP(UPPER(A214),Items!$B$2:$C$542,2,FALSE)","v":"Demand"}]
[]
["NGC26",{"$f":"IF(LEN(K216)>0,\"D\",IF(LEN(A216)=5,\"F\",IF(LEN(A216)=3,\"R\",\" \")))","v":"F"},null,null,null,null,null,null,null,null,null,null,"OCNMFD-Forecast national Surplus Data For 2 14 Days File"]
[{"$f":"\"NGG\" &MID(A216,4,2)","v":"NGG26"},"R",1,"G",null,null,null,null,null,null,null,null,{"$f":"LEFT(M216,FIND(\"-\",M216)-1)","v":"OCNMFD"},"Dummy Group"]
["N0290","D",null,null,1,null,null,null,null,null,{"$f":"VLOOKUP(UPPER(A218),Items!$B$2:$G$542,6,FALSE)","v":"varchar2(8)"},{"$f":"IF(VLOOKUP(UPPER(A218),Items!$B$2:$H$542,7,FALSE)<>0,VLOOKUP(UPPER(A218),Items!$B$2:$H$542,7,FALSE),\"\")","v":""},{"$f":"VLOOKUP(UPPER(A218),Items!$B$2:$C$542,2,FALSE)","v":"Data Type"}]
["N0270","D",null,null,1,null,null,null,null,null,{"$f":"VLOOKUP(UPPER(A219),Items!$B$2:$G$542,6,FALSE)","v":"datetime"},{"$f":"IF(VLOOKUP(UPPER(A219),Items!$B$2:$H$542,7,FALSE)<>0,VLOOKUP(UPPER(A219),Items!$B$2:$H$542,7,FALSE),\"\")","v":""},{"$f":"VLOOKUP(UPPER(A219),Items!$B$2:$C$542,2,FALSE)","v":"Publishing Period Commencing Time"}]
["N0249","D",null,null,1,null,null,null,null,null,{"$f":"VLOOKUP(UPPER(A220),Items!$B$2:$G$542,6,FALSE)","v":"datetime"},{"$f":"IF(VLOOKUP(UPPER(A220),Items!$B$2:$H$542,7,FALSE)<>0,VLOOKUP(UPPER(A220),Items!$B$2:$H$542,7,FALSE),\"\")","v":""},{"$f":"VLOOKUP(UPPER(A220),Items!$B$2:$C$542,2,FALSE)","v":"Day Of Forecast"}]
["N0254","D",null,null,1,null,null,null,null,null,{"$f":"VLOOKUP(UPPER(A221),Items!$B$2:$G$542,6,FALSE)","v":"number(5)"},{"$f":"IF(VLOOKUP(UPPER(A221),Items!$B$2:$H$542,7,FALSE)<>0,VLOOKUP(UPPER(A221),Items!$B$2:$H$542,7,FALSE),\"\")","v":"Margin"},{"$f":"VLOOKUP(UPPER(A221),Items!$B$2:$C$542,2,FALSE)","v":"Margin"}]
[]
["NGC27",{"$f":"IF(LEN(K223)>0,\"D\",IF(LEN(A223)=5,\"F\",IF(LEN(A223)=3,\"R\",\" \")))","v":"F"},null,null,null,null,null,null,null,null,null,null,"OCNMFW-Forecast national Surplus Data For 2 14 Days File"]
[{"$f":"\"NGG\" &MID(A223,4,2)","v":"NGG27"},"R",1,"G",null,null,null,null,null,null,null,null,{"$f":"LEFT(M223,FIND(\"-\",M223)-1)","v":"OCNMFW"},"Dummy Group"]
["N0290","D",null,null,1,null,null,null,null,null,{"$f":"VLOOKUP(UPPER(A225),Items!$B$2:$G$542,6,FALSE)","v":"varchar2(8)"},{"$f":"IF(VLOOKUP(UPPER(A225),Items!$B$2:$H$542,7,FALSE)<>0,VLOOKUP(UPPER(A225),Items!$B$2:$H$542,7,FALSE),\"\")","v":""},{"$f":"VLOOKUP(UPPER(A225),Items!$B$2:$C$542,2,FALSE)","v":"Data Type"}]
["N0270","D",null,null,1,null,null,null,null,null,{"$f":"VLOOKUP(UPPER(A226),Items!$B$2:$G$542,6,FALSE)","v":"datetime"},{"$f":"IF(VLOOKUP(UPPER(A226),Items!$B$2:$H$542,7,FALSE)<>0,VLOOKUP(UPPER(A226),Items!$B$2:$H$542,7,FALSE),\"\")","v":""},{"$f":"VLOOKUP(UPPER(A226),Items!$B$2:$C$542,2,FALSE)","v":"Publishing Period Commencing Time"}]
["N0248","D",null,null,1,null,null,null,null,null,{"$f":"VLOOKUP(UPPER(A227),Items!$B$2:$G$542,6,FALSE)","v":"number(2)"},{"$f":"IF(VLOOKUP(UPPER(A227),Items!$B$2:$H$542,7,FALSE)<>0,VLOOKUP(UPPER(A227),Items!$B$2:$H$542,7,FALSE),\"\")","v":"Week Number"},{"$f":"VLOOKUP(UPPER(A227),Items!$B$2:$C$542,2,FALSE)","v":"Calendar Week Number"}]
["N0254","D",null,null,1,null,null,null,null,null,{"$f":"VLOOKUP(UPPER(A228),Items!$B$2:$G$542,6,FALSE)","v":"number(5)"},{"$f":"IF(VLOOKUP(UPPER(A228),Items!$B$2:$H$542,7,FALSE)<>0,VLOOKUP(UPPER(A228),Items!$B$2:$H$542,7,FALSE),\"\")","v":"Margin"},{"$f":"VLOOKUP(UPPER(A228),Items!$B$2:$C$542,2,FALSE)","v":"Margin"}]
[]
["NGC28",{"$f":"IF(LEN(K230)>0,\"D\",IF(LEN(A230)=5,\"F\",IF(LEN(A230)=3,\"R\",\" \")))","v":"F"},null,null,null,null,null,null,null,null,null,null,"MELNGC-Indicated Margin File"]
[{"$f":"\"NGG\" &MID(A230,4,2)","v":"NGG28"},"R",1,"G",null,null,null,null,null,null,null,null,{"$f":"LEFT(M230,FIND(\"-\",M230)-1)","v":"MELNGC"},"Dummy Group"]
["N0290","D",null,null,1,null,null,null,null,null,{"$f":"VLOOKUP(UPPER(A232),Items!$B$2:$G$542,6,FALSE)","v":"varchar2(8)"},{"$f":"IF(VLOOKUP(UPPER(A232),Items!$B$2:$H$542,7,FALSE)<>0,VLOOKUP(UPPER(A232),Items!$B$2:$H$542,7,FALSE),\"\")","v":""},{"$f":"VLOOKUP(UPPER(A232),Items!$B$2:$C$542,2,FALSE)","v":"Data Type"}]
["N0270","D",null,null,1,null,null,null,null,null,{"$f":"VLOOKUP(UPPER(A233),Items!$B$2:$G$542,6,FALSE)","v":"datetime"},{"$f":"IF(VLOOKUP(UPPER(A233),Items!$B$2:$H$542,7,FALSE)<>0,VLOOKUP(UPPER(A233),Items!$B$2:$H$542,7,FALSE),\"\")","v":""},{"$f":"VLOOKUP(UPPER(A233),Items!$B$2:$C$542,2,FALSE)","v":"Publishing Period Commencing Time"}]
["N0287","D",null,null,1,null,null,null,null,null,{"$f":"VLOOKUP(UPPER(A234),Items!$B$2:$G$542,6,FALSE)","v":"datetime"},{"$f":"IF(VLOOKUP(UPPER(A234),Items!$B$2:$H$542,7,FALSE)<>0,VLOOKUP(UPPER(A234),Items!$B$2:$H$542,7,FALSE),\"\")","v":""},{"$f":"VLOOKUP(UPPER(A234),Items!$B$2:$C$542,2,FALSE)","v":"Start Time Of Half Hr Period"}]
["N0263","D",null,null,1,null,null,null,null,null,{"$f":"VLOOKUP(UPPER(A235),Items!$B$2:$G$542,6,FALSE)","v":"varchar2(3)"},{"$f":"IF(VLOOKUP(UPPER(A235),Items!$B$2:$H$542,7,FALSE)<>0,VLOOKUP(UPPER(A235),Items!$B$2:$H$542,7,FALSE),\"\")","v":"Zone Indicator"},{"$f":"VLOOKUP(UPPER(A235),Items!$B$2:$C$542,2,FALSE)","v":"National Boundary Identifier"}]
["N0254","D",null,null,1,null,null,null,null,null,{"$f":"VLOOKUP(UPPER(A236),Items!$B$2:$G$542,6,FALSE)","v":"number(5)"},{"$f":"IF(VLOOKUP(UPPER(A236),Items!$B$2:$H$542,7,FALSE)<>0,VLOOKUP(UPPER(A236),Items!$B$2:$H$542,7,FALSE),\"\")","v":"Margin"},{"$f":"VLOOKUP(UPPER(A236),Items!$B$2:$C$542,2,FALSE)","v":"Margin"}]
[]
["NGC29",{"$f":"IF(LEN(K238)>0,\"D\",IF(LEN(A238)=5,\"F\",IF(LEN(A238)=3,\"R\",\" \")))","v":"F"},null,null,null,null,null,null,null,null,null,null,"IMBALNGC-Indicated Imbalance File"]
[{"$f":"\"NGG\" &MID(A238,4,2)","v":"NGG29"},"R",1,"G",null,null,null,null,null,null,null,null,{"$f":"LEFT(M238,FIND(\"-\",M238)-1)","v":"IMBALNGC"},"Dummy Group"]
["N0290","D",null,null,1,null,null,null,null,null,{"$f":"VLOOKUP(UPPER(A240),Items!$B$2:$G$542,6,FALSE)","v":"varchar2(8)"},{"$f":"IF(VLOOKUP(UPPER(A240),Items!$B$2:$H$542,7,FALSE)<>0,VLOOKUP(UPPER(A240),Items!$B$2:$H$542,7,FALSE),\"\")","v":""},{"$f":"VLOOKUP(UPPER(A240),Items!$B$2:$C$542,2,FALSE)","v":"Data Type"}]
["N0270","D",null,null,1,null,null,null,null,null,{"$f":"VLOOKUP(UPPER(A241),Items!$B$2:$G$542,6,FALSE)","v":"datetime"},{"$f":"IF(VLOOKUP(UPPER(A241),Items!$B$2:$H$542,7,FALSE)<>0,VLOOKUP(UPPER(A241),Items!$B$2:$H$542,7,FALSE),\"\")","v":""},{"$f":"VLOOKUP(UPPER(A241),Items!$B$2:$C$542,2,FALSE)","v":"Publishing Period Commencing Time"}]
["N0287","D",null,null,1,null,null,null,null,null,{"$f":"VLOOKUP(UPPER(A242),Items!$B$2:$G$542,6,FALSE)","v":"datetime"},{"$f":"IF(VLOOKUP(UPPER(A242),Items!$B$2:$H$542,7,FALSE)<>0,VLOOKUP(UPPER(A242),Items!$B$2:$H$542,7,FALSE),\"\")","v":""},{"$f":"VLOOKUP(UPPER(A242),Items!$B$2:$C$542,2,FALSE)","v":"Start Time Of Half Hr Period"}]
["N0263","D",null,null,1,null,null,null,null,null,{"$f":"VLOOKUP(UPPER(A243),Items!$B$2:$G$542,6,FALSE)","v":"varchar2(3)"},{"$f":"IF(VLOOKUP(UPPER(A243),Items!$B$2:$H$542,7,FALSE)<>0,VLOOKUP(UPPER(A243),Items!$B$2:$H$542,7,FALSE),\"\")","v":"Zone Indicator"},{"$f":"VLOOKUP(UPPER(A243),Items!$B$2:$C$542,2,FALSE)","v":"National Boundary Identifier"}]
["N0253","D",null,null,1,null,null,null,null,null,{"$f":"VLOOKUP(UPPER(A244),Items!$B$2:$G$542,6,FALSE)","v":"number(5)"},{"$f":"IF(VLOOKUP(UPPER(A244),Items!$B$2:$H$542,7,FALSE)<>0,VLOOKUP(UPPER(A244),Items!$B$2:$H$542,7,FALSE),\"\")","v":"Imbalance"},{"$f":"VLOOKUP(UPPER(A244),Items!$B$2:$C$542,2,FALSE)","v":"Imbalance Value"}]
[]
["NGC30",{"$f":"IF(LEN(K246)>0,\"D\",IF(LEN(A246)=5,\"F\",IF(LEN(A246)=3,\"R\",\" \")))","v":"F"},null,null,null,null,null,null,null,null,null,null,"BSAD-Cost & price Adjustment","Only valid for Settlement Dates prior to P78 effective date"]
["NGG30","R",1,"G",null,null,null,null,null,null,null,null,"BSAD","Dummy Group used in flows BMRA-I014 and SAA-I026"]
["N0290","D",null,null,1,null,null,null,null,null,{"$f":"VLOOKUP(UPPER(A248),Items!$B$2:$G$542,6,FALSE)","v":"varchar2(8)"},{"$f":"IF(VLOOKUP(UPPER(A248),Items!$B$2:$H$542,7,FALSE)<>0,VLOOKUP(UPPER(A248),Items!$B$2:$H$542,7,FALSE),\"\")","v":""},{"$f":"VLOOKUP(UPPER(A248),Items!$B$2:$C$542,2,FALSE)","v":"Data Type"},"\"BSAD\""]
["N0340","D",null,null,1,null,null,null,null,null,{"$f":"VLOOKUP(UPPER(A249),Items!$B$2:$G$542,6,FALSE)","v":"text(10)"},{"$f":"IF(VLOOKUP(UPPER(A249),Items!$B$2:$H$542,7,FALSE)<>0,VLOOKUP(UPPER(A249),Items!$B$2:$H$542,7,FALSE),\"\")","v":""},{"$f":"VLOOKUP(UPPER(A249),Items!$B$2:$C$542,2,FALSE)","v":"Sett Date"},"Format YYYY-MM-DD (validated by business loader)"]
["N0201","D",null,null,1,null,null,null,null,null,{"$f":"VLOOKUP(UPPER(A250),Items!$B$2:$G$542,6,FALSE)","v":"integer(2)"},{"$f":"IF(VLOOKUP(UPPER(A250),Items!$B$2:$H$542,7,FALSE)<>0,VLOOKUP(UPPER(A250),Items!$B$2:$H$542,7,FALSE),\"\")","v":""},{"$f":"VLOOKUP(UPPER(A250),Items!$B$2:$C$542,2,FALSE)","v":"Settlement Period"},"Value range 1 - 50"]
["N0306","D",null,null,1,null,null,null,null,null,{"$f":"VLOOKUP(UPPER(A251),Items!$B$2:$G$542,6,FALSE)","v":"decimal(10,2)"},{"$f":"IF(VLOOKUP(UPPER(A251),Items!$B$2:$H$542,7,FALSE)<>0,VLOOKUP(UPPER(A251),Items!$B$2:$H$542,7,FALSE),\"\")","v":""},"Buy-Price Cost Adjustment / Net Energy Buy-Price Cost Adjustment","BCA"]
["N0308","D",null,null,1,null,null,null,null,null,{"$f":"VLOOKUP(UPPER(A252),Items!$B$2:$G$542,6,FALSE)","v":"decimal(10,3)"},{"$f":"IF(VLOOKUP(UPPER(A252),Items!$B$2:$H$542,7,FALSE)<>0,VLOOKUP(UPPER(A252),Items!$B$2:$H$542,7,FALSE),\"\")","v":""},"Buy-Price Volume Adjustment / Net Energy Buy-Price Volume Adjustment","BVA"]
["N0372","D",null,null,1,null,null,null,null,null,{"$f":"VLOOKUP(UPPER(A253),Items!$B$2:$G$542,6,FALSE)","v":"decimal(10,2)"},{"$f":"IF(VLOOKUP(UPPER(A253),Items!$B$2:$H$542,7,FALSE)<>0,VLOOKUP(UPPER(A253),Items!$B$2:$H$542,7,FALSE),\"\")","v":""},{"$f":"VLOOKUP(UPPER(A253),Items!$B$2:$C$542,2,FALSE)","v":"Buy-Price Price Adjust"},"BPA"]
["N0305","D",null,null,1,null,null,null,null,null,{"$f":"VLOOKUP(UPPER(A254),Items!$B$2:$G$542,6,FALSE)","v":"decimal(10,2)"},{"$f":"IF(VLOOKUP(UPPER(A254),Items!$B$2:$H$542,7,FALSE)<>0,VLOOKUP(UPPER(A254),Items!$B$2:$H$542,7,FALSE),\"\")","v":""},"Sell-Price Cost Adjustment / Net Energy Sell-Price Cost Adjustment","SCA"]
["N0307","D",null,null,1,null,null,null,null,null,{"$f":"VLOOKUP(UPPER(A255),Items!$B$2:$G$542,6,FALSE)","v":"decimal(10,3)"},{"$f":"IF(VLOOKUP(UPPER(A255),Items!$B$2:$H$542,7,FALSE)<>0,VLOOKUP(UPPER(A255),Items!$B$2:$H$542,7,FALSE),\"\")","v":""},"Sell-Price Volume Adjustment / Net Energy Sell-Price Volume Adjustment","SVA"]
["N0371","D",null,null,1,null,null,null,null,null,{"$f":"VLOOKUP(UPPER(A256),Items!$B$2:$G$542,6,FALSE)","v":"decimal(10,2)"},{"$f":"IF(VLOOKUP(UPPER(A256),Items!$B$2:$H$542,7,FALSE)<>0,VLOOKUP(UPPER(A256),Items!$B$2:$H$542,7,FALSE),\"\")","v":""},{"$f":"VLOOKUP(UPPER(A256),Items!$B$2:$C$542,2,FALSE)","v":"Sell-Price Price Adjust"},"SPA"]
[]
["NGC31","F",null,null,null,null,null,null,null,null,null,null,"Applicable Balancing Services Volume Data"]
["NGG31","R",1,"G",null,null,null,null,null,null,null,null,"QAS","Dummy Group used in flows BMRA-I014 and SAA-I026"]
["N0290","D",null,null,1,null,null,null,null,null,{"$f":"VLOOKUP(UPPER(A260),Items!$B$2:$G$542,6,FALSE)","v":"varchar2(8)"},{"$f":"IF(VLOOKUP(UPPER(A260),Items!$B$2:$H$542,7,FALSE)<>0,VLOOKUP(UPPER(A260),Items!$B$2:$H$542,7,FALSE),\"\")","v":""},{"$f":"VLOOKUP(UPPER(A260),Items!$B$2:$C$542,2,FALSE)","v":"Data Type"},"\"QAS\""]
["N0291","D",null,null,1,null,null,null,null,null,{"$f":"VLOOKUP(UPPER(A261),Items!$B$2:$G$542,6,FALSE)","v":"varchar2(9)"},{"$f":"IF(VLOOKUP(UPPER(A261),Items!$B$2:$H$542,7,FALSE)<>0,VLOOKUP(UPPER(A261),Items!$B$2:$H$542,7,FALSE),\"\")","v":""},{"$f":"VLOOKUP(UPPER(A261),Items!$B$2:$C$542,2,FALSE)","v":"BMU Name"}]
["N0340","D",null,null,1,null,null,null,null,null,{"$f":"VLOOKUP(UPPER(A262),Items!$B$2:$G$542,6,FALSE)","v":"text(10)"},{"$f":"IF(VLOOKUP(UPPER(A262),Items!$B$2:$H$542,7,FALSE)<>0,VLOOKUP(UPPER(A262),Items!$B$2:$H$542,7,FALSE),\"\")","v":""},{"$f":"VLOOKUP(UPPER(A262),Items!$B$2:$C$542,2,FALSE)","v":"Sett Date"},"Format YYYY-MM-DD (validated by business loader)"]
["N0201","D",null,null,1,null,null,null,null,null,{"$f":"VLOOKUP(UPPER(A263),Items!$B$2:$G$542,6,FALSE)","v":"integer(2)"},{"$f":"IF(VLOOKUP(UPPER(A263),Items!$B$2:$H$542,7,FALSE)<>0,VLOOKUP(UPPER(A263),Items!$B$2:$H$542,7,FALSE),\"\")","v":""},{"$f":"VLOOKUP(UPPER(A263),Items!$B$2:$C$542,2,FALSE)","v":"Settlement Period"},"Value range 1 - 50"]
["N0421","D",null,null,1,null,null,null,null,null,{"$f":"VLOOKUP(UPPER(A264),Items!$B$2:$G$542,6,FALSE)","v":"decimal(10,3)"},{"$f":"IF(VLOOKUP(UPPER(A264),Items!$B$2:$H$542,7,FALSE)<>0,VLOOKUP(UPPER(A264),Items!$B$2:$H$542,7,FALSE),\"\")","v":""},{"$f":"VLOOKUP(UPPER(A264),Items!$B$2:$C$542,2,FALSE)","v":"Bm Unit Applicable Balancing Services Volume"}]
[]
["NGC32",{"$f":"IF(LEN(K266)>0,\"D\",IF(LEN(A266)=5,\"F\",IF(LEN(A266)=3,\"R\",\" \")))","v":"F"},null,null,null,null,null,null,null,null,null,null,"NETBSAD-Cost & price Adjustment","Only valid for Settlement Dates on and efter the P78 effective date"]
["NGG32","R",1,"G",null,null,null,null,null,null,null,null,"NETBSAD","Dummy Group used in flows BMRA-I014 and SAA-I026"]
["N0290","D",null,null,1,null,null,null,null,null,{"$f":"VLOOKUP(UPPER(A268),Items!$B$2:$G$542,6,FALSE)","v":"varchar2(8)"},{"$f":"IF(VLOOKUP(UPPER(A268),Items!$B$2:$H$542,7,FALSE)<>0,VLOOKUP(UPPER(A268),Items!$B$2:$H$542,7,FALSE),\"\")","v":""},{"$f":"VLOOKUP(UPPER(A268),Items!$B$2:$C$542,2,FALSE)","v":"Data Type"},"\"NETBSAD\""]
["N0340","D",null,null,1,null,null,null,null,null,{"$f":"VLOOKUP(UPPER(A269),Items!$B$2:$G$542,6,FALSE)","v":"text(10)"},{"$f":"IF(VLOOKUP(UPPER(A269),Items!$B$2:$H$542,7,FALSE)<>0,VLOOKUP(UPPER(A269),Items!$B$2:$H$542,7,FALSE),\"\")","v":""},{"$f":"VLOOKUP(UPPER(A269),Items!$B$2:$C$542,2,FALSE)","v":"Sett Date"},"Format YYYY-MM-DD (validated by business loader)"]
["N0201","D",null,null,1,null,null,null,null,null,{"$f":"VLOOKUP(UPPER(A270),Items!$B$2:$G$542,6,FALSE)","v":"integer(2)"},{"$f":"IF(VLOOKUP(UPPER(A270),Items!$B$2:$H$542,7,FALSE)<>0,VLOOKUP(UPPER(A270),Items!$B$2:$H$542,7,FALSE),\"\")","v":""},{"$f":"VLOOKUP(UPPER(A270),Items!$B$2:$C$542,2,FALSE)","v":"Settlement Period"},"Value range 1 - 50"]
["N0419","D",null,null,1,null,null,null,null,null,{"$f":"VLOOKUP(UPPER(A271),Items!$B$2:$G$542,6,FALSE)","v":"decimal(10,2)"},{"$f":"IF(VLOOKUP(UPPER(A271),Items!$B$2:$H$542,7,FALSE)<>0,VLOOKUP(UPPER(A271),Items!$B$2:$H$542,7,FALSE),\"\")","v":""},{"$f":"VLOOKUP(UPPER(A271),Items!$B$2:$C$542,2,FALSE)","v":"Net Energy Buy-Price Cost Adjustment"},"BCA(E)  £"]
["N0417","D",null,null,1,null,null,null,null,null,{"$f":"VLOOKUP(UPPER(A272),Items!$B$2:$G$542,6,FALSE)","v":"decimal(10,3)"},{"$f":"IF(VLOOKUP(UPPER(A272),Items!$B$2:$H$542,7,FALSE)<>0,VLOOKUP(UPPER(A272),Items!$B$2:$H$542,7,FALSE),\"\")","v":""},{"$f":"VLOOKUP(UPPER(A272),Items!$B$2:$C$542,2,FALSE)","v":"Net Energy Buy-Price Volume Adjustment"},"BVA(E)  MWh"]
["N0415","D",null,null,1,null,null,null,null,null,{"$f":"VLOOKUP(UPPER(A273),Items!$B$2:$G$542,6,FALSE)","v":"decimal(10,3)"},{"$f":"IF(VLOOKUP(UPPER(A273),Items!$B$2:$H$542,7,FALSE)<>0,VLOOKUP(UPPER(A273),Items!$B$2:$H$542,7,FALSE),\"\")","v":""},{"$f":"VLOOKUP(UPPER(A273),Items!$B$2:$C$542,2,FALSE)","v":"Net System Buy-Price Volume Adjustment"},"BVA(S)  MWh"]
["N0372","D",null,null,1,null,null,null,null,null,{"$f":"VLOOKUP(UPPER(A274),Items!$B$2:$G$542,6,FALSE)","v":"decimal(10,2)"},{"$f":"IF(VLOOKUP(UPPER(A274),Items!$B$2:$H$542,7,FALSE)<>0,VLOOKUP(UPPER(A274),Items!$B$2:$H$542,7,FALSE),\"\")","v":""},{"$f":"VLOOKUP(UPPER(A274),Items!$B$2:$C$542,2,FALSE)","v":"Buy-Price Price Adjust"},"BPA  £/MWh"]
["N0420","D",null,null,1,null,null,null,null,null,{"$f":"VLOOKUP(UPPER(A275),Items!$B$2:$G$542,6,FALSE)","v":"decimal(10,2)"},{"$f":"IF(VLOOKUP(UPPER(A275),Items!$B$2:$H$542,7,FALSE)<>0,VLOOKUP(UPPER(A275),Items!$B$2:$H$542,7,FALSE),\"\")","v":""},{"$f":"VLOOKUP(UPPER(A275),Items!$B$2:$C$542,2,FALSE)","v":"Net Energy Sell-Price Cost Adjustment"},"SCA(E)  £"]
["N0418","D",null,null,1,null,null,null,null,null,{"$f":"VLOOKUP(UPPER(A276),Items!$B$2:$G$542,6,FALSE)","v":"decimal(10,3)"},{"$f":"IF(VLOOKUP(UPPER(A276),Items!$B$2:$H$542,7,FALSE)<>0,VLOOKUP(UPPER(A276),Items!$B$2:$H$542,7,FALSE),\"\")","v":""},{"$f":"VLOOKUP(UPPER(A276),Items!$B$2:$C$542,2,FALSE)","v":"Net Energy Sell-Price Volume Adjustment"},"SVA(E)  MWh"]
["N0416","D",null,null,1,null,null,null,null,null,{"$f":"VLOOKUP(UPPER(A277),Items!$B$2:$G$542,6,FALSE)","v":"decimal(10,3)"},{"$f":"IF(VLOOKUP(UPPER(A277),Items!$B$2:$H$542,7,FALSE)<>0,VLOOKUP(UPPER(A277),Items!$B$2:$H$542,7,FALSE),\"\")","v":""},{"$f":"VLOOKUP(UPPER(A277),Items!$B$2:$C$542,2,FALSE)","v":"Net System Sell-Price Volume Adjustment"},"SVA(S)  MWh"]
["N0371","D",null,null,1,null,null,null,null,null,{"$f":"VLOOKUP(UPPER(A278),Items!$B$2:$G$542,6,FALSE)","v":"decimal(10,2)"},{"$f":"IF(VLOOKUP(UPPER(A278),Items!$B$2:$H$542,7,FALSE)<>0,VLOOKUP(UPPER(A278),Items!$B$2:$H$542,7,FALSE),\"\")","v":""},{"$f":"VLOOKUP(UPPER(A278),Items!$B$2:$C$542,2,FALSE)","v":"Sell-Price Price Adjust"},"SPA  £/MWh"]
[]
["NGC33",{"$f":"IF(LEN(K280)>0,\"D\",IF(LEN(A280)=5,\"F\",IF(LEN(A280)=3,\"R\",\" \")))","v":"F"},null,null,null,null,null,null,null,null,null,null,"MELS-Maximum Export Limit File"]
[{"$f":"\"NGG\" &MID(A280,4,2)","v":"NGG33"},"R",1,"G",null,null,null,null,null,null,null,null,{"$f":"LEFT(M280,FIND(\"-\",M280)-1)","v":"MELS"},"Dummy Group"]
["N0290","D",null,null,1,null,null,null,null,null,{"$f":"VLOOKUP(UPPER(A282),Items!$B$2:$G$542,6,FALSE)","v":"varchar2(8)"},{"$f":"IF(VLOOKUP(UPPER(A282),Items!$B$2:$H$542,7,FALSE)<>0,VLOOKUP(UPPER(A282),Items!$B$2:$H$542,7,FALSE),\"\")","v":""},{"$f":"VLOOKUP(UPPER(A282),Items!$B$2:$C$542,2,FALSE)","v":"Data Type"}]
["N0291","D",null,null,1,null,null,null,null,null,{"$f":"VLOOKUP(UPPER(A283),Items!$B$2:$G$542,6,FALSE)","v":"varchar2(9)"},{"$f":"IF(VLOOKUP(UPPER(A283),Items!$B$2:$H$542,7,FALSE)<>0,VLOOKUP(UPPER(A283),Items!$B$2:$H$542,7,FALSE),\"\")","v":""},{"$f":"VLOOKUP(UPPER(A283),Items!$B$2:$C$542,2,FALSE)","v":"BMU Name"}]
["N0288","D",null,null,1,null,null,null,null,null,{"$f":"VLOOKUP(UPPER(A284),Items!$B$2:$G$542,6,FALSE)","v":"datetime"},{"$f":"IF(VLOOKUP(UPPER(A284),Items!$B$2:$H$542,7,FALSE)<>0,VLOOKUP(UPPER(A284),Items!$B$2:$H$542,7,FALSE),\"\")","v":""},{"$f":"VLOOKUP(UPPER(A284),Items!$B$2:$C$542,2,FALSE)","v":"Time From"}]
["N0257","D",null,null,1,null,null,null,null,null,{"$f":"VLOOKUP(UPPER(A285),Items!$B$2:$G$542,6,FALSE)","v":"number(4)"},{"$f":"IF(VLOOKUP(UPPER(A285),Items!$B$2:$H$542,7,FALSE)<>0,VLOOKUP(UPPER(A285),Items!$B$2:$H$542,7,FALSE),\"\")","v":""},{"$f":"VLOOKUP(UPPER(A285),Items!$B$2:$C$542,2,FALSE)","v":"Maximum Export Level From"}]
["N0289","D",null,null,1,null,null,null,null,null,{"$f":"VLOOKUP(UPPER(A286),Items!$B$2:$G$542,6,FALSE)","v":"datetime"},{"$f":"IF(VLOOKUP(UPPER(A286),Items!$B$2:$H$542,7,FALSE)<>0,VLOOKUP(UPPER(A286),Items!$B$2:$H$542,7,FALSE),\"\")","v":""},{"$f":"VLOOKUP(UPPER(A286),Items!$B$2:$C$542,2,FALSE)","v":"Time To"}]
["N0258","D",null,null,1,null,null,null,null,null,{"$f":"VLOOKUP(UPPER(A287),Items!$B$2:$G$542,6,FALSE)","v":"number(4)"},{"$f":"IF(VLOOKUP(UPPER(A287),Items!$B$2:$H$542,7,FALSE)<>0,VLOOKUP(UPPER(A287),Items!$B$2:$H$542,7,FALSE),\"\")","v":""},{"$f":"VLOOKUP(UPPER(A287),Items!$B$2:$C$542,2,FALSE)","v":"Maximum Export Level To"}]
["N0493","D",null,null,1,null,null,null,null,null,{"$f":"VLOOKUP(UPPER(A288),Items!$B$2:$G$542,6,FALSE)","v":"datetime"},{"$f":"IF(VLOOKUP(UPPER(A288),Items!$B$2:$H$542,7,FALSE)<>0,VLOOKUP(UPPER(A288),Items!$B$2:$H$542,7,FALSE),\"\")","v":""},{"$f":"VLOOKUP(UPPER(A288),Items!$B$2:$C$542,2,FALSE)","v":"Notification Time"}]
["N0494","D",null,null,1,null,null,null,null,null,{"$f":"VLOOKUP(UPPER(A289),Items!$B$2:$G$542,6,FALSE)","v":"integer(9)"},{"$f":"IF(VLOOKUP(UPPER(A289),Items!$B$2:$H$542,7,FALSE)<>0,VLOOKUP(UPPER(A289),Items!$B$2:$H$542,7,FALSE),\"\")","v":""},{"$f":"VLOOKUP(UPPER(A289),Items!$B$2:$C$542,2,FALSE)","v":"Notification Sequence"}]
[]
["NGC34",{"$f":"IF(LEN(K291)>0,\"D\",IF(LEN(A291)=5,\"F\",IF(LEN(A291)=3,\"R\",\" \")))","v":"F"},null,null,null,null,null,null,null,null,null,null,"MILS-Maximum Import Limit File"]
[{"$f":"\"NGG\" &MID(A291,4,2)","v":"NGG34"},"R",1,"G",null,null,null,null,null,null,null,null,{"$f":"LEFT(M291,FIND(\"-\",M291)-1)","v":"MILS"},"Dummy Group"]
["N0290","D",null,null,1,null,null,null,null,null,{"$f":"VLOOKUP(UPPER(A293),Items!$B$2:$G$542,6,FALSE)","v":"varchar2(8)"},{"$f":"IF(VLOOKUP(UPPER(A293),Items!$B$2:$H$542,7,FALSE)<>0,VLOOKUP(UPPER(A293),Items!$B$2:$H$542,7,FALSE),\"\")","v":""},{"$f":"VLOOKUP(UPPER(A293),Items!$B$2:$C$542,2,FALSE)","v":"Data Type"}]
["N0291","D",null,null,1,null,null,null,null,null,{"$f":"VLOOKUP(UPPER(A294),Items!$B$2:$G$542,6,FALSE)","v":"varchar2(9)"},{"$f":"IF(VLOOKUP(UPPER(A294),Items!$B$2:$H$542,7,FALSE)<>0,VLOOKUP(UPPER(A294),Items!$B$2:$H$542,7,FALSE),\"\")","v":""},{"$f":"VLOOKUP(UPPER(A294),Items!$B$2:$C$542,2,FALSE)","v":"BMU Name"}]
["N0288","D",null,null,1,null,null,null,null,null,{"$f":"VLOOKUP(UPPER(A295),Items!$B$2:$G$542,6,FALSE)","v":"datetime"},{"$f":"IF(VLOOKUP(UPPER(A295),Items!$B$2:$H$542,7,FALSE)<>0,VLOOKUP(UPPER(A295),Items!$B$2:$H$542,7,FALSE),\"\")","v":""},{"$f":"VLOOKUP(UPPER(A295),Items!$B$2:$C$542,2,FALSE)","v":"Time From"}]
["N0292","D",null,null,1,null,null,null,null,null,{"$f":"VLOOKUP(UPPER(A296),Items!$B$2:$G$542,6,FALSE)","v":"number(4)"},{"$f":"IF(VLOOKUP(UPPER(A296),Items!$B$2:$H$542,7,FALSE)<>0,VLOOKUP(UPPER(A296),Items!$B$2:$H$542,7,FALSE),\"\")","v":""},{"$f":"VLOOKUP(UPPER(A296),Items!$B$2:$C$542,2,FALSE)","v":"Maximum Import Level From"}]
["N0289","D",null,null,1,null,null,null,null,null,{"$f":"VLOOKUP(UPPER(A297),Items!$B$2:$G$542,6,FALSE)","v":"datetime"},{"$f":"IF(VLOOKUP(UPPER(A297),Items!$B$2:$H$542,7,FALSE)<>0,VLOOKUP(UPPER(A297),Items!$B$2:$H$542,7,FALSE),\"\")","v":""},{"$f":"VLOOKUP(UPPER(A297),Items!$B$2:$C$542,2,FALSE)","v":"Time To"}]
["N0293","D",null,null,1,null,null,null,null,null,{"$f":"VLOOKUP(UPPER(A298),Items!$B$2:$G$542,6,FALSE)","v":"number(4)"},{"$f":"IF(VLOOKUP(UPPER(A298),Items!$B$2:$H$542,7,FALSE)<>0,VLOOKUP(UPPER(A298),Items!$B$2:$H$542,7,FALSE),\"\")","v":""},{"$f":"VLOOKUP(UPPER(A298),Items!$B$2:$C$542,2,FALSE)","v":"Maximum Import Level To"}]
["N0493","D",null,null,1,null,null,null,null,null,{"$f":"VLOOKUP(UPPER(A299),Items!$B$2:$G$542,6,FALSE)","v":"datetime"},{"$f":"IF(VLOOKUP(UPPER(A299),Items!$B$2:$H$542,7,FALSE)<>0,VLOOKUP(UPPER(A299),Items!$B$2:$H$542,7,FALSE),\"\")","v":""},{"$f":"VLOOKUP(UPPER(A299),Items!$B$2:$C$542,2,FALSE)","v":"Notification Time"}]
["N0494","D",null,null,1,null,null,null,null,null,{"$f":"VLOOKUP(UPPER(A300),Items!$B$2:$G$542,6,FALSE)","v":"integer(9)"},{"$f":"IF(VLOOKUP(UPPER(A300),Items!$B$2:$H$542,7,FALSE)<>0,VLOOKUP(UPPER(A300),Items!$B$2:$H$542,7,FALSE),\"\")","v":""},{"$f":"VLOOKUP(UPPER(A300),Items!$B$2:$C$542,2,FALSE)","v":"Notification Sequence"}]
[]
["NGC35",{"$f":"IF(LEN(K302)>0,\"D\",IF(LEN(A302)=5,\"F\",IF(LEN(A302)=3,\"R\",\" \")))","v":"F"},null,null,null,null,null,null,null,null,null,null,"NDF-National Demand Forecast File","(P219)"]
[{"$f":"\"NGG\" &MID(A302,4,2)","v":"NGG35"},"R",1,"G",null,null,null,null,null,null,null,null,{"$f":"LEFT(M302,FIND(\"-\",M302)-1)","v":"NDF"},"Dummy Group"]
["N0290","D",null,null,1,null,null,null,null,null,{"$f":"VLOOKUP(UPPER(A304),Items!$B$2:$G$542,6,FALSE)","v":"varchar2(8)"},{"$f":"IF(VLOOKUP(UPPER(A304),Items!$B$2:$H$542,7,FALSE)<>0,VLOOKUP(UPPER(A304),Items!$B$2:$H$542,7,FALSE),\"\")","v":""},{"$f":"VLOOKUP(UPPER(A304),Items!$B$2:$C$542,2,FALSE)","v":"Data Type"}]
["N0270","D",null,null,1,null,null,null,null,null,{"$f":"VLOOKUP(UPPER(A305),Items!$B$2:$G$542,6,FALSE)","v":"datetime"},{"$f":"IF(VLOOKUP(UPPER(A305),Items!$B$2:$H$542,7,FALSE)<>0,VLOOKUP(UPPER(A305),Items!$B$2:$H$542,7,FALSE),\"\")","v":""},{"$f":"VLOOKUP(UPPER(A305),Items!$B$2:$C$542,2,FALSE)","v":"Publishing Period Commencing Time"}]
["N0287","D",null,null,1,null,null,null,null,null,{"$f":"VLOOKUP(UPPER(A306),Items!$B$2:$G$542,6,FALSE)","v":"datetime"},{"$f":"IF(VLOOKUP(UPPER(A306),Items!$B$2:$H$542,7,FALSE)<>0,VLOOKUP(UPPER(A306),Items!$B$2:$H$542,7,FALSE),\"\")","v":""},{"$f":"VLOOKUP(UPPER(A306),Items!$B$2:$C$542,2,FALSE)","v":"Start Time Of Half Hr Period"}]
["N0263","D",null,null,1,null,null,null,null,null,{"$f":"VLOOKUP(UPPER(A307),Items!$B$2:$G$542,6,FALSE)","v":"varchar2(3)"},{"$f":"IF(VLOOKUP(UPPER(A307),Items!$B$2:$H$542,7,FALSE)<>0,VLOOKUP(UPPER(A307),Items!$B$2:$H$542,7,FALSE),\"\")","v":"Zone Indicator"},{"$f":"VLOOKUP(UPPER(A307),Items!$B$2:$C$542,2,FALSE)","v":"National Boundary Identifier"}]
["N0251","D",null,null,1,null,null,null,null,null,{"$f":"VLOOKUP(UPPER(A308),Items!$B$2:$G$542,6,FALSE)","v":"number(5)"},{"$f":"IF(VLOOKUP(UPPER(A308),Items!$B$2:$H$542,7,FALSE)<>0,VLOOKUP(UPPER(A308),Items!$B$2:$H$542,7,FALSE),\"\")","v":"Demand"},{"$f":"VLOOKUP(UPPER(A308),Items!$B$2:$C$542,2,FALSE)","v":"Demand"}]
[]
["NGC36",{"$f":"IF(LEN(K310)>0,\"D\",IF(LEN(A310)=5,\"F\",IF(LEN(A310)=3,\"R\",\" \")))","v":"F"},null,null,null,null,null,null,null,null,null,null,"TSDF-Transmission System Demand Forecast File","(P219)"]
[{"$f":"\"NGG\" &MID(A310,4,2)","v":"NGG36"},"R",1,"G",null,null,null,null,null,null,null,null,{"$f":"LEFT(M310,FIND(\"-\",M310)-1)","v":"TSDF"},"Dummy Group"]
["N0290","D",null,null,1,null,null,null,null,null,{"$f":"VLOOKUP(UPPER(A312),Items!$B$2:$G$542,6,FALSE)","v":"varchar2(8)"},{"$f":"IF(VLOOKUP(UPPER(A312),Items!$B$2:$H$542,7,FALSE)<>0,VLOOKUP(UPPER(A312),Items!$B$2:$H$542,7,FALSE),\"\")","v":""},{"$f":"VLOOKUP(UPPER(A312),Items!$B$2:$C$542,2,FALSE)","v":"Data Type"}]
["N0270","D",null,null,1,null,null,null,null,null,{"$f":"VLOOKUP(UPPER(A313),Items!$B$2:$G$542,6,FALSE)","v":"datetime"},{"$f":"IF(VLOOKUP(UPPER(A313),Items!$B$2:$H$542,7,FALSE)<>0,VLOOKUP(UPPER(A313),Items!$B$2:$H$542,7,FALSE),\"\")","v":""},{"$f":"VLOOKUP(UPPER(A313),Items!$B$2:$C$542,2,FALSE)","v":"Publishing Period Commencing Time"}]
["N0287","D",null,null,1,null,null,null,null,null,{"$f":"VLOOKUP(UPPER(A314),Items!$B$2:$G$542,6,FALSE)","v":"datetime"},{"$f":"IF(VLOOKUP(UPPER(A314),Items!$B$2:$H$542,7,FALSE)<>0,VLOOKUP(UPPER(A314),Items!$B$2:$H$542,7,FALSE),\"\")","v":""},{"$f":"VLOOKUP(UPPER(A314),Items!$B$2:$C$542,2,FALSE)","v":"Start Time Of Half Hr Period"}]
["N0263","D",null,null,1,null,null,null,null,null,{"$f":"VLOOKUP(UPPER(A315),Items!$B$2:$G$542,6,FALSE)","v":"varchar2(3)"},{"$f":"IF(VLOOKUP(UPPER(A315),Items!$B$2:$H$542,7,FALSE)<>0,VLOOKUP(UPPER(A315),Items!$B$2:$H$542,7,FALSE),\"\")","v":"Zone Indicator"},{"$f":"VLOOKUP(UPPER(A315),Items!$B$2:$C$542,2,FALSE)","v":"National Boundary Identifier"}]
["N0251","D",null,null,1,null,null,null,null,null,{"$f":"VLOOKUP(UPPER(A316),Items!$B$2:$G$542,6,FALSE)","v":"number(5)"},{"$f":"IF(VLOOKUP(UPPER(A316),Items!$B$2:$H$542,7,FALSE)<>0,VLOOKUP(UPPER(A316),Items!$B$2:$H$542,7,FALSE),\"\")","v":"Demand"},{"$f":"VLOOKUP(UPPER(A316),Items!$B$2:$C$542,2,FALSE)","v":"Demand"}]
[]
["NGC37",{"$f":"IF(LEN(K318)>0,\"D\",IF(LEN(A318)=5,\"F\",IF(LEN(A318)=3,\"R\",\" \")))","v":"F"},null,null,null,null,null,null,null,null,null,null,"TSDFD-Transmission System Demand Forecast Day File","(P219)"]
[{"$f":"\"NGG\" &MID(A318,4,2)","v":"NGG37"},"R",1,"G",null,null,null,null,null,null,null,null,{"$f":"LEFT(M318,FIND(\"-\",M318)-1)","v":"TSDFD"},"Dummy Group"]
["N0290","D",null,null,1,null,null,null,null,null,{"$f":"VLOOKUP(UPPER(A320),Items!$B$2:$G$542,6,FALSE)","v":"varchar2(8)"},{"$f":"IF(VLOOKUP(UPPER(A320),Items!$B$2:$H$542,7,FALSE)<>0,VLOOKUP(UPPER(A320),Items!$B$2:$H$542,7,FALSE),\"\")","v":""},{"$f":"VLOOKUP(UPPER(A320),Items!$B$2:$C$542,2,FALSE)","v":"Data Type"}]
["N0270","D",null,null,1,null,null,null,null,null,{"$f":"VLOOKUP(UPPER(A321),Items!$B$2:$G$542,6,FALSE)","v":"datetime"},{"$f":"IF(VLOOKUP(UPPER(A321),Items!$B$2:$H$542,7,FALSE)<>0,VLOOKUP(UPPER(A321),Items!$B$2:$H$542,7,FALSE),\"\")","v":""},{"$f":"VLOOKUP(UPPER(A321),Items!$B$2:$C$542,2,FALSE)","v":"Publishing Period Commencing Time"}]
["N0249","D",null,null,1,null,null,null,null,null,{"$f":"VLOOKUP(UPPER(A322),Items!$B$2:$G$542,6,FALSE)","v":"datetime"},{"$f":"IF(VLOOKUP(UPPER(A322),Items!$B$2:$H$542,7,FALSE)<>0,VLOOKUP(UPPER(A322),Items!$B$2:$H$542,7,FALSE),\"\")","v":""},{"$f":"VLOOKUP(UPPER(A322),Items!$B$2:$C$542,2,FALSE)","v":"Day Of Forecast"}]
["N0251","D",null,null,1,null,null,null,null,null,{"$f":"VLOOKUP(UPPER(A323),Items!$B$2:$G$542,6,FALSE)","v":"number(5)"},{"$f":"IF(VLOOKUP(UPPER(A323),Items!$B$2:$H$542,7,FALSE)<>0,VLOOKUP(UPPER(A323),Items!$B$2:$H$542,7,FALSE),\"\")","v":"Demand"},{"$f":"VLOOKUP(UPPER(A323),Items!$B$2:$C$542,2,FALSE)","v":"Demand"}]
[]
["NGC38",{"$f":"IF(LEN(K325)>0,\"D\",IF(LEN(A325)=5,\"F\",IF(LEN(A325)=3,\"R\",\" \")))","v":"F"},null,null,null,null,null,null,null,null,null,null,"TSDFW- Transmission System Demand Forecast Week File","(P219)"]
[{"$f":"\"NGG\" &MID(A325,4,2)","v":"NGG38"},"R",1,"G",null,null,null,null,null,null,null,null,{"$f":"LEFT(M325,FIND(\"-\",M325)-1)","v":"TSDFW"},"Dummy Group"]
["N0290","D",null,null,1,null,null,null,null,null,{"$f":"VLOOKUP(UPPER(A327),Items!$B$2:$G$542,6,FALSE)","v":"varchar2(8)"},{"$f":"IF(VLOOKUP(UPPER(A327),Items!$B$2:$H$542,7,FALSE)<>0,VLOOKUP(UPPER(A327),Items!$B$2:$H$542,7,FALSE),\"\")","v":""},{"$f":"VLOOKUP(UPPER(A327),Items!$B$2:$C$542,2,FALSE)","v":"Data Type"}]
["N0270","D",null,null,1,null,null,null,null,null,{"$f":"VLOOKUP(UPPER(A328),Items!$B$2:$G$542,6,FALSE)","v":"datetime"},{"$f":"IF(VLOOKUP(UPPER(A328),Items!$B$2:$H$542,7,FALSE)<>0,VLOOKUP(UPPER(A328),Items!$B$2:$H$542,7,FALSE),\"\")","v":""},{"$f":"VLOOKUP(UPPER(A328),Items!$B$2:$C$542,2,FALSE)","v":"Publishing Period Commencing Time"}]
["N0248","D",null,null,1,null,null,null,null,null,{"$f":"VLOOKUP(UPPER(A329),Items!$B$2:$G$542,6,FALSE)","v":"number(2)"},{"$f":"IF(VLOOKUP(UPPER(A329),Items!$B$2:$H$542,7,FALSE)<>0,VLOOKUP(UPPER(A329),Items!$B$2:$H$542,7,FALSE),\"\")","v":"Week Number"},{"$f":"VLOOKUP(UPPER(A329),Items!$B$2:$C$542,2,FALSE)","v":"Calendar Week Number"}]
["N0251","D",null,null,1,null,null,null,null,null,{"$f":"VLOOKUP(UPPER(A330),Items!$B$2:$G$542,6,FALSE)","v":"number(5)"},{"$f":"IF(VLOOKUP(UPPER(A330),Items!$B$2:$H$542,7,FALSE)<>0,VLOOKUP(UPPER(A330),Items!$B$2:$H$542,7,FALSE),\"\")","v":"Demand"},{"$f":"VLOOKUP(UPPER(A330),Items!$B$2:$C$542,2,FALSE)","v":"Demand"}]
[]
["NGC39",{"$f":"IF(LEN(K332)>0,\"D\",IF(LEN(A332)=5,\"F\",IF(LEN(A332)=3,\"R\",\" \")))","v":"F"},null,null,null,null,null,null,null,null,null,null,"ITSDO- Initial Transmission System Demand Out Turn File","(P219)"]
[{"$f":"\"NGG\" &MID(A332,4,2)","v":"NGG39"},"R",1,"G",null,null,null,null,null,null,null,null,{"$f":"LEFT(M332,FIND(\"-\",M332)-1)","v":"ITSDO"},"Dummy Group"]
["N0290","D",null,null,1,null,null,null,null,null,{"$f":"VLOOKUP(UPPER(A334),Items!$B$2:$G$542,6,FALSE)","v":"varchar2(8)"},{"$f":"IF(VLOOKUP(UPPER(A334),Items!$B$2:$H$542,7,FALSE)<>0,VLOOKUP(UPPER(A334),Items!$B$2:$H$542,7,FALSE),\"\")","v":""},{"$f":"VLOOKUP(UPPER(A334),Items!$B$2:$C$542,2,FALSE)","v":"Data Type"}]
["N0270","D",null,null,1,null,null,null,null,null,{"$f":"VLOOKUP(UPPER(A335),Items!$B$2:$G$542,6,FALSE)","v":"datetime"},{"$f":"IF(VLOOKUP(UPPER(A335),Items!$B$2:$H$542,7,FALSE)<>0,VLOOKUP(UPPER(A335),Items!$B$2:$H$542,7,FALSE),\"\")","v":""},{"$f":"VLOOKUP(UPPER(A335),Items!$B$2:$C$542,2,FALSE)","v":"Publishing Period Commencing Time"}]
["N0287","D",null,null,1,null,null,null,null,null,{"$f":"VLOOKUP(UPPER(A336),Items!$B$2:$G$542,6,FALSE)","v":"datetime"},{"$f":"IF(VLOOKUP(UPPER(A336),Items!$B$2:$H$542,7,FALSE)<>0,VLOOKUP(UPPER(A336),Items!$B$2:$H$542,7,FALSE),\"\")","v":""},{"$f":"VLOOKUP(UPPER(A336),Items!$B$2:$C$542,2,FALSE)","v":"Start Time Of Half Hr Period"}]
["N0251","D",null,null,1,null,null,null,null,null,{"$f":"VLOOKUP(UPPER(A337),Items!$B$2:$G$542,6,FALSE)","v":"number(5)"},{"$f":"IF(VLOOKUP(UPPER(A337),Items!$B$2:$H$542,7,FALSE)<>0,VLOOKUP(UPPER(A337),Items!$B$2:$H$542,7,FALSE),\"\")","v":"Demand"},{"$f":"VLOOKUP(UPPER(A337),Items!$B$2:$C$542,2,FALSE)","v":"Demand"}]
[]
["NGC40",{"$f":"IF(LEN(K339)>0,\"D\",IF(LEN(A339)=5,\"F\",IF(LEN(A339)=3,\"R\",\" \")))","v":"F"},null,null,null,null,null,null,null,null,null,null,"TEMP - Temperature","(P220)"]
[{"$f":"\"NGG\" &MID(A339,4,2)","v":"NGG40"},"R",1,"G",null,null,null,null,null,null,null,null,{"$f":"LEFT(M339,FIND(\"-\",M339)-1)","v":"TEMP "},"Dummy Group"]
["N0290","D",null,null,1,null,null,null,null,null,{"$f":"VLOOKUP(UPPER(A341),Items!$B$2:$G$542,6,FALSE)","v":"varchar2(8)"},{"$f":"IF(VLOOKUP(UPPER(A341),Items!$B$2:$H$542,7,FALSE)<>0,VLOOKUP(UPPER(A341),Items!$B$2:$H$542,7,FALSE),\"\")","v":""},{"$f":"VLOOKUP(UPPER(A341),Items!$B$2:$C$542,2,FALSE)","v":"Data Type"}]
["N0270","D",null,null,1,null,null,null,null,null,{"$f":"VLOOKUP(UPPER(A342),Items!$B$2:$G$542,6,FALSE)","v":"datetime"},{"$f":"IF(VLOOKUP(UPPER(A342),Items!$B$2:$H$542,7,FALSE)<>0,VLOOKUP(UPPER(A342),Items!$B$2:$H$542,7,FALSE),\"\")","v":""},{"$f":"VLOOKUP(UPPER(A342),Items!$B$2:$C$542,2,FALSE)","v":"Publishing Period Commencing Time"}]
["N0368","D",null,null,1,null,null,null,null,null,{"$f":"VLOOKUP(UPPER(A343),Items!$B$2:$G$542,6,FALSE)","v":"datetime"},{"$f":"IF(VLOOKUP(UPPER(A343),Items!$B$2:$H$542,7,FALSE)<>0,VLOOKUP(UPPER(A343),Items!$B$2:$H$542,7,FALSE),\"\")","v":""},{"$f":"VLOOKUP(UPPER(A343),Items!$B$2:$C$542,2,FALSE)","v":"Report Snapshot Time"}]
["N0505","D",null,null,1,null,null,null,null,null,{"$f":"VLOOKUP(UPPER(A344),Items!$B$2:$G$542,6,FALSE)","v":"decimal(10,3)"},{"$f":"IF(VLOOKUP(UPPER(A344),Items!$B$2:$H$542,7,FALSE)<>0,VLOOKUP(UPPER(A344),Items!$B$2:$H$542,7,FALSE),\"\")","v":"Temperature"},{"$f":"VLOOKUP(UPPER(A344),Items!$B$2:$C$542,2,FALSE)","v":"Temperature"}]
[]
["NGC41",{"$f":"IF(LEN(K346)>0,\"D\",IF(LEN(A346)=5,\"F\",IF(LEN(A346)=3,\"R\",\" \")))","v":"F"},null,null,null,null,null,null,null,null,null,null,"WINDFOR -Wind Generation Forecast","(P220)"]
[{"$f":"\"NGG\" &MID(A346,4,2)","v":"NGG41"},"R",1,"G",null,null,null,null,null,null,null,null,{"$f":"LEFT(M346,FIND(\"-\",M346)-1)","v":"WINDFOR "},"Dummy Group"]
["N0290","D",null,null,1,null,null,null,null,null,{"$f":"VLOOKUP(UPPER(A348),Items!$B$2:$G$542,6,FALSE)","v":"varchar2(8)"},{"$f":"IF(VLOOKUP(UPPER(A348),Items!$B$2:$H$542,7,FALSE)<>0,VLOOKUP(UPPER(A348),Items!$B$2:$H$542,7,FALSE),\"\")","v":""},{"$f":"VLOOKUP(UPPER(A348),Items!$B$2:$C$542,2,FALSE)","v":"Data Type"}]
["N0270","D",null,null,1,null,null,null,null,null,{"$f":"VLOOKUP(UPPER(A349),Items!$B$2:$G$542,6,FALSE)","v":"datetime"},{"$f":"IF(VLOOKUP(UPPER(A349),Items!$B$2:$H$542,7,FALSE)<>0,VLOOKUP(UPPER(A349),Items!$B$2:$H$542,7,FALSE),\"\")","v":""},{"$f":"VLOOKUP(UPPER(A349),Items!$B$2:$C$542,2,FALSE)","v":"Publishing Period Commencing Time"}]
["N0287","D",null,null,1,null,null,null,null,null,{"$f":"VLOOKUP(UPPER(A350),Items!$B$2:$G$542,6,FALSE)","v":"datetime"},{"$f":"IF(VLOOKUP(UPPER(A350),Items!$B$2:$H$542,7,FALSE)<>0,VLOOKUP(UPPER(A350),Items!$B$2:$H$542,7,FALSE),\"\")","v":""},{"$f":"VLOOKUP(UPPER(A350),Items!$B$2:$C$542,2,FALSE)","v":"Start Time Of Half Hr Period"}]
["N0284","D",null,null,1,null,null,null,null,null,{"$f":"VLOOKUP(UPPER(A351),Items!$B$2:$G$542,6,FALSE)","v":"number(5)"},{"$f":"IF(VLOOKUP(UPPER(A351),Items!$B$2:$H$542,7,FALSE)<>0,VLOOKUP(UPPER(A351),Items!$B$2:$H$542,7,FALSE),\"\")","v":"SPN Generation"},{"$f":"VLOOKUP(UPPER(A351),Items!$B$2:$C$542,2,FALSE)","v":"SPN Generation"}]
[]
["NGC42",{"$f":"IF(LEN(K353)>0,\"D\",IF(LEN(A353)=5,\"F\",IF(LEN(A353)=3,\"R\",\" \")))","v":"F"},null,null,null,null,null,null,null,null,null,null,"FUELINST-Instantanious Generation by Fuel Type","(P220)"]
[{"$f":"\"NGG\" &MID(A353,4,2)","v":"NGG42"},"R",1,"G",null,null,null,null,null,null,null,null,{"$f":"LEFT(M353,FIND(\"-\",M353)-1)","v":"FUELINST"},"Dummy Group"]
["N0290","D",null,null,1,null,null,null,null,null,{"$f":"VLOOKUP(UPPER(A355),Items!$B$2:$G$542,6,FALSE)","v":"varchar2(8)"},{"$f":"IF(VLOOKUP(UPPER(A355),Items!$B$2:$H$542,7,FALSE)<>0,VLOOKUP(UPPER(A355),Items!$B$2:$H$542,7,FALSE),\"\")","v":""},{"$f":"VLOOKUP(UPPER(A355),Items!$B$2:$C$542,2,FALSE)","v":"Data Type"}]
["N0506","D",null,null,1,null,null,null,null,null,{"$f":"VLOOKUP(UPPER(A356),Items!$B$2:$G$542,6,FALSE)","v":"text(8)"},{"$f":"IF(VLOOKUP(UPPER(A356),Items!$B$2:$H$542,7,FALSE)<>0,VLOOKUP(UPPER(A356),Items!$B$2:$H$542,7,FALSE),\"\")","v":"Fuel Type Set"},{"$f":"VLOOKUP(UPPER(A356),Items!$B$2:$C$542,2,FALSE)","v":"Fuel Type"}]
["N0270","D",null,null,1,null,null,null,null,null,{"$f":"VLOOKUP(UPPER(A357),Items!$B$2:$G$542,6,FALSE)","v":"datetime"},{"$f":"IF(VLOOKUP(UPPER(A357),Items!$B$2:$H$542,7,FALSE)<>0,VLOOKUP(UPPER(A357),Items!$B$2:$H$542,7,FALSE),\"\")","v":""},{"$f":"VLOOKUP(UPPER(A357),Items!$B$2:$C$542,2,FALSE)","v":"Publishing Period Commencing Time"}]
["N0287","D",null,null,1,null,null,null,null,null,{"$f":"VLOOKUP(UPPER(A358),Items!$B$2:$G$542,6,FALSE)","v":"datetime"},{"$f":"IF(VLOOKUP(UPPER(A358),Items!$B$2:$H$542,7,FALSE)<>0,VLOOKUP(UPPER(A358),Items!$B$2:$H$542,7,FALSE),\"\")","v":""},{"$f":"VLOOKUP(UPPER(A358),Items!$B$2:$C$542,2,FALSE)","v":"Start Time Of Half Hr Period"}]
["N0509","D",null,null,1,null,null,null,null,null,{"$f":"VLOOKUP(UPPER(A359),Items!$B$2:$G$542,6,FALSE)","v":"number(5)"},{"$f":"IF(VLOOKUP(UPPER(A359),Items!$B$2:$H$542,7,FALSE)<>0,VLOOKUP(UPPER(A359),Items!$B$2:$H$542,7,FALSE),\"\")","v":"FT Generation"},{"$f":"VLOOKUP(UPPER(A359),Items!$B$2:$C$542,2,FALSE)","v":"Fuel Type Generation"}]
[]
["NGC43",{"$f":"IF(LEN(K361)>0,\"D\",IF(LEN(A361)=5,\"F\",IF(LEN(A361)=3,\"R\",\" \")))","v":"F"},null,null,null,null,null,null,null,null,null,null,"FUELHH-Half Hour Generation by Fuel Type","(P220)"]
[{"$f":"\"NGG\" &MID(A361,4,2)","v":"NGG43"},"R",1,"G",null,null,null,null,null,null,null,null,{"$f":"LEFT(M361,FIND(\"-\",M361)-1)","v":"FUELHH"},"Dummy Group"]
["N0290","D",null,null,1,null,null,null,null,null,{"$f":"VLOOKUP(UPPER(A363),Items!$B$2:$G$542,6,FALSE)","v":"varchar2(8)"},{"$f":"IF(VLOOKUP(UPPER(A363),Items!$B$2:$H$542,7,FALSE)<>0,VLOOKUP(UPPER(A363),Items!$B$2:$H$542,7,FALSE),\"\")","v":""},{"$f":"VLOOKUP(UPPER(A363),Items!$B$2:$C$542,2,FALSE)","v":"Data Type"}]
["N0506","D",null,null,1,null,null,null,null,null,{"$f":"VLOOKUP(UPPER(A364),Items!$B$2:$G$542,6,FALSE)","v":"text(8)"},{"$f":"IF(VLOOKUP(UPPER(A364),Items!$B$2:$H$542,7,FALSE)<>0,VLOOKUP(UPPER(A364),Items!$B$2:$H$542,7,FALSE),\"\")","v":"Fuel Type Set"},{"$f":"VLOOKUP(UPPER(A364),Items!$B$2:$C$542,2,FALSE)","v":"Fuel Type"}]
["N0270","D",null,null,1,null,null,null,null,null,{"$f":"VLOOKUP(UPPER(A365),Items!$B$2:$G$542,6,FALSE)","v":"datetime"},{"$f":"IF(VLOOKUP(UPPER(A365),Items!$B$2:$H$542,7,FALSE)<>0,VLOOKUP(UPPER(A365),Items!$B$2:$H$542,7,FALSE),\"\")","v":""},{"$f":"VLOOKUP(UPPER(A365),Items!$B$2:$C$542,2,FALSE)","v":"Publishing Period Commencing Time"}]
["N0287","D",null,null,1,null,null,null,null,null,{"$f":"VLOOKUP(UPPER(A366),Items!$B$2:$G$542,6,FALSE)","v":"datetime"},{"$f":"IF(VLOOKUP(UPPER(A366),Items!$B$2:$H$542,7,FALSE)<>0,VLOOKUP(UPPER(A366),Items!$B$2:$H$542,7,FALSE),\"\")","v":""},{"$f":"VLOOKUP(UPPER(A366),Items!$B$2:$C$542,2,FALSE)","v":"Start Time Of Half Hr Period"}]
["N0509","D",null,null,1,null,null,null,null,null,{"$f":"VLOOKUP(UPPER(A367),Items!$B$2:$G$542,6,FALSE)","v":"number(5)"},{"$f":"IF(VLOOKUP(UPPER(A367),Items!$B$2:$H$542,7,FALSE)<>0,VLOOKUP(UPPER(A367),Items!$B$2:$H$542,7,FALSE),\"\")","v":"FT Generation"},{"$f":"VLOOKUP(UPPER(A367),Items!$B$2:$C$542,2,FALSE)","v":"Fuel Type Generation"}]
[]
["NGC44",{"$f":"IF(LEN(K369)>0,\"D\",IF(LEN(A369)=5,\"F\",IF(LEN(A369)=3,\"R\",\" \")))","v":"F"},null,null,null,null,null,null,null,null,null,null,"NONBM-Non BM Stor","(P220)"]
[{"$f":"\"NGG\" &MID(A369,4,2)","v":"NGG44"},"R",1,"G",null,null,null,null,null,null,null,null,{"$f":"LEFT(M369,FIND(\"-\",M369)-1)","v":"NONBM"},"Dummy Group"]
["N0290","D",null,null,1,null,null,null,null,null,{"$f":"VLOOKUP(UPPER(A371),Items!$B$2:$G$542,6,FALSE)","v":"varchar2(8)"},{"$f":"IF(VLOOKUP(UPPER(A371),Items!$B$2:$H$542,7,FALSE)<>0,VLOOKUP(UPPER(A371),Items!$B$2:$H$542,7,FALSE),\"\")","v":""},{"$f":"VLOOKUP(UPPER(A371),Items!$B$2:$C$542,2,FALSE)","v":"Data Type"}]
["N0270","D",null,null,1,null,null,null,null,null,{"$f":"VLOOKUP(UPPER(A372),Items!$B$2:$G$542,6,FALSE)","v":"datetime"},{"$f":"IF(VLOOKUP(UPPER(A372),Items!$B$2:$H$542,7,FALSE)<>0,VLOOKUP(UPPER(A372),Items!$B$2:$H$542,7,FALSE),\"\")","v":""},{"$f":"VLOOKUP(UPPER(A372),Items!$B$2:$C$542,2,FALSE)","v":"Publishing Period Commencing Time"}]
["N0287","D",null,null,1,null,null,null,null,null,{"$f":"VLOOKUP(UPPER(A373),Items!$B$2:$G$542,6,FALSE)","v":"datetime"},{"$f":"IF(VLOOKUP(UPPER(A373),Items!$B$2:$H$542,7,FALSE)<>0,VLOOKUP(UPPER(A373),Items!$B$2:$H$542,7,FALSE),\"\")","v":""},{"$f":"VLOOKUP(UPPER(A373),Items!$B$2:$C$542,2,FALSE)","v":"Start Time Of Half Hr Period"}]
["N0507","D",null,null,1,null,null,null,null,null,{"$f":"VLOOKUP(UPPER(A374),Items!$B$2:$G$542,6,FALSE)","v":"number(5)"},{"$f":"IF(VLOOKUP(UPPER(A374),Items!$B$2:$H$542,7,FALSE)<>0,VLOOKUP(UPPER(A374),Items!$B$2:$H$542,7,FALSE),\"\")","v":"BM Stor"},{"$f":"VLOOKUP(UPPER(A374),Items!$B$2:$C$542,2,FALSE)","v":"Stor Volume"}]
[]
["NGC45",{"$f":"IF(LEN(K376)>0,\"D\",IF(LEN(A376)=5,\"F\",IF(LEN(A376)=3,\"R\",\" \")))","v":"F"},null,null,null,null,null,null,null,null,null,null,"FREQ-System Frequency","(P220)"]
[{"$f":"\"NGG\" &MID(A376,4,2)","v":"NGG45"},"R",1,"G",null,null,null,null,null,null,null,null,{"$f":"LEFT(M376,FIND(\"-\",M376)-1)","v":"FREQ"},"Dummy Group"]
["N0290","D",null,null,1,null,null,null,null,null,{"$f":"VLOOKUP(UPPER(A378),Items!$B$2:$G$542,6,FALSE)","v":"varchar2(8)"},{"$f":"IF(VLOOKUP(UPPER(A378),Items!$B$2:$H$542,7,FALSE)<>0,VLOOKUP(UPPER(A378),Items!$B$2:$H$542,7,FALSE),\"\")","v":""},{"$f":"VLOOKUP(UPPER(A378),Items!$B$2:$C$542,2,FALSE)","v":"Data Type"}]
["N0368","D",null,null,1,null,null,null,null,null,{"$f":"VLOOKUP(UPPER(A379),Items!$B$2:$G$542,6,FALSE)","v":"datetime"},{"$f":"IF(VLOOKUP(UPPER(A379),Items!$B$2:$H$542,7,FALSE)<>0,VLOOKUP(UPPER(A379),Items!$B$2:$H$542,7,FALSE),\"\")","v":""},{"$f":"VLOOKUP(UPPER(A379),Items!$B$2:$C$542,2,FALSE)","v":"Report Snapshot Time"}]
["N0508","D",null,null,1,null,null,null,null,null,{"$f":"VLOOKUP(UPPER(A380),Items!$B$2:$G$542,6,FALSE)","v":"decimal(10,3)"},{"$f":"IF(VLOOKUP(UPPER(A380),Items!$B$2:$H$542,7,FALSE)<>0,VLOOKUP(UPPER(A380),Items!$B$2:$H$542,7,FALSE),\"\")","v":"Frequency"},{"$f":"VLOOKUP(UPPER(A380),Items!$B$2:$C$542,2,FALSE)","v":"Frequency"}]
[]
["NGC46",{"$f":"IF(LEN(K382)>0,\"D\",IF(LEN(A382)=5,\"F\",IF(LEN(A382)=3,\"R\",\" \")))","v":"F"},null,null,null,null,null,null,null,null,null,null,"INDOD - Initial National Demand Out-Turn Daily File","(P220)"]
[{"$f":"\"NGG\" &MID(A382,4,2)","v":"NGG46"},"R",1,"G",null,null,null,null,null,null,null,null,{"$f":"LEFT(M382,FIND(\"-\",M382)-1)","v":"INDOD "},"Dummy Group"]
["N0290","D",null,null,1,null,null,null,null,null,{"$f":"VLOOKUP(UPPER(A384),Items!$B$2:$G$542,6,FALSE)","v":"varchar2(8)"},{"$f":"IF(VLOOKUP(UPPER(A384),Items!$B$2:$H$542,7,FALSE)<>0,VLOOKUP(UPPER(A384),Items!$B$2:$H$542,7,FALSE),\"\")","v":""},{"$f":"VLOOKUP(UPPER(A384),Items!$B$2:$C$542,2,FALSE)","v":"Data Type"}]
["N0270","D",null,null,1,null,null,null,null,null,{"$f":"VLOOKUP(UPPER(A385),Items!$B$2:$G$542,6,FALSE)","v":"datetime"},{"$f":"IF(VLOOKUP(UPPER(A385),Items!$B$2:$H$542,7,FALSE)<>0,VLOOKUP(UPPER(A385),Items!$B$2:$H$542,7,FALSE),\"\")","v":""},{"$f":"VLOOKUP(UPPER(A385),Items!$B$2:$C$542,2,FALSE)","v":"Publishing Period Commencing Time"}]
["N0340","D",null,null,1,null,null,null,null,null,{"$f":"VLOOKUP(UPPER(A386),Items!$B$2:$G$542,6,FALSE)","v":"text(10)"},{"$f":"IF(VLOOKUP(UPPER(A386),Items!$B$2:$H$542,7,FALSE)<>0,VLOOKUP(UPPER(A386),Items!$B$2:$H$542,7,FALSE),\"\")","v":""},{"$f":"VLOOKUP(UPPER(A386),Items!$B$2:$C$542,2,FALSE)","v":"Sett Date"}]
["N0382","D",null,null,1,null,null,null,null,null,{"$f":"VLOOKUP(UPPER(A387),Items!$B$2:$G$542,6,FALSE)","v":"number(13,3)"},{"$f":"IF(VLOOKUP(UPPER(A387),Items!$B$2:$H$542,7,FALSE)<>0,VLOOKUP(UPPER(A387),Items!$B$2:$H$542,7,FALSE),\"\")","v":""},{"$f":"VLOOKUP(UPPER(A387),Items!$B$2:$C$542,2,FALSE)","v":"Volume"}]
[]
["NGC47",{"$f":"IF(LEN(K389)>0,\"D\",IF(LEN(A389)=5,\"F\",IF(LEN(A389)=3,\"R\",\" \")))","v":"F"},null,null,null,null,null,null,null,null,null,null,"BOAL-Bid Offer Acceptance Level Flagged File","Only valid for Settlement Dates on and after the P217 effective date"]
["NGG47","R",1,"G",null,null,null,null,null,null,null,null,"BOALF","Dummy Group used in flows BMRA-I002 BMRA-I007 and SAA-I003"]
["N0290","D",null,null,1,null,null,null,null,null,{"$f":"VLOOKUP(UPPER(A391),Items!$B$2:$G$542,6,FALSE)","v":"varchar2(8)"},{"$f":"IF(VLOOKUP(UPPER(A391),Items!$B$2:$H$542,7,FALSE)<>0,VLOOKUP(UPPER(A391),Items!$B$2:$H$542,7,FALSE),\"\")","v":""},"Data Type","\"BOALF\""]
["N0291","D",null,null,1,null,null,null,null,null,{"$f":"VLOOKUP(UPPER(A392),Items!$B$2:$G$542,6,FALSE)","v":"varchar2(9)"},{"$f":"IF(VLOOKUP(UPPER(A392),Items!$B$2:$H$542,7,FALSE)<>0,VLOOKUP(UPPER(A392),Items!$B$2:$H$542,7,FALSE),\"\")","v":""},{"$f":"VLOOKUP(UPPER(A392),Items!$B$2:$C$542,2,FALSE)","v":"BMU Name"}]
["N0243","D",null,null,1,null,null,null,null,null,{"$f":"VLOOKUP(UPPER(A393),Items!$B$2:$G$542,6,FALSE)","v":"number(10)"},{"$f":"IF(VLOOKUP(UPPER(A393),Items!$B$2:$H$542,7,FALSE)<>0,VLOOKUP(UPPER(A393),Items!$B$2:$H$542,7,FALSE),\"\")","v":""},{"$f":"VLOOKUP(UPPER(A393),Items!$B$2:$C$542,2,FALSE)","v":"Bid Offer Acceptance Number"}]
["N0242","D",null,null,1,null,null,null,null,null,{"$f":"VLOOKUP(UPPER(A394),Items!$B$2:$G$542,6,FALSE)","v":"datetime"},{"$f":"IF(VLOOKUP(UPPER(A394),Items!$B$2:$H$542,7,FALSE)<>0,VLOOKUP(UPPER(A394),Items!$B$2:$H$542,7,FALSE),\"\")","v":""},{"$f":"VLOOKUP(UPPER(A394),Items!$B$2:$C$542,2,FALSE)","v":"Acceptance Time"}]
["N0250","D",null,null,1,null,null,null,null,null,{"$f":"VLOOKUP(UPPER(A395),Items!$B$2:$G$542,6,FALSE)","v":"varchar2(5)"},{"$f":"IF(VLOOKUP(UPPER(A395),Items!$B$2:$H$542,7,FALSE)<>0,VLOOKUP(UPPER(A395),Items!$B$2:$H$542,7,FALSE),\"\")","v":""},{"$f":"VLOOKUP(UPPER(A395),Items!$B$2:$C$542,2,FALSE)","v":"Deemed Bid Offer Flag"}]
["N0549","D",null,null,1,null,null,null,null,null,"varchar2(5)",null,{"$f":"VLOOKUP(UPPER(A396),Items!$B$2:$C$542,2,FALSE)","v":"So-Flag"},"TRUE/FALSE"]
["N0288","D",null,null,1,null,null,null,null,null,{"$f":"VLOOKUP(UPPER(A397),Items!$B$2:$G$542,6,FALSE)","v":"datetime"},null,{"$f":"VLOOKUP(UPPER(A397),Items!$B$2:$C$542,2,FALSE)","v":"Time From"}]
["N0245","D",null,null,1,null,null,null,null,null,{"$f":"VLOOKUP(UPPER(A398),Items!$B$2:$G$542,6,FALSE)","v":"number(4)"},null,{"$f":"VLOOKUP(UPPER(A398),Items!$B$2:$C$542,2,FALSE)","v":"Bid Offer Level From"}]
["N0289","D",null,null,1,null,null,null,null,null,{"$f":"VLOOKUP(UPPER(A399),Items!$B$2:$G$542,6,FALSE)","v":"datetime"},null,{"$f":"VLOOKUP(UPPER(A399),Items!$B$2:$C$542,2,FALSE)","v":"Time To"}]
["N0246","D",null,null,1,null,null,null,null,null,{"$f":"VLOOKUP(UPPER(A400),Items!$B$2:$G$542,6,FALSE)","v":"number(4)"},null,{"$f":"VLOOKUP(UPPER(A400),Items!$B$2:$C$542,2,FALSE)","v":"Bid Offer Level To"}]
["N0550","D",null,null,1,null,null,null,null,null,"varchar2(5)",null,{"$f":"VLOOKUP(UPPER(A401),Items!$B$2:$C$542,2,FALSE)","v":"Amendment Flag"},"for dates before CP1392 effective dates - TRUE/FALSE\nfor dates on or after CP1392 effective dates- ORI/INS/UPD/DEL"]
["N0556","D",null,null,1,null,null,null,null,null,"varchar2(5)",null,{"$f":"VLOOKUP(UPPER(A402),Items!$B$2:$C$542,2,FALSE)","v":"Stor Flag"},"TRUE/FALSE"]
[]
["NGC48",{"$f":"IF(LEN(K404)>0,\"D\",IF(LEN(A404)=5,\"F\",IF(LEN(A404)=3,\"R\",\" \")))","v":"F"},null,null,null,null,null,null,null,null,null,null,"Disaggregated Balancing Services Adjustment Data ","Only valid for Settlement Dates on and after the P217 effective date"]
["NGG48","R",1,"G",null,null,null,null,null,null,null,null,"DISBSAD","Dummy Group used in flows BMRA-I014 and SAA-I026"]
["N0290","D",null,null,1,null,null,null,null,null,{"$f":"VLOOKUP(UPPER(A406),Items!$B$2:$G$542,6,FALSE)","v":"varchar2(8)"},null,{"$f":"VLOOKUP(UPPER(A406),Items!$B$2:$C$542,2,FALSE)","v":"Data Type"},"\"DISBSAD\""]
["N0340","D",null,null,1,null,null,null,null,null,{"$f":"VLOOKUP(UPPER(A407),Items!$B$2:$G$542,6,FALSE)","v":"text(10)"},null,{"$f":"VLOOKUP(UPPER(A407),Items!$B$2:$C$542,2,FALSE)","v":"Sett Date"},"Format YYYY-MM-DD (validated by business loader)"]
["N0201","D",null,null,1,null,null,null,null,null,{"$f":"VLOOKUP(UPPER(A408),Items!$B$2:$G$542,6,FALSE)","v":"integer(2)"},null,{"$f":"VLOOKUP(UPPER(A408),Items!$B$2:$C$542,2,FALSE)","v":"Settlement Period"},"Value range 1 - 50"]
["N0514","D",null,null,1,null,null,null,null,null,{"$f":"VLOOKUP(UPPER(A409),Items!$B$2:$G$542,6,FALSE)","v":"integer(4)"},null,{"$f":"VLOOKUP(UPPER(A409),Items!$B$2:$C$542,2,FALSE)","v":"Id"},"Unique per Settlement Period"]
["N0515","D",null,null,"O",null,null,null,null,null,{"$f":"VLOOKUP(UPPER(A410),Items!$B$2:$G$542,6,FALSE)","v":"decimal(10,2)"},null,{"$f":"VLOOKUP(UPPER(A410),Items!$B$2:$C$542,2,FALSE)","v":"Cost"},"£"]
["N0516","D",null,null,1,null,null,null,null,null,{"$f":"VLOOKUP(UPPER(A411),Items!$B$2:$G$542,6,FALSE)","v":"decimal(10,3)"},null,{"$f":"VLOOKUP(UPPER(A411),Items!$B$2:$C$542,2,FALSE)","v":"Volume"},"MWh"]
["N0549","D",null,null,1,null,null,null,null,null,"varchar2(5)",null,{"$f":"VLOOKUP(UPPER(A412),Items!$B$2:$C$542,2,FALSE)","v":"So-Flag"},"TRUE/FALSE"]
["N0556","D",null,null,1,null,null,null,null,null,"varchar2(5)",null,{"$f":"VLOOKUP(UPPER(A413),Items!$B$2:$C$542,2,FALSE)","v":"Stor Flag"},"TRUE/FALSE"]
[]
["NGC51","F",null,null,null,null,null,null,null,null,null,null,"ZOU2T14D-System Zone Output Usable Data for 2 to 14 days","(P243/P244)"]
["NGG51","R",1,"G",null,null,null,null,null,null,null,null,"ZOU2T14D","This group will make use of generic Output usable Daily holding table OUDGEN"]
["N0290","D",null,null,1,null,null,null,null,null,{"$f":"VLOOKUP(UPPER(A417),Items!$B$2:$G$542,6,FALSE)","v":"varchar2(8)"},{"$f":"IF(VLOOKUP(UPPER(A417),Items!$B$2:$H$542,7,FALSE)<>0,VLOOKUP(UPPER(A417),Items!$B$2:$H$542,7,FALSE),\"\")","v":""},{"$f":"VLOOKUP(UPPER(A417),Items!$B$2:$C$542,2,FALSE)","v":"Data Type"},"\"ZOU2T14D\""]
["N0270","D",null,null,1,null,null,null,null,null,{"$f":"VLOOKUP(UPPER(A418),Items!$B$2:$G$542,6,FALSE)","v":"datetime"},{"$f":"IF(VLOOKUP(UPPER(A418),Items!$B$2:$H$542,7,FALSE)<>0,VLOOKUP(UPPER(A418),Items!$B$2:$H$542,7,FALSE),\"\")","v":""},{"$f":"VLOOKUP(UPPER(A418),Items!$B$2:$C$542,2,FALSE)","v":"Publishing Period Commencing Time"}]
["N0552","D",null,null,1,null,null,null,null,null,{"$f":"VLOOKUP(UPPER(A419),Items!$B$2:$G$542,6,FALSE)","v":"varchar2(3)"},{"$f":"IF(VLOOKUP(UPPER(A419),Items!$B$2:$H$542,7,FALSE)<>0,VLOOKUP(UPPER(A419),Items!$B$2:$H$542,7,FALSE),\"\")","v":"System Zone"},{"$f":"VLOOKUP(UPPER(A419),Items!$B$2:$C$542,2,FALSE)","v":"System Zone"},"Must not be 'N'"]
["N0553","D",null,null,1,null,null,null,null,null,{"$f":"VLOOKUP(UPPER(A420),Items!$B$2:$G$542,6,FALSE)","v":"varchar2(10)"},{"$f":"IF(VLOOKUP(UPPER(A420),Items!$B$2:$H$542,7,FALSE)<>0,VLOOKUP(UPPER(A420),Items!$B$2:$H$542,7,FALSE),\"\")","v":""},{"$f":"VLOOKUP(UPPER(A420),Items!$B$2:$C$542,2,FALSE)","v":"Day Of Forecast Ou"}]
["N0551","D",null,null,1,null,null,null,null,null,{"$f":"VLOOKUP(UPPER(A421),Items!$B$2:$G$542,6,FALSE)","v":"number(5)"},{"$f":"IF(VLOOKUP(UPPER(A421),Items!$B$2:$H$542,7,FALSE)<>0,VLOOKUP(UPPER(A421),Items!$B$2:$H$542,7,FALSE),\"\")","v":"Output_Usable_Range"},{"$f":"VLOOKUP(UPPER(A421),Items!$B$2:$C$542,2,FALSE)","v":"Output Usable"}]
[]
[]
["NGC52","F",null,null,null,null,null,null,null,null,null,null,"NOU2T14D-National Output Usable Data for 2 to 14 days","(P243/P244)"]
["NGG52","R",1,"G",null,null,null,null,null,null,null,null,"NOU2T14D","This group will make use of generic Output usable Daily holding table OUDGEN"]
["N0290","D",null,null,1,null,null,null,null,null,{"$f":"VLOOKUP(UPPER(A426),Items!$B$2:$G$542,6,FALSE)","v":"varchar2(8)"},{"$f":"IF(VLOOKUP(UPPER(A426),Items!$B$2:$H$542,7,FALSE)<>0,VLOOKUP(UPPER(A426),Items!$B$2:$H$542,7,FALSE),\"\")","v":""},{"$f":"VLOOKUP(UPPER(A426),Items!$B$2:$C$542,2,FALSE)","v":"Data Type"},"\"NOU2T14D\""]
["N0270","D",null,null,1,null,null,null,null,null,{"$f":"VLOOKUP(UPPER(A427),Items!$B$2:$G$542,6,FALSE)","v":"datetime"},{"$f":"IF(VLOOKUP(UPPER(A427),Items!$B$2:$H$542,7,FALSE)<>0,VLOOKUP(UPPER(A427),Items!$B$2:$H$542,7,FALSE),\"\")","v":""},{"$f":"VLOOKUP(UPPER(A427),Items!$B$2:$C$542,2,FALSE)","v":"Publishing Period Commencing Time"}]
["N0552","D",null,null,1,null,null,null,null,null,{"$f":"VLOOKUP(UPPER(A428),Items!$B$2:$G$542,6,FALSE)","v":"varchar2(3)"},{"$f":"IF(VLOOKUP(UPPER(A428),Items!$B$2:$H$542,7,FALSE)<>0,VLOOKUP(UPPER(A428),Items!$B$2:$H$542,7,FALSE),\"\")","v":"System Zone"},{"$f":"VLOOKUP(UPPER(A428),Items!$B$2:$C$542,2,FALSE)","v":"System Zone"},"Must be 'N'"]
["N0553","D",null,null,1,null,null,null,null,null,{"$f":"VLOOKUP(UPPER(A429),Items!$B$2:$G$542,6,FALSE)","v":"varchar2(10)"},{"$f":"IF(VLOOKUP(UPPER(A429),Items!$B$2:$H$542,7,FALSE)<>0,VLOOKUP(UPPER(A429),Items!$B$2:$H$542,7,FALSE),\"\")","v":""},{"$f":"VLOOKUP(UPPER(A429),Items!$B$2:$C$542,2,FALSE)","v":"Day Of Forecast Ou"}]
["N0551","D",null,null,1,null,null,null,null,null,{"$f":"VLOOKUP(UPPER(A430),Items!$B$2:$G$542,6,FALSE)","v":"number(5)"},{"$f":"IF(VLOOKUP(UPPER(A430),Items!$B$2:$H$542,7,FALSE)<>0,VLOOKUP(UPPER(A430),Items!$B$2:$H$542,7,FALSE),\"\")","v":"Output_Usable_Range"},{"$f":"VLOOKUP(UPPER(A430),Items!$B$2:$C$542,2,FALSE)","v":"Output Usable"}]
[]
[]
["NGC53","F",null,null,null,null,null,null,null,null,null,null,"ZOU2T49D-System Zone Output Usable Data for 2 to 49 days","(P243/P244)"]
["NGG53","R",1,"G",null,null,null,null,null,null,null,null,"ZOU2T49D","This group will make use of generic Output usable Daily holding table OUDGEN"]
["N0290","D",null,null,1,null,null,null,null,null,{"$f":"VLOOKUP(UPPER(A435),Items!$B$2:$G$542,6,FALSE)","v":"varchar2(8)"},{"$f":"IF(VLOOKUP(UPPER(A435),Items!$B$2:$H$542,7,FALSE)<>0,VLOOKUP(UPPER(A435),Items!$B$2:$H$542,7,FALSE),\"\")","v":""},{"$f":"VLOOKUP(UPPER(A435),Items!$B$2:$C$542,2,FALSE)","v":"Data Type"},"\"ZOU2T49D\""]
["N0270","D",null,null,1,null,null,null,null,null,{"$f":"VLOOKUP(UPPER(A436),Items!$B$2:$G$542,6,FALSE)","v":"datetime"},{"$f":"IF(VLOOKUP(UPPER(A436),Items!$B$2:$H$542,7,FALSE)<>0,VLOOKUP(UPPER(A436),Items!$B$2:$H$542,7,FALSE),\"\")","v":""},{"$f":"VLOOKUP(UPPER(A436),Items!$B$2:$C$542,2,FALSE)","v":"Publishing Period Commencing Time"}]
["N0552","D",null,null,1,null,null,null,null,null,{"$f":"VLOOKUP(UPPER(A437),Items!$B$2:$G$542,6,FALSE)","v":"varchar2(3)"},{"$f":"IF(VLOOKUP(UPPER(A437),Items!$B$2:$H$542,7,FALSE)<>0,VLOOKUP(UPPER(A437),Items!$B$2:$H$542,7,FALSE),\"\")","v":"System Zone"},{"$f":"VLOOKUP(UPPER(A437),Items!$B$2:$C$542,2,FALSE)","v":"System Zone"},"Must not be 'N'"]
["N0553","D",null,null,1,null,null,null,null,null,{"$f":"VLOOKUP(UPPER(A438),Items!$B$2:$G$542,6,FALSE)","v":"varchar2(10)"},{"$f":"IF(VLOOKUP(UPPER(A438),Items!$B$2:$H$542,7,FALSE)<>0,VLOOKUP(UPPER(A438),Items!$B$2:$H$542,7,FALSE),\"\")","v":""},{"$f":"VLOOKUP(UPPER(A438),Items!$B$2:$C$542,2,FALSE)","v":"Day Of Forecast Ou"}]
["N0551","D",null,null,1,null,null,null,null,null,{"$f":"VLOOKUP(UPPER(A439),Items!$B$2:$G$542,6,FALSE)","v":"number(5)"},{"$f":"IF(VLOOKUP(UPPER(A439),Items!$B$2:$H$542,7,FALSE)<>0,VLOOKUP(UPPER(A439),Items!$B$2:$H$542,7,FALSE),\"\")","v":"Output_Usable_Range"},{"$f":"VLOOKUP(UPPER(A439),Items!$B$2:$C$542,2,FALSE)","v":"Output Usable"}]
[]
[]
["NGC54","F",null,null,null,null,null,null,null,null,null,null,"NOU2T49D-National Output Usable Data for 2 to 49 days","(P243/P244)"]
["NGG54","R",1,"G",null,null,null,null,null,null,null,null,"NOU2T49D","This group will make use of generic Output usable Daily holding table OUDGEN"]
["N0290","D",null,null,1,null,null,null,null,null,{"$f":"VLOOKUP(UPPER(A444),Items!$B$2:$G$542,6,FALSE)","v":"varchar2(8)"},{"$f":"IF(VLOOKUP(UPPER(A444),Items!$B$2:$H$542,7,FALSE)<>0,VLOOKUP(UPPER(A444),Items!$B$2:$H$542,7,FALSE),\"\")","v":""},{"$f":"VLOOKUP(UPPER(A444),Items!$B$2:$C$542,2,FALSE)","v":"Data Type"},"\"NOU2T49D\""]
["N0270","D",null,null,1,null,null,null,null,null,{"$f":"VLOOKUP(UPPER(A445),Items!$B$2:$G$542,6,FALSE)","v":"datetime"},{"$f":"IF(VLOOKUP(UPPER(A445),Items!$B$2:$H$542,7,FALSE)<>0,VLOOKUP(UPPER(A445),Items!$B$2:$H$542,7,FALSE),\"\")","v":""},{"$f":"VLOOKUP(UPPER(A445),Items!$B$2:$C$542,2,FALSE)","v":"Publishing Period Commencing Time"}]
["N0552","D",null,null,1,null,null,null,null,null,{"$f":"VLOOKUP(UPPER(A446),Items!$B$2:$G$542,6,FALSE)","v":"varchar2(3)"},{"$f":"IF(VLOOKUP(UPPER(A446),Items!$B$2:$H$542,7,FALSE)<>0,VLOOKUP(UPPER(A446),Items!$B$2:$H$542,7,FALSE),\"\")","v":"System Zone"},{"$f":"VLOOKUP(UPPER(A446),Items!$B$2:$C$542,2,FALSE)","v":"System Zone"},"Must be 'N'"]
["N0553","D",null,null,1,null,null,null,null,null,{"$f":"VLOOKUP(UPPER(A447),Items!$B$2:$G$542,6,FALSE)","v":"varchar2(10)"},{"$f":"IF(VLOOKUP(UPPER(A447),Items!$B$2:$H$542,7,FALSE)<>0,VLOOKUP(UPPER(A447),Items!$B$2:$H$542,7,FALSE),\"\")","v":""},{"$f":"VLOOKUP(UPPER(A447),Items!$B$2:$C$542,2,FALSE)","v":"Day Of Forecast Ou"}]
["N0551","D",null,null,1,null,null,null,null,null,{"$f":"VLOOKUP(UPPER(A448),Items!$B$2:$G$542,6,FALSE)","v":"number(5)"},{"$f":"IF(VLOOKUP(UPPER(A448),Items!$B$2:$H$542,7,FALSE)<>0,VLOOKUP(UPPER(A448),Items!$B$2:$H$542,7,FALSE),\"\")","v":"Output_Usable_Range"},{"$f":"VLOOKUP(UPPER(A448),Items!$B$2:$C$542,2,FALSE)","v":"Output Usable"}]
[]
[]
["NGC55","F",null,null,null,null,null,null,null,null,null,null,"ZOU2T52W-System Zone Output Usable Data for 2 to 52 Weeks","(P243/P244)"]
["NGG55","R",1,"G",null,null,null,null,null,null,null,null,"ZOU2T52W","This group will make use of generic Output usable Daily holding table OUMYGEN"]
["N0290","D",null,null,1,null,null,null,null,null,{"$f":"VLOOKUP(UPPER(A453),Items!$B$2:$G$542,6,FALSE)","v":"varchar2(8)"},{"$f":"IF(VLOOKUP(UPPER(A453),Items!$B$2:$H$542,7,FALSE)<>0,VLOOKUP(UPPER(A453),Items!$B$2:$H$542,7,FALSE),\"\")","v":""},{"$f":"VLOOKUP(UPPER(A453),Items!$B$2:$C$542,2,FALSE)","v":"Data Type"},"\"ZOU2T52W\""]
["N0270","D",null,null,1,null,null,null,null,null,{"$f":"VLOOKUP(UPPER(A454),Items!$B$2:$G$542,6,FALSE)","v":"datetime"},{"$f":"IF(VLOOKUP(UPPER(A454),Items!$B$2:$H$542,7,FALSE)<>0,VLOOKUP(UPPER(A454),Items!$B$2:$H$542,7,FALSE),\"\")","v":""},{"$f":"VLOOKUP(UPPER(A454),Items!$B$2:$C$542,2,FALSE)","v":"Publishing Period Commencing Time"}]
["N0552","D",null,null,1,null,null,null,null,null,{"$f":"VLOOKUP(UPPER(A455),Items!$B$2:$G$542,6,FALSE)","v":"varchar2(3)"},{"$f":"IF(VLOOKUP(UPPER(A455),Items!$B$2:$H$542,7,FALSE)<>0,VLOOKUP(UPPER(A455),Items!$B$2:$H$542,7,FALSE),\"\")","v":"System Zone"},{"$f":"VLOOKUP(UPPER(A455),Items!$B$2:$C$542,2,FALSE)","v":"System Zone"},"Must not be 'N'"]
["N0248","D",null,null,1,null,null,null,null,null,{"$f":"VLOOKUP(UPPER(A456),Items!$B$2:$G$542,6,FALSE)","v":"number(2)"},{"$f":"IF(VLOOKUP(UPPER(A456),Items!$B$2:$H$542,7,FALSE)<>0,VLOOKUP(UPPER(A456),Items!$B$2:$H$542,7,FALSE),\"\")","v":"Week Number"},{"$f":"VLOOKUP(UPPER(A456),Items!$B$2:$C$542,2,FALSE)","v":"Calendar Week Number"}]
["N0237","D",null,null,1,null,null,null,null,null,{"$f":"VLOOKUP(UPPER(A457),Items!$B$2:$G$542,6,FALSE)","v":"integer(4)"},{"$f":"IF(VLOOKUP(UPPER(A457),Items!$B$2:$H$542,7,FALSE)<>0,VLOOKUP(UPPER(A457),Items!$B$2:$H$542,7,FALSE),\"\")","v":""},{"$f":"VLOOKUP(UPPER(A457),Items!$B$2:$C$542,2,FALSE)","v":"Year"}]
["N0551","D",null,null,1,null,null,null,null,null,{"$f":"VLOOKUP(UPPER(A458),Items!$B$2:$G$542,6,FALSE)","v":"number(5)"},{"$f":"IF(VLOOKUP(UPPER(A458),Items!$B$2:$H$542,7,FALSE)<>0,VLOOKUP(UPPER(A458),Items!$B$2:$H$542,7,FALSE),\"\")","v":"Output_Usable_Range"},{"$f":"VLOOKUP(UPPER(A458),Items!$B$2:$C$542,2,FALSE)","v":"Output Usable"}]
[]
[]
["NGC56","F",null,null,null,null,null,null,null,null,null,null,"NOU2T52W-National Output Usable Data for 2 to 52 Weeks","(P243/P244)"]
["NGG56","R",1,"G",null,null,null,null,null,null,null,null,"NOU2T52W","This group will make use of generic Output usable Daily holding table OUMYGEN"]
["N0290","D",null,null,1,null,null,null,null,null,{"$f":"VLOOKUP(UPPER(A463),Items!$B$2:$G$542,6,FALSE)","v":"varchar2(8)"},{"$f":"IF(VLOOKUP(UPPER(A463),Items!$B$2:$H$542,7,FALSE)<>0,VLOOKUP(UPPER(A463),Items!$B$2:$H$542,7,FALSE),\"\")","v":""},{"$f":"VLOOKUP(UPPER(A463),Items!$B$2:$C$542,2,FALSE)","v":"Data Type"},"\"NOU2T52W\""]
["N0270","D",null,null,1,null,null,null,null,null,{"$f":"VLOOKUP(UPPER(A464),Items!$B$2:$G$542,6,FALSE)","v":"datetime"},{"$f":"IF(VLOOKUP(UPPER(A464),Items!$B$2:$H$542,7,FALSE)<>0,VLOOKUP(UPPER(A464),Items!$B$2:$H$542,7,FALSE),\"\")","v":""},{"$f":"VLOOKUP(UPPER(A464),Items!$B$2:$C$542,2,FALSE)","v":"Publishing Period Commencing Time"}]
["N0552","D",null,null,1,null,null,null,null,null,{"$f":"VLOOKUP(UPPER(A465),Items!$B$2:$G$542,6,FALSE)","v":"varchar2(3)"},{"$f":"IF(VLOOKUP(UPPER(A465),Items!$B$2:$H$542,7,FALSE)<>0,VLOOKUP(UPPER(A465),Items!$B$2:$H$542,7,FALSE),\"\")","v":"System Zone"},{"$f":"VLOOKUP(UPPER(A465),Items!$B$2:$C$542,2,FALSE)","v":"System Zone"},"Must be 'N'"]
["N0248","D",null,null,1,null,null,null,null,null,{"$f":"VLOOKUP(UPPER(A466),Items!$B$2:$G$542,6,FALSE)","v":"number(2)"},{"$f":"IF(VLOOKUP(UPPER(A466),Items!$B$2:$H$542,7,FALSE)<>0,VLOOKUP(UPPER(A466),Items!$B$2:$H$542,7,FALSE),\"\")","v":"Week Number"},{"$f":"VLOOKUP(UPPER(A466),Items!$B$2:$C$542,2,FALSE)","v":"Calendar Week Number"}]
["N0237","D",null,null,1,null,null,null,null,null,{"$f":"VLOOKUP(UPPER(A467),Items!$B$2:$G$542,6,FALSE)","v":"integer(4)"},{"$f":"IF(VLOOKUP(UPPER(A467),Items!$B$2:$H$542,7,FALSE)<>0,VLOOKUP(UPPER(A467),Items!$B$2:$H$542,7,FALSE),\"\")","v":""},{"$f":"VLOOKUP(UPPER(A467),Items!$B$2:$C$542,2,FALSE)","v":"Year"}]
["N0551","D",null,null,1,null,null,null,null,null,{"$f":"VLOOKUP(UPPER(A468),Items!$B$2:$G$542,6,FALSE)","v":"number(5)"},{"$f":"IF(VLOOKUP(UPPER(A468),Items!$B$2:$H$542,7,FALSE)<>0,VLOOKUP(UPPER(A468),Items!$B$2:$H$542,7,FALSE),\"\")","v":"Output_Usable_Range"},{"$f":"VLOOKUP(UPPER(A468),Items!$B$2:$C$542,2,FALSE)","v":"Output Usable"}]
[]
["NGC57","F",null,null,null,null,null,null,null,null,null,null,"ZOUY1-System Zone Output Usable Data for 1 Year","(P243/P244)"]
["NGG57","R",1,"G",null,null,null,null,null,null,null,null,"ZOUY1","This group will make use of generic Output usable Daily holding table OUMYGEN"]
["N0290","D",null,null,1,null,null,null,null,null,{"$f":"VLOOKUP(UPPER(A472),Items!$B$2:$G$542,6,FALSE)","v":"varchar2(8)"},{"$f":"IF(VLOOKUP(UPPER(A472),Items!$B$2:$H$542,7,FALSE)<>0,VLOOKUP(UPPER(A472),Items!$B$2:$H$542,7,FALSE),\"\")","v":""},{"$f":"VLOOKUP(UPPER(A472),Items!$B$2:$C$542,2,FALSE)","v":"Data Type"},"\"ZOUY1\""]
["N0270","D",null,null,1,null,null,null,null,null,{"$f":"VLOOKUP(UPPER(A473),Items!$B$2:$G$542,6,FALSE)","v":"datetime"},{"$f":"IF(VLOOKUP(UPPER(A473),Items!$B$2:$H$542,7,FALSE)<>0,VLOOKUP(UPPER(A473),Items!$B$2:$H$542,7,FALSE),\"\")","v":""},{"$f":"VLOOKUP(UPPER(A473),Items!$B$2:$C$542,2,FALSE)","v":"Publishing Period Commencing Time"}]
["N0552","D",null,null,1,null,null,null,null,null,{"$f":"VLOOKUP(UPPER(A474),Items!$B$2:$G$542,6,FALSE)","v":"varchar2(3)"},{"$f":"IF(VLOOKUP(UPPER(A474),Items!$B$2:$H$542,7,FALSE)<>0,VLOOKUP(UPPER(A474),Items!$B$2:$H$542,7,FALSE),\"\")","v":"System Zone"},{"$f":"VLOOKUP(UPPER(A474),Items!$B$2:$C$542,2,FALSE)","v":"System Zone"},"Must not be 'N'"]
["N0248","D",null,null,1,null,null,null,null,null,{"$f":"VLOOKUP(UPPER(A475),Items!$B$2:$G$542,6,FALSE)","v":"number(2)"},{"$f":"IF(VLOOKUP(UPPER(A475),Items!$B$2:$H$542,7,FALSE)<>0,VLOOKUP(UPPER(A475),Items!$B$2:$H$542,7,FALSE),\"\")","v":"Week Number"},{"$f":"VLOOKUP(UPPER(A475),Items!$B$2:$C$542,2,FALSE)","v":"Calendar Week Number"}]
["N0237","D",null,null,1,null,null,null,null,null,{"$f":"VLOOKUP(UPPER(A476),Items!$B$2:$G$542,6,FALSE)","v":"integer(4)"},{"$f":"IF(VLOOKUP(UPPER(A476),Items!$B$2:$H$542,7,FALSE)<>0,VLOOKUP(UPPER(A476),Items!$B$2:$H$542,7,FALSE),\"\")","v":""},{"$f":"VLOOKUP(UPPER(A476),Items!$B$2:$C$542,2,FALSE)","v":"Year"}]
["N0551","D",null,null,1,null,null,null,null,null,{"$f":"VLOOKUP(UPPER(A477),Items!$B$2:$G$542,6,FALSE)","v":"number(5)"},{"$f":"IF(VLOOKUP(UPPER(A477),Items!$B$2:$H$542,7,FALSE)<>0,VLOOKUP(UPPER(A477),Items!$B$2:$H$542,7,FALSE),\"\")","v":"Output_Usable_Range"},{"$f":"VLOOKUP(UPPER(A477),Items!$B$2:$C$542,2,FALSE)","v":"Output Usable"}]
[]
["NGC58","F",null,null,null,null,null,null,null,null,null,null,"ZOUY2-System Zone Output Usable Data for 2 Year","(P243/P244)"]
["NGG58","R",1,"G",null,null,null,null,null,null,null,null,"ZOUY2","This group will make use of generic Output usable Daily holding table OUMYGEN"]
["N0290","D",null,null,1,null,null,null,null,null,{"$f":"VLOOKUP(UPPER(A481),Items!$B$2:$G$542,6,FALSE)","v":"varchar2(8)"},{"$f":"IF(VLOOKUP(UPPER(A481),Items!$B$2:$H$542,7,FALSE)<>0,VLOOKUP(UPPER(A481),Items!$B$2:$H$542,7,FALSE),\"\")","v":""},{"$f":"VLOOKUP(UPPER(A481),Items!$B$2:$C$542,2,FALSE)","v":"Data Type"},"\"ZOUY2\""]
["N0270","D",null,null,1,null,null,null,null,null,{"$f":"VLOOKUP(UPPER(A482),Items!$B$2:$G$542,6,FALSE)","v":"datetime"},{"$f":"IF(VLOOKUP(UPPER(A482),Items!$B$2:$H$542,7,FALSE)<>0,VLOOKUP(UPPER(A482),Items!$B$2:$H$542,7,FALSE),\"\")","v":""},{"$f":"VLOOKUP(UPPER(A482),Items!$B$2:$C$542,2,FALSE)","v":"Publishing Period Commencing Time"}]
["N0552","D",null,null,1,null,null,null,null,null,{"$f":"VLOOKUP(UPPER(A483),Items!$B$2:$G$542,6,FALSE)","v":"varchar2(3)"},{"$f":"IF(VLOOKUP(UPPER(A483),Items!$B$2:$H$542,7,FALSE)<>0,VLOOKUP(UPPER(A483),Items!$B$2:$H$542,7,FALSE),\"\")","v":"System Zone"},{"$f":"VLOOKUP(UPPER(A483),Items!$B$2:$C$542,2,FALSE)","v":"System Zone"},"Must not be 'N'"]
["N0248","D",null,null,1,null,null,null,null,null,{"$f":"VLOOKUP(UPPER(A484),Items!$B$2:$G$542,6,FALSE)","v":"number(2)"},{"$f":"IF(VLOOKUP(UPPER(A484),Items!$B$2:$H$542,7,FALSE)<>0,VLOOKUP(UPPER(A484),Items!$B$2:$H$542,7,FALSE),\"\")","v":"Week Number"},{"$f":"VLOOKUP(UPPER(A484),Items!$B$2:$C$542,2,FALSE)","v":"Calendar Week Number"}]
["N0237","D",null,null,1,null,null,null,null,null,{"$f":"VLOOKUP(UPPER(A485),Items!$B$2:$G$542,6,FALSE)","v":"integer(4)"},{"$f":"IF(VLOOKUP(UPPER(A485),Items!$B$2:$H$542,7,FALSE)<>0,VLOOKUP(UPPER(A485),Items!$B$2:$H$542,7,FALSE),\"\")","v":""},{"$f":"VLOOKUP(UPPER(A485),Items!$B$2:$C$542,2,FALSE)","v":"Year"}]
["N0551","D",null,null,1,null,null,null,null,null,{"$f":"VLOOKUP(UPPER(A486),Items!$B$2:$G$542,6,FALSE)","v":"number(5)"},{"$f":"IF(VLOOKUP(UPPER(A486),Items!$B$2:$H$542,7,FALSE)<>0,VLOOKUP(UPPER(A486),Items!$B$2:$H$542,7,FALSE),\"\")","v":"Output_Usable_Range"},{"$f":"VLOOKUP(UPPER(A486),Items!$B$2:$C$542,2,FALSE)","v":"Output Usable"}]
[]
["NGC59","F",null,null,null,null,null,null,null,null,null,null,"ZOUY3-System Zone Output Usable Data for 3 Year","(P243/P244)"]
["NGG59","R",1,"G",null,null,null,null,null,null,null,null,"ZOUY3","This group will make use of generic Output usable Daily holding table OUMYGEN"]
["N0290","D",null,null,1,null,null,null,null,null,{"$f":"VLOOKUP(UPPER(A490),Items!$B$2:$G$542,6,FALSE)","v":"varchar2(8)"},{"$f":"IF(VLOOKUP(UPPER(A490),Items!$B$2:$H$542,7,FALSE)<>0,VLOOKUP(UPPER(A490),Items!$B$2:$H$542,7,FALSE),\"\")","v":""},{"$f":"VLOOKUP(UPPER(A490),Items!$B$2:$C$542,2,FALSE)","v":"Data Type"},"\"ZOUY3\""]
["N0270","D",null,null,1,null,null,null,null,null,{"$f":"VLOOKUP(UPPER(A491),Items!$B$2:$G$542,6,FALSE)","v":"datetime"},{"$f":"IF(VLOOKUP(UPPER(A491),Items!$B$2:$H$542,7,FALSE)<>0,VLOOKUP(UPPER(A491),Items!$B$2:$H$542,7,FALSE),\"\")","v":""},{"$f":"VLOOKUP(UPPER(A491),Items!$B$2:$C$542,2,FALSE)","v":"Publishing Period Commencing Time"}]
["N0552","D",null,null,1,null,null,null,null,null,{"$f":"VLOOKUP(UPPER(A492),Items!$B$2:$G$542,6,FALSE)","v":"varchar2(3)"},{"$f":"IF(VLOOKUP(UPPER(A492),Items!$B$2:$H$542,7,FALSE)<>0,VLOOKUP(UPPER(A492),Items!$B$2:$H$542,7,FALSE),\"\")","v":"System Zone"},{"$f":"VLOOKUP(UPPER(A492),Items!$B$2:$C$542,2,FALSE)","v":"System Zone"},"Must not be 'N'"]
["N0248","D",null,null,1,null,null,null,null,null,{"$f":"VLOOKUP(UPPER(A493),Items!$B$2:$G$542,6,FALSE)","v":"number(2)"},{"$f":"IF(VLOOKUP(UPPER(A493),Items!$B$2:$H$542,7,FALSE)<>0,VLOOKUP(UPPER(A493),Items!$B$2:$H$542,7,FALSE),\"\")","v":"Week Number"},{"$f":"VLOOKUP(UPPER(A493),Items!$B$2:$C$542,2,FALSE)","v":"Calendar Week Number"}]
["N0237","D",null,null,1,null,null,null,null,null,{"$f":"VLOOKUP(UPPER(A494),Items!$B$2:$G$542,6,FALSE)","v":"integer(4)"},{"$f":"IF(VLOOKUP(UPPER(A494),Items!$B$2:$H$542,7,FALSE)<>0,VLOOKUP(UPPER(A494),Items!$B$2:$H$542,7,FALSE),\"\")","v":""},{"$f":"VLOOKUP(UPPER(A494),Items!$B$2:$C$542,2,FALSE)","v":"Year"}]
["N0551","D",null,null,1,null,null,null,null,null,{"$f":"VLOOKUP(UPPER(A495),Items!$B$2:$G$542,6,FALSE)","v":"number(5)"},{"$f":"IF(VLOOKUP(UPPER(A495),Items!$B$2:$H$542,7,FALSE)<>0,VLOOKUP(UPPER(A495),Items!$B$2:$H$542,7,FALSE),\"\")","v":"Output_Usable_Range"},{"$f":"VLOOKUP(UPPER(A495),Items!$B$2:$C$542,2,FALSE)","v":"Output Usable"}]
[]
["NGC60","F",null,null,null,null,null,null,null,null,null,null,"ZOUY4-System Zone Output Usable Data for 4 Year","(P243/P244)"]
["NGG60","R",1,"G",null,null,null,null,null,null,null,null,"ZOUY4","This group will make use of generic Output usable Daily holding table OUMYGEN"]
["N0290","D",null,null,1,null,null,null,null,null,{"$f":"VLOOKUP(UPPER(A499),Items!$B$2:$G$542,6,FALSE)","v":"varchar2(8)"},{"$f":"IF(VLOOKUP(UPPER(A499),Items!$B$2:$H$542,7,FALSE)<>0,VLOOKUP(UPPER(A499),Items!$B$2:$H$542,7,FALSE),\"\")","v":""},{"$f":"VLOOKUP(UPPER(A499),Items!$B$2:$C$542,2,FALSE)","v":"Data Type"},"\"ZOUY4\""]
["N0270","D",null,null,1,null,null,null,null,null,{"$f":"VLOOKUP(UPPER(A500),Items!$B$2:$G$542,6,FALSE)","v":"datetime"},{"$f":"IF(VLOOKUP(UPPER(A500),Items!$B$2:$H$542,7,FALSE)<>0,VLOOKUP(UPPER(A500),Items!$B$2:$H$542,7,FALSE),\"\")","v":""},{"$f":"VLOOKUP(UPPER(A500),Items!$B$2:$C$542,2,FALSE)","v":"Publishing Period Commencing Time"}]
["N0552","D",null,null,1,null,null,null,null,null,{"$f":"VLOOKUP(UPPER(A501),Items!$B$2:$G$542,6,FALSE)","v":"varchar2(3)"},{"$f":"IF(VLOOKUP(UPPER(A501),Items!$B$2:$H$542,7,FALSE)<>0,VLOOKUP(UPPER(A501),Items!$B$2:$H$542,7,FALSE),\"\")","v":"System Zone"},{"$f":"VLOOKUP(UPPER(A501),Items!$B$2:$C$542,2,FALSE)","v":"System Zone"},"Must not be 'N'"]
["N0248","D",null,null,1,null,null,null,null,null,{"$f":"VLOOKUP(UPPER(A502),Items!$B$2:$G$542,6,FALSE)","v":"number(2)"},{"$f":"IF(VLOOKUP(UPPER(A502),Items!$B$2:$H$542,7,FALSE)<>0,VLOOKUP(UPPER(A502),Items!$B$2:$H$542,7,FALSE),\"\")","v":"Week Number"},{"$f":"VLOOKUP(UPPER(A502),Items!$B$2:$C$542,2,FALSE)","v":"Calendar Week Number"}]
["N0237","D",null,null,1,null,null,null,null,null,{"$f":"VLOOKUP(UPPER(A503),Items!$B$2:$G$542,6,FALSE)","v":"integer(4)"},{"$f":"IF(VLOOKUP(UPPER(A503),Items!$B$2:$H$542,7,FALSE)<>0,VLOOKUP(UPPER(A503),Items!$B$2:$H$542,7,FALSE),\"\")","v":""},{"$f":"VLOOKUP(UPPER(A503),Items!$B$2:$C$542,2,FALSE)","v":"Year"}]
["N0551","D",null,null,1,null,null,null,null,null,{"$f":"VLOOKUP(UPPER(A504),Items!$B$2:$G$542,6,FALSE)","v":"number(5)"},{"$f":"IF(VLOOKUP(UPPER(A504),Items!$B$2:$H$542,7,FALSE)<>0,VLOOKUP(UPPER(A504),Items!$B$2:$H$542,7,FALSE),\"\")","v":"Output_Usable_Range"},{"$f":"VLOOKUP(UPPER(A504),Items!$B$2:$C$542,2,FALSE)","v":"Output Usable"}]
[]
["NGC61","F",null,null,null,null,null,null,null,null,null,null,"ZOUY5-System Zone Output Usable Data for 5 Year","(P243/P244)"]
["NGG61","R",1,"G",null,null,null,null,null,null,null,null,"ZOUY5","This group will make use of generic Output usable Daily holding table OUMYGEN"]
["N0290","D",null,null,1,null,null,null,null,null,{"$f":"VLOOKUP(UPPER(A508),Items!$B$2:$G$542,6,FALSE)","v":"varchar2(8)"},{"$f":"IF(VLOOKUP(UPPER(A508),Items!$B$2:$H$542,7,FALSE)<>0,VLOOKUP(UPPER(A508),Items!$B$2:$H$542,7,FALSE),\"\")","v":""},{"$f":"VLOOKUP(UPPER(A508),Items!$B$2:$C$542,2,FALSE)","v":"Data Type"},"\"ZOUY5\""]
["N0270","D",null,null,1,null,null,null,null,null,{"$f":"VLOOKUP(UPPER(A509),Items!$B$2:$G$542,6,FALSE)","v":"datetime"},{"$f":"IF(VLOOKUP(UPPER(A509),Items!$B$2:$H$542,7,FALSE)<>0,VLOOKUP(UPPER(A509),Items!$B$2:$H$542,7,FALSE),\"\")","v":""},{"$f":"VLOOKUP(UPPER(A509),Items!$B$2:$C$542,2,FALSE)","v":"Publishing Period Commencing Time"}]
["N0552","D",null,null,1,null,null,null,null,null,{"$f":"VLOOKUP(UPPER(A510),Items!$B$2:$G$542,6,FALSE)","v":"varchar2(3)"},{"$f":"IF(VLOOKUP(UPPER(A510),Items!$B$2:$H$542,7,FALSE)<>0,VLOOKUP(UPPER(A510),Items!$B$2:$H$542,7,FALSE),\"\")","v":"System Zone"},{"$f":"VLOOKUP(UPPER(A510),Items!$B$2:$C$542,2,FALSE)","v":"System Zone"},"Must not be 'N'"]
["N0248","D",null,null,1,null,null,null,null,null,{"$f":"VLOOKUP(UPPER(A511),Items!$B$2:$G$542,6,FALSE)","v":"number(2)"},{"$f":"IF(VLOOKUP(UPPER(A511),Items!$B$2:$H$542,7,FALSE)<>0,VLOOKUP(UPPER(A511),Items!$B$2:$H$542,7,FALSE),\"\")","v":"Week Number"},{"$f":"VLOOKUP(UPPER(A511),Items!$B$2:$C$542,2,FALSE)","v":"Calendar Week Number"}]
["N0237","D",null,null,1,null,null,null,null,null,{"$f":"VLOOKUP(UPPER(A512),Items!$B$2:$G$542,6,FALSE)","v":"integer(4)"},{"$f":"IF(VLOOKUP(UPPER(A512),Items!$B$2:$H$542,7,FALSE)<>0,VLOOKUP(UPPER(A512),Items!$B$2:$H$542,7,FALSE),\"\")","v":""},{"$f":"VLOOKUP(UPPER(A512),Items!$B$2:$C$542,2,FALSE)","v":"Year"}]
["N0551","D",null,null,1,null,null,null,null,null,{"$f":"VLOOKUP(UPPER(A513),Items!$B$2:$G$542,6,FALSE)","v":"number(5)"},{"$f":"IF(VLOOKUP(UPPER(A513),Items!$B$2:$H$542,7,FALSE)<>0,VLOOKUP(UPPER(A513),Items!$B$2:$H$542,7,FALSE),\"\")","v":"Output_Usable_Range"},{"$f":"VLOOKUP(UPPER(A513),Items!$B$2:$C$542,2,FALSE)","v":"Output Usable"}]
[]
["NGC62","F",null,null,null,null,null,null,null,null,null,null,"NOUY1-National Output Usable Data for 1 Year","(P243/P244)"]
["NGG62","R",1,"G",null,null,null,null,null,null,null,null,"NOUY1","This group will make use of generic Output usable Daily holding table OUMYGEN"]
["N0290","D",null,null,1,null,null,null,null,null,{"$f":"VLOOKUP(UPPER(A517),Items!$B$2:$G$542,6,FALSE)","v":"varchar2(8)"},{"$f":"IF(VLOOKUP(UPPER(A517),Items!$B$2:$H$542,7,FALSE)<>0,VLOOKUP(UPPER(A517),Items!$B$2:$H$542,7,FALSE),\"\")","v":""},{"$f":"VLOOKUP(UPPER(A517),Items!$B$2:$C$542,2,FALSE)","v":"Data Type"},"\"NOUY1\""]
["N0270","D",null,null,1,null,null,null,null,null,{"$f":"VLOOKUP(UPPER(A518),Items!$B$2:$G$542,6,FALSE)","v":"datetime"},{"$f":"IF(VLOOKUP(UPPER(A518),Items!$B$2:$H$542,7,FALSE)<>0,VLOOKUP(UPPER(A518),Items!$B$2:$H$542,7,FALSE),\"\")","v":""},{"$f":"VLOOKUP(UPPER(A518),Items!$B$2:$C$542,2,FALSE)","v":"Publishing Period Commencing Time"}]
["N0552","D",null,null,1,null,null,null,null,null,{"$f":"VLOOKUP(UPPER(A519),Items!$B$2:$G$542,6,FALSE)","v":"varchar2(3)"},{"$f":"IF(VLOOKUP(UPPER(A519),Items!$B$2:$H$542,7,FALSE)<>0,VLOOKUP(UPPER(A519),Items!$B$2:$H$542,7,FALSE),\"\")","v":"System Zone"},{"$f":"VLOOKUP(UPPER(A519),Items!$B$2:$C$542,2,FALSE)","v":"System Zone"},"Must be 'N'"]
["N0248","D",null,null,1,null,null,null,null,null,{"$f":"VLOOKUP(UPPER(A520),Items!$B$2:$G$542,6,FALSE)","v":"number(2)"},{"$f":"IF(VLOOKUP(UPPER(A520),Items!$B$2:$H$542,7,FALSE)<>0,VLOOKUP(UPPER(A520),Items!$B$2:$H$542,7,FALSE),\"\")","v":"Week Number"},{"$f":"VLOOKUP(UPPER(A520),Items!$B$2:$C$542,2,FALSE)","v":"Calendar Week Number"}]
["N0237","D",null,null,1,null,null,null,null,null,{"$f":"VLOOKUP(UPPER(A521),Items!$B$2:$G$542,6,FALSE)","v":"integer(4)"},{"$f":"IF(VLOOKUP(UPPER(A521),Items!$B$2:$H$542,7,FALSE)<>0,VLOOKUP(UPPER(A521),Items!$B$2:$H$542,7,FALSE),\"\")","v":""},{"$f":"VLOOKUP(UPPER(A521),Items!$B$2:$C$542,2,FALSE)","v":"Year"}]
["N0551","D",null,null,1,null,null,null,null,null,{"$f":"VLOOKUP(UPPER(A522),Items!$B$2:$G$542,6,FALSE)","v":"number(5)"},{"$f":"IF(VLOOKUP(UPPER(A522),Items!$B$2:$H$542,7,FALSE)<>0,VLOOKUP(UPPER(A522),Items!$B$2:$H$542,7,FALSE),\"\")","v":"Output_Usable_Range"},{"$f":"VLOOKUP(UPPER(A522),Items!$B$2:$C$542,2,FALSE)","v":"Output Usable"}]
[]
[]
["NGC63","F",null,null,null,null,null,null,null,null,null,null,"NOUY2-National Output Usable Data for 2 Year","(P243/P244)"]
["NGG63","R",1,"G",null,null,null,null,null,null,null,null,"NOUY2","This group will make use of generic Output usable Daily holding table OUMYGEN"]
["N0290","D",null,null,1,null,null,null,null,null,{"$f":"VLOOKUP(UPPER(A527),Items!$B$2:$G$542,6,FALSE)","v":"varchar2(8)"},{"$f":"IF(VLOOKUP(UPPER(A527),Items!$B$2:$H$542,7,FALSE)<>0,VLOOKUP(UPPER(A527),Items!$B$2:$H$542,7,FALSE),\"\")","v":""},{"$f":"VLOOKUP(UPPER(A527),Items!$B$2:$C$542,2,FALSE)","v":"Data Type"},"\"NOUY2\""]
["N0270","D",null,null,1,null,null,null,null,null,{"$f":"VLOOKUP(UPPER(A528),Items!$B$2:$G$542,6,FALSE)","v":"datetime"},{"$f":"IF(VLOOKUP(UPPER(A528),Items!$B$2:$H$542,7,FALSE)<>0,VLOOKUP(UPPER(A528),Items!$B$2:$H$542,7,FALSE),\"\")","v":""},{"$f":"VLOOKUP(UPPER(A528),Items!$B$2:$C$542,2,FALSE)","v":"Publishing Period Commencing Time"}]
["N0552","D",null,null,1,null,null,null,null,null,{"$f":"VLOOKUP(UPPER(A529),Items!$B$2:$G$542,6,FALSE)","v":"varchar2(3)"},{"$f":"IF(VLOOKUP(UPPER(A529),Items!$B$2:$H$542,7,FALSE)<>0,VLOOKUP(UPPER(A529),Items!$B$2:$H$542,7,FALSE),\"\")","v":"System Zone"},{"$f":"VLOOKUP(UPPER(A529),Items!$B$2:$C$542,2,FALSE)","v":"System Zone"},"Must be 'N'"]
["N0248","D",null,null,1,null,null,null,null,null,{"$f":"VLOOKUP(UPPER(A530),Items!$B$2:$G$542,6,FALSE)","v":"number(2)"},{"$f":"IF(VLOOKUP(UPPER(A530),Items!$B$2:$H$542,7,FALSE)<>0,VLOOKUP(UPPER(A530),Items!$B$2:$H$542,7,FALSE),\"\")","v":"Week Number"},{"$f":"VLOOKUP(UPPER(A530),Items!$B$2:$C$542,2,FALSE)","v":"Calendar Week Number"}]
["N0237","D",null,null,1,null,null,null,null,null,{"$f":"VLOOKUP(UPPER(A531),Items!$B$2:$G$542,6,FALSE)","v":"integer(4)"},{"$f":"IF(VLOOKUP(UPPER(A531),Items!$B$2:$H$542,7,FALSE)<>0,VLOOKUP(UPPER(A531),Items!$B$2:$H$542,7,FALSE),\"\")","v":""},{"$f":"VLOOKUP(UPPER(A531),Items!$B$2:$C$542,2,FALSE)","v":"Year"}]
["N0551","D",null,null,1,null,null,null,null,null,{"$f":"VLOOKUP(UPPER(A532),Items!$B$2:$G$542,6,FALSE)","v":"number(5)"},{"$f":"IF(VLOOKUP(UPPER(A532),Items!$B$2:$H$542,7,FALSE)<>0,VLOOKUP(UPPER(A532),Items!$B$2:$H$542,7,FALSE),\"\")","v":"Output_Usable_Range"},{"$f":"VLOOKUP(UPPER(A532),Items!$B$2:$C$542,2,FALSE)","v":"Output Usable"}]
[]
[]
["NGC64","F",null,null,null,null,null,null,null,null,null,null,"NOUY3-National Output Usable Data for 3 Year","(P243/P244)"]
["NGG64","R",1,"G",null,null,null,null,null,null,null,null,"NOUY3","This group will make use of generic Output usable Daily holding table OUMYGEN"]
["N0290","D",null,null,1,null,null,null,null,null,{"$f":"VLOOKUP(UPPER(A537),Items!$B$2:$G$542,6,FALSE)","v":"varchar2(8)"},{"$f":"IF(VLOOKUP(UPPER(A537),Items!$B$2:$H$542,7,FALSE)<>0,VLOOKUP(UPPER(A537),Items!$B$2:$H$542,7,FALSE),\"\")","v":""},{"$f":"VLOOKUP(UPPER(A537),Items!$B$2:$C$542,2,FALSE)","v":"Data Type"},"\"NOUY3\""]
["N0270","D",null,null,1,null,null,null,null,null,{"$f":"VLOOKUP(UPPER(A538),Items!$B$2:$G$542,6,FALSE)","v":"datetime"},{"$f":"IF(VLOOKUP(UPPER(A538),Items!$B$2:$H$542,7,FALSE)<>0,VLOOKUP(UPPER(A538),Items!$B$2:$H$542,7,FALSE),\"\")","v":""},{"$f":"VLOOKUP(UPPER(A538),Items!$B$2:$C$542,2,FALSE)","v":"Publishing Period Commencing Time"}]
["N0552","D",null,null,1,null,null,null,null,null,{"$f":"VLOOKUP(UPPER(A539),Items!$B$2:$G$542,6,FALSE)","v":"varchar2(3)"},{"$f":"IF(VLOOKUP(UPPER(A539),Items!$B$2:$H$542,7,FALSE)<>0,VLOOKUP(UPPER(A539),Items!$B$2:$H$542,7,FALSE),\"\")","v":"System Zone"},{"$f":"VLOOKUP(UPPER(A539),Items!$B$2:$C$542,2,FALSE)","v":"System Zone"},"Must be 'N'"]
["N0248","D",null,null,1,null,null,null,null,null,{"$f":"VLOOKUP(UPPER(A540),Items!$B$2:$G$542,6,FALSE)","v":"number(2)"},{"$f":"IF(VLOOKUP(UPPER(A540),Items!$B$2:$H$542,7,FALSE)<>0,VLOOKUP(UPPER(A540),Items!$B$2:$H$542,7,FALSE),\"\")","v":"Week Number"},{"$f":"VLOOKUP(UPPER(A540),Items!$B$2:$C$542,2,FALSE)","v":"Calendar Week Number"}]
["N0237","D",null,null,1,null,null,null,null,null,{"$f":"VLOOKUP(UPPER(A541),Items!$B$2:$G$542,6,FALSE)","v":"integer(4)"},{"$f":"IF(VLOOKUP(UPPER(A541),Items!$B$2:$H$542,7,FALSE)<>0,VLOOKUP(UPPER(A541),Items!$B$2:$H$542,7,FALSE),\"\")","v":""},{"$f":"VLOOKUP(UPPER(A541),Items!$B$2:$C$542,2,FALSE)","v":"Year"}]
["N0551","D",null,null,1,null,null,null,null,null,{"$f":"VLOOKUP(UPPER(A542),Items!$B$2:$G$542,6,FALSE)","v":"number(5)"},{"$f":"IF(VLOOKUP(UPPER(A542),Items!$B$2:$H$542,7,FALSE)<>0,VLOOKUP(UPPER(A542),Items!$B$2:$H$542,7,FALSE),\"\")","v":"Output_Usable_Range"},{"$f":"VLOOKUP(UPPER(A542),Items!$B$2:$C$542,2,FALSE)","v":"Output Usable"}]
[]
["NGC65","F",null,null,null,null,null,null,null,null,null,null,"NOUY4-National Output Usable Data for 4 Year","(P243/P244)"]
["NGG65","R",1,"G",null,null,null,null,null,null,null,null,"NOUY4","This group will make use of generic Output usable Daily holding table OUMYGEN"]
["N0290","D",null,null,1,null,null,null,null,null,{"$f":"VLOOKUP(UPPER(A546),Items!$B$2:$G$542,6,FALSE)","v":"varchar2(8)"},{"$f":"IF(VLOOKUP(UPPER(A546),Items!$B$2:$H$542,7,FALSE)<>0,VLOOKUP(UPPER(A546),Items!$B$2:$H$542,7,FALSE),\"\")","v":""},{"$f":"VLOOKUP(UPPER(A546),Items!$B$2:$C$542,2,FALSE)","v":"Data Type"},"\"NOUY4\""]
["N0270","D",null,null,1,null,null,null,null,null,{"$f":"VLOOKUP(UPPER(A547),Items!$B$2:$G$542,6,FALSE)","v":"datetime"},{"$f":"IF(VLOOKUP(UPPER(A547),Items!$B$2:$H$542,7,FALSE)<>0,VLOOKUP(UPPER(A547),Items!$B$2:$H$542,7,FALSE),\"\")","v":""},{"$f":"VLOOKUP(UPPER(A547),Items!$B$2:$C$542,2,FALSE)","v":"Publishing Period Commencing Time"}]
["N0552","D",null,null,1,null,null,null,null,null,{"$f":"VLOOKUP(UPPER(A548),Items!$B$2:$G$542,6,FALSE)","v":"varchar2(3)"},{"$f":"IF(VLOOKUP(UPPER(A548),Items!$B$2:$H$542,7,FALSE)<>0,VLOOKUP(UPPER(A548),Items!$B$2:$H$542,7,FALSE),\"\")","v":"System Zone"},{"$f":"VLOOKUP(UPPER(A548),Items!$B$2:$C$542,2,FALSE)","v":"System Zone"},"Must be 'N'"]
["N0248","D",null,null,1,null,null,null,null,null,{"$f":"VLOOKUP(UPPER(A549),Items!$B$2:$G$542,6,FALSE)","v":"number(2)"},{"$f":"IF(VLOOKUP(UPPER(A549),Items!$B$2:$H$542,7,FALSE)<>0,VLOOKUP(UPPER(A549),Items!$B$2:$H$542,7,FALSE),\"\")","v":"Week Number"},{"$f":"VLOOKUP(UPPER(A549),Items!$B$2:$C$542,2,FALSE)","v":"Calendar Week Number"}]
["N0237","D",null,null,1,null,null,null,null,null,{"$f":"VLOOKUP(UPPER(A550),Items!$B$2:$G$542,6,FALSE)","v":"integer(4)"},{"$f":"IF(VLOOKUP(UPPER(A550),Items!$B$2:$H$542,7,FALSE)<>0,VLOOKUP(UPPER(A550),Items!$B$2:$H$542,7,FALSE),\"\")","v":""},{"$f":"VLOOKUP(UPPER(A550),Items!$B$2:$C$542,2,FALSE)","v":"Year"}]
["N0551","D",null,null,1,null,null,null,null,null,{"$f":"VLOOKUP(UPPER(A551),Items!$B$2:$G$542,6,FALSE)","v":"number(5)"},{"$f":"IF(VLOOKUP(UPPER(A551),Items!$B$2:$H$542,7,FALSE)<>0,VLOOKUP(UPPER(A551),Items!$B$2:$H$542,7,FALSE),\"\")","v":"Output_Usable_Range"},{"$f":"VLOOKUP(UPPER(A551),Items!$B$2:$C$542,2,FALSE)","v":"Output Usable"}]
[]
["NGC66","F",null,null,null,null,null,null,null,null,null,null,"NOUY5-National Output Usable Data for 5 Year","(P243/P244)"]
["NGG66","R",1,"G",null,null,null,null,null,null,null,null,"NOUY5","This group will make use of generic Output usable Daily holding table OUMYGEN"]
["N0290","D",null,null,1,null,null,null,null,null,{"$f":"VLOOKUP(UPPER(A555),Items!$B$2:$G$542,6,FALSE)","v":"varchar2(8)"},{"$f":"IF(VLOOKUP(UPPER(A555),Items!$B$2:$H$542,7,FALSE)<>0,VLOOKUP(UPPER(A555),Items!$B$2:$H$542,7,FALSE),\"\")","v":""},{"$f":"VLOOKUP(UPPER(A555),Items!$B$2:$C$542,2,FALSE)","v":"Data Type"},"\"NOUY5\""]
["N0270","D",null,null,1,null,null,null,null,null,{"$f":"VLOOKUP(UPPER(A556),Items!$B$2:$G$542,6,FALSE)","v":"datetime"},{"$f":"IF(VLOOKUP(UPPER(A556),Items!$B$2:$H$542,7,FALSE)<>0,VLOOKUP(UPPER(A556),Items!$B$2:$H$542,7,FALSE),\"\")","v":""},{"$f":"VLOOKUP(UPPER(A556),Items!$B$2:$C$542,2,FALSE)","v":"Publishing Period Commencing Time"}]
["N0552","D",null,null,1,null,null,null,null,null,{"$f":"VLOOKUP(UPPER(A557),Items!$B$2:$G$542,6,FALSE)","v":"varchar2(3)"},{"$f":"IF(VLOOKUP(UPPER(A557),Items!$B$2:$H$542,7,FALSE)<>0,VLOOKUP(UPPER(A557),Items!$B$2:$H$542,7,FALSE),\"\")","v":"System Zone"},{"$f":"VLOOKUP(UPPER(A557),Items!$B$2:$C$542,2,FALSE)","v":"System Zone"},"Must be 'N'"]
["N0248","D",null,null,1,null,null,null,null,null,{"$f":"VLOOKUP(UPPER(A558),Items!$B$2:$G$542,6,FALSE)","v":"number(2)"},{"$f":"IF(VLOOKUP(UPPER(A558),Items!$B$2:$H$542,7,FALSE)<>0,VLOOKUP(UPPER(A558),Items!$B$2:$H$542,7,FALSE),\"\")","v":"Week Number"},{"$f":"VLOOKUP(UPPER(A558),Items!$B$2:$C$542,2,FALSE)","v":"Calendar Week Number"}]
["N0237","D",null,null,1,null,null,null,null,null,{"$f":"VLOOKUP(UPPER(A559),Items!$B$2:$G$542,6,FALSE)","v":"integer(4)"},{"$f":"IF(VLOOKUP(UPPER(A559),Items!$B$2:$H$542,7,FALSE)<>0,VLOOKUP(UPPER(A559),Items!$B$2:$H$542,7,FALSE),\"\")","v":""},{"$f":"VLOOKUP(UPPER(A559),Items!$B$2:$C$542,2,FALSE)","v":"Year"}]
["N0551","D",null,null,1,null,null,null,null,null,{"$f":"VLOOKUP(UPPER(A560),Items!$B$2:$G$542,6,FALSE)","v":"number(5)"},{"$f":"IF(VLOOKUP(UPPER(A560),Items!$B$2:$H$542,7,FALSE)<>0,VLOOKUP(UPPER(A560),Items!$B$2:$H$542,7,FALSE),\"\")","v":"Output_Usable_Range"},{"$f":"VLOOKUP(UPPER(A560),Items!$B$2:$C$542,2,FALSE)","v":"Output Usable"}]
[]
["NGC67","F",null,null,null,null,null,null,null,null,null,null,"OCNMFD2-Generating Plant Demand Margin Based On OC2 for 2-14 Days","(P243/P244)"]
["NGG67","R",1,"G",null,null,null,null,null,null,null,null,"OCNMFD2","Dummy Group"]
["N0290","D",null,null,1,null,null,null,null,null,{"$f":"VLOOKUP(UPPER(A564),Items!$B$2:$G$542,6,FALSE)","v":"varchar2(8)"},{"$f":"IF(VLOOKUP(UPPER(A564),Items!$B$2:$H$542,7,FALSE)<>0,VLOOKUP(UPPER(A564),Items!$B$2:$H$542,7,FALSE),\"\")","v":""},{"$f":"VLOOKUP(UPPER(A564),Items!$B$2:$C$542,2,FALSE)","v":"Data Type"},"\"OCNMFD2\""]
["N0270","D",null,null,1,null,null,null,null,null,{"$f":"VLOOKUP(UPPER(A565),Items!$B$2:$G$542,6,FALSE)","v":"datetime"},{"$f":"IF(VLOOKUP(UPPER(A565),Items!$B$2:$H$542,7,FALSE)<>0,VLOOKUP(UPPER(A565),Items!$B$2:$H$542,7,FALSE),\"\")","v":""},{"$f":"VLOOKUP(UPPER(A565),Items!$B$2:$C$542,2,FALSE)","v":"Publishing Period Commencing Time"}]
["N0553","D",null,null,1,null,null,null,null,null,{"$f":"VLOOKUP(UPPER(A566),Items!$B$2:$G$542,6,FALSE)","v":"varchar2(10)"},{"$f":"IF(VLOOKUP(UPPER(A566),Items!$B$2:$H$542,7,FALSE)<>0,VLOOKUP(UPPER(A566),Items!$B$2:$H$542,7,FALSE),\"\")","v":""},{"$f":"VLOOKUP(UPPER(A566),Items!$B$2:$C$542,2,FALSE)","v":"Day Of Forecast Ou"}]
["N0254","D",null,null,1,null,null,null,null,null,{"$f":"VLOOKUP(UPPER(A567),Items!$B$2:$G$542,6,FALSE)","v":"number(5)"},{"$f":"IF(VLOOKUP(UPPER(A567),Items!$B$2:$H$542,7,FALSE)<>0,VLOOKUP(UPPER(A567),Items!$B$2:$H$542,7,FALSE),\"\")","v":"Margin"},{"$f":"VLOOKUP(UPPER(A567),Items!$B$2:$C$542,2,FALSE)","v":"Margin"}]
[]
[]
[]
["NGC68","F",null,null,null,null,null,null,null,null,null,null,"OCNMFW2-Generating Plant Demand Margin Based On OC2 for 2-52 Weeks","(P243/P244)"]
["NGG68","R",1,"G",null,null,null,null,null,null,null,null,"OCNMFW2","Dummy Group"]
["N0290","D",null,null,1,null,null,null,null,null,{"$f":"VLOOKUP(UPPER(A573),Items!$B$2:$G$542,6,FALSE)","v":"varchar2(8)"},{"$f":"IF(VLOOKUP(UPPER(A573),Items!$B$2:$H$542,7,FALSE)<>0,VLOOKUP(UPPER(A573),Items!$B$2:$H$542,7,FALSE),\"\")","v":""},{"$f":"VLOOKUP(UPPER(A573),Items!$B$2:$C$542,2,FALSE)","v":"Data Type"},"\"OCNMFW2\""]
["N0270","D",null,null,1,null,null,null,null,null,{"$f":"VLOOKUP(UPPER(A574),Items!$B$2:$G$542,6,FALSE)","v":"datetime"},{"$f":"IF(VLOOKUP(UPPER(A574),Items!$B$2:$H$542,7,FALSE)<>0,VLOOKUP(UPPER(A574),Items!$B$2:$H$542,7,FALSE),\"\")","v":""},{"$f":"VLOOKUP(UPPER(A574),Items!$B$2:$C$542,2,FALSE)","v":"Publishing Period Commencing Time"}]
["N0248","D",null,null,1,null,null,null,null,null,{"$f":"VLOOKUP(UPPER(A575),Items!$B$2:$G$542,6,FALSE)","v":"number(2)"},{"$f":"IF(VLOOKUP(UPPER(A575),Items!$B$2:$H$542,7,FALSE)<>0,VLOOKUP(UPPER(A575),Items!$B$2:$H$542,7,FALSE),\"\")","v":"Week Number"},{"$f":"VLOOKUP(UPPER(A575),Items!$B$2:$C$542,2,FALSE)","v":"Calendar Week Number"}]
["N0237","D",null,null,1,null,null,null,null,null,{"$f":"VLOOKUP(UPPER(A576),Items!$B$2:$G$542,6,FALSE)","v":"integer(4)"},{"$f":"IF(VLOOKUP(UPPER(A576),Items!$B$2:$H$542,7,FALSE)<>0,VLOOKUP(UPPER(A576),Items!$B$2:$H$542,7,FALSE),\"\")","v":""},{"$f":"VLOOKUP(UPPER(A576),Items!$B$2:$C$542,2,FALSE)","v":"Year"}]
["N0254","D",null,null,1,null,null,null,null,null,{"$f":"VLOOKUP(UPPER(A577),Items!$B$2:$G$542,6,FALSE)","v":"number(5)"},{"$f":"IF(VLOOKUP(UPPER(A577),Items!$B$2:$H$542,7,FALSE)<>0,VLOOKUP(UPPER(A577),Items!$B$2:$H$542,7,FALSE),\"\")","v":"Margin"},{"$f":"VLOOKUP(UPPER(A577),Items!$B$2:$C$542,2,FALSE)","v":"Margin"}]
[]
[]
["NGC69",{"$f":"IF(LEN(K580)>0,\"D\",IF(LEN(A580)=5,\"F\",IF(LEN(A580)=3,\"R\",\" \")))","v":"F"},null,null,null,null,null,null,null,null,null,null,"FOU2T14D-National Output Usable Data by Fuel Type 2-14 Days","(P243/P244)"]
[{"$f":"\"NGG\" &MID(A580,4,2)","v":"NGG69"},"R",1,"G",null,null,null,null,null,null,null,null,"FOU2T14D","Dummy Group"]
["N0290","D",null,null,1,null,null,null,null,null,{"$f":"VLOOKUP(UPPER(A582),Items!$B$2:$G$542,6,FALSE)","v":"varchar2(8)"},{"$f":"IF(VLOOKUP(UPPER(A582),Items!$B$2:$H$542,7,FALSE)<>0,VLOOKUP(UPPER(A582),Items!$B$2:$H$542,7,FALSE),\"\")","v":""},{"$f":"VLOOKUP(UPPER(A582),Items!$B$2:$C$542,2,FALSE)","v":"Data Type"},"\"FOU2T14D\""]
["N0506","D",null,null,1,null,null,null,null,null,{"$f":"VLOOKUP(UPPER(A583),Items!$B$2:$G$542,6,FALSE)","v":"text(8)"},{"$f":"IF(VLOOKUP(UPPER(A583),Items!$B$2:$H$542,7,FALSE)<>0,VLOOKUP(UPPER(A583),Items!$B$2:$H$542,7,FALSE),\"\")","v":"Fuel Type Set"},{"$f":"VLOOKUP(UPPER(A583),Items!$B$2:$C$542,2,FALSE)","v":"Fuel Type"}]
["N0270","D",null,null,1,null,null,null,null,null,{"$f":"VLOOKUP(UPPER(A584),Items!$B$2:$G$542,6,FALSE)","v":"datetime"},{"$f":"IF(VLOOKUP(UPPER(A584),Items!$B$2:$H$542,7,FALSE)<>0,VLOOKUP(UPPER(A584),Items!$B$2:$H$542,7,FALSE),\"\")","v":""},{"$f":"VLOOKUP(UPPER(A584),Items!$B$2:$C$542,2,FALSE)","v":"Publishing Period Commencing Time"}]
["N0552","D",null,null,1,null,null,null,null,null,{"$f":"VLOOKUP(UPPER(A585),Items!$B$2:$G$542,6,FALSE)","v":"varchar2(3)"},{"$f":"IF(VLOOKUP(UPPER(A585),Items!$B$2:$H$542,7,FALSE)<>0,VLOOKUP(UPPER(A585),Items!$B$2:$H$542,7,FALSE),\"\")","v":"System Zone"},{"$f":"VLOOKUP(UPPER(A585),Items!$B$2:$C$542,2,FALSE)","v":"System Zone"},"Must be 'N'"]
["N0553","D",null,null,1,null,null,null,null,null,{"$f":"VLOOKUP(UPPER(A586),Items!$B$2:$G$542,6,FALSE)","v":"varchar2(10)"},{"$f":"IF(VLOOKUP(UPPER(A586),Items!$B$2:$H$542,7,FALSE)<>0,VLOOKUP(UPPER(A586),Items!$B$2:$H$542,7,FALSE),\"\")","v":""},{"$f":"VLOOKUP(UPPER(A586),Items!$B$2:$C$542,2,FALSE)","v":"Day Of Forecast Ou"}]
["N0551","D",null,null,1,null,null,null,null,null,{"$f":"VLOOKUP(UPPER(A587),Items!$B$2:$G$542,6,FALSE)","v":"number(5)"},{"$f":"IF(VLOOKUP(UPPER(A587),Items!$B$2:$H$542,7,FALSE)<>0,VLOOKUP(UPPER(A587),Items!$B$2:$H$542,7,FALSE),\"\")","v":"Output_Usable_Range"},{"$f":"VLOOKUP(UPPER(A587),Items!$B$2:$C$542,2,FALSE)","v":"Output Usable"}]
[]
[]
["NGC70","F",null,null,null,null,null,null,null,null,null,null,"FOU2T52W-National Output Usable Data by Fuel Type for 2-52 Weeks","(P243/P244)"]
["NGG70","R",1,"G",null,null,null,null,null,null,null,null,"FOU2T52W","Dummy Group"]
["N0290","D",null,null,1,null,null,null,null,null,{"$f":"VLOOKUP(UPPER(A592),Items!$B$2:$G$542,6,FALSE)","v":"varchar2(8)"},{"$f":"IF(VLOOKUP(UPPER(A592),Items!$B$2:$H$542,7,FALSE)<>0,VLOOKUP(UPPER(A592),Items!$B$2:$H$542,7,FALSE),\"\")","v":""},{"$f":"VLOOKUP(UPPER(A592),Items!$B$2:$C$542,2,FALSE)","v":"Data Type"},"\"FOU2T52W\""]
["N0506","D",null,null,1,null,null,null,null,null,{"$f":"VLOOKUP(UPPER(A593),Items!$B$2:$G$542,6,FALSE)","v":"text(8)"},{"$f":"IF(VLOOKUP(UPPER(A593),Items!$B$2:$H$542,7,FALSE)<>0,VLOOKUP(UPPER(A593),Items!$B$2:$H$542,7,FALSE),\"\")","v":"Fuel Type Set"},{"$f":"VLOOKUP(UPPER(A593),Items!$B$2:$C$542,2,FALSE)","v":"Fuel Type"}]
["N0270","D",null,null,1,null,null,null,null,null,{"$f":"VLOOKUP(UPPER(A594),Items!$B$2:$G$542,6,FALSE)","v":"datetime"},{"$f":"IF(VLOOKUP(UPPER(A594),Items!$B$2:$H$542,7,FALSE)<>0,VLOOKUP(UPPER(A594),Items!$B$2:$H$542,7,FALSE),\"\")","v":""},{"$f":"VLOOKUP(UPPER(A594),Items!$B$2:$C$542,2,FALSE)","v":"Publishing Period Commencing Time"}]
["N0552","D",null,null,1,null,null,null,null,null,{"$f":"VLOOKUP(UPPER(A595),Items!$B$2:$G$542,6,FALSE)","v":"varchar2(3)"},{"$f":"IF(VLOOKUP(UPPER(A595),Items!$B$2:$H$542,7,FALSE)<>0,VLOOKUP(UPPER(A595),Items!$B$2:$H$542,7,FALSE),\"\")","v":"System Zone"},{"$f":"VLOOKUP(UPPER(A595),Items!$B$2:$C$542,2,FALSE)","v":"System Zone"},"Must be 'N'"]
["N0248","D",null,null,1,null,null,null,null,null,{"$f":"VLOOKUP(UPPER(A596),Items!$B$2:$G$542,6,FALSE)","v":"number(2)"},{"$f":"IF(VLOOKUP(UPPER(A596),Items!$B$2:$H$542,7,FALSE)<>0,VLOOKUP(UPPER(A596),Items!$B$2:$H$542,7,FALSE),\"\")","v":"Week Number"},{"$f":"VLOOKUP(UPPER(A596),Items!$B$2:$C$542,2,FALSE)","v":"Calendar Week Number"}]
["N0237","D",null,null,1,null,null,null,null,null,{"$f":"VLOOKUP(UPPER(A597),Items!$B$2:$G$542,6,FALSE)","v":"integer(4)"},{"$f":"IF(VLOOKUP(UPPER(A597),Items!$B$2:$H$542,7,FALSE)<>0,VLOOKUP(UPPER(A597),Items!$B$2:$H$542,7,FALSE),\"\")","v":""},{"$f":"VLOOKUP(UPPER(A597),Items!$B$2:$C$542,2,FALSE)","v":"Year"}]
["N0551","D",null,null,1,null,null,null,null,null,{"$f":"VLOOKUP(UPPER(A598),Items!$B$2:$G$542,6,FALSE)","v":"number(5)"},{"$f":"IF(VLOOKUP(UPPER(A598),Items!$B$2:$H$542,7,FALSE)<>0,VLOOKUP(UPPER(A598),Items!$B$2:$H$542,7,FALSE),\"\")","v":"Output_Usable_Range"},{"$f":"VLOOKUP(UPPER(A598),Items!$B$2:$C$542,2,FALSE)","v":"Output Usable"}]
[]
[]
[]
["NGC71","F",null,null,null,null,null,null,null,null,null,null,"UOU2T14D-National Output Usable Data by Fuel Type and BM Unit for 2-14 Days","(P243/P244)"]
["NGG71","R",1,"G",null,null,null,null,null,null,null,null,"UOU2T14D","Dummy Group"]
["N0290","D",null,null,1,null,null,null,null,null,{"$f":"VLOOKUP(UPPER(A604),Items!$B$2:$G$542,6,FALSE)","v":"varchar2(8)"},{"$f":"IF(VLOOKUP(UPPER(A604),Items!$B$2:$H$542,7,FALSE)<>0,VLOOKUP(UPPER(A604),Items!$B$2:$H$542,7,FALSE),\"\")","v":""},{"$f":"VLOOKUP(UPPER(A604),Items!$B$2:$C$542,2,FALSE)","v":"Data Type"},"\"UOU2T14D\""]
["N0036","D",null,null,1,null,null,null,null,null,{"$f":"VLOOKUP(UPPER(A605),Items!$B$2:$G$542,6,FALSE)","v":"text(30)"},{"$f":"IF(VLOOKUP(UPPER(A605),Items!$B$2:$H$542,7,FALSE)<>0,VLOOKUP(UPPER(A605),Items!$B$2:$H$542,7,FALSE),\"\")","v":""},{"$f":"VLOOKUP(UPPER(A605),Items!$B$2:$C$542,2,FALSE)","v":"Bm Unit Name"}]
["N0506","D",null,null,1,null,null,null,null,null,{"$f":"VLOOKUP(UPPER(A606),Items!$B$2:$G$542,6,FALSE)","v":"text(8)"},{"$f":"IF(VLOOKUP(UPPER(A606),Items!$B$2:$H$542,7,FALSE)<>0,VLOOKUP(UPPER(A606),Items!$B$2:$H$542,7,FALSE),\"\")","v":"Fuel Type Set"},{"$f":"VLOOKUP(UPPER(A606),Items!$B$2:$C$542,2,FALSE)","v":"Fuel Type"}]
["N0270","D",null,null,1,null,null,null,null,null,{"$f":"VLOOKUP(UPPER(A607),Items!$B$2:$G$542,6,FALSE)","v":"datetime"},{"$f":"IF(VLOOKUP(UPPER(A607),Items!$B$2:$H$542,7,FALSE)<>0,VLOOKUP(UPPER(A607),Items!$B$2:$H$542,7,FALSE),\"\")","v":""},{"$f":"VLOOKUP(UPPER(A607),Items!$B$2:$C$542,2,FALSE)","v":"Publishing Period Commencing Time"}]
["N0552","D",null,null,1,null,null,null,null,null,{"$f":"VLOOKUP(UPPER(A608),Items!$B$2:$G$542,6,FALSE)","v":"varchar2(3)"},{"$f":"IF(VLOOKUP(UPPER(A608),Items!$B$2:$H$542,7,FALSE)<>0,VLOOKUP(UPPER(A608),Items!$B$2:$H$542,7,FALSE),\"\")","v":"System Zone"},{"$f":"VLOOKUP(UPPER(A608),Items!$B$2:$C$542,2,FALSE)","v":"System Zone"},"Must be 'N'"]
["N0553","D",null,null,1,null,null,null,null,null,{"$f":"VLOOKUP(UPPER(A609),Items!$B$2:$G$542,6,FALSE)","v":"varchar2(10)"},{"$f":"IF(VLOOKUP(UPPER(A609),Items!$B$2:$H$542,7,FALSE)<>0,VLOOKUP(UPPER(A609),Items!$B$2:$H$542,7,FALSE),\"\")","v":""},{"$f":"VLOOKUP(UPPER(A609),Items!$B$2:$C$542,2,FALSE)","v":"Day Of Forecast Ou"}]
["N0551","D",null,null,1,null,null,null,null,null,{"$f":"VLOOKUP(UPPER(A610),Items!$B$2:$G$542,6,FALSE)","v":"number(5)"},{"$f":"IF(VLOOKUP(UPPER(A610),Items!$B$2:$H$542,7,FALSE)<>0,VLOOKUP(UPPER(A610),Items!$B$2:$H$542,7,FALSE),\"\")","v":"Output_Usable_Range"},{"$f":"VLOOKUP(UPPER(A610),Items!$B$2:$C$542,2,FALSE)","v":"Output Usable"}]
[]
[]
["NGC72","F",null,null,null,null,null,null,null,null,null,null,"UOU2T52W-National Output Usable Data by Fuel Type and BM Unit for 2-52 Weeks","(P243/P244)"]
["NGG72","R",1,"G",null,null,null,null,null,null,null,null,"UOU2T52W","Dummy Group"]
["N0290","D",null,null,1,null,null,null,null,null,{"$f":"VLOOKUP(UPPER(A615),Items!$B$2:$G$542,6,FALSE)","v":"varchar2(8)"},{"$f":"IF(VLOOKUP(UPPER(A615),Items!$B$2:$H$542,7,FALSE)<>0,VLOOKUP(UPPER(A615),Items!$B$2:$H$542,7,FALSE),\"\")","v":""},{"$f":"VLOOKUP(UPPER(A615),Items!$B$2:$C$542,2,FALSE)","v":"Data Type"},"\"UOU2T52W\""]
["N0036","D",null,null,1,null,null,null,null,null,{"$f":"VLOOKUP(UPPER(A616),Items!$B$2:$G$542,6,FALSE)","v":"text(30)"},{"$f":"IF(VLOOKUP(UPPER(A616),Items!$B$2:$H$542,7,FALSE)<>0,VLOOKUP(UPPER(A616),Items!$B$2:$H$542,7,FALSE),\"\")","v":""},{"$f":"VLOOKUP(UPPER(A616),Items!$B$2:$C$542,2,FALSE)","v":"Bm Unit Name"}]
["N0506","D",null,null,1,null,null,null,null,null,{"$f":"VLOOKUP(UPPER(A617),Items!$B$2:$G$542,6,FALSE)","v":"text(8)"},{"$f":"IF(VLOOKUP(UPPER(A617),Items!$B$2:$H$542,7,FALSE)<>0,VLOOKUP(UPPER(A617),Items!$B$2:$H$542,7,FALSE),\"\")","v":"Fuel Type Set"},{"$f":"VLOOKUP(UPPER(A617),Items!$B$2:$C$542,2,FALSE)","v":"Fuel Type"}]
["N0270","D",null,null,1,null,null,null,null,null,{"$f":"VLOOKUP(UPPER(A618),Items!$B$2:$G$542,6,FALSE)","v":"datetime"},{"$f":"IF(VLOOKUP(UPPER(A618),Items!$B$2:$H$542,7,FALSE)<>0,VLOOKUP(UPPER(A618),Items!$B$2:$H$542,7,FALSE),\"\")","v":""},{"$f":"VLOOKUP(UPPER(A618),Items!$B$2:$C$542,2,FALSE)","v":"Publishing Period Commencing Time"}]
["N0552","D",null,null,1,null,null,null,null,null,{"$f":"VLOOKUP(UPPER(A619),Items!$B$2:$G$542,6,FALSE)","v":"varchar2(3)"},{"$f":"IF(VLOOKUP(UPPER(A619),Items!$B$2:$H$542,7,FALSE)<>0,VLOOKUP(UPPER(A619),Items!$B$2:$H$542,7,FALSE),\"\")","v":"System Zone"},{"$f":"VLOOKUP(UPPER(A619),Items!$B$2:$C$542,2,FALSE)","v":"System Zone"},"Must be 'N'"]
["N0248","D",null,null,1,null,null,null,null,null,{"$f":"VLOOKUP(UPPER(A620),Items!$B$2:$G$542,6,FALSE)","v":"number(2)"},{"$f":"IF(VLOOKUP(UPPER(A620),Items!$B$2:$H$542,7,FALSE)<>0,VLOOKUP(UPPER(A620),Items!$B$2:$H$542,7,FALSE),\"\")","v":"Week Number"},{"$f":"VLOOKUP(UPPER(A620),Items!$B$2:$C$542,2,FALSE)","v":"Calendar Week Number"}]
["N0237","D",null,null,1,null,null,null,null,null,{"$f":"VLOOKUP(UPPER(A621),Items!$B$2:$G$542,6,FALSE)","v":"integer(4)"},{"$f":"IF(VLOOKUP(UPPER(A621),Items!$B$2:$H$542,7,FALSE)<>0,VLOOKUP(UPPER(A621),Items!$B$2:$H$542,7,FALSE),\"\")","v":""},{"$f":"VLOOKUP(UPPER(A621),Items!$B$2:$C$542,2,FALSE)","v":"Year"}]
["N0551","D",null,null,1,null,null,null,null,null,{"$f":"VLOOKUP(UPPER(A622),Items!$B$2:$G$542,6,FALSE)","v":"number(5)"},{"$f":"IF(VLOOKUP(UPPER(A622),Items!$B$2:$H$542,7,FALSE)<>0,VLOOKUP(UPPER(A622),Items!$B$2:$H$542,7,FALSE),\"\")","v":"Output_Usable_Range"},{"$f":"VLOOKUP(UPPER(A622),Items!$B$2:$C$542,2,FALSE)","v":"Output Usable"}]

{"sheet":"Items","index":7,"n_rows":603,"n_cols":8,"rows_kept":603,"cut":false,"hidden":false,"merged":[]}
["Column Name","Identifier","Replacement text","Data Type","Length","Precision","Full Type","Valid Set"]
["ACCOUNT BILATERAL CONTRACT VOLUME","N0001",{"$f":"PROPER(A2)","v":"Account Bilateral Contract Volume"},null,null,null,"decimal(10,3)"]
["ACCOUNT CREDITED ENERGY VOLUME","N0002",{"$f":"PROPER(A3)","v":"Account Credited Energy Volume"},null,null,null,"decimal(10,3)"]
["ACCOUNT ENERGY IMBALANCE VOLUME","N0003","Account Energy Imbalance Volume",null,null,null,"decimal(10,3)"]
["ACCOUNT PERIOD BALANCING SERVICES VOLUME","N0004","Account Period Balancing Services Volume",null,null,null,"decimal(10,3)"]
["ACTION DESCRIPTION","N0005","Action Description",null,null,null,"text(255)"]
["ACTIVITY","N0006","Activity",null,null,null,"text(2)","Activity"]
["ADDITIONAL DETAILS","N0007","Additional Details",null,null,null,"text(80)"]
["ADDRESS LINE 1","N0008","Address Line 1",null,null,null,"text(40)"]
["ADDRESS LINE 2","N0009","Address Line 2",null,null,null,"text(40)"]
["ADDRESS LINE 3","N0010","Address Line 3",null,null,null,"text(40)"]
["ADDRESS LINE 4","N0011","Address Line 4",null,null,null,"text(40)"]
["ADDRESS LINE 5","N0012","Address Line 5",null,null,null,"text(40)"]
["ADDRESS LINE 6","N0013","Address Line 6",null,null,null,"text(40)"]
["ADDRESS LINE 7","N0014","Address Line 7",null,null,null,"text(40)"]
["ADDRESS LINE 8","N0015","Address Line 8",null,null,null,"text(40)"]
["ADDRESS LINE 9","N0016","Address Line 9",null,null,null,"text(40)"]
["AGENT ID","N0018",{"$f":"PROPER(A18)","v":"Agent Id"},null,null,null,"text(8)"]
["AGENT NAME","N0019","Agent Name",null,null,null,"text(30)"]
["AGENT TYPE","N0020","Agent Type",null,null,null,"text(2)","Organisation Type"]
["AGGREGATION DATE","N0021","Aggregation Date",null,null,null,"date"]
["AUTHENTICATION NAME","N0022","Authentication Name",null,null,null,"text(30)"]
["AUTHENTICATION PASSWORD","N0023","Authentication Password",null,null,null,"text(8)"]
["AUTHORISED SIGNATORY","N0024","Authorised Signatory",null,null,null,"text(30)"]
["BID-OFFER PAIR NUMBER","N0025","Bid-Offer Pair Number",null,null,null,"integer(2)"]
["BID OFFER ACCEPTANCE VOLUME VALUE FROM","N0026","Bid Offer Acceptance Volume Value From",null,null,null,"decimal(10,3)"]
["BID OFFER ACCEPTANCE VOLUME VALUE TO","N0027","Bid Offer Acceptance Volume Value To",null,null,null,"decimal(10,3)"]
["BID OFFER VOLUME VALUE FROM","N0028","Bid Offer Volume Value From",null,null,null,"decimal(10,3)"]
["BID OFFER VOLUME VALUE TO","N0029","Bid Offer Volume Value To",null,null,null,"decimal(10,3)"]
["BID PRICE","N0030","Bid Price",null,null,null,"decimal(10,5)"]
["BM UNIT CASHFLOW","N0031","Bm Unit Cashflow",null,null,null,"decimal(10,2)"]
["BM UNIT CREDIT ASSESSMENT EXPORT CAPABILITY","N0032","Bm Unit Credit Assessment Export Capability",null,null,null,"decimal(13,3)"]
["BM UNIT CREDIT ASSESSMENT IMPORT CAPABILITY","N0033","Bm Unit Credit Assessment Import Capability",null,null,null,"decimal(13,3)"]
["BM UNIT ID","N0034",{"$f":"PROPER(A34)","v":"Bm Unit Id"},null,null,null,"text(11)"]
["BM UNIT METERED VOLUME","N0035","Bm Unit Metered Volume",null,null,null,"decimal(10,3)"]
["BM UNIT NAME","N0036","Bm Unit Name",null,null,null,"text(30)"]
["BM UNIT PERIOD NON-DELIVERY CHARGE","N0037","Bm Unit Period Non-Delivery Charge",null,null,null,"decimal(10,2)"]
["BM UNIT TYPE","N0038","Bm Unit Type",null,null,null,"char","BM Unit Type"]
["POINT ID","N0039","Point Id",null,null,null,"text(10)"]
["BSC CO ACTUAL COST","N0041",{"$f":"PROPER(A40)","v":"Bsc Co Actual Cost"},null,null,null,"decimal(10,2)"]
["BSC CO FORECAST COST","N0042","Bsc Co Forecast Cost",null,null,null,"decimal(10,2)"]
["BSC PARTY AGENT NAME","N0043","Bsc Party Agent Name",null,null,null,"text(30)"]
["BSC PARTY AGENT TYPE","N0044","Bsc Party Agent Type",null,null,null,"text(2)","Organisation Type"]
["BSC PARTY ID","N0045","Bsc Party Id",null,null,null,"text(8)"]
["BSC PARTY NAME","N0046","Bsc Party Name",null,null,null,"text(30)"]
["BSC PARTY TYPE","N0047","Bsc Party Type",null,null,null,"text(2)","Organisation Type"]
["BSSC LIMITED COST ALLOCATION","N0048","Bssc Limited Cost Allocation",null,null,null,"decimal(10,2)"]
["CDCA RUN NUMBER","N0049","Cdca Run Number",null,null,null,"integer(2)"]
["CDCA SETTLEMENT DATE","N0050",{"$f":"PROPER(A49)","v":"Cdca Settlement Date"},null,null,null,"date"]
["CERTIFICATION/ACCREDITATION STATUS","N0051",{"$f":"PROPER(A50)","v":"Certification/Accreditation Status"},null,null,null,"char","Certification/Accreditation Status"]
["CHANNEL NUMBER","N0052",{"$f":"PROPER(A51)","v":"Channel Number"},null,null,null,"integer(2)"]
["CHARGE","N0053",{"$f":"PROPER(A52)","v":"Charge"},null,null,null,"decimal(10,2)"]
["CHARGE TYPE","N0054",{"$f":"PROPER(A53)","v":"Charge Type"},null,null,null,"char","Charge Type"]
["CONTACT PHONE NO","N0056",{"$f":"PROPER(A54)","v":"Contact Phone No"},null,null,null,"text(15)"]
["CRA ENCRYPTION KEY","N0057","Cra Encryption Key",null,null,null,"text(32)"]
["CREATION TIME","N0058","Creation Time",null,null,null,"datetime"]
["CREDIT ASSESSMENT EXPORT CAPABILITY","N0059","Credit Assessment Export Capability",null,null,null,"decimal(7,3)"]
["CREDIT ASSESSMENT IMPORT CAPABILITY","N0060","Credit Assessment Import Capability",null,null,null,"decimal(7,3)"]
["CREDITED ENERGY VOLUME","N0061","Credited Energy Volume",null,null,null,"decimal(10,3)"]
["DATE OF AGGREGATION","N0062","Date Of Aggregation",null,null,null,"date"]
["DEFAULT FLAG","N0063","Default Flag",null,null,null,"boolean"]
["DEMAND CAPACITY","N0064","Demand Capacity",null,null,null,"decimal(13,3)"]
["DISTRIBUTION METHOD","N0065","Distribution Method",null,null,null,"text(20)"]
["DISTRIBUTOR BSC PARTY ID","N0066",{"$f":"PROPER(A64)","v":"Distributor Bsc Party Id"},null,null,null,"text(8)"]
["E-MAIL ADDRESS","N0067","E-Mail Address",null,null,null,"text(80)"]
["ECV PARTY 1 ID","N0068","Ecv Party 1 Id",null,null,null,"text(8)"]
["ECV PARTY 1 NAME","N0069","Ecv Party 1 Name",null,null,null,"text(30)"]
["ECV PARTY 1 P/C FLAG","N0070","Ecv Party 1 P/C Flag",null,null,null,"char","P/C Flag"]
["ECV PARTY 1 PRODUCTION/CONSUMPTION FLAG","N0071","Ecv Party 1 Production/Consumption Flag",null,null,null,"char","P/C Flag"]
["ECV PARTY 2 ID","N0072","Ecv Party 2 Id",null,null,null,"text(8)"]
["ECV PARTY 2 NAME","N0073","Ecv Party 2 Name",null,null,null,"text(30)"]
["ECV PARTY 2 P/C FLAG","N0074","Ecv Party 2 P/C Flag",null,null,null,"char","P/C Flag"]
["ECV PARTY 2 PRODUCTION/CONSUMPTION FLAG","N0075","Ecv Party 2 Production/Consumption Flag",null,null,null,"char","P/C Flag"]
["ECVAA RUN NUMBER","N0076","Ecvaa Run Number",null,null,null,"integer(3)"]
["ECVN REFERENCE CODE","N0077","Ecvn Reference Code",null,null,null,"text(10)"]
["ECVNA ID","N0078","Ecvna Id",null,null,null,"text(8)"]
["ECVNA NAME","N0079","Ecvna Name",null,null,null,"text(30)"]
["ECVNAA ID","N0080","Ecvnaa Id",null,null,null,"text(10)"]
["EFFECTIVE FROM DATE","N0081","Effective From Date",null,null,null,"date"]
["EFFECTIVE FROM SETTLEMENT DATE","N0082",{"$f":"PROPER(A80)","v":"Effective From Settlement Date"},null,null,null,"date"]
["EFFECTIVE TO DATE","N0083","Effective To Date",null,null,null,"date"]
["EFFECTIVE TO SETTLEMENT DATE","N0084","Effective To Settlement Date",null,null,null,"date"]
["ENERGY CONTRACT VOLUME","N0085","Energy Contract Volume",null,null,null,"decimal(10,3)"]
["ENERGY IMBALANCE CASHFLOW","N0086","Energy Imbalance Cashflow",null,null,null,"decimal(10,2)"]
["ENERGY IMBALANCE CHARGE","N0087","Energy Imbalance Charge",null,null,null,"decimal(10,2)"]
["ENERGY VOLUME READING","N0088","Energy Volume Reading",null,null,null,"decimal (10,3)"]
["ESTIMATE AGREED INDICATOR","N0089","Estimate Agreed Indicator",null,null,null,"boolean"]
["ESTIMATE INDICATOR","N0090","Estimate Indicator",null,null,null,"boolean"]
["ESTIMATED METER VOLUME","N0091","Estimated Meter Volume",null,null,null,"decimal(12,3)"]
["ESTIMATION METHOD","N0092","Estimation Method",null,null,null,"char","Estimation Method"]
["EXCEPTION DESCRIPTION","N0093","Exception Description",null,null,null,"text(255)"]
["EXCEPTION TYPE","N0094","Exception Type",null,null,null,"char","BMRA Exception Type"]
["INTERCONNECTOR ADMINISTRATOR ID","N0095","Interconnector Administrator Id",null,null,null,"text(8)"]
["INTERCONNECTOR ERROR ADMINISTRATOR ID","N0097",{"$f":"PROPER(A94)","v":"Interconnector Error Administrator Id"},null,null,null,"text(8)"]
["INTERCONNECTOR ID","N0098",{"$f":"PROPER(A95)","v":"Interconnector Id"},null,null,null,"text(10)"]
["INTERCONNECTOR NAME","N0099","Interconnector Name",null,null,null,"text(30)"]
["FAX NO","N0100","Fax No",null,null,null,"text(15)"]
["FILE IDENTIFIER","N0101","File Identifier",null,null,null,"text(10)"]
["FILE TYPE","N0102","File Type",null,null," ","text(8)"]
["FILLER 1","N0103","Filler 1",null,null,null,"text(2)"]
["FILLER 2","N0104","Filler 2",null,null,null,"text(1)"]
["FILLER 3","N0105","Filler 3",null,null,null,"integer(2)"]
["FILLER 4","N0106","Filler 4",null,null,null,"text(1)"]
["FILLER 5","N0107","Filler 5",null,null,null,"decimal(15,3)"]
["FILLER 6","N0108","Filler 6",null,null,null,"decimal(15,3)"]
["FIXED METERED VOLUME REALLOCATION","N0109","Fixed Metered Volume Reallocation",null,null,null,"decimal(10,3)"]
["FPN FLAG","N0110","Fpn Flag",null,null,null,"boolean"]
["FPN VALUE FROM","N0111","Fpn Value From",null,null,null,"decimal(10,3)"]
["FPN VALUE TO","N0112","Fpn Value To",null,null,null,"decimal(10,3)"]
["FROM PARTICIPANT ID","N0113","From Participant Id",null,null,null,"text(8)"]
["FROM ROLE CODE","N0114",{"$f":"PROPER(A111)","v":"From Role Code"},null,null,null,"text(2)"]
["GENERATION CAPACITY","N0115","Generation Capacity",null,null,null,"decimal(13,3)"]
["GSP GROUP ID","N0116","Gsp Group Id",null,null,null,"text(2)"]
["GSP GROUP NAME","N0117","Gsp Group Name",null,null,null,"text(30)"]
["GSP GROUP TAKE","N0118","Gsp Group Take",null,null,null,"decimal(14,4)"]
["GSP ID","N0119","Gsp Id",null,null,null,"text(10)"]
["IMBALANCE VOLUME","N0120","Imbalance Volume",null,null,null,"decimal(10,3)"]
["IMPORT/EXPORT INDICATOR","N0121","Import/Export Indicator",null,null,null,"char","I/E Flag"]
["INFORMATION IMBALANCE CASHFLOW","N0122","Information Imbalance Cashflow",null,null,null,"decimal(10,2)"]
["INFORMATION IMBALANCE CHARGE","N0123","Information Imbalance Charge",null,null,null,"decimal(10,2)"]
["INFORMATION IMBALANCE PRICE 1","N0124","Information Imbalance Price 1",null,null,null,"decimal(10,5)"]
["INFORMATION IMBALANCE PRICE 2","N0125","Information Imbalance Price 2",null,null,null,"decimal(10,5)"]
["JOINT BM UNIT ID","N0126","Joint Bm Unit Id",null,null,null,"text(11)"]
["LEAD PARTY ID","N0127","Lead Party Id",null,null,null,"text(8)"]
["LEAD PARTY NAME","N0128","Lead Party Name",null,null,null,"text(30)"]
["LEAD PARTY PRODUCTION/CONSUMPTION FLAG","N0129","Lead Party Production/Consumption Flag",null,null,null,"char","P/C Flag"]
["LEVEL FROM","N0130",{"$f":"PROPER(A127)","v":"Level From"},null,null,null,"decimal(10,3)"]
["LEVEL TO","N0131","Level To",null,null,null,"decimal(10,3)"]
["LINE LOSS FACTOR","N0132","Line Loss Factor",null,null,null,"decimal(8,7)"]
["MAIN/CHECK INDICATOR","N0133","Main/Check Indicator",null,null,null,"char","Main/Check Indicator"]
["MEASUREMENT QUANTITY","N0134","Measurement Quantity",null,null,null,"text(2)","Measurement Quantity"]
["METER OPERATOR AGENT ID","N0135","Meter Operator Agent Id",null,null,null,"text(8)"]
["METER READING STATUS","N0136","Meter Reading Status",null,null,null,"char","Meter Reading Status"]
["METER READING VOLUME","N0137","Meter Reading Volume",null,null,null,"decimal(12,3)"]
["METER SERIAL NUMBER","N0138","Meter Serial Number",null,null,null,"text(10)"]
["METER VOLUME","N0139","Meter Volume",null,null,null,"decimal(10,3)"]
["METERED VOLUME FIXED REALLOCATION","N0140","Metered Volume Fixed Reallocation",null,null,null,"decimal(10,3)"]
["METERED VOLUME PERCENTAGE REALLOCATION","N0141","Metered Volume Percentage Reallocation",null,null,null,"decimal(8,5)"]
["METERING SYSTEM ID","N0142","Metering System Id",null,null,null,"text(13)"]
["MVRN REFERENCE CODE","N0144",{"$f":"PROPER(A140)","v":"Mvrn Reference Code"},null,null,null,"text(10)"]
["MVRNA ID","N0145",{"$f":"PROPER(A141)","v":"Mvrna Id"},null,null,null,"text(8)"]
["MVRNA NAME","N0146",{"$f":"PROPER(A142)","v":"Mvrna Name"},null,null,null,"text(30)"]
["MVRNAA ID","N0147","Mvrnaa Id",null,null,null,"text(10)"]
["MVRNAA KEY","N0148","Mvrnaa Key",null,null,null,"text(10)"]
["NATIONAL GRID REFERENCE","N0149","National Grid Reference",null,null,null,"text(12)"]
["NGC BM UNIT NAME","N0150","Ngc Bm Unit Name",null,null,null,"text(9)"]
["NON-DELIVERY CHARGE","N0151","Non-Delivery Charge",null,null,null,"decimal(10,2)"]
["NUMBER OF TRADES","N0152","Number Of Trades",null,null,null,"integer(8)"]
["OFFER PRICE","N0153","Offer Price",null,null,null,"decimal(10,5)"]
["ORIGINAL METER READING","N0154","Original Meter Reading",null,null,null,"decimal(12,3)"]
["OUTSTATION ID","N0155","Outstation Id",null,null,null,"text(20)"]
["PARTY AGENT AUTHENTICATION NAME","N0156","Party Agent Authentication Name",null,null,null,"text(30)"]
["PARTY AGENT AUTHENTICATION PASSWORD","N0157","Party Agent Authentication Password",null,null,null,"text(8)"]
["PARTY AUTHENTICATION KEY DETAILS","N0158","Party Authentication Key Details",null,null,null,"text(10)"]
["PARTY AUTHENTICATION NAME","N0159","Party Authentication Name",null,null,null,"text(30)"]
["PARTY AUTHENTICATION PASSWORD","N0160","Party Authentication Password",null,null,null,"text(8)"]
["PARTY TYPE","N0161","Party Type",null,null,null,"text(2)","Organisation Type"]
["PASSWORD","N0162",{"$f":"PROPER(A158)","v":"Password"},null,null,null,"text(8)"]
["PERCENTAGE METERED VOLUME REALLOCATION","N0163","Percentage Metered Volume Reallocation",null,null,null,"decimal(8,5)"]
["PERIOD BM UNIT BALANCING SERVICES VOLUME","N0164","Period Bm Unit Balancing Services Volume",null,null,null,"decimal(10,3)"]
["PERIOD BM UNIT BID CASHFLOW","N0165","Period Bm Unit Bid Cashflow",null,null,null,"decimal(10,2)"]
["PERIOD BM UNIT NON-DELIVERED BID VOLUME","N0166","Period Bm Unit Non-Delivered Bid Volume",null,null,null,"decimal(10,3)"]
["PERIOD BM UNIT NON-DELIVERED OFFER VOLUME","N0167","Period Bm Unit Non-Delivered Offer Volume",null,null,null,"decimal(10,3)"]
["PERIOD BM UNIT OFFER CASHFLOW","N0168","Period Bm Unit Offer Cashflow",null,null,null,"decimal(10,2)"]
["PERIOD BM UNIT TOTAL ACCEPTED BID VOLUME","N0169","Period Bm Unit Total Accepted Bid Volume",null,null,null,"decimal(10,3)"]
["PERIOD BM UNIT TOTAL ACCEPTED OFFER VOLUME","N0170","Period Bm Unit Total Accepted Offer Volume",null,null,null,"decimal(10,3)"]
["PERIOD BM UNIT TOTAL ALLOCATED VOLUME","N0171","Period Bm Unit Total Allocated Volume",null,null,null,"decimal(14,4)"]
["PERIOD BSSC LIMITED COSTS","N0172","Period Bssc Limited Costs",null,null,null,"decimal(10,2)"]
["PERIOD EXPECTED METERED VOLUME","N0173","Period Expected Metered Volume",null,null,null,"decimal(10,3)"]
["PERIOD FPN","N0174","Period Fpn",null,null,null,"decimal(10,3)"]
["PERIOD INFORMATION IMBALANCE VOLUME","N0175","Period Information Imbalance Volume",null,null,null,"decimal(10,3)"]
["POST CODE","N0176","Post Code",null,null,null,"text(10)"]
["PRODUCTION/CONSUMPTION FLAG","N0177","Production/Consumption Flag",null,null,null,"char","P/C Flag"]
["PROPORTION OF LOSSES","N0178",{"$f":"PROPER(A174)","v":"Proportion Of Losses"},null,null,null,"decimal(8,7)"]
["RANKING","N0180",{"$f":"PROPER(A175)","v":"Ranking"},null,null,null,"integer(4)"]
["REGISTRATION EFFECTIVE FROM DATE","N0183",{"$f":"PROPER(A176)","v":"Registration Effective From Date"},null,null,null,"date"]
["REGISTRATION EFFECTIVE TO DATE","N0184","Registration Effective To Date",null,null,null,"date"]
["REGISTRATION STATUS","N0185","Registration Status",null,null,null,"char","Registration Status"]
["REGISTRATION TYPE","N0186","Registration Type",null,null,null,"text(2)","Registration Type"]
["REJECTION REASON","N0187","Rejection Reason",null,null,null,"text(80)"]
["REPORT END DATE","N0188","Report End Date",null,null,null,"date"]
["REPORT PARAMETERS","N0189","Report Parameters",null,null,null,"text(30)"]
["REPORT START DATE","N0191",{"$f":"PROPER(A183)","v":"Report Start Date"},null,null,null,"date"]
["REPORT TYPE","N0192","Report Type",null,null,null,"text(30)"]
["REQUESTING REGISTRANT","N0193","Requesting Registrant",null,null,null,"text(8)"]
["RESIDUAL CASHFLOW REALLOCATION CHARGE","N0194","Residual Cashflow Reallocation Charge",null,null,null,"decimal(10,2)"]
["RESIDUAL CASHFLOW REALLOCATION PROPORTION","N0195","Residual Cashflow Reallocation Proportion",null,null,null,"decimal(8,7)"]
["CREDIT LIMIT","N0196","Credit Limit",null,null,null,"decimal(13,3)"]
["SEQUENCE NUMBER","N0198",{"$f":"PROPER(A189)","v":"Sequence Number"},null,null,null,"integer(9)"]
["SETTLEMENT CODE","N0199","Settlement Code",null,null,null,"text(2)"]
["SETTLEMENT DATE","N0200","Settlement Date",null,null,null,"date"]
["SETTLEMENT PERIOD","N0201","Settlement Period",null,null,null,"integer(2)"]
["SETTLEMENT RUN TYPE","N0202","Settlement Run Type",null,null,null,"text(2)","Run Type"]
["SIGNATORY NAME","N0203","Signatory Name",null,null,null,"text(30)"]
["SSR RUN DATE","N0204","Ssr Run Date",null,null,null,"date"]
["SSR RUN NUMBER","N0205","Ssr Run Number",null,null,null,"integer(7)"]
["SSR RUN TYPE ID","N0206","Ssr Run Type Id",null,null,null,"text(2)"]
["STAGE 2 PARTICIPANT ID","N0207","Stage 2 Participant Id",null,null,null,"text(4)"]
["SUBSIDIARY PARTY ID","N0208","Subsidiary Party Id",null,null,null,"text(8)"]
["SUBSIDIARY PARTY PRODUCTION/CONSUMPTION FLAG","N0209","Subsidiary Party Production/Consumption Flag",null,null,null,"char","P/C Flag"]
["SUBSIDIARY PARTY NAME","N0210",{"$f":"PROPER(A201)","v":"Subsidiary Party Name"},null,null,null,"text(30)"]
["SVAA SSR RUN NUMBER","N0211","Svaa Ssr Run Number",null,null,null,"integer(7)"]
["SYSTEM BUY PRICE","N0212","System Buy Price",null,null,null,"decimal(10,5)"]
["SYSTEM OPERATOR CASHFLOW","N0213","System Operator Cashflow",null,null,null,"decimal(10,2)"]
["DAILY SYSTEM OPERATOR CASHFLOW","N0214","Daily System Operator Cashflow",null,null,null,"decimal(10,2)"]
["SYSTEM SELL PRICE","N0215","System Sell Price",null,null,null,"decimal(10,5)"]
["SYSTEM TOTAL ACCEPTED BID VOLUME","N0216","System Total Accepted Bid Volume",null,null,null,"decimal(10,3)"]
["SYSTEM TOTAL ACCEPTED OFFER VOLUME","N0217","System Total Accepted Offer Volume",null,null,null,"decimal(10,3)"]
["TELEPHONE NO","N0218","Telephone No",null,null,null,"text(15)"]
["TEST DATA FLAG","N0219","Test Data Flag",null,null,null,"text(4)"]
["TIME FROM","N0220","Time From",null,null,null,"integer(2)"]
["TIME TO","N0221","Time To",null,null,null,"integer(2)"]
["TO PARTICIPANT ID","N0222","To Participant Id",null,null,null,"text(8)"]
["TO ROLE CODE","N0223","To Role Code",null,null,null,"text(2)"]
["TOTAL SYSTEM ENERGY CONTRACT VOLUME","N0224","Total System Energy Contract Volume",null,null,null,"decimal(10,3)"]
["TOTAL SYSTEM ENERGY IMBALANCE CASHFLOW","N0225","Total System Energy Imbalance Cashflow",null,null,null,"decimal(10,2)"]
["TOTAL SYSTEM ENERGY IMBALANCE VOLUME","N0226",{"$f":"PROPER(A217)","v":"Total System Energy Imbalance Volume"},null,null,null,"decimal(10,3)"]
["TOTAL SYSTEM INFORMATION IMBALANCE CHARGE","N0227","Total System Information Imbalance Charge",null,null,null,"decimal(10,2)"]
["TOTAL SYSTEM NON-DELIVERY CHARGE","N0228","Total System Non-Delivery Charge",null,null,null,"decimal(10,2)"]
["TOTAL SYSTEM PERIOD CREDITED ENERGY VOLUME","N0229","Total System Period Credited Energy Volume",null,null,null,"decimal(10,3)"]
["TOTAL SYSTEM RESIDUAL CASHFLOW","N0230","Total System Residual Cashflow",null,null,null,"decimal(10,2)"]
["TOTAL TRADING UNIT METERED VOLUME","N0231","Total Trading Unit Metered Volume",null,null,null,"decimal(10,3)"]
["TRADING UNIT NAME","N0232","Trading Unit Name",null,null,null,"text(30)"]
["TRANSMISSION LOSS FACTOR","N0233","Transmission Loss Factor",null,null,null,"decimal(8,7)"]
["TRANSMISSION LOSS MULTIPLIER","N0234","Transmission Loss Multiplier",null,null,null,"decimal(8,7)"]
["USER NAME","N0235","User Name",null,null,null,"text(8)"]
["VOLUME OF TRADES","N0236","Volume Of Trades",null,null,null,"decimal(10,3)"]
["YEAR","N0237","Year",null,null,null,"integer(4)"]
["ZONE","N0238","Zone",null,null,null,"char"]
["ACCEPTANCE TIME","N0242",{"$f":"PROPER(A230)","v":"Acceptance Time"},"DATETIME",null,null,{"$f":"LOWER(D230)&IF(LEN(E230)>0,\"(\"&E230&IF(LEN(F230)>0,\",\"&F230,\"\")&\")\",\"\")","v":"datetime"}]
["BID OFFER ACCEPTANCE NUMBER","N0243","Bid Offer Acceptance Number","NUMBER",10,null,{"$f":"LOWER(D231)&IF(LEN(E231)>0,\"(\"&E231&IF(LEN(F231)>0,\",\"&F231,\"\")&\")\",\"\")","v":"number(10)"}]
["BID PRICE","N0244","Bid Price","NUMBER",7,2,"number(7,2)"]
["BID OFFER LEVEL FROM","N0245","Bid Offer Level From","NUMBER",4,null,"number(4)"]
["BID OFFER LEVEL TO","N0246","Bid Offer Level To","NUMBER",4,null,"number(4)"]
["BID OFFER PAIR NUMBER","N0247","Bid Offer Pair Number","NUMBER",2,null,"number(2)"]
["CALENDAR WEEK NUMBER","N0248","Calendar Week Number","NUMBER",2,null,"number(2)","Week Number"]
["DAY OF FORECAST","N0249","Day Of Forecast","DATETIME",null,null,"datetime"]
["DEEMED BID OFFER FLAG","N0250","Deemed Bid Offer Flag","VARCHAR2",5,null,"varchar2(5)"]
["DEMAND","N0251","Demand","NUMBER",5,null,"number(5)","Demand"]
["EFFECTIVE TIME","N0252","Effective Time","DATETIME",null,null,"datetime"]
["IMBALANCE VALUE","N0253","Imbalance Value","NUMBER",5,null,"number(5)","Imbalance"]
["MARGIN","N0254","Margin","NUMBER",5,null,"number(5)","Margin"]
["MAXIMUM DELIVERY PERIOD","N0255","Maximum Delivery Period","NUMBER",5,null,"number(5)"]
["MAXIMUM DELIVERY VOLUME","N0256","Maximum Delivery Volume","NUMBER",5,null,"number(5)"]
["MAXIMUM EXPORT LEVEL FROM","N0257","Maximum Export Level From","NUMBER",4,null,"number(4)"]
["MAXIMUM EXPORT LEVEL TO","N0258",{"$f":"PROPER(A246)","v":"Maximum Export Level To"},"NUMBER",4,null,"number(4)"]
["MINIMUM NON ZERO TIME","N0261",{"$f":"PROPER(A247)","v":"Minimum Non Zero Time"},"NUMBER",5,null,{"$f":"LOWER(D247)&IF(LEN(E247)>0,\"(\"&E247&IF(LEN(F247)>0,\",\"&F247,\"\")&\")\",\"\")","v":"number(5)"}]
["MINIMUM ZERO TIME","N0262","Minimum Zero Time","NUMBER",5,null,"number(5)"]
["NATIONAL BOUNDARY IDENTIFIER","N0263","National Boundary Identifier","VARCHAR2",3,null,{"$f":"LOWER(D249)&IF(LEN(E249)>0,\"(\"&E249&IF(LEN(F249)>0,\",\"&F249,\"\")&\")\",\"\")","v":"varchar2(3)"},"Zone Indicator"]
["NOTICE TO DELIVER BIDS","N0264","Notice To Deliver Bids","NUMBER",5,null,"number(5)"]
["NOTICE TO DELIVER OFFERS","N0265","Notice To Deliver Offers","NUMBER",5,null,"number(5)"]
["NOTICE TO DEVIATE FROM ZERO","N0266","Notice To Deviate From Zero","NUMBER",5,null,"number(5)"]
["OFFER PRICE","N0267","Offer Price","NUMBER",7,2,"number(7,2)"]
["PN LEVEL FROM","N0268","PN Level From","NUMBER",4,null,"number(4)"]
["PN LEVEL TO","N0269","PN Level To","NUMBER",4,null,"number(4)"]
["PUBLISHING PERIOD COMMENCING TIME","N0270","Publishing Period Commencing Time","DATETIME",null,null,"datetime"]
["QPN LEVEL FROM","N0271","QPN Level From","NUMBER",4,null,"number(4)"]
["QPN LEVEL TO","N0272","QPN Level To","NUMBER",4,null,"number(4)"]
["RUN UP ELBOW 2","N0273",{"$f":"PROPER(A259)","v":"Run Up Elbow 2"},"NUMBER",4,null,"number(4)"]
["RUN UP ELBOW 3","N0274",{"$f":"PROPER(A260)","v":"Run Up Elbow 3"},"NUMBER",4,null,"number(4)"]
["RUN UP RATE 1","N0275","Run Up Rate 1","NUMBER",4,1,"number(4,1)"]
["RUN UP RATE 2","N0276","Run Up Rate 2","NUMBER",4,1,"number(4,1)"]
["RUN UP RATE 3","N0277","Run Up Rate 3","NUMBER",4,1,{"$f":"LOWER(D263)&IF(LEN(E263)>0,\"(\"&E263&IF(LEN(F263)>0,\",\"&F263,\"\")&\")\",\"\")","v":"number(4,1)"}]
["RUN DOWN ELBOW 2","N0278","Run Down Elbow 2","NUMBER",4,null,"number(4)"]
["RUN DOWN ELBOW 3","N0279","Run Down Elbow 3","NUMBER",4,null,"number(4)"]
["RUN DOWN RATE 1","N0280","Run Down Rate 1","NUMBER",4,1,"number(4,1)"]
["RUN DOWN RATE 2","N0281","Run Down Rate 2","NUMBER",4,1,"number(4,1)"]
["RUN DOWN RATE 3","N0282","Run Down Rate 3","NUMBER",4,1,"number(4,1)"]
["SPN DEMAND","N0283","SPN Demand","NUMBER",5,null,"number(5)","SPN Demand"]
["SPN GENERATION","N0284","SPN Generation","NUMBER",5,null,"number(5)","SPN Generation"]
["STABLE EXPORT LIMIT","N0285","Stable Export Limit","NUMBER",5,null,"number(5)"]
["STABLE IMPORT LIMIT","N0286","Stable Import Limit","NUMBER",5,null,"number(5)"]
["START TIME OF HALF HR PERIOD","N0287","Start Time Of Half Hr Period","DATETIME",null,null,"datetime"]
["TIME FROM","N0288","Time From","DATETIME",null,null,"datetime"]
["TIME TO","N0289","Time To","DATETIME",null,null,"datetime"]
["DATA TYPE","N0290",{"$f":"PROPER(A276)","v":"Data Type"},"VARCHAR2",8,null,"varchar2(8)"]
["BMU NAME","N0291","BMU Name","VARCHAR2",9,null,"varchar2(9)"]
["MAXIMUM IMPORT LEVEL FROM","N0292",{"$f":"PROPER(A278)","v":"Maximum Import Level From"},"NUMBER",4,null,"number(4)"]
["MAXIMUM IMPORT LEVEL TO","N0293",{"$f":"PROPER(A279)","v":"Maximum Import Level To"},"NUMBER",4,null,{"$f":"LOWER(D279)&IF(LEN(E279)>0,\"(\"&E279&IF(LEN(F279)>0,\",\"&F279,\"\")&\")\",\"\")","v":"number(4)"}]
["TOTAL VOLUME ESTIMATED IN REPORT","N0294",{"$f":"PROPER(A280)","v":"Total Volume Estimated In Report"},null,null,null,"decimal(12,3)"]
["SUPPLIER ID","N0296",{"$f":"PROPER(A281)","v":"Supplier Id"},null,null,null,"text(4)"]
["ECVNAA KEY","N0297","ECVNAA Key",null,null,null,"text(10)"]
["INTER-GSP-GROUP CONNECTION ID","N0298",{"$f":"PROPER(A283)","v":"Inter-Gsp-Group Connection Id"},null,null,null,"text(10)"]
["RECEIVED TIME","N0299","Received Time",null,null,null,"datetime"]
["RESPONSE TIME","N0300","Response Time",null,null,null,"datetime"]
["FILE NAME","N0301","File Name",null,null,null,"text(14)"]
["RESPONSE CODE","N0302","Response Code",null,null,null,"integer(3)"]
["RESPONSE DATA","N0303","Response Data",null,null,null,"text(80)"]
["SAA RUN NUMBER","N0304","SAA Run Number",null,null,null,"integer(2)"]
["SELL-PRICE COST ADJUSTMENT / NET ENERGY SELL-PRICE COST ADJUSTMENT","N0305",{"$f":"PROPER(A290)","v":"Sell-Price Cost Adjustment / Net Energy Sell-Price Cost Adjustment"},null,null,null,"decimal(10,2)"]
["BUY-PRICE COST ADJUSTMENT / NET ENERGY BUY-PRICE COST ADJUSTMENT","N0306",{"$f":"PROPER(A291)","v":"Buy-Price Cost Adjustment / Net Energy Buy-Price Cost Adjustment"},null,null,null,"decimal(10,2)"]
["SELL-PRICE VOLUME ADJUSTMENT / NET ENERGY SELL-PRICE VOLUME ADJUSTMENT","N0307",{"$f":"PROPER(A292)","v":"Sell-Price Volume Adjustment / Net Energy Sell-Price Volume Adjustment"},null,null,null,"decimal(10,3)"]
["BUY-PRICE VOLUME ADJUSTMENT / NET ENERGY BUY-PRICE VOLUME ADJUSTMENT","N0308",{"$f":"PROPER(A293)","v":"Buy-Price Volume Adjustment / Net Energy Buy-Price Volume Adjustment"},null,null,null,"decimal(10,3)"]
["ZERO","N0309",{"$f":"PROPER(A294)","v":"Zero"},null,null,null,"decimal(10,5)"]
["ECVN ECVNAA ID","N0310","ECVN ECVNAA Id",null,null,null,"text(10)"]
["MVRN MVRNAA ID","N0311","MVRN MVRNAA Id",null,null,null,"text(10)"]
["TOTAL DEMAND","N0312",{"$f":"PROPER(A297)","v":"Total Demand"},null,null,null,"decimal(10,3)"]
["NOTIONAL RESERVE LIMIT","N0316",{"$f":"PROPER(A298)","v":"Notional Reserve Limit"},null,null,null,"decimal(10,3)"]
["ARBITRAGE FLAG","N0317",{"$f":"PROPER(A299)","v":"Arbitrage Flag"},null,null,null,"boolean"]
["POINT TYPE","N0322",{"$f":"PROPER(A300)","v":"Point Type"},null,null,null,"text(2)","Point Type"]
["GSP GROUP TAKE VOLUME","N0327","Group Take Volume",null,null,null,"decimal(14,4)"]
["STAGE 2 RESPONSE DATA","N0328",{"$f":"PROPER(A302)","v":"Stage 2 Response Data"},null,null,null,"text(50)"]
["NGC FILENAME","N0329","NGC Filename",null,null,null,"text(255)"]
["PERMIT NOTIFICATION REJECTION FLAG","N0330",{"$f":"PROPER(A304)","v":"Permit Notification Rejection Flag"},null,null,null,"boolean"]
["AGGREGATED ENERGY CONTRACT VOLUME","N0331","Aggregated Energy Contract Volume",null,null,null,"decimal(10,3)"]
["CREDIT COVER PERCENTAGE","N0332","Credit Cover Percentage",null,null,null,"decimal(8,5)"]
["TOTAL SYSTEM BM CASHFLOW","N0333","Total System BM Cashflow",null,null,null,"decimal(10,2)"]
["TOTAL GENERATION","N0334","Total Generation",null,null,null,"decimal(10,3)"]
["SYSTEM OPERATOR PRODUCTION IMBALANCE","N0335","System Operator Production Imbalance",null,null,null,"decimal(10,3)"]
["SYSTEM OPERATOR CONSUMPTION IMBALANCE","N0336",{"$f":"PROPER(A310)","v":"System Operator Consumption Imbalance"},null,null,null,"decimal(10,3)"]
["ACCEPTANCE FROM TIME","N0337","Acceptance From Time",null,null,null,"integer(3)"]
["ACCEPTANCE TO TIME","N0338","Acceptance To Time",null,null,null,"integer(3)"]
["ACTION CODE","N0339","Action Code",null,null,null,"text(9)"]
["SETT DATE","N0340","Sett Date",null,null,null,"text(10)"]
["TERMINATION REASON","N0341","Termination Reason",null,null,null,"text(80)"]
["B-O ACCEPTANCE NUMBER","N0342","B-O Acceptance Number",null,null,null,"integer(10)"]
["PUBLICATION DATE-TIME","N0343","Publication Date-Time",null,null,null,"datetime"]
["NOTIFICATION DATE","N0344","Notification Date",null,null,null,"date"]
["PAYMENT DATE","N0345","Payment Date",null,null,null,"date"]
["NOTIFICATION PERIOD","N0346","Notification Period",null,null,null,"integer(3)"]
["PAYMENT PERIOD","N0347","Payment Period",null,null,null,"integer(3)"]
["SETTLEMENT RUN DATE","N0348","Settlement Run Date",null,null,null,"date"]
["CVA RUN DATE","N0349","CVA Run Date",null,null,null,"date"]
["ELAPSED DAYS SAA AFTER SETTLEMENT","N0350","Elapsed Days SAA After Settlement",null,null,null,"integer(3)"]
["WORKING DAYS SAA AFTER SETTLEMENT","N0351","Working Days SAA After Settlement",null,null,null,"integer(3)"]
["WORKING DAYS SAA BEFORE NOTIFICATION","N0352","Working Days SAA Before Notification",null,null,null,"integer(3)"]
["SVA RUN DATE","N0353","SVA Run Date",null,null,null,"date"]
["ECVNAA BSC PARTY SEQUENCE","N0354","ECVNAA BSC Party Sequence",null,null,null,"char","Party Sequence"]
["OTHER BSC PARTY ID","N0355","Other BSC Party Id",null,null,null,"text(8)"]
["OTHER BSC PARTY P/C FLAG","N0356","Other BSC Party P/C Flag",null,null,null,"char","P/C Flag"]
["ECVNAA EFFECTIVE FROM DATE","N0357","ECVNAA Effective From Date",null,null,null,"date"]
["ECVNAA EFFECTIVE TO DATE","N0358","ECVNAA Effective To Date",null,null,null,"date"]
["ECVN EFFECTIVE FROM DATE","N0359","ECVN Effective From Date",null,null,null,"date"]
["ECVN EFFECTIVE TO DATE","N0360","ECVN Effective To Date",null,null,null,"date"]
["FROM SETTLEMENT PERIOD","N0361","From Settlement Period",null,null,null,"integer(2)"]
["TO SETTLEMENT PERIOD","N0362","To Settlement Period",null,null,null,"integer(2)"]
["LEAD OR SUBSIDIARY INDICATOR","N0363","Lead Or Subsidiary Indicator",null,null,null,"char","L/S Flag"]
["MVRNAA EFFECTIVE FROM DATE","N0364","MVRNAA Effective From Date",null,null,null,"date"]
["MVRNAA EFFECTIVE TO DATE","N0365","MVRNAA Effective To Date",null,null,null,"date"]
["MVRN EFFECTIVE FROM DATE","N0366","MVRN Effective From Date",null,null,null,"date"]
["MVRN EFFECTIVE TO DATE","N0367","MVRN Effective To Date",null,null,null,"date"]
["REPORT SNAPSHOT TIME","N0368",{"$f":"PROPER(A342)","v":"Report Snapshot Time"},null,null,null,"datetime"]
["TRANSACTION","N0369","Transaction",null,null,null,"integer(12)"]
["FIRST EFFECTIVE PERIOD","N0370","First Effective Period",null,null,null,"integer(2)"]
["SELL-PRICE PRICE ADJUST","N0371","Sell-Price Price Adjust",null,null,null,"decimal(10,2)"]
["BUY-PRICE PRICE ADJUST","N0372","Buy-Price Price Adjust",null,null,null,"decimal(10,2)"]
["REPORT START PERIOD","N0373","Report Start Period",null,null,null,"integer(2)"]
["MONTH","N0374","Month",null,null,null,"text(7)","MONYYYY"]
["COUNT OF CVA METERING SYSTEMS","N0375","Count Of Cva Metering Systems",null,null,null,"integer(7)"]
["COUNT OF CVA BM UNITS","N0376","Count Of Cva Bm Units",null,null,null,"integer(7)"]
["COUNT OF SVA BASE BM UNITS","N0377","Count Of Sva Base Bm Units",null,null,null,"integer(7)"]
["COUNT OF SVA ADDITIONAL BM UNITS","N0378","Count Of Sva Additional Bm Units",null,null,null,"integer(7)"]
["COUNT OF SVA REPLACEMENT BASE BM UNITS","N0379","Count Of Sva Replacement Base Bm Units",null,null,null,"integer(7)"]
["COUNT OF SVA REPLACEMENT ADDITIONAL BM UNITS","N0380","Count Of Sva Replacement Additional Bm Units",null,null,null,"integer(7)"]
["GROSS CONTRACT VOLUME","N0381","Gross Contract Volume",null,null,null,"number(14,4)"]
["VOLUME","N0382","Volume",null,null,null,"number(13,3)"]
["SVAA CDCA SETTLEMENT DATE","N0383",{"$f":"PROPER(A357)","v":"Svaa Cdca Settlement Date"},null,null,null,"date"]
["SVAA CDCA RUN NUMBER","N0384","Svaa Cdca Run Number",null,null,null,"integer(2)"]
["SAA CDCA RUN NUMBER","N0385","Saa Cdca Run Number",null,null,null,"integer(2)"]
["SYSTEM TOTAL UNPRICED ACCEPTED BID VOLUME","N0386","System Total Unpriced Accepted Bid Volume",null,null,null,"decimal(10,3)"]
["SYSTEM TOTAL UNPRICED ACCEPTED OFFER VOLUME","N0387","System Total Unpriced Accepted Offer Volume",null,null,null,"decimal(10,3)"]
["PERIOD BM UNIT TOTAL PRICED ACCEPTED BID VOLUME","N0388","Period Bm Unit Total Priced Accepted Bid Volume",null,null,null,"decimal(10,3)"]
["PERIOD BM UNIT TOTAL PRICED ACCEPTED OFFER VOLUME","N0389","Period Bm Unit Total Priced Accepted Offer Volume",null,null,null,"decimal(10,3)"]
["SHORT CONTINUOUS ACCEPTANCE FLAG","N0390","Short Continuous Acceptance Flag",null,null,null,"boolean"]
["CONTINUOUS ACCEPTANCE DURATION LIMIT","N0391","Continuous Acceptance Duration Limit",null,null,null,"integer(2)"]
["DE MINIMIS ACCEPTANCE THRESHOLD","N0392","De Minimis Acceptance Threshold",null,null,null,"decimal(10,3)"]
["SYSTEM TOTAL PRICED ACCEPTED BID VOLUME","N0393","System Total Priced Accepted Bid Volume",null,null,null,"decimal(10,3)"]
["SYSTEM TOTAL PRICED ACCEPTED OFFER VOLUME","N0394","System Total Priced Accepted Offer Volume",null,null,null,"decimal(10,3)"]
["RESIDUAL CASHFLOW REALLOCATION DENOMINATOR","N0395","Residual Cashflow Reallocation Denominator",null,null,null,"decimal(10,3)"]
["DAYS SINCE LAST SUCCESSFUL OUTSTATION DOWNLOAD","N0396","Days Since Last Successful Outstation Download",null,null,null,"integer(4)"]
["OUTSTATION ALARM CODE","N0397","Outstation Alarm Code",null,null,null,"text(2)"]
["METERING SUBSYSTEM ID","N0398","Metering Subsystem Id",null,null,null,"text(10)"]
["METER REGISTER ID","N0399","Meter Register Id",null,null,null,"text(2)"]
["PERCENTAGE OF MAIN READING","N0400","Percentage Of Main Reading",null,null,null,"decimal(5,2)"]
["METERING EQUIPMENT LOCATION","N0401","Metering Equipment Location",null,null,null,"text(30)"]
["PERCENTAGE OF PRIMARY READING","N0402",{"$f":"PROPER(A376)","v":"Percentage Of Primary Reading"},null,null,null,"decimal(5,2)"]
["MINIMUM OUTSTATION CHANNEL LIMIT","N0403","Minimum Outstation Channel Limit",null,null,null,"decimal(10,3)"]
["MAXIMUM OUTSTATION CHANNEL LIMIT","N0404","Maximum Outstation Channel Limit",null,null,null,"decimal(10,3)"]
["METER READING DIFFERENCE","N0405","Meter Reading Difference",null,null,null,"decimal(10,3)"]
["CHECK OUTSTATION ID","N0406","Check Outstation Id",null,null,null,"text(20)"]
["CHECK METER SERIAL NUMBER","N0407","Check Meter Serial Number",null,null,null,"text(10)"]
["CHECK METER REGISTER ID","N0408","Check Meter Register Id",null,null,null,"text(2)"]
["CHECK CHANNEL NUMBER","N0409","Check Channel Number",null,null,null,"integer(2)"]
["SECONDARY OUTSTATION ID","N0410","Secondary Outstation Id",null,null,null,"text(20)"]
["SECONDARY CHANNEL NUMBER","N0411","Secondary Channel Number",null,null,null,"integer(2)"]
["INDIVIDUAL LIQUIDITY THRESHOLD","N0412",{"$f":"PROPER(A386)","v":"Individual Liquidity Threshold"},null,null,null,"decimal(10,3)"]
["MARKET INDEX PRICE","N0413","Market Index Price",null,null,null,"decimal(10,2)"]
["MARKET INDEX VOLUME","N0414","Market Index Volume",null,null,null,"decimal(10,3)"]
["NET SYSTEM BUY-PRICE VOLUME ADJUSTMENT","N0415","Net System Buy-Price Volume Adjustment",null,null,null,"decimal(10,3)"]
["NET SYSTEM SELL-PRICE VOLUME ADJUSTMENT","N0416","Net System Sell-Price Volume Adjustment",null,null,null,"decimal(10,3)"]
["NET ENERGY BUY-PRICE VOLUME ADJUSTMENT","N0417","Net Energy Buy-Price Volume Adjustment",null,null,null,"decimal(10,3)"]
["NET ENERGY SELL-PRICE VOLUME ADJUSTMENT","N0418","Net Energy Sell-Price Volume Adjustment",null,null,null,"decimal(10,3)"]
["NET ENERGY BUY-PRICE COST ADJUSTMENT","N0419","Net Energy Buy-Price Cost Adjustment",null,null,null,"decimal(10,2)"]
["NET ENERGY SELL-PRICE COST ADJUSTMENT","N0420","Net Energy Sell-Price Cost Adjustment",null,null,null,"decimal(10,2)"]
["BM UNIT APPLICABLE BALANCING SERVICES VOLUME","N0421",{"$f":"PROPER(A395)","v":"Bm Unit Applicable Balancing Services Volume"},null,null,null,"decimal(10,3)"]
["MARKET INDEX DATA PROVIDER NAME","N0422","Market Index Data Provider Name",null,null,null,"text(30)"]
["MARKET INDEX DATA PROVIDER ID","N0423","Market Index Data Provider Id",null,null,null,"text(8)"]
["PROVIDER EFFECTIVE FROM SETTLEMENT DATE","N0424","Provider Effective From Settlement Date",null,null,null,"date"]
["PROVIDER EFFECTIVE TO SETTLEMENT DATE","N0425","Provider Effective To Settlement Date",null,null,null,"date"]
["TRADED PRICE","N0426","Traded Price",null,null,null,"decimal(10,2)"]
["TRADED VOLUME","N0427","Traded Volume",null,null,null,"decimal(10,3)"]
["NIV TAGGED SYSTEM TOTAL UNPRICED BID VOLUME","N0428","Niv Tagged System Total Unpriced Bid Volume",null,null,null,"decimal(10,3)"]
["NIV TAGGED SYSTEM TOTAL UNPRICED OFFER VOLUME","N0429","Niv Tagged System Total Unpriced Offer Volume",null,null,null,"decimal(10,3)"]
["NET IMBALANCE VOLUME","N0430","Net Imbalance Volume",null,null,null,"decimal(10,3)"]
["TOTAL NIV TAGGED VOLUME","N0431","Total Niv Tagged Volume",null,null,null,"decimal(10,3)"]
["NIV TAGGED SBVA","N0432","Niv Tagged Sbva",null,null,null,"decimal(10,3)"]
["NIV TAGGED SSVA","N0433","Niv Tagged Ssva",null,null,null,"decimal(10,3)"]
["UNTAGGED EBCA","N0434","Untagged Ebca",null,null,null,"decimal(10,2)"]
["UNTAGGED EBVA","N0435","Untagged Ebva",null,null,null,"decimal(10,3)"]
["UNTAGGED ESCA","N0436","Untagged Esca",null,null,null,"decimal(10,2)"]
["UNTAGGED ESVA","N0437","Untagged Esva",null,null,null,"decimal(10,3)"]
["TOTAL PERIOD APPLICABLE BALANCING SERVICES VOLUME","N0438","Total Period Applicable Balancing Services Volume",null,null,null,"decimal(10,3)"]
["PRICE DERIVATION CODE","N0439",{"$f":"PROPER(A413)","v":"Price Derivation Code"},null,null,null,"text(2)","Price Derivation Code"]
["NOTIFICATION MULTIDAY FLAG","N0440","Notification Multiday Flag",null,null,null,"char","Multiday Flag"]
["CREDIT DEFAULT LEVEL","N0441","Credit Default Level",null,null,null,"integer(1)","Credit Default Level"]
["ENTERED DEFAULT SETTLEMENT DAY","N0442","Entered Default Settlement Day",null,null,null,"date"]
["ENTERED DEFAULT SETTLEMENT PERIOD","N0443","Entered Default Settlement Period",null,null,null,"integer(2)"]
["CLEARED DEFAULT SETTLEMENT DAY","N0444","Cleared Default Settlement Day",null,null,null,"date"]
["CLEARED DEFAULT SETTLEMENT PERIOD","N0445","Cleared Default Settlement Period",null,null,null,"integer(2)"]
["CLEARED DEFAULT TEXT","N0446","Cleared Default Text",null,null,null,"text(128)"]
["ACTUAL ENERGY INDEBTEDNESS","N0447","Actual Energy Indebtedness",null,null,null,"decimal(10,3)"]
["CUMULATIVE CA ENERGY INDEBTEDNESS","N0448","Cumulative Ca Energy Indebtedness",null,null,null,"decimal(10,3)"]
["FROM SETTLEMENT DATE","N0449","From Settlement Date",null,null,null,"date"]
["TO SETTLEMENT DATE","N0450","To Settlement Date",null,null,null,"date"]
["ENERGY INDEBTEDNESS","N0451","Energy Indebtedness",null,null,null,"decimal(10,3)"]
["ACCOUNT PERIOD CA CREDITED ENERGY VOLUME","N0452","Account Period Ca Credited Energy Volume",null,null,null,"decimal(10,3)"]
["ACCOUNT PERIOD ENERGY CONTRACT VOLUME","N0453","Account Period Energy Contract Volume",null,null,null,"decimal(10,3)"]
["ACCOUNT CUMULATIVE CA CREDITED ENERGY VOLUME","N0454","Account Cumulative Ca Credited Energy Volume",null,null,null,"decimal(10,3)"]
["ACCOUNT CUMULATIVE ENERGY CONTRACT VOLUME","N0455",{"$f":"PROPER(A429)","v":"Account Cumulative Energy Contract Volume"},null,null,null,"decimal(10,3)"]
["REFERENCE YEAR","N0456","Reference Year",null,null,null,"text(9)"]
["LOAD PERIOD NAME","N0457","Load Period Name",null,null,null,"text(30)"]
["MARKET SECTOR","N0458","Market Sector",null,null,null,"text(1)"]
["MARKET PARTICIPANT ROLE CODE","N0459","Market Participant Role Code",null,null,null,"text(1)"]
["PERIOD END DATE","N0460","Period End Date",null,null,null,"date"]
["PERIODICITY","N0461","Periodicity",null,null,null,"text(1)"]
["NUMBER OF MSIDS FOR WHICH PROVING TEST OUTSTANDING","N0462","Number Of Msids For Which Proving Test Outstanding",null,null,null,"integer(7)"]
["AVERAGE NUMBER OF DAYS PROVING TEST OUTSTANDING","N0463","Average Number Of Days Proving Test Outstanding",null,null,null,"decimal(4,1)"]
["COUNT OF FAULTS OUTSTANDING","N0464","Count Of Faults Outstanding",null,null,null,"integer(7)"]
["NUMBER OF MSIDS WITH FAULT","N0465","Number Of Msids With Fault",null,null,null,"integer(7)"]
["COUNT OF FAULTS IDENTIFIED","N0466","Count Of Faults Identified",null,null,null,"integer(7)"]
["AVERAGE NUMBER OF DAYS FAULTS OUTSTANDING","N0467","Average Number Of Days Faults Outstanding",null,null,null,"decimal(4,1)"]
["AVERAGE NUMBER OF DAYS TAKEN TO RESOLVE FAULT","N0468","Average Number Of Days Taken To Resolve Fault",null,null,null,"decimal(4,1)"]
["BASE TU FLAG","N0469","Base Tu Flag",null,null,null,"boolean"]
["EXEMPT EXPORT FLAG","N0470","Exempt Export Flag",null,null,null,"boolean"]
["CREDIT ASSESSMENT LOAD FACTOR","N0471","Credit Assessment Load Factor",null,null,null,"decimal(11,7)"]
["PRODUCTION/CONSUMPTION STATUS","N0472","Production/Consumption Status",null,null,null,"char","P/C Status"]
["COUNT OF CVA EXEMPT EXPORT BM UNITS","N0473","Count Of Cva Exempt Export Bm Units",null,null,null,"integer(7)"]
["COUNT OF SVA EXEMPT EXPORT BM UNITS","N0474","Count Of Sva Exempt Export Bm Units",null,null,null,"integer(7)"]
["TOTAL NUMBER OF SAMPLE SETTLEMENT PERIODS IN LOAD PERIOD","N0475","Total Number Of Sample Settlement Periods In Load Period",null,null,null,"integer(5)"]
["TOTAL NUMBER OF SETTLEMENT PERIODS IN LOAD PERIOD","N0476","Total Number Of Settlement Periods In Load Period",null,null,null,"integer(5)"]
["ASSOCIATED VNNR INDICATOR","N0477","Associated Vnnr Indicator",null,null,null,"boolean"]
["ECVNA ID 2","N0478","Ecvna Id 2",null,null,null,"text(8)"]
["ECVNA NAME 2","N0479","Ecvna Name 2",null,null,null,"text(30)"]
["REPORT REQUIREMENT","N0480","Report Requirement",null,null,null,"text(1)","Report Req Set"]
["MVRNA ID 2","N0481","Mvrna Id 2",null,null,null,"text(8)"]
["MVRNA NAME 2","N0482","Mvrna Name 2",null,null,null,"text(30)"]
["NO CHANGE TO EXISTING DATA","N0483","No Change To Existing Data",null,null,null,"boolean"]
["RECIPIENT CONTRACT VOLUME","N0484","Recipient Contract Volume",null,null,null,"decimal(10,3)"]
["COUNTERPARTY CONTRACT VOLUME","N0485","Counterparty Contract Volume",null,null,null,"decimal(10,3)"]
["MATCHED CONTRACT VOLUME","N0486","Matched Contract Volume",null,null,null,"decimal(10,3)"]
["RECIPIENT MV FIXED REALLOCATION","N0487","Recipient Mv Fixed Reallocation",null,null,null,"decimal(10,3)"]
["RECIPIENT MV PERCENTAGE REALLOCATION","N0488","Recipient Mv Percentage Reallocation",null,null,null,"decimal(10,3)"]
["COUNTERPARTY MV FIXED REALLOCATION","N0489",{"$f":"PROPER(A463)","v":"Counterparty Mv Fixed Reallocation"},null,null,null,"decimal(10,3)"]
["COUNTERPARTY MV PERCENTAGE REALLOCATION","N0490","Counterparty Mv Percentage Reallocation",null,null,null,"decimal(10,3)"]
["MATCHED MV FIXED REALLOCATION","N0491","Matched Mv Fixed Reallocation",null,null,null,"decimal(10,3)"]
["MATCHED MV PERCENTAGE REALLOCATION","N0492","Matched Mv Percentage Reallocation",null,null,null,"decimal(10,3)"]
["NOTIFICATION TIME","N0493","Notification Time","DATETIME",null,null,"datetime"]
["NOTIFICATION SEQUENCE","N0494","Notification Sequence",null,null,null,"integer(9)"]
["FPN DERIVED CREDIT ASSESSMENT CREDITED ENERGY VOLUME","N0495","Fpn Derived Credit Assessment Credited Energy Volume",null,null,null,"decimal(10,3)"]
["NON FPN DERIVED CREDIT ASSESSMENT CREDITED ENERGY VOLUME","N0496","Non Fpn Derived Credit Assessment Credited Energy Volume",null,null,null,"decimal(10,3)"]
["FPN DERIVED ACCOUNT PERIOD CA CREDITED ENERGY VOLUME","N0497","Fpn Derived Account Period Ca Credited Energy Volume",null,null,null,"decimal(10,3)"]
["FPN DERIVED ACCOUNT CUMULATIVE CA CREDITED ENERGY VOLUME","N0498",{"$f":"PROPER(A472)","v":"Fpn Derived Account Cumulative Ca Credited Energy Volume"},null,null,null,"decimal(10,3)"]
["NON FPN DERIVED ACCOUNT PERIOD CA CREDITED ENERGY VOLUME","N0499",{"$f":"PROPER(A473)","v":"Non Fpn Derived Account Period Ca Credited Energy Volume"},null,null,null,"decimal(10,3)"]
["NON FPN DERIVED ACCOUNT CUMULATIVE CA CREDITED ENERGY VOLUME","N0500",{"$f":"PROPER(A474)","v":"Non Fpn Derived Account Cumulative Ca Credited Energy Volume"},null,null,null,"decimal(10,3)"]
["NIV TAGGED ENERGY BUY VOLUME ADJUSTMENT","N0501",{"$f":"PROPER(A475)","v":"Niv Tagged Energy Buy Volume Adjustment"},null,null,null,"decimal(10,3)"]
["NIV TAGGED ENERGY SELL VOLUME ADJUSTMENT","N0502","Niv Tagged Energy Sell Volume Adjustment",null,null,null,"decimal(10,3)"]
["PAR TAGGED ENERGY BUY VOLUME ADJUSTMENT","N0503","Par Tagged Energy Buy Volume Adjustment",null,null,null,"decimal(10,3)"]
["PAR TAGGED ENERGY SELL VOLUME ADJUSTMENT","N0504","Par Tagged Energy Sell Volume Adjustment",null,null,null,"decimal(10,3)"]
["TEMPERATURE","N0505","Temperature","DECIMAL",10,3,{"$f":"LOWER(D479)&IF(LEN(E479)>0,\"(\"&E479&IF(LEN(F479)>0,\",\"&F479,\"\")&\")\",\"\")","v":"decimal(10,3)"},"Temperature"]
["FUEL TYPE","N0506","Fuel Type","TEXT",8,null,{"$f":"LOWER(D480)&IF(LEN(E480)>0,\"(\"&E480&IF(LEN(F480)>0,\",\"&F480,\"\")&\")\",\"\")","v":"text(8)"},"Fuel Type Set"]
["STOR VOLUME","N0507","Stor Volume","NUMBER",5,null,{"$f":"LOWER(D481)&IF(LEN(E481)>0,\"(\"&E481&IF(LEN(F481)>0,\",\"&F481,\"\")&\")\",\"\")","v":"number(5)"},"BM Stor"]
["FREQUENCY","N0508","Frequency","DECIMAL",10,3,{"$f":"LOWER(D482)&IF(LEN(E482)>0,\"(\"&E482&IF(LEN(F482)>0,\",\"&F482,\"\")&\")\",\"\")","v":"decimal(10,3)"},"Frequency"]
["FUEL TYPE GENERATION","N0509","Fuel Type Generation","NUMBER",5,null,"number(5)","FT Generation"]
["METERED ENERGY INDEBTEDNESS","N0510",{"$f":"PROPER(A484)","v":"Metered Energy Indebtedness"},null,null,null,"decimal(10,3)"]
["MANUAL CREDIT QUALIFYING FLAG","N0511",{"$f":"PROPER(A485)","v":"Manual Credit Qualifying Flag"},null,null,null,"boolean"]
["CREDIT QUALIFYING STATUS","N0512",{"$f":"PROPER(A486)","v":"Credit Qualifying Status"},null,null,null,"boolean"]
["DEMAND IN PRODUCTION FLAG","N0513",{"$f":"PROPER(A487)","v":"Demand In Production Flag"},null,null,null,"boolean"]
["ID","N0514",{"$f":"PROPER(A488)","v":"Id"},null,null,null,"integer(4)"]
["COST","N0515","Cost",null,null,null,"decimal(10,2)"]
["VOLUME","N0516","Volume",null,null,null,"decimal(10,3)"]
["TOTAL SYSTEM TAGGED ACCEPTED BID VOLUME","N0517","Total System Tagged Accepted Bid Volume",null,null,null,"decimal(10,3)"]
["TOTAL SYSTEM TAGGED ACCEPTED OFFER VOLUME","N0518","Total System Tagged Accepted Offer Volume",null,null,null,"decimal(10,3)"]
["TOTAL SYSTEM REPRICED ACCEPTED BID VOLUME","N0519","Total System Repriced Accepted Bid Volume",null,null,null,"decimal(10,3)"]
["TOTAL SYSTEM REPRICED ACCEPTED OFFER VOLUME","N0520","Total System Repriced Accepted Offer Volume",null,null,null,"decimal(10,3)"]
["TOTAL SYSTEM ORIGINALLY-PRICED ACCEPTED BID VOLUME","N0521","Total System Originally-Priced Accepted Bid Volume",null,null,null,"decimal(10,3)"]
["TOTAL SYSTEM ORIGINALLY-PRICED ACCEPTED OFFER VOLUME","N0522","Total System Originally-Priced Accepted Offer Volume",null,null,null,"decimal(10,3)"]
["TOTAL SYSTEM ADJUSTMENT SELL VOLUME","N0523","Total System Adjustment Sell Volume",null,null,null,"decimal(10,3)"]
["TOTAL SYSTEM ADJUSTMENT BUY VOLUME","N0524","Total System Adjustment Buy Volume",null,null,null,"decimal(10,3)"]
["TOTAL SYSTEM TAGGED ADJUSTMENT SELL VOLUME","N0525","Total System Tagged Adjustment Sell Volume",null,null,null,"decimal(10,3)"]
["TOTAL SYSTEM TAGGED ADJUSTMENT BUY VOLUME","N0526","Total System Tagged Adjustment Buy Volume",null,null,null,"decimal(10,3)"]
["TOTAL SYSTEM REPRICED ADJUSTMENT SELL VOLUME","N0527","Total System Repriced Adjustment Sell Volume",null,null,null,"decimal(10,3)"]
["TOTAL SYSTEM REPRICED ADJUSTMENT BUY VOLUME","N0528","Total System Repriced Adjustment Buy Volume",null,null,null,"decimal(10,3)"]
["TOTAL SYSTEM ORIGINALLY-PRICED ADJUSTMENT SELL VOLUME","N0529","Total System Originally-Priced Adjustment Sell Volume",null,null,null,"decimal(10,3)"]
["TOTAL SYSTEM ORIGINALLY-PRICED ADJUSTMENT BUY VOLUME","N0530","Total System Originally-Priced Adjustment Buy Volume",null,null,null,"decimal(10,3)"]
["REPLACEMENT PRICE","N0531","Replacement Price",null,null,null,"decimal(10,2)"]
["REPLACEMENT PRICE CALCULATION VOLUME","N0532","Replacement Price Calculation Volume",null,null,null,"decimal(10,3)"]
["BALANCING SERVICES ADJUSTMENT ACTION ID","N0533","Balancing Services Adjustment Action Id",null,null,null,"integer(4)"]
["BALANCING SERVICES ADJUSTMENT ACTION COST","N0534","Balancing Services Adjustment Action Cost",null,null,null,"decimal(10,2)"]
["BALANCING SERVICES ADJUSTMENT ACTION VOLUME","N0535","Balancing Services Adjustment Action Volume",null,null,null,"decimal(10,3)"]
["TAGGED BALANCING SERVICES ADJUSTMENT ACTION VOLUME","N0536","Tagged Balancing Services Adjustment Action Volume",null,null,null,"decimal(10,3)"]
["REPRICED BALANCING SERVICES ADJUSTMENT ACTION VOLUME","N0537","Repriced Balancing Services Adjustment Action Volume",null,null,null,"decimal(10,3)"]
["ORIGINALLY-PRICED BALANCING SERVICES ADJUSTMENT ACTION VOLUME","N0538","Originally-Priced Balancing Services Adjustment Action Volume",null,null,null,"decimal(10,3)"]
["BALANCING SERVICES ADJUSTMENT ACTION SO-FLAG","N0539","Balancing Services Adjustment Action So-Flag",null,null,null,"boolean"]
["PERIOD BM UNIT TAGGED BID VOLUME","N0540","Period Bm Unit Tagged Bid Volume",null,null,null,"decimal(10,3)"]
["PERIOD BM UNIT TAGGED OFFER VOLUME","N0541","Period Bm Unit Tagged Offer Volume",null,null,null,"decimal(10,3)"]
["PERIOD BM UNIT REPRICED BID VOLUME","N0542","Period Bm Unit Repriced Bid Volume",null,null,null,"decimal(10,3)"]
["PERIOD BM UNIT REPRICED OFFER VOLUME","N0543","Period Bm Unit Repriced Offer Volume",null,null,null,"decimal(10,3)"]
["PERIOD BM UNIT ORIGINALLY-PRICED BID VOLUME","N0544","Period Bm Unit Originally-Priced Bid Volume",null,null,null,"decimal(10,3)"]
["PERIOD BM UNIT ORIGINALLY-PRICED OFFER VOLUME","N0545","Period Bm Unit Originally-Priced Offer Volume",null,null,null,"decimal(10,3)"]
["ACCEPTANCE SO-FLAG","N0546","Acceptance So-Flag",null,null,null,"boolean"]
["BID-OFFER PAIR ACCEPTANCE BID VOLUME","N0547","Bid-Offer Pair Acceptance Bid Volume",null,null,null,"decimal(10,3)"]
["BID-OFFER PAIR ACCEPTANCE OFFER VOLUME","N0548","Bid-Offer Pair Acceptance Offer Volume",null,null,null,"decimal(10,3)"]
["SO-FLAG","N0549",{"$f":"PROPER(A523)","v":"So-Flag"},null,null,null,"varchar2(5)"]
["AMENDMENT FLAG","N0550","Amendment Flag",null,null,null,"varchar2(5)"]
["OUTPUT USABLE","N0551","Output Usable",null,null,null,"number(5)","Output_Usable_Range"]
["SYSTEM ZONE","N0552","System Zone",null,null,null,"varchar2(3)","System Zone"]
["DAY OF FORECAST OU","N0553","Day Of Forecast Ou",null,null,null,"varchar2(10)"]
["PERIOD BM UNIT GROSS DEMAND VOLUME","N0554","Period Bm Unit Gross Demand Volume",null,null,null,"decimal(14,4)"]
["SUPPLIER EXPORT CREDIT ASSESSMENT LOAD FACTOR","N0555","Supplier Export Credit Assessment Load Factor",null,null,null,"decimal(11,7)"]
["STOR FLAG","N0556",{"$f":"PROPER(A530)","v":"Stor Flag"},null,null,null,"varchar2(5)"]
["PERIOD BM UNIT DEMAND DISCONNECTION VOLUME","N0557","Period Bm Unit Demand Disconnection Volume",null,null,null,"decimal(14,4)"]
["STOR AVAILABILITY WINDOW FLAG","N0558","Stor Availability Window Flag",null,null,null,"boolean"]
["LOSS OF LOAD PROBABILITY","N0559","Loss Of Load Probability",null,null,null,"decimal(10,9)"]
["DE-RATED MARGIN","N0560","De-Rated Margin",null,null,null,"decimal(15,7)"]
["VALUE OF LOST LOAD","N0561","Value Of Lost Load",null,null,null,"decimal(10,2)"]
["RESERVE SCARCITY PRICE","N0562","Reserve Scarcity Price",null,null,null,"decimal(10,5)"]
["BALANCING SERVICES ADJUSTMENT ACTION STOR PROVIDER FLAG","N0563",{"$f":"PROPER(A537)","v":"Balancing Services Adjustment Action Stor Provider Flag"},null,null,null,"boolean"]
["ACCEPTANCE STOR PROVIDER FLAG","N0564",{"$f":"PROPER(A538)","v":"Acceptance Stor Provider Flag"},null,null,null,"boolean"]
["NOTIFICATION AMENDMENT TYPE","N0565",{"$f":"PROPER(A539)","v":"Notification Amendment Type"},null,null,null,"char","Notification Amendment Type"]
["RESERVE SCARCITY PRICE FLAG","N0566",{"$f":"PROPER(A540)","v":"Reserve Scarcity Price Flag"},null,null,null,"boolean"]
["AFFECTED DSO","N0567",{"$f":"PROPER(A541)","v":"Affected Dso"},null,null,null,"varchar2(10)"]
["DEMAND CONTROL IDENTIFICATION NUMBER","N0568","Demand Control Identification Number",null,null,null,"varchar2(5)"]
["INSTRUCTION SEQUENCE","N0569","Instruction Sequence",null,null,null,"integer(2)"]
["DEMAND CONTROL EVENT FLAG","N0570","Demand Control Event Flag",null,null,null,"char","Demand Control Event Flag"]
["FROM TIME","N0571","From Time",null,null,null,"datetime"]
["TO TIME","N0572","To Time",null,null,null,"datetime"]
["NOTIFICATION AMENDMENT TYPE EFFECTIVE FROM DATE","N0573",{"$f":"PROPER(A547)","v":"Notification Amendment Type Effective From Date"},null,null,null,"datetime"]
["AUTHORIZATION CHANGE","N0574",{"$f":"PROPER(A548)","v":"Authorization Change"},null,null,null,"boolean"]
["WORKING DAY BM UNIT CREDIT ASSESSMENT EXPORT CAPABILITY","N0575",{"$f":"PROPER(A549)","v":"Working Day Bm Unit Credit Assessment Export Capability"},null,null,null,"decimal(8,3)"]
["WORKING DAY BM UNIT CREDIT ASSESSMENT IMPORT CAPABILITY","N0576","Working Day Bm Unit Credit Assessment Import Capability",null,null,null,"decimal(8,3)"]
["WORKING DAY CREDIT ASSESSMENT LOAD FACTOR","N0577","Working Day Credit Assessment Load Factor",null,null,null,"decimal(11,7)"]
["NON-WORKING DAY BM UNIT CREDIT ASSESSMENT EXPORT CAPABILITY","N0578","Non-Working Day Bm Unit Credit Assessment Export Capability",null,null,null,"decimal(8,3)"]
["NON-WORKING DAY BM UNIT CREDIT ASSESSMENT IMPORT CAPABILITY","N0579","Non-Working Day Bm Unit Credit Assessment Import Capability",null,null,null,"decimal(8,3)"]
["NON-WORKING DAY CREDIT ASSESSMENT LOAD FACTOR","N0580","Non-Working Day Credit Assessment Load Factor",null,null,null,"decimal(11,7)"]
["WORKING DAY CREDIT ASSESSMENT EXPORT CAPABILITY","N0581","Working Day Credit Assessment Export Capability",null,null,null,"decimal(7,3)"]
["WORKING DAY CREDIT ASSESSMENT IMPORT CAPABILITY","N0582","Working Day Credit Assessment Import Capability",null,null,null,"decimal(7,3)"]
["NON-WORKING DAY CREDIT ASSESSMENT EXPORT CAPABILITY","N0583","Non-Working Day Credit Assessment Export Capability",null,null,null,"decimal(7,3)"]
["NON-WORKING DAY CREDIT ASSESSMENT IMPORT CAPABILITY","N0584","Non-Working Day Credit Assessment Import Capability",null,null,null,"decimal(7,3)"]
["TRADING UNIT TYPE","N0585","Trading Unit Type",null,null,null,"char","Trading Unit Type"]
["DELIVERY MODE","N0586","Delivery Mode",null,null,null,"char","Delivery Mode"]
["TRADING UNIT EXPORT METERED VOLUME","N0587","Trading Unit Export Metered Volume",null,null,null,"decimal(10,3)  "]
["TRADING UNIT IMPORT METERED VOLUME","N0588","Trading Unit Import Metered Volume",null,null,null,"decimal(10,3)  "]
["COUNT OF SECONDARY BM UNITS","N0589","Count of Secondary BM Units",null,null,null,"integer(7)"]
["RR CASHFLOW","N0590","RR Cashflow",null,null,null,"decimal(10,2)"]
["RR INSTRUCTED DEVIATION CASHFLOW","N0591","RR Instructed Deviation Cashflow",null,null,null,"decimal(10,2)"]
["TOTAL SYSTEM RR CASHFLOW","N0592","Total System Cashflow",null,null,null,"decimal(10,2)"]
["GBP-EUR EXCHANGE RATE","N0593","GBP-EUR Exchange Rate",null,null,null,"decimal(5,4)  "]
["BALANCING ENERGY DEVIATION PRICE","N0594","Balancing Energy Deviation Price",null,null,null,"decimal(10,5)"]
["VOLUME OF GB NEED MET","N0595","Volume of GB Need Met",null,null,null,"decimal(10,3)  "]
["RR AGGREGATED UNPRICED SYSTEM BUY ACTION VOLUME","N0596","RR Aggregated Unpriced System Buy Action Volume",null,null,null,"decimal(10,3)  "]
["RR AGGREGATED UNPRICED SYSTEM SELL ACTION VOLUME","N0597","RR Aggregated Unpriced System Sell Action Volume",null,null,null,"decimal(10,3)  "]
["RR INTERCONNECTOR SCHEDULE VOLUME","N0598","RR Interconnector Schedule Volume",null,null,null,"decimal(10,3)  "]
["PERIOD RR ACCEPTED OFFER VOLUME","N0599","Period RR Accepted Offer Volume",null,null,null,"decimal(10,3)  "]
["PERIOD RR ACCEPTED BID VOLUME","N0600","Period RR Accepted Bid Volume",null,null,null,"decimal(10,3)  "]
["TERRE CLEARING PRICE","N0601","TERRE Clearing Price",null,null,null,"decimal(10,5)"]
["PERIOD RR INSTRUCTED OFFER DEVIATION VOLUME","N0602","Period RR Instructed Offer Deviation Volume",null,null,null,"decimal(10,3)  "]
["PERIOD RR INSTRUCTED BID DEVIATION VOLUME","N0603","Period RR Instructed Bid Deviation Volume",null,null,null,"decimal(10,3)  "]
["SECONDARY BM UNIT DEMAND VOLUME","N0604","Secondary BM Unit Demand Volume",null,null,null,"decimal(10,3)  "]
["PERIOD SECONDARY BM UNIT DELIVERED VOLUME","N0605","Period Secondary BM Unit Delivered Volume",null,null,null,"decimal(10,3)  "]
["PERIOD SECONDARY BM UNIT NON-DELIVERED VOLUME","N0606","Period Secondary BM Unit Non Delivered Volume",null,null,null,"decimal(10,3)  "]
["PERIOD SUPPLIER PRIMARY BM UNIT DELIVERED VOLUME","N0607","Period Supplier Primary BM Unit Delivered Volume",null,null,null,"decimal(10,3)  "]
["RR ACTIVATION VOLUME","N0608","RR Activation Volume",null,null,null,"decimal(10,3)  "]
["QUARTER HOUR PERIOD","N0609","Quarter Hour Period",null,null,null,"integer(1)","Quarter Hour Period"]
["DEEMED STANDARD PRODUCT OFFER VOLUME","N0610","Deemed Standard Product Offer Volume",null,null,null,"decimal(10,3)  "]
["DEEMED STANDARD PRODUCT BID VOLUME","N0611","Deemed Standard Product Bid Volume",null,null,null,"decimal(10,3)  "]
["RR ASSOCIATED TRANSMISSION SYSTEM OPERATOR","N0612","RR Associated Transmission System Operator",null,null,null,"varchar2(16)"]
["RR MARKET BALANCE AREA","N0613","RR Market Balance Area",null,null,null,"varchar2(8)"]
["RR DIVISIBLE","N0614","RR Divisible ",null,null,null,"varchar2(3)","RR Divisible"]
["RR LINKING BID ID","N0615","RR Linking Bid ID",null,null,null,"varchar2(8)"]
["RR MULTIPART BID ID","N0616","RR Multipart Bid ID",null,null,null,"varchar2(8)"]
["RR EXCLUSIVE BID ID","N0617","RR Exclusive Bid ID",null,null,null,"varchar2(8)"]
["RR FLOW DIRECTION","N0618","RR Flow Direction",null,null,null,"varchar2(3)","RR Flow Direction"]
["RR INCREMENTAL SIZE","N0619","RR Incremental Size",null,null,null,"varchar2(3)"]
["RR MINIMUM QUANTITY","N0620","RR Minimum Quantity",null,null,null,"decimal(10,3)  "]
["RR MAXIMUM QUANTITY","N0621","RR Maximum Quantity",null,null,null,"decimal(10,3)  "]
["RR BID RESOLUTION","N0622","RR Bid Resolution",null,null,null,"varchar2(5)","RR Bid Resolution"]
["RR POSITION","N0623","RR Position",null,null,null,"varchar2(5)"]
["RR PRICE","N0624","RR Price",null,null,null,"decimal(10,5)"]
["RR STATUS","N0625","RR Status",null,null,null,"varchar2(3)","RR Status"]
["RR ACTIVATION QUANTITY","N0626","RR Activation Quantity",null,null,null,"decimal(10,3)  "]
["RR ACTIVATION PRICE","N0627","RR Activation Price",null,null,null,"decimal(10,5)"]
["REPLACEMENT RESERVE INSTRUCTION FLAG","N0628","Replacement Reserve Instruction Flag",null,null,null,"boolean"]
["REPLACEMENT RESERVE SCHEDULE FLAG","N0629","Replacement Reserve Schedule Flag",null,null,null,"boolean"]